{"text_format":"1","workbook":"xlsx","n_sheets":14,"sheets":["Welcome","Data Input","P1 Hidden Data Tables","P2 Hidden Data Tables","Pupil Summary","Pupil Report","Cohort Summary","Strand Summary","P2 Questions by Strand","Spelling Questions by Strand","P2 Questions by Correct","Spelling Questions by Correct","P1 Questions by Sub Type","P2 Questions by Sub Type"],"not_rendered":{"charts":10,"images":1,"macros":1,"external_links":0,"defined_names":15,"comments":1,"pivot_tables":0},"unopened":[],"bounds":{"document_bytes":16777216,"sheet_cells":100000,"rows_first":2000,"rows_last":500,"rows_between":2000,"halvings":0,"cell_chars":16384,"cell_head_chars":4096},"cells_cut":0,"cells_raw":0,"read":"whole","date_system":"1900"}

{"sheet":"Welcome","index":0,"n_rows":23,"n_cols":11,"rows_kept":23,"cut":false,"hidden":false,"merged":[[1,3,1,12]]}
[]
[null,null,null,"KS1  Grammar, Punctuation and Spelling Papers 1&2 \n(2016 SAMPLE) Analysis"]
[]
[]
[]
[]
[]
[]
[]
[]
[]
[]
[]
[]
[]
[]
[]
[]
[]
[]
[]
[]
[null,null,null,null,null,null,null,null,null,null,"© 2015 Primary Tools.co.uk"]

{"sheet":"Data Input","index":1,"n_rows":8,"n_cols":43,"rows_kept":8,"cut":false,"hidden":false,"merged":[[0,1,4,1],[0,22,4,22]]}
["Question","Short Answer",1,2,3,4,5,6,7,8,9,10,11,12,13,14,15,"16i","16ii",17,"18i","18ii","Spelling",1,2,3,4,5,6,7,8,9,10,11,12,13,14,15,16,17,18,19,20]
["Group Correct",null,{"$f":"COUNTIF(C10:C558,1)","v":0},{"$f":"COUNTIF(D10:D558,1)","v":0},0,0,0,0,0,0,0,0,0,0,0,0,0,0,0,0,0,0,null,{"$f":"COUNTIF(X10:X558,1)","v":0},0,0,0,0,0,0,0,0,0,0,0,0,0,0,0,0,0,0,0]
["Group Incorrect",null,{"$f":"COUNTIF(C10:C558,0)","v":0},{"$f":"COUNTIF(D10:D558,0)","v":0},0,0,0,0,0,0,0,0,0,0,0,0,0,0,0,0,0,0,null,{"$f":"COUNTIF(X10:X558,0)","v":0},0,0,0,0,0,0,0,0,0,0,0,0,0,0,0,0,0,0,0]
["Group Unanswered",null,{"$f":"COUNTA($A$10:$A$558)-(SUM(C2:C3))","v":0},0,0,0,0,0,0,0,0,{"$f":"COUNTA($A$10:$A$558)-(SUM(L2:L3))","v":0},{"$f":"COUNTA($A$10:$A$558)-(SUM(M2:M3))","v":0},0,0,0,0,0,0,0,0,0,null,{"$f":"COUNTA($A$10:$A$558)-(SUM(X2:X3))","v":0},0,0,0,0,0,0,0,0,0,0,0,0,0,0,0,0,0,0,0]
["Incorrect or unanswered",null,{"$f":"SUM(C3,C4)","v":0},{"$f":"SUM(D3,D4)","v":0},0,0,0,0,0,0,0,0,0,0,0,0,0,0,0,0,0,0,null,{"$f":"SUM(X3,X4)","v":0},0,0,0,0,0,0,0,0,0,0,0,0,0,0,0,0,0,0,0]
["Enter 1: correct, 0: incorrect, blank: unanswered \n\nA: Terms/Word Classes\nB: Sentence Types\nC: Phrases/Clauses\nD: Verbs and Tenses\nE: Punctuation\nF: Vocabulary\nS: Spelling",null,"Add question mark","Subordinating conjunctions","Place comma in list","Apoostrophes for contraction","Insert full stop","Identify word as an adverb","Identify word as an adjective","Identify sentence as command","Identify the statement","Reg. plural suffixes –s or –es","Identify nouns","Identify verbs","Sentence with correct tense","Past or present tense","Explain why capitals used","Rewrite verb in past tense","Rewrite verb in past tense","Contract \"I am\"","Start question with capital","End question with ?",null,"faster (-er)","sunny (–y)","face (c as /s/ sound)","group (vowel digraph)","fingers (-s)","paints (vowel digraph)","kitten (k for /k/ sound)","thanked (-ed)","Saturday (must have capital)","sweets (vowel digraph)","baking (-ing, remove e)","knew (/n/ sound spelt kn)","model (/l/ sound spelt -el)","whale (wh)","world ( /ʒ:/ sound after w)","hurried (-ed, + y to i)","petal  (/l/ sound spelt -al)","rainbow (compound)","peaceful (-ful)","teddies (-es, + y to i)"]
[null,"code",null,null,null,null,null,null,null,null,null,null,null,null,null,null,null,null,null,null,null,null,"code","_","_","_","_","_","_","_","_","_","_","_","_","_","_","_","_","_","_","_","_"]
["Name: ","Area","E","C","E","E","E","A","A","B","B","F","A","A","D","D","E","D","D","E","B","B","Area","S","S","S","S","S","S","S","S","S","S","S","S","S","S","S","S","S","S","S","S"]

{"sheet":"P1 Hidden Data Tables","index":2,"n_rows":77,"n_cols":22,"rows_kept":77,"cut":false,"hidden":true,"merged":[]}
[null,"Sorted by Strand"]
[null,"Strand","Question Number","Sub Category","Short Q","Correct","Incorrect or Unanswered","Incorrect","Unanswered"]
[null,{"$f":"'Data Input'!$H$8","v":"A"},{"$f":"'Data Input'!$H$1","v":6},null,{"$f":"'Data Input'!$H$6","v":"Identify word as an adverb"},{"$f":"'Data Input'!$H$2","v":0},{"$f":"'Data Input'!$H$5","v":0},{"$f":"'Data Input'!$H$3","v":0},{"$f":"'Data Input'!$H$4","v":0},null,null,null,"Codes"]
[null,{"$f":"'Data Input'!$I$8","v":"A"},{"$f":"'Data Input'!$I$1","v":7},null,{"$f":"'Data Input'!$I$6","v":"Identify word as an adjective"},{"$f":"'Data Input'!$I$2","v":0},{"$f":"'Data Input'!$I$5","v":0},{"$f":"'Data Input'!$I$3","v":0},{"$f":"'Data Input'!$I$4","v":0}]
[null,{"$f":"'Data Input'!$M$8","v":"A"},{"$f":"'Data Input'!$M$1","v":11},null,{"$f":"'Data Input'!$M$6","v":"Identify nouns"},{"$f":"'Data Input'!$M$2","v":0},{"$f":"'Data Input'!$M$5","v":0},{"$f":"'Data Input'!$M$3","v":0},{"$f":"'Data Input'!$M$4","v":0}]
[null,{"$f":"'Data Input'!$N$8","v":"A"},{"$f":"'Data Input'!$N$1","v":12},null,{"$f":"'Data Input'!$N$6","v":"Identify verbs"},{"$f":"'Data Input'!$N$2","v":0},{"$f":"'Data Input'!$N$5","v":0},{"$f":"'Data Input'!$N$3","v":0},{"$f":"'Data Input'!$N$4","v":0}]
[]
[null,{"$f":"'Data Input'!$J$8","v":"B"},{"$f":"'Data Input'!$J$1","v":8},null,{"$f":"'Data Input'!$J$6","v":"Identify sentence as command"},{"$f":"'Data Input'!$J$2","v":0},{"$f":"'Data Input'!$J$5","v":0},{"$f":"'Data Input'!$J$3","v":0},{"$f":"'Data Input'!$J$4","v":0}]
[null,{"$f":"'Data Input'!$K$8","v":"B"},{"$f":"'Data Input'!$K$1","v":9},null,{"$f":"'Data Input'!$K$6","v":"Identify the statement"},{"$f":"'Data Input'!$K$2","v":0},{"$f":"'Data Input'!$K$5","v":0},{"$f":"'Data Input'!$K$3","v":0},{"$f":"'Data Input'!$K$4","v":0}]
[null,{"$f":"'Data Input'!$U$8","v":"B"},{"$f":"'Data Input'!$U$1","v":"18i"},null,{"$f":"'Data Input'!$U$6","v":"Start question with capital"},{"$f":"'Data Input'!$U$2","v":0},{"$f":"'Data Input'!$U$5","v":0},{"$f":"'Data Input'!$U$3","v":0},{"$f":"'Data Input'!$U$4","v":0}]
[null,{"$f":"'Data Input'!$V$8","v":"B"},{"$f":"'Data Input'!$V$1","v":"18ii"},null,{"$f":"'Data Input'!$V$6","v":"End question with ?"},{"$f":"'Data Input'!$V$2","v":0},{"$f":"'Data Input'!$V$5","v":0},{"$f":"'Data Input'!$V$3","v":0},{"$f":"'Data Input'!$V$4","v":0}]
[]
[null,{"$f":"'Data Input'!$D$8","v":"C"},{"$f":"'Data Input'!$D$1","v":2},null,{"$f":"'Data Input'!$D$6","v":"Subordinating conjunctions"},{"$f":"'Data Input'!$D$2","v":0},{"$f":"'Data Input'!$D$5","v":0},{"$f":"'Data Input'!$D$3","v":0},{"$f":"'Data Input'!$D$4","v":0}]
[]
[null,{"$f":"'Data Input'!$O$8","v":"D"},{"$f":"'Data Input'!$O$1","v":13},null,{"$f":"'Data Input'!$O$6","v":"Sentence with correct tense"},{"$f":"'Data Input'!$O$2","v":0},{"$f":"'Data Input'!$O$5","v":0},{"$f":"'Data Input'!$O$3","v":0},{"$f":"'Data Input'!$O$4","v":0}]
[null,{"$f":"'Data Input'!$P$8","v":"D"},{"$f":"'Data Input'!$P$1","v":14},null,{"$f":"'Data Input'!$P$6","v":"Past or present tense"},{"$f":"'Data Input'!$P$2","v":0},{"$f":"'Data Input'!$P$5","v":0},{"$f":"'Data Input'!$P$3","v":0},{"$f":"'Data Input'!$P$4","v":0}]
[null,{"$f":"'Data Input'!$R$8","v":"D"},{"$f":"'Data Input'!$R$1","v":"16i"},null,{"$f":"'Data Input'!$R$6","v":"Rewrite verb in past tense"},{"$f":"'Data Input'!$R$2","v":0},{"$f":"'Data Input'!$R$5","v":0},{"$f":"'Data Input'!$R$3","v":0},{"$f":"'Data Input'!$R$4","v":0}]
[null,{"$f":"'Data Input'!$S$8","v":"D"},{"$f":"'Data Input'!$S$1","v":"16ii"},null,{"$f":"'Data Input'!$S$6","v":"Rewrite verb in past tense"},{"$f":"'Data Input'!$S$2","v":0},{"$f":"'Data Input'!$S$5","v":0},{"$f":"'Data Input'!$S$3","v":0},{"$f":"'Data Input'!$S$4","v":0}]
[]
[null,{"$f":"'Data Input'!$C$8","v":"E"},{"$f":"'Data Input'!$C$1","v":1},null,{"$f":"'Data Input'!$C$6","v":"Add question mark"},{"$f":"'Data Input'!$C$2","v":0},{"$f":"'Data Input'!$C$5","v":0},{"$f":"'Data Input'!$C$3","v":0},{"$f":"'Data Input'!$C$4","v":0}]
[null,{"$f":"'Data Input'!$E$8","v":"E"},{"$f":"'Data Input'!$E$1","v":3},null,{"$f":"'Data Input'!$E$6","v":"Place comma in list"},{"$f":"'Data Input'!$E$2","v":0},{"$f":"'Data Input'!$E$5","v":0},{"$f":"'Data Input'!$E$3","v":0},{"$f":"'Data Input'!$E$4","v":0}]
[null,{"$f":"'Data Input'!$F$8","v":"E"},{"$f":"'Data Input'!$F$1","v":4},null,{"$f":"'Data Input'!$F$6","v":"Apoostrophes for contraction"},{"$f":"'Data Input'!$F$2","v":0},{"$f":"'Data Input'!$F$5","v":0},{"$f":"'Data Input'!$F$3","v":0},{"$f":"'Data Input'!$F$4","v":0}]
[null,{"$f":"'Data Input'!$G$8","v":"E"},{"$f":"'Data Input'!$G$1","v":5},null,{"$f":"'Data Input'!$G$6","v":"Insert full stop"},{"$f":"'Data Input'!$G$2","v":0},{"$f":"'Data Input'!$G$5","v":0},{"$f":"'Data Input'!$G$3","v":0},{"$f":"'Data Input'!$G$4","v":0}]
[null,{"$f":"'Data Input'!$Q$8","v":"E"},{"$f":"'Data Input'!$Q$1","v":15},null,{"$f":"'Data Input'!$Q$6","v":"Explain why capitals used"},{"$f":"'Data Input'!$Q$2","v":0},{"$f":"'Data Input'!$Q$5","v":0},{"$f":"'Data Input'!$Q$3","v":0},{"$f":"'Data Input'!$Q$4","v":0}]
[null,{"$f":"'Data Input'!$T$8","v":"E"},{"$f":"'Data Input'!$T$1","v":17},null,{"$f":"'Data Input'!$T$6","v":"Contract \"I am\""},{"$f":"'Data Input'!$T$2","v":0},{"$f":"'Data Input'!$T$5","v":0},{"$f":"'Data Input'!$T$3","v":0},{"$f":"'Data Input'!$T$4","v":0}]
[null,{"$f":"'Data Input'!$L$8","v":"F"},{"$f":"'Data Input'!$L$1","v":10},null,{"$f":"'Data Input'!$L$6","v":"Reg. plural suffixes –s or –es"},{"$f":"'Data Input'!$L$2","v":0},{"$f":"'Data Input'!$L$5","v":0},{"$f":"'Data Input'!$L$3","v":0},{"$f":"'Data Input'!$L$4","v":0}]
[]
[]
[]
[]
[null,"Sorted by Question Type"]
[null,"Strand","Question Number","Sub Category","Short Q","Correct","Incorrect or Unanswered","Incorrect","Unanswered"]
[null,{"$f":"'Data Input'!$C$8","v":"E"},{"$f":"'Data Input'!$C$1","v":1},null,{"$f":"'Data Input'!$C$6","v":"Add question mark"},{"$f":"'Data Input'!$C$2","v":0},{"$f":"'Data Input'!$C$5","v":0},{"$f":"'Data Input'!$C$3","v":0},{"$f":"'Data Input'!$C$4","v":0}]
[null,{"$f":"'Data Input'!$D$8","v":"C"},{"$f":"'Data Input'!$D$1","v":2},null,{"$f":"'Data Input'!$D$6","v":"Subordinating conjunctions"},{"$f":"'Data Input'!$D$2","v":0},{"$f":"'Data Input'!$D$5","v":0},{"$f":"'Data Input'!$D$3","v":0},{"$f":"'Data Input'!$D$4","v":0}]
[null,{"$f":"'Data Input'!$E$8","v":"E"},{"$f":"'Data Input'!$E$1","v":3},null,{"$f":"'Data Input'!$E$6","v":"Place comma in list"},{"$f":"'Data Input'!$E$2","v":0},{"$f":"'Data Input'!$E$5","v":0},{"$f":"'Data Input'!$E$3","v":0},{"$f":"'Data Input'!$E$4","v":0}]
[null,{"$f":"'Data Input'!$F$8","v":"E"},{"$f":"'Data Input'!$F$1","v":4},null,{"$f":"'Data Input'!$F$6","v":"Apoostrophes for contraction"},{"$f":"'Data Input'!$F$2","v":0},{"$f":"'Data Input'!$F$5","v":0},{"$f":"'Data Input'!$F$3","v":0},{"$f":"'Data Input'!$F$4","v":0}]
[null,{"$f":"'Data Input'!$G$8","v":"E"},{"$f":"'Data Input'!$G$1","v":5},null,{"$f":"'Data Input'!$G$6","v":"Insert full stop"},{"$f":"'Data Input'!$G$2","v":0},{"$f":"'Data Input'!$G$5","v":0},{"$f":"'Data Input'!$G$3","v":0},{"$f":"'Data Input'!$G$4","v":0}]
[null,{"$f":"'Data Input'!$H$8","v":"A"},{"$f":"'Data Input'!$H$1","v":6},null,{"$f":"'Data Input'!$H$6","v":"Identify word as an adverb"},{"$f":"'Data Input'!$H$2","v":0},{"$f":"'Data Input'!$H$5","v":0},{"$f":"'Data Input'!$H$3","v":0},{"$f":"'Data Input'!$H$4","v":0}]
[null,{"$f":"'Data Input'!$I$8","v":"A"},{"$f":"'Data Input'!$I$1","v":7},null,{"$f":"'Data Input'!$I$6","v":"Identify word as an adjective"},{"$f":"'Data Input'!$I$2","v":0},{"$f":"'Data Input'!$I$5","v":0},{"$f":"'Data Input'!$I$3","v":0},{"$f":"'Data Input'!$I$4","v":0}]
[null,{"$f":"'Data Input'!$J$8","v":"B"},{"$f":"'Data Input'!$J$1","v":8},null,{"$f":"'Data Input'!$J$6","v":"Identify sentence as command"},{"$f":"'Data Input'!$J$2","v":0},{"$f":"'Data Input'!$J$5","v":0},{"$f":"'Data Input'!$J$3","v":0},{"$f":"'Data Input'!$J$4","v":0}]
[null,{"$f":"'Data Input'!$K$8","v":"B"},{"$f":"'Data Input'!$K$1","v":9},null,{"$f":"'Data Input'!$K$6","v":"Identify the statement"},{"$f":"'Data Input'!$K$2","v":0},{"$f":"'Data Input'!$K$5","v":0},{"$f":"'Data Input'!$K$3","v":0},{"$f":"'Data Input'!$K$4","v":0}]
[null,{"$f":"'Data Input'!$L$8","v":"F"},{"$f":"'Data Input'!$L$1","v":10},null,{"$f":"'Data Input'!$L$6","v":"Reg. plural suffixes –s or –es"},{"$f":"'Data Input'!$L$2","v":0},{"$f":"'Data Input'!$L$5","v":0},{"$f":"'Data Input'!$L$3","v":0},{"$f":"'Data Input'!$L$4","v":0}]
[null,{"$f":"'Data Input'!$M$8","v":"A"},{"$f":"'Data Input'!$M$1","v":11},null,{"$f":"'Data Input'!$M$6","v":"Identify nouns"},{"$f":"'Data Input'!$M$2","v":0},{"$f":"'Data Input'!$M$5","v":0},{"$f":"'Data Input'!$M$3","v":0},{"$f":"'Data Input'!$M$4","v":0}]
[null,{"$f":"'Data Input'!$N$8","v":"A"},{"$f":"'Data Input'!$N$1","v":12},null,{"$f":"'Data Input'!$N$6","v":"Identify verbs"},{"$f":"'Data Input'!$N$2","v":0},{"$f":"'Data Input'!$N$5","v":0},{"$f":"'Data Input'!$N$3","v":0},{"$f":"'Data Input'!$N$4","v":0}]
[null,{"$f":"'Data Input'!$O$8","v":"D"},{"$f":"'Data Input'!$O$1","v":13},null,{"$f":"'Data Input'!$O$6","v":"Sentence with correct tense"},{"$f":"'Data Input'!$O$2","v":0},{"$f":"'Data Input'!$O$5","v":0},{"$f":"'Data Input'!$O$3","v":0},{"$f":"'Data Input'!$O$4","v":0}]
[null,{"$f":"'Data Input'!$P$8","v":"D"},{"$f":"'Data Input'!$P$1","v":14},null,{"$f":"'Data Input'!$P$6","v":"Past or present tense"},{"$f":"'Data Input'!$P$2","v":0},{"$f":"'Data Input'!$P$5","v":0},{"$f":"'Data Input'!$P$3","v":0},{"$f":"'Data Input'!$P$4","v":0}]
[null,{"$f":"'Data Input'!$Q$8","v":"E"},{"$f":"'Data Input'!$Q$1","v":15},null,{"$f":"'Data Input'!$Q$6","v":"Explain why capitals used"},{"$f":"'Data Input'!$Q$2","v":0},{"$f":"'Data Input'!$Q$5","v":0},{"$f":"'Data Input'!$Q$3","v":0},{"$f":"'Data Input'!$Q$4","v":0}]
[null,{"$f":"'Data Input'!$R$8","v":"D"},{"$f":"'Data Input'!$R$1","v":"16i"},null,{"$f":"'Data Input'!$R$6","v":"Rewrite verb in past tense"},{"$f":"'Data Input'!$R$2","v":0},{"$f":"'Data Input'!$R$5","v":0},{"$f":"'Data Input'!$R$3","v":0},{"$f":"'Data Input'!$R$4","v":0}]
[null,{"$f":"'Data Input'!$S$8","v":"D"},{"$f":"'Data Input'!$S$1","v":"16ii"},null,{"$f":"'Data Input'!$S$6","v":"Rewrite verb in past tense"},{"$f":"'Data Input'!$S$2","v":0},{"$f":"'Data Input'!$S$5","v":0},{"$f":"'Data Input'!$S$3","v":0},{"$f":"'Data Input'!$S$4","v":0}]
[null,{"$f":"'Data Input'!$T$8","v":"E"},{"$f":"'Data Input'!$T$1","v":17},null,{"$f":"'Data Input'!$T$6","v":"Contract \"I am\""},{"$f":"'Data Input'!$T$2","v":0},{"$f":"'Data Input'!$T$5","v":0},{"$f":"'Data Input'!$T$3","v":0},{"$f":"'Data Input'!$T$4","v":0}]
[null,{"$f":"'Data Input'!$U$8","v":"B"},{"$f":"'Data Input'!$U$1","v":"18i"},null,{"$f":"'Data Input'!$U$6","v":"Start question with capital"},{"$f":"'Data Input'!$U$2","v":0},{"$f":"'Data Input'!$U$5","v":0},{"$f":"'Data Input'!$U$3","v":0},{"$f":"'Data Input'!$U$4","v":0}]
[null,{"$f":"'Data Input'!$V$8","v":"B"},{"$f":"'Data Input'!$V$1","v":"18ii"},null,{"$f":"'Data Input'!$V$6","v":"End question with ?"},{"$f":"'Data Input'!$V$2","v":0},{"$f":"'Data Input'!$V$5","v":0},{"$f":"'Data Input'!$V$3","v":0},{"$f":"'Data Input'!$V$4","v":0}]
[]
[]
[]
[null,null,null,"Sorted by Correct",null,null,null,null,null,null,null,null,null,null,"Sorted by Correct"]
[null,null,null,"Strand","Question Number","Sub Category","Short Q","Correct","Incorrect or Unanswered","Incorrect","Unanswered",null,null,null,"Strand","Question Number","Sub Category","Short Q","Correct","Incorrect or unanswered","Incorrect","Unanswered"]
[null,{"$f":"RANK(C58,$C$58:$C$127)","v":1},{"$f":" H58 - ROW()*0.000000001","v":-5.8000000000000003E-8},{"$f":"'Data Input'!$C$8","v":"E"},{"$f":"'Data Input'!$C$1","v":1},{"$f":"'Data Input'!$C$7","v":0},{"$f":"'Data Input'!$C$6","v":"Add question mark"},{"$f":"'Data Input'!$C$2","v":0},{"$f":"'Data Input'!$C$5","v":0},{"$f":"'Data Input'!$C$3","v":0},{"$f":"'Data Input'!$C$4","v":0},null,{"$f":"VLOOKUP(ROW()-ROW(M$57),$B$58:$J$127,1,FALSE)","v":1},{"$f":"VLOOKUP(ROW()-ROW(M$57),$B$58:$J$127,2,FALSE)","v":-5.8000000000000003E-8},{"$f":"VLOOKUP(ROW()-ROW(M$57),$B$58:$J$127,3,FALSE)","v":"E"},{"$f":"VLOOKUP(ROW()-ROW(M$57),$B$58:$J$127,4,FALSE)","v":1},{"$f":"VLOOKUP(ROW()-ROW(M$57),$B$58:$J$127,5,FALSE)","v":0},{"$f":"VLOOKUP(ROW()-ROW(M$57),$B$58:$J$127,6,FALSE)","v":"Add question mark"},{"$f":"VLOOKUP(ROW()-ROW(M$57),$B$58:$J$127,7,FALSE)","v":0},{"$f":"VLOOKUP(ROW()-ROW(M$57),$B$58:$J$127,8,FALSE)","v":0},{"$f":"VLOOKUP(ROW()-ROW(M$57),$B$58:$K$127,9,FALSE)","v":0},{"$f":"VLOOKUP(ROW()-ROW(M$57),$B$58:$K$127,10,FALSE)","v":0}]
[null,2,{"$f":" H59 - ROW()*0.000000001","v":-5.9000000000000006E-8},{"$f":"'Data Input'!$D$8","v":"C"},{"$f":"'Data Input'!$D$1","v":2},{"$f":"'Data Input'!$D$7","v":0},{"$f":"'Data Input'!$D$6","v":"Subordinating conjunctions"},{"$f":"'Data Input'!$D$2","v":0},{"$f":"'Data Input'!$D$5","v":0},{"$f":"'Data Input'!$D$3","v":0},{"$f":"'Data Input'!$D$4","v":0},null,2,-5.9000000000000006E-8,{"$f":"VLOOKUP(ROW()-ROW(M$57),$B$58:$J$127,3,FALSE)","v":"C"},{"$f":"VLOOKUP(ROW()-ROW(M$57),$B$58:$J$127,4,FALSE)","v":2},{"$f":"VLOOKUP(ROW()-ROW(M$57),$B$58:$J$127,5,FALSE)","v":0},{"$f":"VLOOKUP(ROW()-ROW(M$57),$B$58:$J$127,6,FALSE)","v":"Subordinating conjunctions"},{"$f":"VLOOKUP(ROW()-ROW(M$57),$B$58:$J$127,7,FALSE)","v":0},{"$f":"VLOOKUP(ROW()-ROW(M$57),$B$58:$J$127,8,FALSE)","v":0},{"$f":"VLOOKUP(ROW()-ROW(M$57),$B$58:$K$127,9,FALSE)","v":0},{"$f":"VLOOKUP(ROW()-ROW(M$57),$B$58:$K$127,10,FALSE)","v":0}]
[null,3,-6.0000000000000008E-8,{"$f":"'Data Input'!$E$8","v":"E"},{"$f":"'Data Input'!$E$1","v":3},{"$f":"'Data Input'!$E$7","v":0},{"$f":"'Data Input'!$E$6","v":"Place comma in list"},{"$f":"'Data Input'!$E$2","v":0},{"$f":"'Data Input'!$E$5","v":0},{"$f":"'Data Input'!$E$3","v":0},{"$f":"'Data Input'!$E$4","v":0},null,3,-6.0000000000000008E-8,"E",3,0,"Place comma in list",0,0,0,0]
[null,4,-6.1000000000000004E-8,{"$f":"'Data Input'!$F$8","v":"E"},{"$f":"'Data Input'!$F$1","v":4},{"$f":"'Data Input'!$F$7","v":0},{"$f":"'Data Input'!$F$6","v":"Apoostrophes for contraction"},{"$f":"'Data Input'!$F$2","v":0},{"$f":"'Data Input'!$F$5","v":0},{"$f":"'Data Input'!$F$3","v":0},{"$f":"'Data Input'!$F$4","v":0},null,4,-6.1000000000000004E-8,"E",4,0,"Apoostrophes for contraction",0,0,0,0]
[null,5,-6.1999999999999999E-8,{"$f":"'Data Input'!$G$8","v":"E"},{"$f":"'Data Input'!$G$1","v":5},{"$f":"'Data Input'!$G$7","v":0},{"$f":"'Data Input'!$G$6","v":"Insert full stop"},{"$f":"'Data Input'!$G$2","v":0},{"$f":"'Data Input'!$G$5","v":0},{"$f":"'Data Input'!$G$3","v":0},{"$f":"'Data Input'!$G$4","v":0},null,5,-6.1999999999999999E-8,"E",5,0,"Insert full stop",0,0,0,0]
[null,6,-6.3000000000000008E-8,{"$f":"'Data Input'!$H$8","v":"A"},{"$f":"'Data Input'!$H$1","v":6},{"$f":"'Data Input'!$H$7","v":0},{"$f":"'Data Input'!$H$6","v":"Identify word as an adverb"},{"$f":"'Data Input'!$H$2","v":0},{"$f":"'Data Input'!$H$5","v":0},{"$f":"'Data Input'!$H$3","v":0},{"$f":"'Data Input'!$H$4","v":0},null,6,-6.3000000000000008E-8,"A",6,0,"Identify word as an adverb",0,0,0,0]
[null,7,-6.4000000000000004E-8,{"$f":"'Data Input'!$I$8","v":"A"},{"$f":"'Data Input'!$I$1","v":7},{"$f":"'Data Input'!$I$7","v":0},{"$f":"'Data Input'!$I$6","v":"Identify word as an adjective"},{"$f":"'Data Input'!$I$2","v":0},{"$f":"'Data Input'!$I$5","v":0},{"$f":"'Data Input'!$I$3","v":0},{"$f":"'Data Input'!$I$4","v":0},null,7,-6.4000000000000004E-8,"A",7,0,"Identify word as an adjective",0,0,0,0]
[null,8,-6.5E-8,{"$f":"'Data Input'!$J$8","v":"B"},{"$f":"'Data Input'!$J$1","v":8},{"$f":"'Data Input'!$J$7","v":0},{"$f":"'Data Input'!$J$6","v":"Identify sentence as command"},{"$f":"'Data Input'!$J$2","v":0},{"$f":"'Data Input'!$J$5","v":0},{"$f":"'Data Input'!$J$3","v":0},{"$f":"'Data Input'!$J$4","v":0},null,8,-6.5E-8,"B",8,0,"Identify sentence as command",0,0,0,0]
[null,9,-6.6000000000000009E-8,{"$f":"'Data Input'!$K$8","v":"B"},{"$f":"'Data Input'!$K$1","v":9},{"$f":"'Data Input'!$K$7","v":0},{"$f":"'Data Input'!$K$6","v":"Identify the statement"},{"$f":"'Data Input'!$K$2","v":0},{"$f":"'Data Input'!$K$5","v":0},{"$f":"'Data Input'!$K$3","v":0},{"$f":"'Data Input'!$K$4","v":0},null,9,-6.6000000000000009E-8,{"$f":"VLOOKUP(ROW()-ROW(M$57),$B$58:$J$127,3,FALSE)","v":"B"},{"$f":"VLOOKUP(ROW()-ROW(M$57),$B$58:$J$127,4,FALSE)","v":9},{"$f":"VLOOKUP(ROW()-ROW(M$57),$B$58:$J$127,5,FALSE)","v":0},{"$f":"VLOOKUP(ROW()-ROW(M$57),$B$58:$J$127,6,FALSE)","v":"Identify the statement"},{"$f":"VLOOKUP(ROW()-ROW(M$57),$B$58:$J$127,7,FALSE)","v":0},{"$f":"VLOOKUP(ROW()-ROW(M$57),$B$58:$J$127,8,FALSE)","v":0},{"$f":"VLOOKUP(ROW()-ROW(M$57),$B$58:$K$127,9,FALSE)","v":0},{"$f":"VLOOKUP(ROW()-ROW(M$57),$B$58:$K$127,10,FALSE)","v":0}]
[null,10,-6.7000000000000004E-8,{"$f":"'Data Input'!$L$8","v":"F"},{"$f":"'Data Input'!$L$1","v":10},{"$f":"'Data Input'!$L$7","v":0},{"$f":"'Data Input'!$L$6","v":"Reg. plural suffixes –s or –es"},{"$f":"'Data Input'!$L$2","v":0},{"$f":"'Data Input'!$L$5","v":0},{"$f":"'Data Input'!$L$3","v":0},{"$f":"'Data Input'!$L$4","v":0},null,10,-6.7000000000000004E-8,"F",10,0,"Reg. plural suffixes –s or –es",0,0,0,0]
[null,11,-6.8E-8,{"$f":"'Data Input'!$M$8","v":"A"},{"$f":"'Data Input'!$M$1","v":11},{"$f":"'Data Input'!$M$7","v":0},{"$f":"'Data Input'!$M$6","v":"Identify nouns"},{"$f":"'Data Input'!$M$2","v":0},{"$f":"'Data Input'!$M$5","v":0},{"$f":"'Data Input'!$M$3","v":0},{"$f":"'Data Input'!$M$4","v":0},null,11,-6.8E-8,"A",11,0,"Identify nouns",0,0,0,0]
[null,12,-6.9000000000000009E-8,{"$f":"'Data Input'!$N$8","v":"A"},{"$f":"'Data Input'!$N$1","v":12},{"$f":"'Data Input'!$N$7","v":0},{"$f":"'Data Input'!$N$6","v":"Identify verbs"},{"$f":"'Data Input'!$N$2","v":0},{"$f":"'Data Input'!$N$5","v":0},{"$f":"'Data Input'!$N$3","v":0},{"$f":"'Data Input'!$N$4","v":0},null,12,-6.9000000000000009E-8,"A",12,0,"Identify verbs",0,0,0,0]
[null,13,-7.0000000000000005E-8,{"$f":"'Data Input'!$O$8","v":"D"},{"$f":"'Data Input'!$O$1","v":13},{"$f":"'Data Input'!$O$7","v":0},{"$f":"'Data Input'!$O$6","v":"Sentence with correct tense"},{"$f":"'Data Input'!$O$2","v":0},{"$f":"'Data Input'!$O$5","v":0},{"$f":"'Data Input'!$O$3","v":0},{"$f":"'Data Input'!$O$4","v":0},null,13,-7.0000000000000005E-8,"D",13,0,"Sentence with correct tense",0,0,0,0]
[null,14,-7.1E-8,{"$f":"'Data Input'!$P$8","v":"D"},{"$f":"'Data Input'!$P$1","v":14},{"$f":"'Data Input'!$P$7","v":0},{"$f":"'Data Input'!$P$6","v":"Past or present tense"},{"$f":"'Data Input'!$P$2","v":0},{"$f":"'Data Input'!$P$5","v":0},{"$f":"'Data Input'!$P$3","v":0},{"$f":"'Data Input'!$P$4","v":0},null,14,-7.1E-8,"D",14,0,"Past or present tense",0,0,0,0]
[null,15,-7.2000000000000009E-8,{"$f":"'Data Input'!$Q$8","v":"E"},{"$f":"'Data Input'!$Q$1","v":15},{"$f":"'Data Input'!$Q$7","v":0},{"$f":"'Data Input'!$Q$6","v":"Explain why capitals used"},{"$f":"'Data Input'!$Q$2","v":0},{"$f":"'Data Input'!$Q$5","v":0},{"$f":"'Data Input'!$Q$3","v":0},{"$f":"'Data Input'!$Q$4","v":0},null,15,-7.2000000000000009E-8,"E",15,0,"Explain why capitals used",0,0,0,0]
[null,16,-7.3000000000000005E-8,{"$f":"'Data Input'!$R$8","v":"D"},{"$f":"'Data Input'!$R$1","v":"16i"},{"$f":"'Data Input'!$R$7","v":0},{"$f":"'Data Input'!$R$6","v":"Rewrite verb in past tense"},{"$f":"'Data Input'!$R$2","v":0},{"$f":"'Data Input'!$R$5","v":0},{"$f":"'Data Input'!$R$3","v":0},{"$f":"'Data Input'!$R$4","v":0},null,16,-7.3000000000000005E-8,"D","16i",0,"Rewrite verb in past tense",0,0,0,0]
[null,17,-7.4000000000000001E-8,{"$f":"'Data Input'!$S$8","v":"D"},{"$f":"'Data Input'!$S$1","v":"16ii"},{"$f":"'Data Input'!$S$7","v":0},{"$f":"'Data Input'!$S$6","v":"Rewrite verb in past tense"},{"$f":"'Data Input'!$S$2","v":0},{"$f":"'Data Input'!$S$5","v":0},{"$f":"'Data Input'!$S$3","v":0},{"$f":"'Data Input'!$S$4","v":0},null,17,-7.4000000000000001E-8,"D","16ii",0,"Rewrite verb in past tense",0,0,0,0]
[null,18,-7.500000000000001E-8,{"$f":"'Data Input'!$T$8","v":"E"},{"$f":"'Data Input'!$T$1","v":17},{"$f":"'Data Input'!$T$7","v":0},{"$f":"'Data Input'!$T$6","v":"Contract \"I am\""},{"$f":"'Data Input'!$T$2","v":0},{"$f":"'Data Input'!$T$5","v":0},{"$f":"'Data Input'!$T$3","v":0},{"$f":"'Data Input'!$T$4","v":0},null,18,-7.500000000000001E-8,"E",17,0,"Contract \"I am\"",0,0,0,0]
[null,19,-7.6000000000000006E-8,{"$f":"'Data Input'!$U$8","v":"B"},{"$f":"'Data Input'!$U$1","v":"18i"},{"$f":"'Data Input'!$U$7","v":0},{"$f":"'Data Input'!$U$6","v":"Start question with capital"},{"$f":"'Data Input'!$U$2","v":0},{"$f":"'Data Input'!$U$5","v":0},{"$f":"'Data Input'!$U$3","v":0},{"$f":"'Data Input'!$U$4","v":0},null,19,-7.6000000000000006E-8,"B","18i",0,"Start question with capital",0,0,0,0]
[null,20,-7.7000000000000001E-8,{"$f":"'Data Input'!$V$8","v":"B"},{"$f":"'Data Input'!$V$1","v":"18ii"},{"$f":"'Data Input'!$V$7","v":0},{"$f":"'Data Input'!$V$6","v":"End question with ?"},{"$f":"'Data Input'!$V$2","v":0},{"$f":"'Data Input'!$V$5","v":0},{"$f":"'Data Input'!$V$3","v":0},{"$f":"'Data Input'!$V$4","v":0},null,20,-7.7000000000000001E-8,"B","18ii",0,"End question with ?",0,0,0,0]

{"sheet":"P2 Hidden Data Tables","index":3,"n_rows":96,"n_cols":22,"rows_kept":96,"cut":false,"hidden":true,"merged":[]}
[null,"Sorted by Strand"]
[null,"Strand","Question Number","Sub Category","Short Q","Correct","Incorrect or Unanswered","Incorrect","Unanswered"]
[null,{"$f":"'Data Input'!$X$8","v":"S"},{"$f":"'Data Input'!$X$1","v":1},{"$f":"'Data Input'!$X$7","v":"_"},{"$f":"'Data Input'!$X$6","v":"faster (-er)"},{"$f":"'Data Input'!$X$2","v":0},{"$f":"'Data Input'!$X$5","v":0},{"$f":"'Data Input'!$X$3","v":0},{"$f":"'Data Input'!$X$4","v":0},null,null,null,"Codes"]
[null,{"$f":"'Data Input'!$Y$8","v":"S"},{"$f":"'Data Input'!$Y$1","v":2},{"$f":"'Data Input'!$Y$7","v":"_"},{"$f":"'Data Input'!$Y$6","v":"sunny (–y)"},{"$f":"'Data Input'!$Y$2","v":0},{"$f":"'Data Input'!$Y$5","v":0},{"$f":"'Data Input'!$Y$3","v":0},{"$f":"'Data Input'!$Y$4","v":0}]
[null,{"$f":"'Data Input'!$Z$8","v":"S"},{"$f":"'Data Input'!$Z$1","v":3},{"$f":"'Data Input'!$Z$7","v":"_"},{"$f":"'Data Input'!$Z$6","v":"face (c as /s/ sound)"},{"$f":"'Data Input'!$Z$2","v":0},{"$f":"'Data Input'!$Z$5","v":0},{"$f":"'Data Input'!$Z$3","v":0},{"$f":"'Data Input'!$Z$4","v":0}]
[null,{"$f":"'Data Input'!$AA$8","v":"S"},{"$f":"'Data Input'!$AA$1","v":4},{"$f":"'Data Input'!$AA$7","v":"_"},{"$f":"'Data Input'!$AA$6","v":"group (vowel digraph)"},{"$f":"'Data Input'!$AA$2","v":0},{"$f":"'Data Input'!$AA$5","v":0},{"$f":"'Data Input'!$AA$3","v":0},{"$f":"'Data Input'!$AA$4","v":0}]
[null,{"$f":"'Data Input'!$AB$8","v":"S"},{"$f":"'Data Input'!$AB$1","v":5},{"$f":"'Data Input'!$AB$7","v":"_"},{"$f":"'Data Input'!$AB$6","v":"fingers (-s)"},{"$f":"'Data Input'!$AB$2","v":0},{"$f":"'Data Input'!$AB$5","v":0},{"$f":"'Data Input'!$AB$3","v":0},{"$f":"'Data Input'!$AB$4","v":0}]
[null,{"$f":"'Data Input'!$AC$8","v":"S"},{"$f":"'Data Input'!$AC$1","v":6},{"$f":"'Data Input'!$AC$7","v":"_"},{"$f":"'Data Input'!$AC$6","v":"paints (vowel digraph)"},{"$f":"'Data Input'!$AC$2","v":0},{"$f":"'Data Input'!$AC$5","v":0},{"$f":"'Data Input'!$AC$3","v":0},{"$f":"'Data Input'!$AC$4","v":0}]
[null,{"$f":"'Data Input'!$AD$8","v":"S"},{"$f":"'Data Input'!$AD$1","v":7},{"$f":"'Data Input'!$AD$7","v":"_"},{"$f":"'Data Input'!$AD$6","v":"kitten (k for /k/ sound)"},{"$f":"'Data Input'!$AD$2","v":0},{"$f":"'Data Input'!$AD$5","v":0},{"$f":"'Data Input'!$AD$3","v":0},{"$f":"'Data Input'!$AD$4","v":0}]
[null,{"$f":"'Data Input'!$AE$8","v":"S"},{"$f":"'Data Input'!$AE$1","v":8},{"$f":"'Data Input'!$AE$7","v":"_"},{"$f":"'Data Input'!$AE$6","v":"thanked (-ed)"},{"$f":"'Data Input'!$AE$2","v":0},{"$f":"'Data Input'!$AE$5","v":0},{"$f":"'Data Input'!$AE$3","v":0},{"$f":"'Data Input'!$AE$4","v":0}]
[null,{"$f":"'Data Input'!$AF$8","v":"S"},{"$f":"'Data Input'!$AF$1","v":9},{"$f":"'Data Input'!$AF$7","v":"_"},{"$f":"'Data Input'!$AF$6","v":"Saturday (must have capital)"},{"$f":"'Data Input'!$AF$2","v":0},{"$f":"'Data Input'!$AF$5","v":0},{"$f":"'Data Input'!$AF$3","v":0},{"$f":"'Data Input'!$AF$4","v":0}]
[null,{"$f":"'Data Input'!$AG$8","v":"S"},{"$f":"'Data Input'!$AG$1","v":10},{"$f":"'Data Input'!$AG$7","v":"_"},{"$f":"'Data Input'!$AG$6","v":"sweets (vowel digraph)"},{"$f":"'Data Input'!$AG$2","v":0},{"$f":"'Data Input'!$AG$5","v":0},{"$f":"'Data Input'!$AG$3","v":0},{"$f":"'Data Input'!$AG$4","v":0}]
[null,{"$f":"'Data Input'!$AH$8","v":"S"},{"$f":"'Data Input'!$AH$1","v":11},{"$f":"'Data Input'!$AH$7","v":"_"},{"$f":"'Data Input'!$AH$6","v":"baking (-ing, remove e)"},{"$f":"'Data Input'!$AH$2","v":0},{"$f":"'Data Input'!$AH$5","v":0},{"$f":"'Data Input'!$AH$3","v":0},{"$f":"'Data Input'!$AH$4","v":0}]
[null,{"$f":"'Data Input'!$AI$8","v":"S"},{"$f":"'Data Input'!$AI$1","v":12},{"$f":"'Data Input'!$AI$7","v":"_"},{"$f":"'Data Input'!$AI$6","v":"knew (/n/ sound spelt kn)"},{"$f":"'Data Input'!$AI$2","v":0},{"$f":"'Data Input'!$AI$5","v":0},{"$f":"'Data Input'!$AI$3","v":0},{"$f":"'Data Input'!$AI$4","v":0}]
[null,{"$f":"'Data Input'!$AJ$8","v":"S"},{"$f":"'Data Input'!$AJ$1","v":13},{"$f":"'Data Input'!$AJ$7","v":"_"},{"$f":"'Data Input'!$AJ$6","v":"model (/l/ sound spelt -el)"},{"$f":"'Data Input'!$AJ$2","v":0},{"$f":"'Data Input'!$AJ$5","v":0},{"$f":"'Data Input'!$AJ$3","v":0},{"$f":"'Data Input'!$AJ$4","v":0}]
[null,{"$f":"'Data Input'!$AK$8","v":"S"},{"$f":"'Data Input'!$AK$1","v":14},{"$f":"'Data Input'!$AK$7","v":"_"},{"$f":"'Data Input'!$AK$6","v":"whale (wh)"},{"$f":"'Data Input'!$AK$2","v":0},{"$f":"'Data Input'!$AK$5","v":0},{"$f":"'Data Input'!$AK$3","v":0},{"$f":"'Data Input'!$AK$4","v":0}]
[null,{"$f":"'Data Input'!$AL$8","v":"S"},{"$f":"'Data Input'!$AL$1","v":15},{"$f":"'Data Input'!$AL$7","v":"_"},{"$f":"'Data Input'!$AL$6","v":"world ( /ʒ:/ sound after w)"},{"$f":"'Data Input'!$AL$2","v":0},{"$f":"'Data Input'!$AL$5","v":0},{"$f":"'Data Input'!$AL$3","v":0},{"$f":"'Data Input'!$AL$4","v":0}]
[null,{"$f":"'Data Input'!$AM$8","v":"S"},{"$f":"'Data Input'!$AM$1","v":16},{"$f":"'Data Input'!$AM$7","v":"_"},{"$f":"'Data Input'!$AM$6","v":"hurried (-ed, + y to i)"},{"$f":"'Data Input'!$AM$2","v":0},{"$f":"'Data Input'!$AM$5","v":0},{"$f":"'Data Input'!$AM$3","v":0},{"$f":"'Data Input'!$AM$4","v":0}]
[null,{"$f":"'Data Input'!$AN$8","v":"S"},{"$f":"'Data Input'!$AN$1","v":17},{"$f":"'Data Input'!$AN$7","v":"_"},{"$f":"'Data Input'!$AN$6","v":"petal  (/l/ sound spelt -al)"},{"$f":"'Data Input'!$AN$2","v":0},{"$f":"'Data Input'!$AN$5","v":0},{"$f":"'Data Input'!$AN$3","v":0},{"$f":"'Data Input'!$AN$4","v":0}]
[null,{"$f":"'Data Input'!$AO$8","v":"S"},{"$f":"'Data Input'!$AO$1","v":18},{"$f":"'Data Input'!$AO$7","v":"_"},{"$f":"'Data Input'!$AO$6","v":"rainbow (compound)"},{"$f":"'Data Input'!$AO$2","v":0},{"$f":"'Data Input'!$AO$5","v":0},{"$f":"'Data Input'!$AO$3","v":0},{"$f":"'Data Input'!$AO$4","v":0}]
[null,{"$f":"'Data Input'!$AP$8","v":"S"},{"$f":"'Data Input'!$AP$1","v":19},{"$f":"'Data Input'!$AP$7","v":"_"},{"$f":"'Data Input'!$AP$6","v":"peaceful (-ful)"},{"$f":"'Data Input'!$AP$2","v":0},{"$f":"'Data Input'!$AP$5","v":0},{"$f":"'Data Input'!$AP$3","v":0},{"$f":"'Data Input'!$AP$4","v":0}]
[null,{"$f":"'Data Input'!$AQ$8","v":"S"},{"$f":"'Data Input'!$AQ$1","v":20},{"$f":"'Data Input'!$AQ$7","v":"_"},{"$f":"'Data Input'!$AQ$6","v":"teddies (-es, + y to i)"},{"$f":"'Data Input'!$AQ$2","v":0},{"$f":"'Data Input'!$AQ$5","v":0},{"$f":"'Data Input'!$AQ$3","v":0},{"$f":"'Data Input'!$AQ$4","v":0}]
[]
[]
[]
[]
[]
[]
[]
[null,"Sorted by Sub Type"]
[null,"Strand","Question Number","Sub Category","Short Q","Correct","Incorrect or Unanswered","Incorrect","Unanswered"]
[null,{"$f":"'Data Input'!$X$8","v":"S"},{"$f":"'Data Input'!$X$1","v":1},{"$f":"'Data Input'!$X$7","v":"_"},{"$f":"'Data Input'!$X$6","v":"faster (-er)"},{"$f":"'Data Input'!$X$2","v":0},{"$f":"'Data Input'!$X$5","v":0},{"$f":"'Data Input'!$X$3","v":0},{"$f":"'Data Input'!$X$4","v":0}]
[null,{"$f":"'Data Input'!$Y$8","v":"S"},{"$f":"'Data Input'!$Y$1","v":2},{"$f":"'Data Input'!$Y$7","v":"_"},{"$f":"'Data Input'!$Y$6","v":"sunny (–y)"},{"$f":"'Data Input'!$Y$2","v":0},{"$f":"'Data Input'!$Y$5","v":0},{"$f":"'Data Input'!$Y$3","v":0},{"$f":"'Data Input'!$Y$4","v":0}]
[null,{"$f":"'Data Input'!$AA$8","v":"S"},{"$f":"'Data Input'!$AA$1","v":4},{"$f":"'Data Input'!$AA$7","v":"_"},{"$f":"'Data Input'!$AA$6","v":"group (vowel digraph)"},{"$f":"'Data Input'!$AA$2","v":0},{"$f":"'Data Input'!$AA$5","v":0},{"$f":"'Data Input'!$AA$3","v":0},{"$f":"'Data Input'!$AA$4","v":0}]
[null,{"$f":"'Data Input'!$AB$8","v":"S"},{"$f":"'Data Input'!$AB$1","v":5},{"$f":"'Data Input'!$AB$7","v":"_"},{"$f":"'Data Input'!$AB$6","v":"fingers (-s)"},{"$f":"'Data Input'!$AB$2","v":0},{"$f":"'Data Input'!$AB$5","v":0},{"$f":"'Data Input'!$AB$3","v":0},{"$f":"'Data Input'!$AB$4","v":0}]
[null,{"$f":"'Data Input'!$AC$8","v":"S"},{"$f":"'Data Input'!$AC$1","v":6},{"$f":"'Data Input'!$AC$7","v":"_"},{"$f":"'Data Input'!$AC$6","v":"paints (vowel digraph)"},{"$f":"'Data Input'!$AC$2","v":0},{"$f":"'Data Input'!$AC$5","v":0},{"$f":"'Data Input'!$AC$3","v":0},{"$f":"'Data Input'!$AC$4","v":0}]
[null,{"$f":"'Data Input'!$AK$8","v":"S"},{"$f":"'Data Input'!$AK$1","v":14},{"$f":"'Data Input'!$AK$7","v":"_"},{"$f":"'Data Input'!$AK$6","v":"whale (wh)"},{"$f":"'Data Input'!$AK$2","v":0},{"$f":"'Data Input'!$AK$5","v":0},{"$f":"'Data Input'!$AK$3","v":0},{"$f":"'Data Input'!$AK$4","v":0}]
[null,{"$f":"'Data Input'!$AN$8","v":"S"},{"$f":"'Data Input'!$AN$1","v":17},{"$f":"'Data Input'!$AN$7","v":"_"},{"$f":"'Data Input'!$AN$6","v":"petal  (/l/ sound spelt -al)"},{"$f":"'Data Input'!$AN$2","v":0},{"$f":"'Data Input'!$AN$5","v":0},{"$f":"'Data Input'!$AN$3","v":0},{"$f":"'Data Input'!$AN$4","v":0}]
[null,{"$f":"'Data Input'!$AO$8","v":"S"},{"$f":"'Data Input'!$AO$1","v":18},{"$f":"'Data Input'!$AO$7","v":"_"},{"$f":"'Data Input'!$AO$6","v":"rainbow (compound)"},{"$f":"'Data Input'!$AO$2","v":0},{"$f":"'Data Input'!$AO$5","v":0},{"$f":"'Data Input'!$AO$3","v":0},{"$f":"'Data Input'!$AO$4","v":0}]
[null,{"$f":"'Data Input'!$AP$8","v":"S"},{"$f":"'Data Input'!$AP$1","v":19},{"$f":"'Data Input'!$AP$7","v":"_"},{"$f":"'Data Input'!$AP$6","v":"peaceful (-ful)"},{"$f":"'Data Input'!$AP$2","v":0},{"$f":"'Data Input'!$AP$5","v":0},{"$f":"'Data Input'!$AP$3","v":0},{"$f":"'Data Input'!$AP$4","v":0}]
[null,{"$f":"'Data Input'!$AQ$8","v":"S"},{"$f":"'Data Input'!$AQ$1","v":20},{"$f":"'Data Input'!$AQ$7","v":"_"},{"$f":"'Data Input'!$AQ$6","v":"teddies (-es, + y to i)"},{"$f":"'Data Input'!$AQ$2","v":0},{"$f":"'Data Input'!$AQ$5","v":0},{"$f":"'Data Input'!$AQ$3","v":0},{"$f":"'Data Input'!$AQ$4","v":0}]
[null,{"$f":"'Data Input'!#REF!","v":{"$error":"#REF!"}},{"$f":"'Data Input'!#REF!","v":{"$error":"#REF!"}},{"$f":"'Data Input'!#REF!","v":{"$error":"#REF!"}},{"$f":"'Data Input'!#REF!","v":{"$error":"#REF!"}},{"$f":"'Data Input'!#REF!","v":{"$error":"#REF!"}},{"$f":"'Data Input'!#REF!","v":{"$error":"#REF!"}},{"$f":"'Data Input'!#REF!","v":{"$error":"#REF!"}},{"$f":"'Data Input'!#REF!","v":{"$error":"#REF!"}}]
[null,{"$f":"'Data Input'!#REF!","v":{"$error":"#REF!"}},{"$f":"'Data Input'!#REF!","v":{"$error":"#REF!"}},{"$f":"'Data Input'!#REF!","v":{"$error":"#REF!"}},{"$f":"'Data Input'!#REF!","v":{"$error":"#REF!"}},{"$f":"'Data Input'!#REF!","v":{"$error":"#REF!"}},{"$f":"'Data Input'!#REF!","v":{"$error":"#REF!"}},{"$f":"'Data Input'!#REF!","v":{"$error":"#REF!"}},{"$f":"'Data Input'!#REF!","v":{"$error":"#REF!"}}]
[null,{"$f":"'Data Input'!#REF!","v":{"$error":"#REF!"}},{"$f":"'Data Input'!#REF!","v":{"$error":"#REF!"}},{"$f":"'Data Input'!#REF!","v":{"$error":"#REF!"}},{"$f":"'Data Input'!#REF!","v":{"$error":"#REF!"}},{"$f":"'Data Input'!#REF!","v":{"$error":"#REF!"}},{"$f":"'Data Input'!#REF!","v":{"$error":"#REF!"}},{"$f":"'Data Input'!#REF!","v":{"$error":"#REF!"}},{"$f":"'Data Input'!#REF!","v":{"$error":"#REF!"}}]
[null,{"$f":"'Data Input'!#REF!","v":{"$error":"#REF!"}},{"$f":"'Data Input'!#REF!","v":{"$error":"#REF!"}},{"$f":"'Data Input'!#REF!","v":{"$error":"#REF!"}},{"$f":"'Data Input'!#REF!","v":{"$error":"#REF!"}},{"$f":"'Data Input'!#REF!","v":{"$error":"#REF!"}},{"$f":"'Data Input'!#REF!","v":{"$error":"#REF!"}},{"$f":"'Data Input'!#REF!","v":{"$error":"#REF!"}},{"$f":"'Data Input'!#REF!","v":{"$error":"#REF!"}}]
[null,{"$f":"'Data Input'!#REF!","v":{"$error":"#REF!"}},{"$f":"'Data Input'!#REF!","v":{"$error":"#REF!"}},{"$f":"'Data Input'!#REF!","v":{"$error":"#REF!"}},{"$f":"'Data Input'!#REF!","v":{"$error":"#REF!"}},{"$f":"'Data Input'!#REF!","v":{"$error":"#REF!"}},{"$f":"'Data Input'!#REF!","v":{"$error":"#REF!"}},{"$f":"'Data Input'!#REF!","v":{"$error":"#REF!"}},{"$f":"'Data Input'!#REF!","v":{"$error":"#REF!"}}]
[null,{"$f":"'Data Input'!#REF!","v":{"$error":"#REF!"}},{"$f":"'Data Input'!#REF!","v":{"$error":"#REF!"}},{"$f":"'Data Input'!#REF!","v":{"$error":"#REF!"}},{"$f":"'Data Input'!#REF!","v":{"$error":"#REF!"}},{"$f":"'Data Input'!#REF!","v":{"$error":"#REF!"}},{"$f":"'Data Input'!#REF!","v":{"$error":"#REF!"}},{"$f":"'Data Input'!#REF!","v":{"$error":"#REF!"}},{"$f":"'Data Input'!#REF!","v":{"$error":"#REF!"}}]
[null,{"$f":"'Data Input'!#REF!","v":{"$error":"#REF!"}},{"$f":"'Data Input'!#REF!","v":{"$error":"#REF!"}},{"$f":"'Data Input'!#REF!","v":{"$error":"#REF!"}},{"$f":"'Data Input'!#REF!","v":{"$error":"#REF!"}},{"$f":"'Data Input'!#REF!","v":{"$error":"#REF!"}},{"$f":"'Data Input'!#REF!","v":{"$error":"#REF!"}},{"$f":"'Data Input'!#REF!","v":{"$error":"#REF!"}},{"$f":"'Data Input'!#REF!","v":{"$error":"#REF!"}}]
[null,{"$f":"'Data Input'!$AI$8","v":"S"},{"$f":"'Data Input'!$AI$1","v":12},{"$f":"'Data Input'!$AI$7","v":"_"},{"$f":"'Data Input'!$AI$6","v":"knew (/n/ sound spelt kn)"},{"$f":"'Data Input'!$AI$2","v":0},{"$f":"'Data Input'!$AI$5","v":0},{"$f":"'Data Input'!$AI$3","v":0},{"$f":"'Data Input'!$AI$4","v":0}]
[null,{"$f":"'Data Input'!#REF!","v":{"$error":"#REF!"}},{"$f":"'Data Input'!#REF!","v":{"$error":"#REF!"}},{"$f":"'Data Input'!#REF!","v":{"$error":"#REF!"}},{"$f":"'Data Input'!#REF!","v":{"$error":"#REF!"}},{"$f":"'Data Input'!#REF!","v":{"$error":"#REF!"}},{"$f":"'Data Input'!#REF!","v":{"$error":"#REF!"}},{"$f":"'Data Input'!#REF!","v":{"$error":"#REF!"}},{"$f":"'Data Input'!#REF!","v":{"$error":"#REF!"}}]
[null,{"$f":"'Data Input'!#REF!","v":{"$error":"#REF!"}},{"$f":"'Data Input'!#REF!","v":{"$error":"#REF!"}},{"$f":"'Data Input'!#REF!","v":{"$error":"#REF!"}},{"$f":"'Data Input'!#REF!","v":{"$error":"#REF!"}},{"$f":"'Data Input'!#REF!","v":{"$error":"#REF!"}},{"$f":"'Data Input'!#REF!","v":{"$error":"#REF!"}},{"$f":"'Data Input'!#REF!","v":{"$error":"#REF!"}},{"$f":"'Data Input'!#REF!","v":{"$error":"#REF!"}}]
[null,{"$f":"'Data Input'!#REF!","v":{"$error":"#REF!"}},{"$f":"'Data Input'!#REF!","v":{"$error":"#REF!"}},{"$f":"'Data Input'!#REF!","v":{"$error":"#REF!"}},{"$f":"'Data Input'!#REF!","v":{"$error":"#REF!"}},{"$f":"'Data Input'!#REF!","v":{"$error":"#REF!"}},{"$f":"'Data Input'!#REF!","v":{"$error":"#REF!"}},{"$f":"'Data Input'!#REF!","v":{"$error":"#REF!"}},{"$f":"'Data Input'!#REF!","v":{"$error":"#REF!"}}]
[null,{"$f":"'Data Input'!#REF!","v":{"$error":"#REF!"}},{"$f":"'Data Input'!#REF!","v":{"$error":"#REF!"}},{"$f":"'Data Input'!#REF!","v":{"$error":"#REF!"}},{"$f":"'Data Input'!#REF!","v":{"$error":"#REF!"}},{"$f":"'Data Input'!#REF!","v":{"$error":"#REF!"}},{"$f":"'Data Input'!#REF!","v":{"$error":"#REF!"}},{"$f":"'Data Input'!#REF!","v":{"$error":"#REF!"}},{"$f":"'Data Input'!#REF!","v":{"$error":"#REF!"}}]
[null,{"$f":"'Data Input'!#REF!","v":{"$error":"#REF!"}},{"$f":"'Data Input'!#REF!","v":{"$error":"#REF!"}},{"$f":"'Data Input'!#REF!","v":{"$error":"#REF!"}},{"$f":"'Data Input'!#REF!","v":{"$error":"#REF!"}},{"$f":"'Data Input'!#REF!","v":{"$error":"#REF!"}},{"$f":"'Data Input'!#REF!","v":{"$error":"#REF!"}},{"$f":"'Data Input'!#REF!","v":{"$error":"#REF!"}},{"$f":"'Data Input'!#REF!","v":{"$error":"#REF!"}}]
[null,{"$f":"'Data Input'!#REF!","v":{"$error":"#REF!"}},{"$f":"'Data Input'!#REF!","v":{"$error":"#REF!"}},{"$f":"'Data Input'!#REF!","v":{"$error":"#REF!"}},{"$f":"'Data Input'!#REF!","v":{"$error":"#REF!"}},{"$f":"'Data Input'!#REF!","v":{"$error":"#REF!"}},{"$f":"'Data Input'!#REF!","v":{"$error":"#REF!"}},{"$f":"'Data Input'!#REF!","v":{"$error":"#REF!"}},{"$f":"'Data Input'!#REF!","v":{"$error":"#REF!"}}]
[null,{"$f":"'Data Input'!#REF!","v":{"$error":"#REF!"}},{"$f":"'Data Input'!#REF!","v":{"$error":"#REF!"}},{"$f":"'Data Input'!#REF!","v":{"$error":"#REF!"}},{"$f":"'Data Input'!#REF!","v":{"$error":"#REF!"}},{"$f":"'Data Input'!#REF!","v":{"$error":"#REF!"}},{"$f":"'Data Input'!#REF!","v":{"$error":"#REF!"}},{"$f":"'Data Input'!#REF!","v":{"$error":"#REF!"}},{"$f":"'Data Input'!#REF!","v":{"$error":"#REF!"}}]
[null,{"$f":"'Data Input'!#REF!","v":{"$error":"#REF!"}},{"$f":"'Data Input'!#REF!","v":{"$error":"#REF!"}},{"$f":"'Data Input'!#REF!","v":{"$error":"#REF!"}},{"$f":"'Data Input'!#REF!","v":{"$error":"#REF!"}},{"$f":"'Data Input'!#REF!","v":{"$error":"#REF!"}},{"$f":"'Data Input'!#REF!","v":{"$error":"#REF!"}},{"$f":"'Data Input'!#REF!","v":{"$error":"#REF!"}},{"$f":"'Data Input'!#REF!","v":{"$error":"#REF!"}}]
[null,{"$f":"'Data Input'!$AL$8","v":"S"},{"$f":"'Data Input'!$AL$1","v":15},{"$f":"'Data Input'!$AL$7","v":"_"},{"$f":"'Data Input'!$AL$6","v":"world ( /ʒ:/ sound after w)"},{"$f":"'Data Input'!$AL$2","v":0},{"$f":"'Data Input'!$AL$5","v":0},{"$f":"'Data Input'!$AL$3","v":0},{"$f":"'Data Input'!$AL$4","v":0}]
[null,{"$f":"'Data Input'!$AM$8","v":"S"},{"$f":"'Data Input'!$AM$1","v":16},{"$f":"'Data Input'!$AM$7","v":"_"},{"$f":"'Data Input'!$AM$6","v":"hurried (-ed, + y to i)"},{"$f":"'Data Input'!$AM$2","v":0},{"$f":"'Data Input'!$AM$5","v":0},{"$f":"'Data Input'!$AM$3","v":0},{"$f":"'Data Input'!$AM$4","v":0}]
[null,{"$f":"'Data Input'!$AD$8","v":"S"},{"$f":"'Data Input'!$AD$1","v":7},{"$f":"'Data Input'!$AD$7","v":"_"},{"$f":"'Data Input'!$AD$6","v":"kitten (k for /k/ sound)"},{"$f":"'Data Input'!$AD$2","v":0},{"$f":"'Data Input'!$AD$5","v":0},{"$f":"'Data Input'!$AD$3","v":0},{"$f":"'Data Input'!$AD$4","v":0}]
[null,{"$f":"'Data Input'!$AE$8","v":"S"},{"$f":"'Data Input'!$AE$1","v":8},{"$f":"'Data Input'!$AE$7","v":"_"},{"$f":"'Data Input'!$AE$6","v":"thanked (-ed)"},{"$f":"'Data Input'!$AE$2","v":0},{"$f":"'Data Input'!$AE$5","v":0},{"$f":"'Data Input'!$AE$3","v":0},{"$f":"'Data Input'!$AE$4","v":0}]
[null,{"$f":"'Data Input'!#REF!","v":{"$error":"#REF!"}},{"$f":"'Data Input'!#REF!","v":{"$error":"#REF!"}},{"$f":"'Data Input'!#REF!","v":{"$error":"#REF!"}},{"$f":"'Data Input'!#REF!","v":{"$error":"#REF!"}},{"$f":"'Data Input'!#REF!","v":{"$error":"#REF!"}},{"$f":"'Data Input'!#REF!","v":{"$error":"#REF!"}},{"$f":"'Data Input'!#REF!","v":{"$error":"#REF!"}},{"$f":"'Data Input'!#REF!","v":{"$error":"#REF!"}}]
[null,{"$f":"'Data Input'!#REF!","v":{"$error":"#REF!"}},{"$f":"'Data Input'!#REF!","v":{"$error":"#REF!"}},{"$f":"'Data Input'!#REF!","v":{"$error":"#REF!"}},{"$f":"'Data Input'!#REF!","v":{"$error":"#REF!"}},{"$f":"'Data Input'!#REF!","v":{"$error":"#REF!"}},{"$f":"'Data Input'!#REF!","v":{"$error":"#REF!"}},{"$f":"'Data Input'!#REF!","v":{"$error":"#REF!"}},{"$f":"'Data Input'!#REF!","v":{"$error":"#REF!"}}]
[null,{"$f":"'Data Input'!$Z$8","v":"S"},{"$f":"'Data Input'!$Z$1","v":3},{"$f":"'Data Input'!$Z$7","v":"_"},{"$f":"'Data Input'!$Z$6","v":"face (c as /s/ sound)"},{"$f":"'Data Input'!$Z$2","v":0},{"$f":"'Data Input'!$Z$5","v":0},{"$f":"'Data Input'!$Z$3","v":0},{"$f":"'Data Input'!$Z$4","v":0}]
[null,{"$f":"'Data Input'!$AF$8","v":"S"},{"$f":"'Data Input'!$AF$1","v":9},{"$f":"'Data Input'!$AF$7","v":"_"},{"$f":"'Data Input'!$AF$6","v":"Saturday (must have capital)"},{"$f":"'Data Input'!$AF$2","v":0},{"$f":"'Data Input'!$AF$5","v":0},{"$f":"'Data Input'!$AF$3","v":0},{"$f":"'Data Input'!$AF$4","v":0}]
[null,{"$f":"'Data Input'!$AG$8","v":"S"},{"$f":"'Data Input'!$AG$1","v":10},{"$f":"'Data Input'!$AG$7","v":"_"},{"$f":"'Data Input'!$AG$6","v":"sweets (vowel digraph)"},{"$f":"'Data Input'!$AG$2","v":0},{"$f":"'Data Input'!$AG$5","v":0},{"$f":"'Data Input'!$AG$3","v":0},{"$f":"'Data Input'!$AG$4","v":0}]
[null,{"$f":"'Data Input'!$AH$8","v":"S"},{"$f":"'Data Input'!$AH$1","v":11},{"$f":"'Data Input'!$AH$7","v":"_"},{"$f":"'Data Input'!$AH$6","v":"baking (-ing, remove e)"},{"$f":"'Data Input'!$AH$2","v":0},{"$f":"'Data Input'!$AH$5","v":0},{"$f":"'Data Input'!$AH$3","v":0},{"$f":"'Data Input'!$AH$4","v":0}]
[null,{"$f":"'Data Input'!$AJ$8","v":"S"},{"$f":"'Data Input'!$AJ$1","v":13},{"$f":"'Data Input'!$AJ$7","v":"_"},{"$f":"'Data Input'!$AJ$6","v":"model (/l/ sound spelt -el)"},{"$f":"'Data Input'!$AJ$2","v":0},{"$f":"'Data Input'!$AJ$5","v":0},{"$f":"'Data Input'!$AJ$3","v":0},{"$f":"'Data Input'!$AJ$4","v":0}]
[null,{"$f":"'Data Input'!#REF!","v":{"$error":"#REF!"}},{"$f":"'Data Input'!#REF!","v":{"$error":"#REF!"}},{"$f":"'Data Input'!#REF!","v":{"$error":"#REF!"}},{"$f":"'Data Input'!#REF!","v":{"$error":"#REF!"}},{"$f":"'Data Input'!#REF!","v":{"$error":"#REF!"}},{"$f":"'Data Input'!#REF!","v":{"$error":"#REF!"}},{"$f":"'Data Input'!#REF!","v":{"$error":"#REF!"}},{"$f":"'Data Input'!#REF!","v":{"$error":"#REF!"}}]
[null,{"$f":"'Data Input'!#REF!","v":{"$error":"#REF!"}},{"$f":"'Data Input'!#REF!","v":{"$error":"#REF!"}},{"$f":"'Data Input'!#REF!","v":{"$error":"#REF!"}},{"$f":"'Data Input'!#REF!","v":{"$error":"#REF!"}},{"$f":"'Data Input'!#REF!","v":{"$error":"#REF!"}},{"$f":"'Data Input'!#REF!","v":{"$error":"#REF!"}},{"$f":"'Data Input'!#REF!","v":{"$error":"#REF!"}},{"$f":"'Data Input'!#REF!","v":{"$error":"#REF!"}}]
[null,{"$f":"'Data Input'!#REF!","v":{"$error":"#REF!"}},{"$f":"'Data Input'!#REF!","v":{"$error":"#REF!"}},{"$f":"'Data Input'!#REF!","v":{"$error":"#REF!"}},{"$f":"'Data Input'!#REF!","v":{"$error":"#REF!"}},{"$f":"'Data Input'!#REF!","v":{"$error":"#REF!"}},{"$f":"'Data Input'!#REF!","v":{"$error":"#REF!"}},{"$f":"'Data Input'!#REF!","v":{"$error":"#REF!"}},{"$f":"'Data Input'!#REF!","v":{"$error":"#REF!"}}]
[]
[]
[]
[null,null,null,"Sorted by Correct",null,null,null,null,null,null,null,null,null,null,"Sorted by Correct"]
[null,null,null,"Strand","Question Number","Sub Category","Short Q","Correct","Incorrect or Unanswered","Incorrect","Unanswered",null,null,null,"Strand","Question Number","Sub Category","Short Q","Correct","Incorrect or unanswered","Incorrect","Unanswered"]
[null,{"$f":"RANK(C77,$C$77:$C$146)","v":1},{"$f":" H77 - ROW()*0.000000001","v":-7.7000000000000001E-8},{"$f":"'Data Input'!$X$8","v":"S"},{"$f":"'Data Input'!$X$1","v":1},{"$f":"'Data Input'!$X$7","v":"_"},{"$f":"'Data Input'!$X$6","v":"faster (-er)"},{"$f":"'Data Input'!$X$2","v":0},{"$f":"'Data Input'!$X$5","v":0},{"$f":"'Data Input'!$X$3","v":0},{"$f":"'Data Input'!$X$4","v":0},null,{"$f":"VLOOKUP(ROW()-ROW(M$76),$B$77:$J$146,1,FALSE)","v":1},{"$f":"VLOOKUP(ROW()-ROW(M$76),$B$77:$J$146,2,FALSE)","v":-7.7000000000000001E-8},{"$f":"VLOOKUP(ROW()-ROW(M$76),$B$77:$J$146,3,FALSE)","v":"S"},{"$f":"VLOOKUP(ROW()-ROW(M$76),$B$77:$J$146,4,FALSE)","v":1},{"$f":"VLOOKUP(ROW()-ROW(M$76),$B$77:$J$146,5,FALSE)","v":"_"},{"$f":"VLOOKUP(ROW()-ROW(M$76),$B$77:$J$146,6,FALSE)","v":"faster (-er)"},{"$f":"VLOOKUP(ROW()-ROW(M$76),$B$77:$J$146,7,FALSE)","v":0},{"$f":"VLOOKUP(ROW()-ROW(M$76),$B$77:$J$146,8,FALSE)","v":0},{"$f":"VLOOKUP(ROW()-ROW(M$76),$B$77:$K$146,9,FALSE)","v":0},{"$f":"VLOOKUP(ROW()-ROW(M$76),$B$77:$K$146,10,FALSE)","v":0}]
[null,2,{"$f":" H78 - ROW()*0.000000001","v":-7.800000000000001E-8},{"$f":"'Data Input'!$Y$8","v":"S"},{"$f":"'Data Input'!$Y$1","v":2},{"$f":"'Data Input'!$Y$7","v":"_"},{"$f":"'Data Input'!$Y$6","v":"sunny (–y)"},{"$f":"'Data Input'!$Y$2","v":0},{"$f":"'Data Input'!$Y$5","v":0},{"$f":"'Data Input'!$Y$3","v":0},{"$f":"'Data Input'!$Y$4","v":0},null,2,-7.800000000000001E-8,{"$f":"VLOOKUP(ROW()-ROW(M$76),$B$77:$J$146,3,FALSE)","v":"S"},{"$f":"VLOOKUP(ROW()-ROW(M$76),$B$77:$J$146,4,FALSE)","v":2},{"$f":"VLOOKUP(ROW()-ROW(M$76),$B$77:$J$146,5,FALSE)","v":"_"},{"$f":"VLOOKUP(ROW()-ROW(M$76),$B$77:$J$146,6,FALSE)","v":"sunny (–y)"},{"$f":"VLOOKUP(ROW()-ROW(M$76),$B$77:$J$146,7,FALSE)","v":0},{"$f":"VLOOKUP(ROW()-ROW(M$76),$B$77:$J$146,8,FALSE)","v":0},{"$f":"VLOOKUP(ROW()-ROW(M$76),$B$77:$K$146,9,FALSE)","v":0},{"$f":"VLOOKUP(ROW()-ROW(M$76),$B$77:$K$146,10,FALSE)","v":0}]
[null,3,-7.9000000000000006E-8,{"$f":"'Data Input'!$Z$8","v":"S"},{"$f":"'Data Input'!$Z$1","v":3},{"$f":"'Data Input'!$Z$7","v":"_"},{"$f":"'Data Input'!$Z$6","v":"face (c as /s/ sound)"},{"$f":"'Data Input'!$Z$2","v":0},{"$f":"'Data Input'!$Z$5","v":0},{"$f":"'Data Input'!$Z$3","v":0},{"$f":"'Data Input'!$Z$4","v":0},null,3,-7.9000000000000006E-8,"S",3,"_","face (c as /s/ sound)",0,0,0,0]
[null,4,-8.0000000000000002E-8,{"$f":"'Data Input'!$AA$8","v":"S"},{"$f":"'Data Input'!$AA$1","v":4},{"$f":"'Data Input'!$AA$7","v":"_"},{"$f":"'Data Input'!$AA$6","v":"group (vowel digraph)"},{"$f":"'Data Input'!$AA$2","v":0},{"$f":"'Data Input'!$AA$5","v":0},{"$f":"'Data Input'!$AA$3","v":0},{"$f":"'Data Input'!$AA$4","v":0},null,4,-8.0000000000000002E-8,"S",4,"_","group (vowel digraph)",0,0,0,0]
[null,5,-8.1000000000000011E-8,{"$f":"'Data Input'!$AB$8","v":"S"},{"$f":"'Data Input'!$AB$1","v":5},{"$f":"'Data Input'!$AB$7","v":"_"},{"$f":"'Data Input'!$AB$6","v":"fingers (-s)"},{"$f":"'Data Input'!$AB$2","v":0},{"$f":"'Data Input'!$AB$5","v":0},{"$f":"'Data Input'!$AB$3","v":0},{"$f":"'Data Input'!$AB$4","v":0},null,5,-8.1000000000000011E-8,"S",5,"_","fingers (-s)",0,0,0,0]
[null,6,-8.2000000000000006E-8,{"$f":"'Data Input'!$AC$8","v":"S"},{"$f":"'Data Input'!$AC$1","v":6},{"$f":"'Data Input'!$AC$7","v":"_"},{"$f":"'Data Input'!$AC$6","v":"paints (vowel digraph)"},{"$f":"'Data Input'!$AC$2","v":0},{"$f":"'Data Input'!$AC$5","v":0},{"$f":"'Data Input'!$AC$3","v":0},{"$f":"'Data Input'!$AC$4","v":0},null,6,-8.2000000000000006E-8,"S",6,"_","paints (vowel digraph)",0,0,0,0]
[null,7,-8.3000000000000002E-8,{"$f":"'Data Input'!$AD$8","v":"S"},{"$f":"'Data Input'!$AD$1","v":7},{"$f":"'Data Input'!$AD$7","v":"_"},{"$f":"'Data Input'!$AD$6","v":"kitten (k for /k/ sound)"},{"$f":"'Data Input'!$AD$2","v":0},{"$f":"'Data Input'!$AD$5","v":0},{"$f":"'Data Input'!$AD$3","v":0},{"$f":"'Data Input'!$AD$4","v":0},null,7,-8.3000000000000002E-8,"S",7,"_","kitten (k for /k/ sound)",0,0,0,0]
[null,8,-8.4000000000000011E-8,{"$f":"'Data Input'!$AE$8","v":"S"},{"$f":"'Data Input'!$AE$1","v":8},{"$f":"'Data Input'!$AE$7","v":"_"},{"$f":"'Data Input'!$AE$6","v":"thanked (-ed)"},{"$f":"'Data Input'!$AE$2","v":0},{"$f":"'Data Input'!$AE$5","v":0},{"$f":"'Data Input'!$AE$3","v":0},{"$f":"'Data Input'!$AE$4","v":0},null,8,-8.4000000000000011E-8,"S",8,"_","thanked (-ed)",0,0,0,0]
[null,9,-8.5000000000000007E-8,{"$f":"'Data Input'!$AF$8","v":"S"},{"$f":"'Data Input'!$AF$1","v":9},{"$f":"'Data Input'!$AF$7","v":"_"},{"$f":"'Data Input'!$AF$6","v":"Saturday (must have capital)"},{"$f":"'Data Input'!$AF$2","v":0},{"$f":"'Data Input'!$AF$5","v":0},{"$f":"'Data Input'!$AF$3","v":0},{"$f":"'Data Input'!$AF$4","v":0},null,9,-8.5000000000000007E-8,"S",9,"_","Saturday (must have capital)",0,0,0,0]
[null,10,-8.6000000000000002E-8,{"$f":"'Data Input'!$AG$8","v":"S"},{"$f":"'Data Input'!$AG$1","v":10},{"$f":"'Data Input'!$AG$7","v":"_"},{"$f":"'Data Input'!$AG$6","v":"sweets (vowel digraph)"},{"$f":"'Data Input'!$AG$2","v":0},{"$f":"'Data Input'!$AG$5","v":0},{"$f":"'Data Input'!$AG$3","v":0},{"$f":"'Data Input'!$AG$4","v":0},null,10,-8.6000000000000002E-8,"S",10,"_","sweets (vowel digraph)",0,0,0,0]
[null,11,-8.7000000000000011E-8,{"$f":"'Data Input'!$AH$8","v":"S"},{"$f":"'Data Input'!$AH$1","v":11},{"$f":"'Data Input'!$AH$7","v":"_"},{"$f":"'Data Input'!$AH$6","v":"baking (-ing, remove e)"},{"$f":"'Data Input'!$AH$2","v":0},{"$f":"'Data Input'!$AH$5","v":0},{"$f":"'Data Input'!$AH$3","v":0},{"$f":"'Data Input'!$AH$4","v":0},null,11,-8.7000000000000011E-8,"S",11,"_","baking (-ing, remove e)",0,0,0,0]
[null,12,-8.8000000000000007E-8,{"$f":"'Data Input'!$AI$8","v":"S"},{"$f":"'Data Input'!$AI$1","v":12},{"$f":"'Data Input'!$AI$7","v":"_"},{"$f":"'Data Input'!$AI$6","v":"knew (/n/ sound spelt kn)"},{"$f":"'Data Input'!$AI$2","v":0},{"$f":"'Data Input'!$AI$5","v":0},{"$f":"'Data Input'!$AI$3","v":0},{"$f":"'Data Input'!$AI$4","v":0},null,12,-8.8000000000000007E-8,"S",12,"_","knew (/n/ sound spelt kn)",0,0,0,0]
[null,13,-8.9000000000000003E-8,{"$f":"'Data Input'!$AJ$8","v":"S"},{"$f":"'Data Input'!$AJ$1","v":13},{"$f":"'Data Input'!$AJ$7","v":"_"},{"$f":"'Data Input'!$AJ$6","v":"model (/l/ sound spelt -el)"},{"$f":"'Data Input'!$AJ$2","v":0},{"$f":"'Data Input'!$AJ$5","v":0},{"$f":"'Data Input'!$AJ$3","v":0},{"$f":"'Data Input'!$AJ$4","v":0},null,13,-8.9000000000000003E-8,"S",13,"_","model (/l/ sound spelt -el)",0,0,0,0]
[null,14,-9.0000000000000012E-8,{"$f":"'Data Input'!$AK$8","v":"S"},{"$f":"'Data Input'!$AK$1","v":14},{"$f":"'Data Input'!$AK$7","v":"_"},{"$f":"'Data Input'!$AK$6","v":"whale (wh)"},{"$f":"'Data Input'!$AK$2","v":0},{"$f":"'Data Input'!$AK$5","v":0},{"$f":"'Data Input'!$AK$3","v":0},{"$f":"'Data Input'!$AK$4","v":0},null,14,-9.0000000000000012E-8,"S",14,"_","whale (wh)",0,0,0,0]
[null,15,-9.1000000000000008E-8,{"$f":"'Data Input'!$AL$8","v":"S"},{"$f":"'Data Input'!$AL$1","v":15},{"$f":"'Data Input'!$AL$7","v":"_"},{"$f":"'Data Input'!$AL$6","v":"world ( /ʒ:/ sound after w)"},{"$f":"'Data Input'!$AL$2","v":0},{"$f":"'Data Input'!$AL$5","v":0},{"$f":"'Data Input'!$AL$3","v":0},{"$f":"'Data Input'!$AL$4","v":0},null,15,-9.1000000000000008E-8,"S",15,"_","world ( /ʒ:/ sound after w)",0,0,0,0]
[null,16,-9.2000000000000003E-8,{"$f":"'Data Input'!$AM$8","v":"S"},{"$f":"'Data Input'!$AM$1","v":16},{"$f":"'Data Input'!$AM$7","v":"_"},{"$f":"'Data Input'!$AM$6","v":"hurried (-ed, + y to i)"},{"$f":"'Data Input'!$AM$2","v":0},{"$f":"'Data Input'!$AM$5","v":0},{"$f":"'Data Input'!$AM$3","v":0},{"$f":"'Data Input'!$AM$4","v":0},null,16,-9.2000000000000003E-8,"S",16,"_","hurried (-ed, + y to i)",0,0,0,0]
[null,17,-9.3000000000000012E-8,{"$f":"'Data Input'!$AN$8","v":"S"},{"$f":"'Data Input'!$AN$1","v":17},{"$f":"'Data Input'!$AN$7","v":"_"},{"$f":"'Data Input'!$AN$6","v":"petal  (/l/ sound spelt -al)"},{"$f":"'Data Input'!$AN$2","v":0},{"$f":"'Data Input'!$AN$5","v":0},{"$f":"'Data Input'!$AN$3","v":0},{"$f":"'Data Input'!$AN$4","v":0},null,17,-9.3000000000000012E-8,"S",17,"_","petal  (/l/ sound spelt -al)",0,0,0,0]
[null,18,-9.4000000000000008E-8,{"$f":"'Data Input'!$AO$8","v":"S"},{"$f":"'Data Input'!$AO$1","v":18},{"$f":"'Data Input'!$AO$7","v":"_"},{"$f":"'Data Input'!$AO$6","v":"rainbow (compound)"},{"$f":"'Data Input'!$AO$2","v":0},{"$f":"'Data Input'!$AO$5","v":0},{"$f":"'Data Input'!$AO$3","v":0},{"$f":"'Data Input'!$AO$4","v":0},null,18,-9.4000000000000008E-8,"S",18,"_","rainbow (compound)",0,0,0,0]
[null,19,-9.5000000000000004E-8,{"$f":"'Data Input'!$AP$8","v":"S"},{"$f":"'Data Input'!$AP$1","v":19},{"$f":"'Data Input'!$AP$7","v":"_"},{"$f":"'Data Input'!$AP$6","v":"peaceful (-ful)"},{"$f":"'Data Input'!$AP$2","v":0},{"$f":"'Data Input'!$AP$5","v":0},{"$f":"'Data Input'!$AP$3","v":0},{"$f":"'Data Input'!$AP$4","v":0},null,19,-9.5000000000000004E-8,"S",19,"_","peaceful (-ful)",0,0,0,0]
[null,20,-9.6000000000000013E-8,{"$f":"'Data Input'!$AQ$8","v":"S"},{"$f":"'Data Input'!$AQ$1","v":20},{"$f":"'Data Input'!$AQ$7","v":"_"},{"$f":"'Data Input'!$AQ$6","v":"teddies (-es, + y to i)"},{"$f":"'Data Input'!$AQ$2","v":0},{"$f":"'Data Input'!$AQ$5","v":0},{"$f":"'Data Input'!$AQ$3","v":0},{"$f":"'Data Input'!$AQ$4","v":0},null,20,-9.6000000000000013E-8,"S",20,"_","teddies (-es, + y to i)",0,0,0,0]

{"sheet":"Pupil Summary","index":4,"n_rows":556,"n_cols":20,"rows_kept":556,"cut":false,"hidden":false,"merged":[[2,14,2,15],[2,16,2,17],[1,18,1,19],[2,1,2,5],[1,16,1,17],[1,6,1,7],[1,8,1,9],[1,10,1,11],[1,14,1,15],[1,12,1,13],[2,18,2,19],[2,6,2,7],[2,8,2,9],[2,10,2,11],[2,12,2,13]]}
[null,null,"Green: <15, Amber: <45, Red: >45",null,"Green %>",0.79,"Amber %>",0.64,"Red %<",{"$f":"H1","v":0.64},null,null,"Individual Summary in Each Overall Area",null,"Individual Summary in Each Overall Area"]
[null,null,null,null,null,null,"A",null,"B",null,"C",null,"D",null,"E",null,"F",null,"S"]
[{"$f":"\"Total Pupils: \" & COUNTA('Data Input'!A10:A558)","v":"Total Pupils: 0"},"Overall",null,null,null,null,"Term and Word Classes",null,"Sentence Types",null,"Phrases and Cluases",null,"Verbs and Tenses",null,"Punctuation",null,"Vocabulary",null,"Spelling"]
["Name:","Unanswered","Incorrect","Incorrecr or Unanswered",{"$f":"\"Total Score \"&COUNTA('Data Input'!C8:AQ8)-1","v":"Total Score 40"},"Percent",{"$f":"\"Score /\" & COUNTIF('Data Input'!$C$8:$AQ$8,$G$2)","v":"Score /4"},"Percent",{"$f":"\"Score /\" & COUNTIF('Data Input'!$C$8:$AQ$8,$I$2)","v":"Score /4"},"Percent",{"$f":"\"Score /\" & COUNTIF('Data Input'!$C$8:$AQ$8,$K$2)","v":"Score /1"},"Percent",{"$f":"\"Score /\" & COUNTIF('Data Input'!$C$8:$AQ$8,$M$2)","v":"Score /4"},"Percent ",{"$f":"\"Score /\" & COUNTIF('Data Input'!$C$8:$AQ$8,$O$2)","v":"Score /6"},"Percent ",{"$f":"\"Score /\" & COUNTIF('Data Input'!$C$8:$AQ$8,$Q$2)","v":"Score /1"},"Percent",{"$f":"\"Score /\" & COUNTIF('Data Input'!$C$8:$AQ$8,$S$2)","v":"Score /20"},"Percent"]
[]
[{"$f":"IF('Data Input'!A10=0,\"\",'Data Input'!A10)","v":""},{"$f":"IF(ISBLANK('Data Input'!A10),\"\",COUNTIF('Data Input'!C10:AQ10,\"\")-1)","v":""},{"$f":"IF(ISBLANK('Data Input'!A10),\"\",COUNTIF('Data Input'!C10:AQ10,\"0\"))","v":""},{"$f":"IF(ISBLANK('Data Input'!A10),\"\",SUM(B6,C6))","v":""},{"$f":"IF(ISBLANK('Data Input'!A10),\"\",SUM('Data Input'!C10:AQ10))","v":""},{"$f":"IF(E6=\"\",\"\",E6/(COUNTA('Data Input'!$C$8:$AQ$8)-1))","v":""},{"$f":"IF(ISBLANK('Data Input'!A10),\"\",SUM('Data Input'!H10,'Data Input'!I10,'Data Input'!M10,'Data Input'!N10))","v":""},{"$f":"IF(G6=\"\",\"\",G6/COUNTIF('Data Input'!$C$8:$AQ$8,$G$2))","v":""},{"$f":"IF(ISBLANK('Data Input'!A10),\"\",SUM('Data Input'!J10,'Data Input'!K10,'Data Input'!U10,'Data Input'!V10))","v":""},{"$f":"IF(I6=\"\",\"\",I6/COUNTIF('Data Input'!$C$8:$AQ$8,$I$2))","v":""},{"$f":"IF(ISBLANK('Data Input'!A10),\"\",SUM('Data Input'!D10))","v":""},{"$f":"IF(K6=\"\",\"\",K6/COUNTIF('Data Input'!$C$8:$AQ$8,$K$2))","v":""},{"$f":"IF(ISBLANK('Data Input'!A10),\"\",SUM('Data Input'!O10,'Data Input'!P10,'Data Input'!R10,'Data Input'!S10))","v":""},{"$f":"IF(M6=\"\",\"\",M6/COUNTIF('Data Input'!$C$8:$AQ$8,$M$2))","v":""},{"$f":"IF(ISBLANK('Data Input'!A10),\"\",SUM('Data Input'!C10,'Data Input'!E10,'Data Input'!F10,'Data Input'!G10,'Data Input'!Q10,'Data Input'!T10))","v":""},{"$f":"IF(O6=\"\",\"\",O6/COUNTIF('Data Input'!$C$8:$AQ$8,$O$2))","v":""},{"$f":"IF(ISBLANK('Data Input'!A10),\"\",SUM('Data Input'!L10))","v":""},{"$f":"IF(Q6=\"\",\"\",Q6/COUNTIF('Data Input'!$C$8:$AQ$8,$Q$2))","v":""},{"$f":"IF(ISBLANK('Data Input'!A10),\"\",SUM('Data Input'!X10:AQ10))","v":""},{"$f":"IF(S6=\"\",\"\",S6/COUNTIF('Data Input'!$C$8:$AQ$8,$S$2))","v":""}]
[{"$f":"IF('Data Input'!A11=0,\"\",'Data Input'!A11)","v":""},{"$f":"IF(ISBLANK('Data Input'!A11),\"\",COUNTIF('Data Input'!C11:AQ11,\"\")-1)","v":""},{"$f":"IF(ISBLANK('Data Input'!A11),\"\",COUNTIF('Data Input'!C11:AQ11,\"0\"))","v":""},{"$f":"IF(ISBLANK('Data Input'!A11),\"\",SUM(B7,C7))","v":""},{"$f":"IF(ISBLANK('Data Input'!A11),\"\",SUM('Data Input'!C11:AQ11))","v":""},{"$f":"IF(E7=\"\",\"\",E7/(COUNTA('Data Input'!$C$8:$AQ$8)-1))","v":""},{"$f":"IF(ISBLANK('Data Input'!A11),\"\",SUM('Data Input'!H11,'Data Input'!I11,'Data Input'!M11,'Data Input'!N11))","v":""},{"$f":"IF(G7=\"\",\"\",G7/COUNTIF('Data Input'!$C$8:$AQ$8,$G$2))","v":""},{"$f":"IF(ISBLANK('Data Input'!A11),\"\",SUM('Data Input'!J11,'Data Input'!K11,'Data Input'!U11,'Data Input'!V11))","v":""},{"$f":"IF(I7=\"\",\"\",I7/COUNTIF('Data Input'!$C$8:$AQ$8,$I$2))","v":""},{"$f":"IF(ISBLANK('Data Input'!A11),\"\",SUM('Data Input'!D11))","v":""},{"$f":"IF(K7=\"\",\"\",K7/COUNTIF('Data Input'!$C$8:$AQ$8,$K$2))","v":""},{"$f":"IF(ISBLANK('Data Input'!A11),\"\",SUM('Data Input'!O11,'Data Input'!P11,'Data Input'!R11,'Data Input'!S11))","v":""},{"$f":"IF(M7=\"\",\"\",M7/COUNTIF('Data Input'!$C$8:$AQ$8,$M$2))","v":""},{"$f":"IF(ISBLANK('Data Input'!A11),\"\",SUM('Data Input'!C11,'Data Input'!E11,'Data Input'!F11,'Data Input'!G11,'Data Input'!Q11,'Data Input'!T11))","v":""},{"$f":"IF(O7=\"\",\"\",O7/COUNTIF('Data Input'!$C$8:$AQ$8,$O$2))","v":""},{"$f":"IF(ISBLANK('Data Input'!A11),\"\",SUM('Data Input'!L11))","v":""},{"$f":"IF(Q7=\"\",\"\",Q7/COUNTIF('Data Input'!$C$8:$AQ$8,$Q$2))","v":""},{"$f":"IF(ISBLANK('Data Input'!A11),\"\",SUM('Data Input'!X11:AQ11))","v":""},{"$f":"IF(S7=\"\",\"\",S7/COUNTIF('Data Input'!$C$8:$AQ$8,$S$2))","v":""}]
[{"$f":"IF('Data Input'!A12=0,\"\",'Data Input'!A12)","v":""},{"$f":"IF(ISBLANK('Data Input'!A12),\"\",COUNTIF('Data Input'!C12:AQ12,\"\")-1)","v":""},{"$f":"IF(ISBLANK('Data Input'!A12),\"\",COUNTIF('Data Input'!C12:AQ12,\"0\"))","v":""},{"$f":"IF(ISBLANK('Data Input'!A12),\"\",SUM(B8,C8))","v":""},{"$f":"IF(ISBLANK('Data Input'!A12),\"\",SUM('Data Input'!C12:AQ12))","v":""},{"$f":"IF(E8=\"\",\"\",E8/(COUNTA('Data Input'!$C$8:$AQ$8)-1))","v":""},{"$f":"IF(ISBLANK('Data Input'!A12),\"\",SUM('Data Input'!H12,'Data Input'!I12,'Data Input'!M12,'Data Input'!N12))","v":""},{"$f":"IF(G8=\"\",\"\",G8/COUNTIF('Data Input'!$C$8:$AQ$8,$G$2))","v":""},{"$f":"IF(ISBLANK('Data Input'!A12),\"\",SUM('Data Input'!J12,'Data Input'!K12,'Data Input'!U12,'Data Input'!V12))","v":""},{"$f":"IF(I8=\"\",\"\",I8/COUNTIF('Data Input'!$C$8:$AQ$8,$I$2))","v":""},{"$f":"IF(ISBLANK('Data Input'!A12),\"\",SUM('Data Input'!D12))","v":""},{"$f":"IF(K8=\"\",\"\",K8/COUNTIF('Data Input'!$C$8:$AQ$8,$K$2))","v":""},{"$f":"IF(ISBLANK('Data Input'!A12),\"\",SUM('Data Input'!O12,'Data Input'!P12,'Data Input'!R12,'Data Input'!S12))","v":""},{"$f":"IF(M8=\"\",\"\",M8/COUNTIF('Data Input'!$C$8:$AQ$8,$M$2))","v":""},{"$f":"IF(ISBLANK('Data Input'!A12),\"\",SUM('Data Input'!C12,'Data Input'!E12,'Data Input'!F12,'Data Input'!G12,'Data Input'!Q12,'Data Input'!T12))","v":""},{"$f":"IF(O8=\"\",\"\",O8/COUNTIF('Data Input'!$C$8:$AQ$8,$O$2))","v":""},{"$f":"IF(ISBLANK('Data Input'!A12),\"\",SUM('Data Input'!L12))","v":""},{"$f":"IF(Q8=\"\",\"\",Q8/COUNTIF('Data Input'!$C$8:$AQ$8,$Q$2))","v":""},{"$f":"IF(ISBLANK('Data Input'!A12),\"\",SUM('Data Input'!X12:AQ12))","v":""},{"$f":"IF(S8=\"\",\"\",S8/COUNTIF('Data Input'!$C$8:$AQ$8,$S$2))","v":""}]
[{"$f":"IF('Data Input'!A13=0,\"\",'Data Input'!A13)","v":""},{"$f":"IF(ISBLANK('Data Input'!A13),\"\",COUNTIF('Data Input'!C13:AQ13,\"\")-1)","v":""},{"$f":"IF(ISBLANK('Data Input'!A13),\"\",COUNTIF('Data Input'!C13:AQ13,\"0\"))","v":""},{"$f":"IF(ISBLANK('Data Input'!A13),\"\",SUM(B9,C9))","v":""},{"$f":"IF(ISBLANK('Data Input'!A13),\"\",SUM('Data Input'!C13:AQ13))","v":""},{"$f":"IF(E9=\"\",\"\",E9/(COUNTA('Data Input'!$C$8:$AQ$8)-1))","v":""},{"$f":"IF(ISBLANK('Data Input'!A13),\"\",SUM('Data Input'!H13,'Data Input'!I13,'Data Input'!M13,'Data Input'!N13))","v":""},{"$f":"IF(G9=\"\",\"\",G9/COUNTIF('Data Input'!$C$8:$AQ$8,$G$2))","v":""},{"$f":"IF(ISBLANK('Data Input'!A13),\"\",SUM('Data Input'!J13,'Data Input'!K13,'Data Input'!U13,'Data Input'!V13))","v":""},{"$f":"IF(I9=\"\",\"\",I9/COUNTIF('Data Input'!$C$8:$AQ$8,$I$2))","v":""},{"$f":"IF(ISBLANK('Data Input'!A13),\"\",SUM('Data Input'!D13))","v":""},{"$f":"IF(K9=\"\",\"\",K9/COUNTIF('Data Input'!$C$8:$AQ$8,$K$2))","v":""},{"$f":"IF(ISBLANK('Data Input'!A13),\"\",SUM('Data Input'!O13,'Data Input'!P13,'Data Input'!R13,'Data Input'!S13))","v":""},{"$f":"IF(M9=\"\",\"\",M9/COUNTIF('Data Input'!$C$8:$AQ$8,$M$2))","v":""},{"$f":"IF(ISBLANK('Data Input'!A13),\"\",SUM('Data Input'!C13,'Data Input'!E13,'Data Input'!F13,'Data Input'!G13,'Data Input'!Q13,'Data Input'!T13))","v":""},{"$f":"IF(O9=\"\",\"\",O9/COUNTIF('Data Input'!$C$8:$AQ$8,$O$2))","v":""},{"$f":"IF(ISBLANK('Data Input'!A13),\"\",SUM('Data Input'!L13))","v":""},{"$f":"IF(Q9=\"\",\"\",Q9/COUNTIF('Data Input'!$C$8:$AQ$8,$Q$2))","v":""},{"$f":"IF(ISBLANK('Data Input'!A13),\"\",SUM('Data Input'!X13:AQ13))","v":""},{"$f":"IF(S9=\"\",\"\",S9/COUNTIF('Data Input'!$C$8:$AQ$8,$S$2))","v":""}]
[{"$f":"IF('Data Input'!A14=0,\"\",'Data Input'!A14)","v":""},{"$f":"IF(ISBLANK('Data Input'!A14),\"\",COUNTIF('Data Input'!C14:AQ14,\"\")-1)","v":""},{"$f":"IF(ISBLANK('Data Input'!A14),\"\",COUNTIF('Data Input'!C14:AQ14,\"0\"))","v":""},{"$f":"IF(ISBLANK('Data Input'!A14),\"\",SUM(B10,C10))","v":""},{"$f":"IF(ISBLANK('Data Input'!A14),\"\",SUM('Data Input'!C14:AQ14))","v":""},{"$f":"IF(E10=\"\",\"\",E10/(COUNTA('Data Input'!$C$8:$AQ$8)-1))","v":""},{"$f":"IF(ISBLANK('Data Input'!A14),\"\",SUM('Data Input'!H14,'Data Input'!I14,'Data Input'!M14,'Data Input'!N14))","v":""},{"$f":"IF(G10=\"\",\"\",G10/COUNTIF('Data Input'!$C$8:$AQ$8,$G$2))","v":""},{"$f":"IF(ISBLANK('Data Input'!A14),\"\",SUM('Data Input'!J14,'Data Input'!K14,'Data Input'!U14,'Data Input'!V14))","v":""},{"$f":"IF(I10=\"\",\"\",I10/COUNTIF('Data Input'!$C$8:$AQ$8,$I$2))","v":""},{"$f":"IF(ISBLANK('Data Input'!A14),\"\",SUM('Data Input'!D14))","v":""},{"$f":"IF(K10=\"\",\"\",K10/COUNTIF('Data Input'!$C$8:$AQ$8,$K$2))","v":""},{"$f":"IF(ISBLANK('Data Input'!A14),\"\",SUM('Data Input'!O14,'Data Input'!P14,'Data Input'!R14,'Data Input'!S14))","v":""},{"$f":"IF(M10=\"\",\"\",M10/COUNTIF('Data Input'!$C$8:$AQ$8,$M$2))","v":""},{"$f":"IF(ISBLANK('Data Input'!A14),\"\",SUM('Data Input'!C14,'Data Input'!E14,'Data Input'!F14,'Data Input'!G14,'Data Input'!Q14,'Data Input'!T14))","v":""},{"$f":"IF(O10=\"\",\"\",O10/COUNTIF('Data Input'!$C$8:$AQ$8,$O$2))","v":""},{"$f":"IF(ISBLANK('Data Input'!A14),\"\",SUM('Data Input'!L14))","v":""},{"$f":"IF(Q10=\"\",\"\",Q10/COUNTIF('Data Input'!$C$8:$AQ$8,$Q$2))","v":""},{"$f":"IF(ISBLANK('Data Input'!A14),\"\",SUM('Data Input'!X14:AQ14))","v":""},{"$f":"IF(S10=\"\",\"\",S10/COUNTIF('Data Input'!$C$8:$AQ$8,$S$2))","v":""}]
[{"$f":"IF('Data Input'!A15=0,\"\",'Data Input'!A15)","v":""},{"$f":"IF(ISBLANK('Data Input'!A15),\"\",COUNTIF('Data Input'!C15:AQ15,\"\")-1)","v":""},{"$f":"IF(ISBLANK('Data Input'!A15),\"\",COUNTIF('Data Input'!C15:AQ15,\"0\"))","v":""},{"$f":"IF(ISBLANK('Data Input'!A15),\"\",SUM(B11,C11))","v":""},{"$f":"IF(ISBLANK('Data Input'!A15),\"\",SUM('Data Input'!C15:AQ15))","v":""},{"$f":"IF(E11=\"\",\"\",E11/(COUNTA('Data Input'!$C$8:$AQ$8)-1))","v":""},{"$f":"IF(ISBLANK('Data Input'!A15),\"\",SUM('Data Input'!H15,'Data Input'!I15,'Data Input'!M15,'Data Input'!N15))","v":""},{"$f":"IF(G11=\"\",\"\",G11/COUNTIF('Data Input'!$C$8:$AQ$8,$G$2))","v":""},{"$f":"IF(ISBLANK('Data Input'!A15),\"\",SUM('Data Input'!J15,'Data Input'!K15,'Data Input'!U15,'Data Input'!V15))","v":""},{"$f":"IF(I11=\"\",\"\",I11/COUNTIF('Data Input'!$C$8:$AQ$8,$I$2))","v":""},{"$f":"IF(ISBLANK('Data Input'!A15),\"\",SUM('Data Input'!D15))","v":""},{"$f":"IF(K11=\"\",\"\",K11/COUNTIF('Data Input'!$C$8:$AQ$8,$K$2))","v":""},{"$f":"IF(ISBLANK('Data Input'!A15),\"\",SUM('Data Input'!O15,'Data Input'!P15,'Data Input'!R15,'Data Input'!S15))","v":""},{"$f":"IF(M11=\"\",\"\",M11/COUNTIF('Data Input'!$C$8:$AQ$8,$M$2))","v":""},{"$f":"IF(ISBLANK('Data Input'!A15),\"\",SUM('Data Input'!C15,'Data Input'!E15,'Data Input'!F15,'Data Input'!G15,'Data Input'!Q15,'Data Input'!T15))","v":""},{"$f":"IF(O11=\"\",\"\",O11/COUNTIF('Data Input'!$C$8:$AQ$8,$O$2))","v":""},{"$f":"IF(ISBLANK('Data Input'!A15),\"\",SUM('Data Input'!L15))","v":""},{"$f":"IF(Q11=\"\",\"\",Q11/COUNTIF('Data Input'!$C$8:$AQ$8,$Q$2))","v":""},{"$f":"IF(ISBLANK('Data Input'!A15),\"\",SUM('Data Input'!X15:AQ15))","v":""},{"$f":"IF(S11=\"\",\"\",S11/COUNTIF('Data Input'!$C$8:$AQ$8,$S$2))","v":""}]
[{"$f":"IF('Data Input'!A16=0,\"\",'Data Input'!A16)","v":""},{"$f":"IF(ISBLANK('Data Input'!A16),\"\",COUNTIF('Data Input'!C16:AQ16,\"\")-1)","v":""},{"$f":"IF(ISBLANK('Data Input'!A16),\"\",COUNTIF('Data Input'!C16:AQ16,\"0\"))","v":""},{"$f":"IF(ISBLANK('Data Input'!A16),\"\",SUM(B12,C12))","v":""},{"$f":"IF(ISBLANK('Data Input'!A16),\"\",SUM('Data Input'!C16:AQ16))","v":""},{"$f":"IF(E12=\"\",\"\",E12/(COUNTA('Data Input'!$C$8:$AQ$8)-1))","v":""},{"$f":"IF(ISBLANK('Data Input'!A16),\"\",SUM('Data Input'!H16,'Data Input'!I16,'Data Input'!M16,'Data Input'!N16))","v":""},{"$f":"IF(G12=\"\",\"\",G12/COUNTIF('Data Input'!$C$8:$AQ$8,$G$2))","v":""},{"$f":"IF(ISBLANK('Data Input'!A16),\"\",SUM('Data Input'!J16,'Data Input'!K16,'Data Input'!U16,'Data Input'!V16))","v":""},{"$f":"IF(I12=\"\",\"\",I12/COUNTIF('Data Input'!$C$8:$AQ$8,$I$2))","v":""},{"$f":"IF(ISBLANK('Data Input'!A16),\"\",SUM('Data Input'!D16))","v":""},{"$f":"IF(K12=\"\",\"\",K12/COUNTIF('Data Input'!$C$8:$AQ$8,$K$2))","v":""},{"$f":"IF(ISBLANK('Data Input'!A16),\"\",SUM('Data Input'!O16,'Data Input'!P16,'Data Input'!R16,'Data Input'!S16))","v":""},{"$f":"IF(M12=\"\",\"\",M12/COUNTIF('Data Input'!$C$8:$AQ$8,$M$2))","v":""},{"$f":"IF(ISBLANK('Data Input'!A16),\"\",SUM('Data Input'!C16,'Data Input'!E16,'Data Input'!F16,'Data Input'!G16,'Data Input'!Q16,'Data Input'!T16))","v":""},{"$f":"IF(O12=\"\",\"\",O12/COUNTIF('Data Input'!$C$8:$AQ$8,$O$2))","v":""},{"$f":"IF(ISBLANK('Data Input'!A16),\"\",SUM('Data Input'!L16))","v":""},{"$f":"IF(Q12=\"\",\"\",Q12/COUNTIF('Data Input'!$C$8:$AQ$8,$Q$2))","v":""},{"$f":"IF(ISBLANK('Data Input'!A16),\"\",SUM('Data Input'!X16:AQ16))","v":""},{"$f":"IF(S12=\"\",\"\",S12/COUNTIF('Data Input'!$C$8:$AQ$8,$S$2))","v":""}]
[{"$f":"IF('Data Input'!A17=0,\"\",'Data Input'!A17)","v":""},{"$f":"IF(ISBLANK('Data Input'!A17),\"\",COUNTIF('Data Input'!C17:AQ17,\"\")-1)","v":""},{"$f":"IF(ISBLANK('Data Input'!A17),\"\",COUNTIF('Data Input'!C17:AQ17,\"0\"))","v":""},{"$f":"IF(ISBLANK('Data Input'!A17),\"\",SUM(B13,C13))","v":""},{"$f":"IF(ISBLANK('Data Input'!A17),\"\",SUM('Data Input'!C17:AQ17))","v":""},{"$f":"IF(E13=\"\",\"\",E13/(COUNTA('Data Input'!$C$8:$AQ$8)-1))","v":""},{"$f":"IF(ISBLANK('Data Input'!A17),\"\",SUM('Data Input'!H17,'Data Input'!I17,'Data Input'!M17,'Data Input'!N17))","v":""},{"$f":"IF(G13=\"\",\"\",G13/COUNTIF('Data Input'!$C$8:$AQ$8,$G$2))","v":""},{"$f":"IF(ISBLANK('Data Input'!A17),\"\",SUM('Data Input'!J17,'Data Input'!K17,'Data Input'!U17,'Data Input'!V17))","v":""},{"$f":"IF(I13=\"\",\"\",I13/COUNTIF('Data Input'!$C$8:$AQ$8,$I$2))","v":""},{"$f":"IF(ISBLANK('Data Input'!A17),\"\",SUM('Data Input'!D17))","v":""},{"$f":"IF(K13=\"\",\"\",K13/COUNTIF('Data Input'!$C$8:$AQ$8,$K$2))","v":""},{"$f":"IF(ISBLANK('Data Input'!A17),\"\",SUM('Data Input'!O17,'Data Input'!P17,'Data Input'!R17,'Data Input'!S17))","v":""},{"$f":"IF(M13=\"\",\"\",M13/COUNTIF('Data Input'!$C$8:$AQ$8,$M$2))","v":""},{"$f":"IF(ISBLANK('Data Input'!A17),\"\",SUM('Data Input'!C17,'Data Input'!E17,'Data Input'!F17,'Data Input'!G17,'Data Input'!Q17,'Data Input'!T17))","v":""},{"$f":"IF(O13=\"\",\"\",O13/COUNTIF('Data Input'!$C$8:$AQ$8,$O$2))","v":""},{"$f":"IF(ISBLANK('Data Input'!A17),\"\",SUM('Data Input'!L17))","v":""},{"$f":"IF(Q13=\"\",\"\",Q13/COUNTIF('Data Input'!$C$8:$AQ$8,$Q$2))","v":""},{"$f":"IF(ISBLANK('Data Input'!A17),\"\",SUM('Data Input'!X17:AQ17))","v":""},{"$f":"IF(S13=\"\",\"\",S13/COUNTIF('Data Input'!$C$8:$AQ$8,$S$2))","v":""}]
[{"$f":"IF('Data Input'!A18=0,\"\",'Data Input'!A18)","v":""},{"$f":"IF(ISBLANK('Data Input'!A18),\"\",COUNTIF('Data Input'!C18:AQ18,\"\")-1)","v":""},{"$f":"IF(ISBLANK('Data Input'!A18),\"\",COUNTIF('Data Input'!C18:AQ18,\"0\"))","v":""},{"$f":"IF(ISBLANK('Data Input'!A18),\"\",SUM(B14,C14))","v":""},{"$f":"IF(ISBLANK('Data Input'!A18),\"\",SUM('Data Input'!C18:AQ18))","v":""},{"$f":"IF(E14=\"\",\"\",E14/(COUNTA('Data Input'!$C$8:$AQ$8)-1))","v":""},{"$f":"IF(ISBLANK('Data Input'!A18),\"\",SUM('Data Input'!H18,'Data Input'!I18,'Data Input'!M18,'Data Input'!N18))","v":""},{"$f":"IF(G14=\"\",\"\",G14/COUNTIF('Data Input'!$C$8:$AQ$8,$G$2))","v":""},{"$f":"IF(ISBLANK('Data Input'!A18),\"\",SUM('Data Input'!J18,'Data Input'!K18,'Data Input'!U18,'Data Input'!V18))","v":""},{"$f":"IF(I14=\"\",\"\",I14/COUNTIF('Data Input'!$C$8:$AQ$8,$I$2))","v":""},{"$f":"IF(ISBLANK('Data Input'!A18),\"\",SUM('Data Input'!D18))","v":""},{"$f":"IF(K14=\"\",\"\",K14/COUNTIF('Data Input'!$C$8:$AQ$8,$K$2))","v":""},{"$f":"IF(ISBLANK('Data Input'!A18),\"\",SUM('Data Input'!O18,'Data Input'!P18,'Data Input'!R18,'Data Input'!S18))","v":""},{"$f":"IF(M14=\"\",\"\",M14/COUNTIF('Data Input'!$C$8:$AQ$8,$M$2))","v":""},{"$f":"IF(ISBLANK('Data Input'!A18),\"\",SUM('Data Input'!C18,'Data Input'!E18,'Data Input'!F18,'Data Input'!G18,'Data Input'!Q18,'Data Input'!T18))","v":""},{"$f":"IF(O14=\"\",\"\",O14/COUNTIF('Data Input'!$C$8:$AQ$8,$O$2))","v":""},{"$f":"IF(ISBLANK('Data Input'!A18),\"\",SUM('Data Input'!L18))","v":""},{"$f":"IF(Q14=\"\",\"\",Q14/COUNTIF('Data Input'!$C$8:$AQ$8,$Q$2))","v":""},{"$f":"IF(ISBLANK('Data Input'!A18),\"\",SUM('Data Input'!X18:AQ18))","v":""},{"$f":"IF(S14=\"\",\"\",S14/COUNTIF('Data Input'!$C$8:$AQ$8,$S$2))","v":""}]
[{"$f":"IF('Data Input'!A19=0,\"\",'Data Input'!A19)","v":""},{"$f":"IF(ISBLANK('Data Input'!A19),\"\",COUNTIF('Data Input'!C19:AQ19,\"\")-1)","v":""},{"$f":"IF(ISBLANK('Data Input'!A19),\"\",COUNTIF('Data Input'!C19:AQ19,\"0\"))","v":""},{"$f":"IF(ISBLANK('Data Input'!A19),\"\",SUM(B15,C15))","v":""},{"$f":"IF(ISBLANK('Data Input'!A19),\"\",SUM('Data Input'!C19:AQ19))","v":""},{"$f":"IF(E15=\"\",\"\",E15/(COUNTA('Data Input'!$C$8:$AQ$8)-1))","v":""},{"$f":"IF(ISBLANK('Data Input'!A19),\"\",SUM('Data Input'!H19,'Data Input'!I19,'Data Input'!M19,'Data Input'!N19))","v":""},{"$f":"IF(G15=\"\",\"\",G15/COUNTIF('Data Input'!$C$8:$AQ$8,$G$2))","v":""},{"$f":"IF(ISBLANK('Data Input'!A19),\"\",SUM('Data Input'!J19,'Data Input'!K19,'Data Input'!U19,'Data Input'!V19))","v":""},{"$f":"IF(I15=\"\",\"\",I15/COUNTIF('Data Input'!$C$8:$AQ$8,$I$2))","v":""},{"$f":"IF(ISBLANK('Data Input'!A19),\"\",SUM('Data Input'!D19))","v":""},{"$f":"IF(K15=\"\",\"\",K15/COUNTIF('Data Input'!$C$8:$AQ$8,$K$2))","v":""},{"$f":"IF(ISBLANK('Data Input'!A19),\"\",SUM('Data Input'!O19,'Data Input'!P19,'Data Input'!R19,'Data Input'!S19))","v":""},{"$f":"IF(M15=\"\",\"\",M15/COUNTIF('Data Input'!$C$8:$AQ$8,$M$2))","v":""},{"$f":"IF(ISBLANK('Data Input'!A19),\"\",SUM('Data Input'!C19,'Data Input'!E19,'Data Input'!F19,'Data Input'!G19,'Data Input'!Q19,'Data Input'!T19))","v":""},{"$f":"IF(O15=\"\",\"\",O15/COUNTIF('Data Input'!$C$8:$AQ$8,$O$2))","v":""},{"$f":"IF(ISBLANK('Data Input'!A19),\"\",SUM('Data Input'!L19))","v":""},{"$f":"IF(Q15=\"\",\"\",Q15/COUNTIF('Data Input'!$C$8:$AQ$8,$Q$2))","v":""},{"$f":"IF(ISBLANK('Data Input'!A19),\"\",SUM('Data Input'!X19:AQ19))","v":""},{"$f":"IF(S15=\"\",\"\",S15/COUNTIF('Data Input'!$C$8:$AQ$8,$S$2))","v":""}]
[{"$f":"IF('Data Input'!A20=0,\"\",'Data Input'!A20)","v":""},{"$f":"IF(ISBLANK('Data Input'!A20),\"\",COUNTIF('Data Input'!C20:AQ20,\"\")-1)","v":""},{"$f":"IF(ISBLANK('Data Input'!A20),\"\",COUNTIF('Data Input'!C20:AQ20,\"0\"))","v":""},{"$f":"IF(ISBLANK('Data Input'!A20),\"\",SUM(B16,C16))","v":""},{"$f":"IF(ISBLANK('Data Input'!A20),\"\",SUM('Data Input'!C20:AQ20))","v":""},{"$f":"IF(E16=\"\",\"\",E16/(COUNTA('Data Input'!$C$8:$AQ$8)-1))","v":""},{"$f":"IF(ISBLANK('Data Input'!A20),\"\",SUM('Data Input'!H20,'Data Input'!I20,'Data Input'!M20,'Data Input'!N20))","v":""},{"$f":"IF(G16=\"\",\"\",G16/COUNTIF('Data Input'!$C$8:$AQ$8,$G$2))","v":""},{"$f":"IF(ISBLANK('Data Input'!A20),\"\",SUM('Data Input'!J20,'Data Input'!K20,'Data Input'!U20,'Data Input'!V20))","v":""},{"$f":"IF(I16=\"\",\"\",I16/COUNTIF('Data Input'!$C$8:$AQ$8,$I$2))","v":""},{"$f":"IF(ISBLANK('Data Input'!A20),\"\",SUM('Data Input'!D20))","v":""},{"$f":"IF(K16=\"\",\"\",K16/COUNTIF('Data Input'!$C$8:$AQ$8,$K$2))","v":""},{"$f":"IF(ISBLANK('Data Input'!A20),\"\",SUM('Data Input'!O20,'Data Input'!P20,'Data Input'!R20,'Data Input'!S20))","v":""},{"$f":"IF(M16=\"\",\"\",M16/COUNTIF('Data Input'!$C$8:$AQ$8,$M$2))","v":""},{"$f":"IF(ISBLANK('Data Input'!A20),\"\",SUM('Data Input'!C20,'Data Input'!E20,'Data Input'!F20,'Data Input'!G20,'Data Input'!Q20,'Data Input'!T20))","v":""},{"$f":"IF(O16=\"\",\"\",O16/COUNTIF('Data Input'!$C$8:$AQ$8,$O$2))","v":""},{"$f":"IF(ISBLANK('Data Input'!A20),\"\",SUM('Data Input'!L20))","v":""},{"$f":"IF(Q16=\"\",\"\",Q16/COUNTIF('Data Input'!$C$8:$AQ$8,$Q$2))","v":""},{"$f":"IF(ISBLANK('Data Input'!A20),\"\",SUM('Data Input'!X20:AQ20))","v":""},{"$f":"IF(S16=\"\",\"\",S16/COUNTIF('Data Input'!$C$8:$AQ$8,$S$2))","v":""}]
[{"$f":"IF('Data Input'!A21=0,\"\",'Data Input'!A21)","v":""},{"$f":"IF(ISBLANK('Data Input'!A21),\"\",COUNTIF('Data Input'!C21:AQ21,\"\")-1)","v":""},{"$f":"IF(ISBLANK('Data Input'!A21),\"\",COUNTIF('Data Input'!C21:AQ21,\"0\"))","v":""},{"$f":"IF(ISBLANK('Data Input'!A21),\"\",SUM(B17,C17))","v":""},{"$f":"IF(ISBLANK('Data Input'!A21),\"\",SUM('Data Input'!C21:AQ21))","v":""},{"$f":"IF(E17=\"\",\"\",E17/(COUNTA('Data Input'!$C$8:$AQ$8)-1))","v":""},{"$f":"IF(ISBLANK('Data Input'!A21),\"\",SUM('Data Input'!H21,'Data Input'!I21,'Data Input'!M21,'Data Input'!N21))","v":""},{"$f":"IF(G17=\"\",\"\",G17/COUNTIF('Data Input'!$C$8:$AQ$8,$G$2))","v":""},{"$f":"IF(ISBLANK('Data Input'!A21),\"\",SUM('Data Input'!J21,'Data Input'!K21,'Data Input'!U21,'Data Input'!V21))","v":""},{"$f":"IF(I17=\"\",\"\",I17/COUNTIF('Data Input'!$C$8:$AQ$8,$I$2))","v":""},{"$f":"IF(ISBLANK('Data Input'!A21),\"\",SUM('Data Input'!D21))","v":""},{"$f":"IF(K17=\"\",\"\",K17/COUNTIF('Data Input'!$C$8:$AQ$8,$K$2))","v":""},{"$f":"IF(ISBLANK('Data Input'!A21),\"\",SUM('Data Input'!O21,'Data Input'!P21,'Data Input'!R21,'Data Input'!S21))","v":""},{"$f":"IF(M17=\"\",\"\",M17/COUNTIF('Data Input'!$C$8:$AQ$8,$M$2))","v":""},{"$f":"IF(ISBLANK('Data Input'!A21),\"\",SUM('Data Input'!C21,'Data Input'!E21,'Data Input'!F21,'Data Input'!G21,'Data Input'!Q21,'Data Input'!T21))","v":""},{"$f":"IF(O17=\"\",\"\",O17/COUNTIF('Data Input'!$C$8:$AQ$8,$O$2))","v":""},{"$f":"IF(ISBLANK('Data Input'!A21),\"\",SUM('Data Input'!L21))","v":""},{"$f":"IF(Q17=\"\",\"\",Q17/COUNTIF('Data Input'!$C$8:$AQ$8,$Q$2))","v":""},{"$f":"IF(ISBLANK('Data Input'!A21),\"\",SUM('Data Input'!X21:AQ21))","v":""},{"$f":"IF(S17=\"\",\"\",S17/COUNTIF('Data Input'!$C$8:$AQ$8,$S$2))","v":""}]
[{"$f":"IF('Data Input'!A22=0,\"\",'Data Input'!A22)","v":""},{"$f":"IF(ISBLANK('Data Input'!A22),\"\",COUNTIF('Data Input'!C22:AQ22,\"\")-1)","v":""},{"$f":"IF(ISBLANK('Data Input'!A22),\"\",COUNTIF('Data Input'!C22:AQ22,\"0\"))","v":""},{"$f":"IF(ISBLANK('Data Input'!A22),\"\",SUM(B18,C18))","v":""},{"$f":"IF(ISBLANK('Data Input'!A22),\"\",SUM('Data Input'!C22:AQ22))","v":""},{"$f":"IF(E18=\"\",\"\",E18/(COUNTA('Data Input'!$C$8:$AQ$8)-1))","v":""},{"$f":"IF(ISBLANK('Data Input'!A22),\"\",SUM('Data Input'!H22,'Data Input'!I22,'Data Input'!M22,'Data Input'!N22))","v":""},{"$f":"IF(G18=\"\",\"\",G18/COUNTIF('Data Input'!$C$8:$AQ$8,$G$2))","v":""},{"$f":"IF(ISBLANK('Data Input'!A22),\"\",SUM('Data Input'!J22,'Data Input'!K22,'Data Input'!U22,'Data Input'!V22))","v":""},{"$f":"IF(I18=\"\",\"\",I18/COUNTIF('Data Input'!$C$8:$AQ$8,$I$2))","v":""},{"$f":"IF(ISBLANK('Data Input'!A22),\"\",SUM('Data Input'!D22))","v":""},{"$f":"IF(K18=\"\",\"\",K18/COUNTIF('Data Input'!$C$8:$AQ$8,$K$2))","v":""},{"$f":"IF(ISBLANK('Data Input'!A22),\"\",SUM('Data Input'!O22,'Data Input'!P22,'Data Input'!R22,'Data Input'!S22))","v":""},{"$f":"IF(M18=\"\",\"\",M18/COUNTIF('Data Input'!$C$8:$AQ$8,$M$2))","v":""},{"$f":"IF(ISBLANK('Data Input'!A22),\"\",SUM('Data Input'!C22,'Data Input'!E22,'Data Input'!F22,'Data Input'!G22,'Data Input'!Q22,'Data Input'!T22))","v":""},{"$f":"IF(O18=\"\",\"\",O18/COUNTIF('Data Input'!$C$8:$AQ$8,$O$2))","v":""},{"$f":"IF(ISBLANK('Data Input'!A22),\"\",SUM('Data Input'!L22))","v":""},{"$f":"IF(Q18=\"\",\"\",Q18/COUNTIF('Data Input'!$C$8:$AQ$8,$Q$2))","v":""},{"$f":"IF(ISBLANK('Data Input'!A22),\"\",SUM('Data Input'!X22:AQ22))","v":""},{"$f":"IF(S18=\"\",\"\",S18/COUNTIF('Data Input'!$C$8:$AQ$8,$S$2))","v":""}]
[{"$f":"IF('Data Input'!A23=0,\"\",'Data Input'!A23)","v":""},{"$f":"IF(ISBLANK('Data Input'!A23),\"\",COUNTIF('Data Input'!C23:AQ23,\"\")-1)","v":""},{"$f":"IF(ISBLANK('Data Input'!A23),\"\",COUNTIF('Data Input'!C23:AQ23,\"0\"))","v":""},{"$f":"IF(ISBLANK('Data Input'!A23),\"\",SUM(B19,C19))","v":""},{"$f":"IF(ISBLANK('Data Input'!A23),\"\",SUM('Data Input'!C23:AQ23))","v":""},{"$f":"IF(E19=\"\",\"\",E19/(COUNTA('Data Input'!$C$8:$AQ$8)-1))","v":""},{"$f":"IF(ISBLANK('Data Input'!A23),\"\",SUM('Data Input'!H23,'Data Input'!I23,'Data Input'!M23,'Data Input'!N23))","v":""},{"$f":"IF(G19=\"\",\"\",G19/COUNTIF('Data Input'!$C$8:$AQ$8,$G$2))","v":""},{"$f":"IF(ISBLANK('Data Input'!A23),\"\",SUM('Data Input'!J23,'Data Input'!K23,'Data Input'!U23,'Data Input'!V23))","v":""},{"$f":"IF(I19=\"\",\"\",I19/COUNTIF('Data Input'!$C$8:$AQ$8,$I$2))","v":""},{"$f":"IF(ISBLANK('Data Input'!A23),\"\",SUM('Data Input'!D23))","v":""},{"$f":"IF(K19=\"\",\"\",K19/COUNTIF('Data Input'!$C$8:$AQ$8,$K$2))","v":""},{"$f":"IF(ISBLANK('Data Input'!A23),\"\",SUM('Data Input'!O23,'Data Input'!P23,'Data Input'!R23,'Data Input'!S23))","v":""},{"$f":"IF(M19=\"\",\"\",M19/COUNTIF('Data Input'!$C$8:$AQ$8,$M$2))","v":""},{"$f":"IF(ISBLANK('Data Input'!A23),\"\",SUM('Data Input'!C23,'Data Input'!E23,'Data Input'!F23,'Data Input'!G23,'Data Input'!Q23,'Data Input'!T23))","v":""},{"$f":"IF(O19=\"\",\"\",O19/COUNTIF('Data Input'!$C$8:$AQ$8,$O$2))","v":""},{"$f":"IF(ISBLANK('Data Input'!A23),\"\",SUM('Data Input'!L23))","v":""},{"$f":"IF(Q19=\"\",\"\",Q19/COUNTIF('Data Input'!$C$8:$AQ$8,$Q$2))","v":""},{"$f":"IF(ISBLANK('Data Input'!A23),\"\",SUM('Data Input'!X23:AQ23))","v":""},{"$f":"IF(S19=\"\",\"\",S19/COUNTIF('Data Input'!$C$8:$AQ$8,$S$2))","v":""}]
[{"$f":"IF('Data Input'!A24=0,\"\",'Data Input'!A24)","v":""},{"$f":"IF(ISBLANK('Data Input'!A24),\"\",COUNTIF('Data Input'!C24:AQ24,\"\")-1)","v":""},{"$f":"IF(ISBLANK('Data Input'!A24),\"\",COUNTIF('Data Input'!C24:AQ24,\"0\"))","v":""},{"$f":"IF(ISBLANK('Data Input'!A24),\"\",SUM(B20,C20))","v":""},{"$f":"IF(ISBLANK('Data Input'!A24),\"\",SUM('Data Input'!C24:AQ24))","v":""},{"$f":"IF(E20=\"\",\"\",E20/(COUNTA('Data Input'!$C$8:$AQ$8)-1))","v":""},{"$f":"IF(ISBLANK('Data Input'!A24),\"\",SUM('Data Input'!H24,'Data Input'!I24,'Data Input'!M24,'Data Input'!N24))","v":""},{"$f":"IF(G20=\"\",\"\",G20/COUNTIF('Data Input'!$C$8:$AQ$8,$G$2))","v":""},{"$f":"IF(ISBLANK('Data Input'!A24),\"\",SUM('Data Input'!J24,'Data Input'!K24,'Data Input'!U24,'Data Input'!V24))","v":""},{"$f":"IF(I20=\"\",\"\",I20/COUNTIF('Data Input'!$C$8:$AQ$8,$I$2))","v":""},{"$f":"IF(ISBLANK('Data Input'!A24),\"\",SUM('Data Input'!D24))","v":""},{"$f":"IF(K20=\"\",\"\",K20/COUNTIF('Data Input'!$C$8:$AQ$8,$K$2))","v":""},{"$f":"IF(ISBLANK('Data Input'!A24),\"\",SUM('Data Input'!O24,'Data Input'!P24,'Data Input'!R24,'Data Input'!S24))","v":""},{"$f":"IF(M20=\"\",\"\",M20/COUNTIF('Data Input'!$C$8:$AQ$8,$M$2))","v":""},{"$f":"IF(ISBLANK('Data Input'!A24),\"\",SUM('Data Input'!C24,'Data Input'!E24,'Data Input'!F24,'Data Input'!G24,'Data Input'!Q24,'Data Input'!T24))","v":""},{"$f":"IF(O20=\"\",\"\",O20/COUNTIF('Data Input'!$C$8:$AQ$8,$O$2))","v":""},{"$f":"IF(ISBLANK('Data Input'!A24),\"\",SUM('Data Input'!L24))","v":""},{"$f":"IF(Q20=\"\",\"\",Q20/COUNTIF('Data Input'!$C$8:$AQ$8,$Q$2))","v":""},{"$f":"IF(ISBLANK('Data Input'!A24),\"\",SUM('Data Input'!X24:AQ24))","v":""},{"$f":"IF(S20=\"\",\"\",S20/COUNTIF('Data Input'!$C$8:$AQ$8,$S$2))","v":""}]
[{"$f":"IF('Data Input'!A25=0,\"\",'Data Input'!A25)","v":""},{"$f":"IF(ISBLANK('Data Input'!A25),\"\",COUNTIF('Data Input'!C25:AQ25,\"\")-1)","v":""},{"$f":"IF(ISBLANK('Data Input'!A25),\"\",COUNTIF('Data Input'!C25:AQ25,\"0\"))","v":""},{"$f":"IF(ISBLANK('Data Input'!A25),\"\",SUM(B21,C21))","v":""},{"$f":"IF(ISBLANK('Data Input'!A25),\"\",SUM('Data Input'!C25:AQ25))","v":""},{"$f":"IF(E21=\"\",\"\",E21/(COUNTA('Data Input'!$C$8:$AQ$8)-1))","v":""},{"$f":"IF(ISBLANK('Data Input'!A25),\"\",SUM('Data Input'!H25,'Data Input'!I25,'Data Input'!M25,'Data Input'!N25))","v":""},{"$f":"IF(G21=\"\",\"\",G21/COUNTIF('Data Input'!$C$8:$AQ$8,$G$2))","v":""},{"$f":"IF(ISBLANK('Data Input'!A25),\"\",SUM('Data Input'!J25,'Data Input'!K25,'Data Input'!U25,'Data Input'!V25))","v":""},{"$f":"IF(I21=\"\",\"\",I21/COUNTIF('Data Input'!$C$8:$AQ$8,$I$2))","v":""},{"$f":"IF(ISBLANK('Data Input'!A25),\"\",SUM('Data Input'!D25))","v":""},{"$f":"IF(K21=\"\",\"\",K21/COUNTIF('Data Input'!$C$8:$AQ$8,$K$2))","v":""},{"$f":"IF(ISBLANK('Data Input'!A25),\"\",SUM('Data Input'!O25,'Data Input'!P25,'Data Input'!R25,'Data Input'!S25))","v":""},{"$f":"IF(M21=\"\",\"\",M21/COUNTIF('Data Input'!$C$8:$AQ$8,$M$2))","v":""},{"$f":"IF(ISBLANK('Data Input'!A25),\"\",SUM('Data Input'!C25,'Data Input'!E25,'Data Input'!F25,'Data Input'!G25,'Data Input'!Q25,'Data Input'!T25))","v":""},{"$f":"IF(O21=\"\",\"\",O21/COUNTIF('Data Input'!$C$8:$AQ$8,$O$2))","v":""},{"$f":"IF(ISBLANK('Data Input'!A25),\"\",SUM('Data Input'!L25))","v":""},{"$f":"IF(Q21=\"\",\"\",Q21/COUNTIF('Data Input'!$C$8:$AQ$8,$Q$2))","v":""},{"$f":"IF(ISBLANK('Data Input'!A25),\"\",SUM('Data Input'!X25:AQ25))","v":""},{"$f":"IF(S21=\"\",\"\",S21/COUNTIF('Data Input'!$C$8:$AQ$8,$S$2))","v":""}]
[{"$f":"IF('Data Input'!A26=0,\"\",'Data Input'!A26)","v":""},{"$f":"IF(ISBLANK('Data Input'!A26),\"\",COUNTIF('Data Input'!C26:AQ26,\"\")-1)","v":""},{"$f":"IF(ISBLANK('Data Input'!A26),\"\",COUNTIF('Data Input'!C26:AQ26,\"0\"))","v":""},{"$f":"IF(ISBLANK('Data Input'!A26),\"\",SUM(B22,C22))","v":""},{"$f":"IF(ISBLANK('Data Input'!A26),\"\",SUM('Data Input'!C26:AQ26))","v":""},{"$f":"IF(E22=\"\",\"\",E22/(COUNTA('Data Input'!$C$8:$AQ$8)-1))","v":""},{"$f":"IF(ISBLANK('Data Input'!A26),\"\",SUM('Data Input'!H26,'Data Input'!I26,'Data Input'!M26,'Data Input'!N26))","v":""},{"$f":"IF(G22=\"\",\"\",G22/COUNTIF('Data Input'!$C$8:$AQ$8,$G$2))","v":""},{"$f":"IF(ISBLANK('Data Input'!A26),\"\",SUM('Data Input'!J26,'Data Input'!K26,'Data Input'!U26,'Data Input'!V26))","v":""},{"$f":"IF(I22=\"\",\"\",I22/COUNTIF('Data Input'!$C$8:$AQ$8,$I$2))","v":""},{"$f":"IF(ISBLANK('Data Input'!A26),\"\",SUM('Data Input'!D26))","v":""},{"$f":"IF(K22=\"\",\"\",K22/COUNTIF('Data Input'!$C$8:$AQ$8,$K$2))","v":""},{"$f":"IF(ISBLANK('Data Input'!A26),\"\",SUM('Data Input'!O26,'Data Input'!P26,'Data Input'!R26,'Data Input'!S26))","v":""},{"$f":"IF(M22=\"\",\"\",M22/COUNTIF('Data Input'!$C$8:$AQ$8,$M$2))","v":""},{"$f":"IF(ISBLANK('Data Input'!A26),\"\",SUM('Data Input'!C26,'Data Input'!E26,'Data Input'!F26,'Data Input'!G26,'Data Input'!Q26,'Data Input'!T26))","v":""},{"$f":"IF(O22=\"\",\"\",O22/COUNTIF('Data Input'!$C$8:$AQ$8,$O$2))","v":""},{"$f":"IF(ISBLANK('Data Input'!A26),\"\",SUM('Data Input'!L26))","v":""},{"$f":"IF(Q22=\"\",\"\",Q22/COUNTIF('Data Input'!$C$8:$AQ$8,$Q$2))","v":""},{"$f":"IF(ISBLANK('Data Input'!A26),\"\",SUM('Data Input'!X26:AQ26))","v":""},{"$f":"IF(S22=\"\",\"\",S22/COUNTIF('Data Input'!$C$8:$AQ$8,$S$2))","v":""}]
[{"$f":"IF('Data Input'!A27=0,\"\",'Data Input'!A27)","v":""},{"$f":"IF(ISBLANK('Data Input'!A27),\"\",COUNTIF('Data Input'!C27:AQ27,\"\")-1)","v":""},{"$f":"IF(ISBLANK('Data Input'!A27),\"\",COUNTIF('Data Input'!C27:AQ27,\"0\"))","v":""},{"$f":"IF(ISBLANK('Data Input'!A27),\"\",SUM(B23,C23))","v":""},{"$f":"IF(ISBLANK('Data Input'!A27),\"\",SUM('Data Input'!C27:AQ27))","v":""},{"$f":"IF(E23=\"\",\"\",E23/(COUNTA('Data Input'!$C$8:$AQ$8)-1))","v":""},{"$f":"IF(ISBLANK('Data Input'!A27),\"\",SUM('Data Input'!H27,'Data Input'!I27,'Data Input'!M27,'Data Input'!N27))","v":""},{"$f":"IF(G23=\"\",\"\",G23/COUNTIF('Data Input'!$C$8:$AQ$8,$G$2))","v":""},{"$f":"IF(ISBLANK('Data Input'!A27),\"\",SUM('Data Input'!J27,'Data Input'!K27,'Data Input'!U27,'Data Input'!V27))","v":""},{"$f":"IF(I23=\"\",\"\",I23/COUNTIF('Data Input'!$C$8:$AQ$8,$I$2))","v":""},{"$f":"IF(ISBLANK('Data Input'!A27),\"\",SUM('Data Input'!D27))","v":""},{"$f":"IF(K23=\"\",\"\",K23/COUNTIF('Data Input'!$C$8:$AQ$8,$K$2))","v":""},{"$f":"IF(ISBLANK('Data Input'!A27),\"\",SUM('Data Input'!O27,'Data Input'!P27,'Data Input'!R27,'Data Input'!S27))","v":""},{"$f":"IF(M23=\"\",\"\",M23/COUNTIF('Data Input'!$C$8:$AQ$8,$M$2))","v":""},{"$f":"IF(ISBLANK('Data Input'!A27),\"\",SUM('Data Input'!C27,'Data Input'!E27,'Data Input'!F27,'Data Input'!G27,'Data Input'!Q27,'Data Input'!T27))","v":""},{"$f":"IF(O23=\"\",\"\",O23/COUNTIF('Data Input'!$C$8:$AQ$8,$O$2))","v":""},{"$f":"IF(ISBLANK('Data Input'!A27),\"\",SUM('Data Input'!L27))","v":""},{"$f":"IF(Q23=\"\",\"\",Q23/COUNTIF('Data Input'!$C$8:$AQ$8,$Q$2))","v":""},{"$f":"IF(ISBLANK('Data Input'!A27),\"\",SUM('Data Input'!X27:AQ27))","v":""},{"$f":"IF(S23=\"\",\"\",S23/COUNTIF('Data Input'!$C$8:$AQ$8,$S$2))","v":""}]
[{"$f":"IF('Data Input'!A28=0,\"\",'Data Input'!A28)","v":""},{"$f":"IF(ISBLANK('Data Input'!A28),\"\",COUNTIF('Data Input'!C28:AQ28,\"\")-1)","v":""},{"$f":"IF(ISBLANK('Data Input'!A28),\"\",COUNTIF('Data Input'!C28:AQ28,\"0\"))","v":""},{"$f":"IF(ISBLANK('Data Input'!A28),\"\",SUM(B24,C24))","v":""},{"$f":"IF(ISBLANK('Data Input'!A28),\"\",SUM('Data Input'!C28:AQ28))","v":""},{"$f":"IF(E24=\"\",\"\",E24/(COUNTA('Data Input'!$C$8:$AQ$8)-1))","v":""},{"$f":"IF(ISBLANK('Data Input'!A28),\"\",SUM('Data Input'!H28,'Data Input'!I28,'Data Input'!M28,'Data Input'!N28))","v":""},{"$f":"IF(G24=\"\",\"\",G24/COUNTIF('Data Input'!$C$8:$AQ$8,$G$2))","v":""},{"$f":"IF(ISBLANK('Data Input'!A28),\"\",SUM('Data Input'!J28,'Data Input'!K28,'Data Input'!U28,'Data Input'!V28))","v":""},{"$f":"IF(I24=\"\",\"\",I24/COUNTIF('Data Input'!$C$8:$AQ$8,$I$2))","v":""},{"$f":"IF(ISBLANK('Data Input'!A28),\"\",SUM('Data Input'!D28))","v":""},{"$f":"IF(K24=\"\",\"\",K24/COUNTIF('Data Input'!$C$8:$AQ$8,$K$2))","v":""},{"$f":"IF(ISBLANK('Data Input'!A28),\"\",SUM('Data Input'!O28,'Data Input'!P28,'Data Input'!R28,'Data Input'!S28))","v":""},{"$f":"IF(M24=\"\",\"\",M24/COUNTIF('Data Input'!$C$8:$AQ$8,$M$2))","v":""},{"$f":"IF(ISBLANK('Data Input'!A28),\"\",SUM('Data Input'!C28,'Data Input'!E28,'Data Input'!F28,'Data Input'!G28,'Data Input'!Q28,'Data Input'!T28))","v":""},{"$f":"IF(O24=\"\",\"\",O24/COUNTIF('Data Input'!$C$8:$AQ$8,$O$2))","v":""},{"$f":"IF(ISBLANK('Data Input'!A28),\"\",SUM('Data Input'!L28))","v":""},{"$f":"IF(Q24=\"\",\"\",Q24/COUNTIF('Data Input'!$C$8:$AQ$8,$Q$2))","v":""},{"$f":"IF(ISBLANK('Data Input'!A28),\"\",SUM('Data Input'!X28:AQ28))","v":""},{"$f":"IF(S24=\"\",\"\",S24/COUNTIF('Data Input'!$C$8:$AQ$8,$S$2))","v":""}]
[{"$f":"IF('Data Input'!A29=0,\"\",'Data Input'!A29)","v":""},{"$f":"IF(ISBLANK('Data Input'!A29),\"\",COUNTIF('Data Input'!C29:AQ29,\"\")-1)","v":""},{"$f":"IF(ISBLANK('Data Input'!A29),\"\",COUNTIF('Data Input'!C29:AQ29,\"0\"))","v":""},{"$f":"IF(ISBLANK('Data Input'!A29),\"\",SUM(B25,C25))","v":""},{"$f":"IF(ISBLANK('Data Input'!A29),\"\",SUM('Data Input'!C29:AQ29))","v":""},{"$f":"IF(E25=\"\",\"\",E25/(COUNTA('Data Input'!$C$8:$AQ$8)-1))","v":""},{"$f":"IF(ISBLANK('Data Input'!A29),\"\",SUM('Data Input'!H29,'Data Input'!I29,'Data Input'!M29,'Data Input'!N29))","v":""},{"$f":"IF(G25=\"\",\"\",G25/COUNTIF('Data Input'!$C$8:$AQ$8,$G$2))","v":""},{"$f":"IF(ISBLANK('Data Input'!A29),\"\",SUM('Data Input'!J29,'Data Input'!K29,'Data Input'!U29,'Data Input'!V29))","v":""},{"$f":"IF(I25=\"\",\"\",I25/COUNTIF('Data Input'!$C$8:$AQ$8,$I$2))","v":""},{"$f":"IF(ISBLANK('Data Input'!A29),\"\",SUM('Data Input'!D29))","v":""},{"$f":"IF(K25=\"\",\"\",K25/COUNTIF('Data Input'!$C$8:$AQ$8,$K$2))","v":""},{"$f":"IF(ISBLANK('Data Input'!A29),\"\",SUM('Data Input'!O29,'Data Input'!P29,'Data Input'!R29,'Data Input'!S29))","v":""},{"$f":"IF(M25=\"\",\"\",M25/COUNTIF('Data Input'!$C$8:$AQ$8,$M$2))","v":""},{"$f":"IF(ISBLANK('Data Input'!A29),\"\",SUM('Data Input'!C29,'Data Input'!E29,'Data Input'!F29,'Data Input'!G29,'Data Input'!Q29,'Data Input'!T29))","v":""},{"$f":"IF(O25=\"\",\"\",O25/COUNTIF('Data Input'!$C$8:$AQ$8,$O$2))","v":""},{"$f":"IF(ISBLANK('Data Input'!A29),\"\",SUM('Data Input'!L29))","v":""},{"$f":"IF(Q25=\"\",\"\",Q25/COUNTIF('Data Input'!$C$8:$AQ$8,$Q$2))","v":""},{"$f":"IF(ISBLANK('Data Input'!A29),\"\",SUM('Data Input'!X29:AQ29))","v":""},{"$f":"IF(S25=\"\",\"\",S25/COUNTIF('Data Input'!$C$8:$AQ$8,$S$2))","v":""}]
[{"$f":"IF('Data Input'!A30=0,\"\",'Data Input'!A30)","v":""},{"$f":"IF(ISBLANK('Data Input'!A30),\"\",COUNTIF('Data Input'!C30:AQ30,\"\")-1)","v":""},{"$f":"IF(ISBLANK('Data Input'!A30),\"\",COUNTIF('Data Input'!C30:AQ30,\"0\"))","v":""},{"$f":"IF(ISBLANK('Data Input'!A30),\"\",SUM(B26,C26))","v":""},{"$f":"IF(ISBLANK('Data Input'!A30),\"\",SUM('Data Input'!C30:AQ30))","v":""},{"$f":"IF(E26=\"\",\"\",E26/(COUNTA('Data Input'!$C$8:$AQ$8)-1))","v":""},{"$f":"IF(ISBLANK('Data Input'!A30),\"\",SUM('Data Input'!H30,'Data Input'!I30,'Data Input'!M30,'Data Input'!N30))","v":""},{"$f":"IF(G26=\"\",\"\",G26/COUNTIF('Data Input'!$C$8:$AQ$8,$G$2))","v":""},{"$f":"IF(ISBLANK('Data Input'!A30),\"\",SUM('Data Input'!J30,'Data Input'!K30,'Data Input'!U30,'Data Input'!V30))","v":""},{"$f":"IF(I26=\"\",\"\",I26/COUNTIF('Data Input'!$C$8:$AQ$8,$I$2))","v":""},{"$f":"IF(ISBLANK('Data Input'!A30),\"\",SUM('Data Input'!D30))","v":""},{"$f":"IF(K26=\"\",\"\",K26/COUNTIF('Data Input'!$C$8:$AQ$8,$K$2))","v":""},{"$f":"IF(ISBLANK('Data Input'!A30),\"\",SUM('Data Input'!O30,'Data Input'!P30,'Data Input'!R30,'Data Input'!S30))","v":""},{"$f":"IF(M26=\"\",\"\",M26/COUNTIF('Data Input'!$C$8:$AQ$8,$M$2))","v":""},{"$f":"IF(ISBLANK('Data Input'!A30),\"\",SUM('Data Input'!C30,'Data Input'!E30,'Data Input'!F30,'Data Input'!G30,'Data Input'!Q30,'Data Input'!T30))","v":""},{"$f":"IF(O26=\"\",\"\",O26/COUNTIF('Data Input'!$C$8:$AQ$8,$O$2))","v":""},{"$f":"IF(ISBLANK('Data Input'!A30),\"\",SUM('Data Input'!L30))","v":""},{"$f":"IF(Q26=\"\",\"\",Q26/COUNTIF('Data Input'!$C$8:$AQ$8,$Q$2))","v":""},{"$f":"IF(ISBLANK('Data Input'!A30),\"\",SUM('Data Input'!X30:AQ30))","v":""},{"$f":"IF(S26=\"\",\"\",S26/COUNTIF('Data Input'!$C$8:$AQ$8,$S$2))","v":""}]
[{"$f":"IF('Data Input'!A31=0,\"\",'Data Input'!A31)","v":""},{"$f":"IF(ISBLANK('Data Input'!A31),\"\",COUNTIF('Data Input'!C31:AQ31,\"\")-1)","v":""},{"$f":"IF(ISBLANK('Data Input'!A31),\"\",COUNTIF('Data Input'!C31:AQ31,\"0\"))","v":""},{"$f":"IF(ISBLANK('Data Input'!A31),\"\",SUM(B27,C27))","v":""},{"$f":"IF(ISBLANK('Data Input'!A31),\"\",SUM('Data Input'!C31:AQ31))","v":""},{"$f":"IF(E27=\"\",\"\",E27/(COUNTA('Data Input'!$C$8:$AQ$8)-1))","v":""},{"$f":"IF(ISBLANK('Data Input'!A31),\"\",SUM('Data Input'!H31,'Data Input'!I31,'Data Input'!M31,'Data Input'!N31))","v":""},{"$f":"IF(G27=\"\",\"\",G27/COUNTIF('Data Input'!$C$8:$AQ$8,$G$2))","v":""},{"$f":"IF(ISBLANK('Data Input'!A31),\"\",SUM('Data Input'!J31,'Data Input'!K31,'Data Input'!U31,'Data Input'!V31))","v":""},{"$f":"IF(I27=\"\",\"\",I27/COUNTIF('Data Input'!$C$8:$AQ$8,$I$2))","v":""},{"$f":"IF(ISBLANK('Data Input'!A31),\"\",SUM('Data Input'!D31))","v":""},{"$f":"IF(K27=\"\",\"\",K27/COUNTIF('Data Input'!$C$8:$AQ$8,$K$2))","v":""},{"$f":"IF(ISBLANK('Data Input'!A31),\"\",SUM('Data Input'!O31,'Data Input'!P31,'Data Input'!R31,'Data Input'!S31))","v":""},{"$f":"IF(M27=\"\",\"\",M27/COUNTIF('Data Input'!$C$8:$AQ$8,$M$2))","v":""},{"$f":"IF(ISBLANK('Data Input'!A31),\"\",SUM('Data Input'!C31,'Data Input'!E31,'Data Input'!F31,'Data Input'!G31,'Data Input'!Q31,'Data Input'!T31))","v":""},{"$f":"IF(O27=\"\",\"\",O27/COUNTIF('Data Input'!$C$8:$AQ$8,$O$2))","v":""},{"$f":"IF(ISBLANK('Data Input'!A31),\"\",SUM('Data Input'!L31))","v":""},{"$f":"IF(Q27=\"\",\"\",Q27/COUNTIF('Data Input'!$C$8:$AQ$8,$Q$2))","v":""},{"$f":"IF(ISBLANK('Data Input'!A31),\"\",SUM('Data Input'!X31:AQ31))","v":""},{"$f":"IF(S27=\"\",\"\",S27/COUNTIF('Data Input'!$C$8:$AQ$8,$S$2))","v":""}]
[{"$f":"IF('Data Input'!A32=0,\"\",'Data Input'!A32)","v":""},{"$f":"IF(ISBLANK('Data Input'!A32),\"\",COUNTIF('Data Input'!C32:AQ32,\"\")-1)","v":""},{"$f":"IF(ISBLANK('Data Input'!A32),\"\",COUNTIF('Data Input'!C32:AQ32,\"0\"))","v":""},{"$f":"IF(ISBLANK('Data Input'!A32),\"\",SUM(B28,C28))","v":""},{"$f":"IF(ISBLANK('Data Input'!A32),\"\",SUM('Data Input'!C32:AQ32))","v":""},{"$f":"IF(E28=\"\",\"\",E28/(COUNTA('Data Input'!$C$8:$AQ$8)-1))","v":""},{"$f":"IF(ISBLANK('Data Input'!A32),\"\",SUM('Data Input'!H32,'Data Input'!I32,'Data Input'!M32,'Data Input'!N32))","v":""},{"$f":"IF(G28=\"\",\"\",G28/COUNTIF('Data Input'!$C$8:$AQ$8,$G$2))","v":""},{"$f":"IF(ISBLANK('Data Input'!A32),\"\",SUM('Data Input'!J32,'Data Input'!K32,'Data Input'!U32,'Data Input'!V32))","v":""},{"$f":"IF(I28=\"\",\"\",I28/COUNTIF('Data Input'!$C$8:$AQ$8,$I$2))","v":""},{"$f":"IF(ISBLANK('Data Input'!A32),\"\",SUM('Data Input'!D32))","v":""},{"$f":"IF(K28=\"\",\"\",K28/COUNTIF('Data Input'!$C$8:$AQ$8,$K$2))","v":""},{"$f":"IF(ISBLANK('Data Input'!A32),\"\",SUM('Data Input'!O32,'Data Input'!P32,'Data Input'!R32,'Data Input'!S32))","v":""},{"$f":"IF(M28=\"\",\"\",M28/COUNTIF('Data Input'!$C$8:$AQ$8,$M$2))","v":""},{"$f":"IF(ISBLANK('Data Input'!A32),\"\",SUM('Data Input'!C32,'Data Input'!E32,'Data Input'!F32,'Data Input'!G32,'Data Input'!Q32,'Data Input'!T32))","v":""},{"$f":"IF(O28=\"\",\"\",O28/COUNTIF('Data Input'!$C$8:$AQ$8,$O$2))","v":""},{"$f":"IF(ISBLANK('Data Input'!A32),\"\",SUM('Data Input'!L32))","v":""},{"$f":"IF(Q28=\"\",\"\",Q28/COUNTIF('Data Input'!$C$8:$AQ$8,$Q$2))","v":""},{"$f":"IF(ISBLANK('Data Input'!A32),\"\",SUM('Data Input'!X32:AQ32))","v":""},{"$f":"IF(S28=\"\",\"\",S28/COUNTIF('Data Input'!$C$8:$AQ$8,$S$2))","v":""}]
[{"$f":"IF('Data Input'!A33=0,\"\",'Data Input'!A33)","v":""},{"$f":"IF(ISBLANK('Data Input'!A33),\"\",COUNTIF('Data Input'!C33:AQ33,\"\")-1)","v":""},{"$f":"IF(ISBLANK('Data Input'!A33),\"\",COUNTIF('Data Input'!C33:AQ33,\"0\"))","v":""},{"$f":"IF(ISBLANK('Data Input'!A33),\"\",SUM(B29,C29))","v":""},{"$f":"IF(ISBLANK('Data Input'!A33),\"\",SUM('Data Input'!C33:AQ33))","v":""},{"$f":"IF(E29=\"\",\"\",E29/(COUNTA('Data Input'!$C$8:$AQ$8)-1))","v":""},{"$f":"IF(ISBLANK('Data Input'!A33),\"\",SUM('Data Input'!H33,'Data Input'!I33,'Data Input'!M33,'Data Input'!N33))","v":""},{"$f":"IF(G29=\"\",\"\",G29/COUNTIF('Data Input'!$C$8:$AQ$8,$G$2))","v":""},{"$f":"IF(ISBLANK('Data Input'!A33),\"\",SUM('Data Input'!J33,'Data Input'!K33,'Data Input'!U33,'Data Input'!V33))","v":""},{"$f":"IF(I29=\"\",\"\",I29/COUNTIF('Data Input'!$C$8:$AQ$8,$I$2))","v":""},{"$f":"IF(ISBLANK('Data Input'!A33),\"\",SUM('Data Input'!D33))","v":""},{"$f":"IF(K29=\"\",\"\",K29/COUNTIF('Data Input'!$C$8:$AQ$8,$K$2))","v":""},{"$f":"IF(ISBLANK('Data Input'!A33),\"\",SUM('Data Input'!O33,'Data Input'!P33,'Data Input'!R33,'Data Input'!S33))","v":""},{"$f":"IF(M29=\"\",\"\",M29/COUNTIF('Data Input'!$C$8:$AQ$8,$M$2))","v":""},{"$f":"IF(ISBLANK('Data Input'!A33),\"\",SUM('Data Input'!C33,'Data Input'!E33,'Data Input'!F33,'Data Input'!G33,'Data Input'!Q33,'Data Input'!T33))","v":""},{"$f":"IF(O29=\"\",\"\",O29/COUNTIF('Data Input'!$C$8:$AQ$8,$O$2))","v":""},{"$f":"IF(ISBLANK('Data Input'!A33),\"\",SUM('Data Input'!L33))","v":""},{"$f":"IF(Q29=\"\",\"\",Q29/COUNTIF('Data Input'!$C$8:$AQ$8,$Q$2))","v":""},{"$f":"IF(ISBLANK('Data Input'!A33),\"\",SUM('Data Input'!X33:AQ33))","v":""},{"$f":"IF(S29=\"\",\"\",S29/COUNTIF('Data Input'!$C$8:$AQ$8,$S$2))","v":""}]
[{"$f":"IF('Data Input'!A34=0,\"\",'Data Input'!A34)","v":""},{"$f":"IF(ISBLANK('Data Input'!A34),\"\",COUNTIF('Data Input'!C34:AQ34,\"\")-1)","v":""},{"$f":"IF(ISBLANK('Data Input'!A34),\"\",COUNTIF('Data Input'!C34:AQ34,\"0\"))","v":""},{"$f":"IF(ISBLANK('Data Input'!A34),\"\",SUM(B30,C30))","v":""},{"$f":"IF(ISBLANK('Data Input'!A34),\"\",SUM('Data Input'!C34:AQ34))","v":""},{"$f":"IF(E30=\"\",\"\",E30/(COUNTA('Data Input'!$C$8:$AQ$8)-1))","v":""},{"$f":"IF(ISBLANK('Data Input'!A34),\"\",SUM('Data Input'!H34,'Data Input'!I34,'Data Input'!M34,'Data Input'!N34))","v":""},{"$f":"IF(G30=\"\",\"\",G30/COUNTIF('Data Input'!$C$8:$AQ$8,$G$2))","v":""},{"$f":"IF(ISBLANK('Data Input'!A34),\"\",SUM('Data Input'!J34,'Data Input'!K34,'Data Input'!U34,'Data Input'!V34))","v":""},{"$f":"IF(I30=\"\",\"\",I30/COUNTIF('Data Input'!$C$8:$AQ$8,$I$2))","v":""},{"$f":"IF(ISBLANK('Data Input'!A34),\"\",SUM('Data Input'!D34))","v":""},{"$f":"IF(K30=\"\",\"\",K30/COUNTIF('Data Input'!$C$8:$AQ$8,$K$2))","v":""},{"$f":"IF(ISBLANK('Data Input'!A34),\"\",SUM('Data Input'!O34,'Data Input'!P34,'Data Input'!R34,'Data Input'!S34))","v":""},{"$f":"IF(M30=\"\",\"\",M30/COUNTIF('Data Input'!$C$8:$AQ$8,$M$2))","v":""},{"$f":"IF(ISBLANK('Data Input'!A34),\"\",SUM('Data Input'!C34,'Data Input'!E34,'Data Input'!F34,'Data Input'!G34,'Data Input'!Q34,'Data Input'!T34))","v":""},{"$f":"IF(O30=\"\",\"\",O30/COUNTIF('Data Input'!$C$8:$AQ$8,$O$2))","v":""},{"$f":"IF(ISBLANK('Data Input'!A34),\"\",SUM('Data Input'!L34))","v":""},{"$f":"IF(Q30=\"\",\"\",Q30/COUNTIF('Data Input'!$C$8:$AQ$8,$Q$2))","v":""},{"$f":"IF(ISBLANK('Data Input'!A34),\"\",SUM('Data Input'!X34:AQ34))","v":""},{"$f":"IF(S30=\"\",\"\",S30/COUNTIF('Data Input'!$C$8:$AQ$8,$S$2))","v":""}]
[{"$f":"IF('Data Input'!A35=0,\"\",'Data Input'!A35)","v":""},{"$f":"IF(ISBLANK('Data Input'!A35),\"\",COUNTIF('Data Input'!C35:AQ35,\"\")-1)","v":""},{"$f":"IF(ISBLANK('Data Input'!A35),\"\",COUNTIF('Data Input'!C35:AQ35,\"0\"))","v":""},{"$f":"IF(ISBLANK('Data Input'!A35),\"\",SUM(B31,C31))","v":""},{"$f":"IF(ISBLANK('Data Input'!A35),\"\",SUM('Data Input'!C35:AQ35))","v":""},{"$f":"IF(E31=\"\",\"\",E31/(COUNTA('Data Input'!$C$8:$AQ$8)-1))","v":""},{"$f":"IF(ISBLANK('Data Input'!A35),\"\",SUM('Data Input'!H35,'Data Input'!I35,'Data Input'!M35,'Data Input'!N35))","v":""},{"$f":"IF(G31=\"\",\"\",G31/COUNTIF('Data Input'!$C$8:$AQ$8,$G$2))","v":""},{"$f":"IF(ISBLANK('Data Input'!A35),\"\",SUM('Data Input'!J35,'Data Input'!K35,'Data Input'!U35,'Data Input'!V35))","v":""},{"$f":"IF(I31=\"\",\"\",I31/COUNTIF('Data Input'!$C$8:$AQ$8,$I$2))","v":""},{"$f":"IF(ISBLANK('Data Input'!A35),\"\",SUM('Data Input'!D35))","v":""},{"$f":"IF(K31=\"\",\"\",K31/COUNTIF('Data Input'!$C$8:$AQ$8,$K$2))","v":""},{"$f":"IF(ISBLANK('Data Input'!A35),\"\",SUM('Data Input'!O35,'Data Input'!P35,'Data Input'!R35,'Data Input'!S35))","v":""},{"$f":"IF(M31=\"\",\"\",M31/COUNTIF('Data Input'!$C$8:$AQ$8,$M$2))","v":""},{"$f":"IF(ISBLANK('Data Input'!A35),\"\",SUM('Data Input'!C35,'Data Input'!E35,'Data Input'!F35,'Data Input'!G35,'Data Input'!Q35,'Data Input'!T35))","v":""},{"$f":"IF(O31=\"\",\"\",O31/COUNTIF('Data Input'!$C$8:$AQ$8,$O$2))","v":""},{"$f":"IF(ISBLANK('Data Input'!A35),\"\",SUM('Data Input'!L35))","v":""},{"$f":"IF(Q31=\"\",\"\",Q31/COUNTIF('Data Input'!$C$8:$AQ$8,$Q$2))","v":""},{"$f":"IF(ISBLANK('Data Input'!A35),\"\",SUM('Data Input'!X35:AQ35))","v":""},{"$f":"IF(S31=\"\",\"\",S31/COUNTIF('Data Input'!$C$8:$AQ$8,$S$2))","v":""}]
[{"$f":"IF('Data Input'!A36=0,\"\",'Data Input'!A36)","v":""},{"$f":"IF(ISBLANK('Data Input'!A36),\"\",COUNTIF('Data Input'!C36:AQ36,\"\")-1)","v":""},{"$f":"IF(ISBLANK('Data Input'!A36),\"\",COUNTIF('Data Input'!C36:AQ36,\"0\"))","v":""},{"$f":"IF(ISBLANK('Data Input'!A36),\"\",SUM(B32,C32))","v":""},{"$f":"IF(ISBLANK('Data Input'!A36),\"\",SUM('Data Input'!C36:AQ36))","v":""},{"$f":"IF(E32=\"\",\"\",E32/(COUNTA('Data Input'!$C$8:$AQ$8)-1))","v":""},{"$f":"IF(ISBLANK('Data Input'!A36),\"\",SUM('Data Input'!H36,'Data Input'!I36,'Data Input'!M36,'Data Input'!N36))","v":""},{"$f":"IF(G32=\"\",\"\",G32/COUNTIF('Data Input'!$C$8:$AQ$8,$G$2))","v":""},{"$f":"IF(ISBLANK('Data Input'!A36),\"\",SUM('Data Input'!J36,'Data Input'!K36,'Data Input'!U36,'Data Input'!V36))","v":""},{"$f":"IF(I32=\"\",\"\",I32/COUNTIF('Data Input'!$C$8:$AQ$8,$I$2))","v":""},{"$f":"IF(ISBLANK('Data Input'!A36),\"\",SUM('Data Input'!D36))","v":""},{"$f":"IF(K32=\"\",\"\",K32/COUNTIF('Data Input'!$C$8:$AQ$8,$K$2))","v":""},{"$f":"IF(ISBLANK('Data Input'!A36),\"\",SUM('Data Input'!O36,'Data Input'!P36,'Data Input'!R36,'Data Input'!S36))","v":""},{"$f":"IF(M32=\"\",\"\",M32/COUNTIF('Data Input'!$C$8:$AQ$8,$M$2))","v":""},{"$f":"IF(ISBLANK('Data Input'!A36),\"\",SUM('Data Input'!C36,'Data Input'!E36,'Data Input'!F36,'Data Input'!G36,'Data Input'!Q36,'Data Input'!T36))","v":""},{"$f":"IF(O32=\"\",\"\",O32/COUNTIF('Data Input'!$C$8:$AQ$8,$O$2))","v":""},{"$f":"IF(ISBLANK('Data Input'!A36),\"\",SUM('Data Input'!L36))","v":""},{"$f":"IF(Q32=\"\",\"\",Q32/COUNTIF('Data Input'!$C$8:$AQ$8,$Q$2))","v":""},{"$f":"IF(ISBLANK('Data Input'!A36),\"\",SUM('Data Input'!X36:AQ36))","v":""},{"$f":"IF(S32=\"\",\"\",S32/COUNTIF('Data Input'!$C$8:$AQ$8,$S$2))","v":""}]
[{"$f":"IF('Data Input'!A37=0,\"\",'Data Input'!A37)","v":""},{"$f":"IF(ISBLANK('Data Input'!A37),\"\",COUNTIF('Data Input'!C37:AQ37,\"\")-1)","v":""},{"$f":"IF(ISBLANK('Data Input'!A37),\"\",COUNTIF('Data Input'!C37:AQ37,\"0\"))","v":""},{"$f":"IF(ISBLANK('Data Input'!A37),\"\",SUM(B33,C33))","v":""},{"$f":"IF(ISBLANK('Data Input'!A37),\"\",SUM('Data Input'!C37:AQ37))","v":""},{"$f":"IF(E33=\"\",\"\",E33/(COUNTA('Data Input'!$C$8:$AQ$8)-1))","v":""},{"$f":"IF(ISBLANK('Data Input'!A37),\"\",SUM('Data Input'!H37,'Data Input'!I37,'Data Input'!M37,'Data Input'!N37))","v":""},{"$f":"IF(G33=\"\",\"\",G33/COUNTIF('Data Input'!$C$8:$AQ$8,$G$2))","v":""},{"$f":"IF(ISBLANK('Data Input'!A37),\"\",SUM('Data Input'!J37,'Data Input'!K37,'Data Input'!U37,'Data Input'!V37))","v":""},{"$f":"IF(I33=\"\",\"\",I33/COUNTIF('Data Input'!$C$8:$AQ$8,$I$2))","v":""},{"$f":"IF(ISBLANK('Data Input'!A37),\"\",SUM('Data Input'!D37))","v":""},{"$f":"IF(K33=\"\",\"\",K33/COUNTIF('Data Input'!$C$8:$AQ$8,$K$2))","v":""},{"$f":"IF(ISBLANK('Data Input'!A37),\"\",SUM('Data Input'!O37,'Data Input'!P37,'Data Input'!R37,'Data Input'!S37))","v":""},{"$f":"IF(M33=\"\",\"\",M33/COUNTIF('Data Input'!$C$8:$AQ$8,$M$2))","v":""},{"$f":"IF(ISBLANK('Data Input'!A37),\"\",SUM('Data Input'!C37,'Data Input'!E37,'Data Input'!F37,'Data Input'!G37,'Data Input'!Q37,'Data Input'!T37))","v":""},{"$f":"IF(O33=\"\",\"\",O33/COUNTIF('Data Input'!$C$8:$AQ$8,$O$2))","v":""},{"$f":"IF(ISBLANK('Data Input'!A37),\"\",SUM('Data Input'!L37))","v":""},{"$f":"IF(Q33=\"\",\"\",Q33/COUNTIF('Data Input'!$C$8:$AQ$8,$Q$2))","v":""},{"$f":"IF(ISBLANK('Data Input'!A37),\"\",SUM('Data Input'!X37:AQ37))","v":""},{"$f":"IF(S33=\"\",\"\",S33/COUNTIF('Data Input'!$C$8:$AQ$8,$S$2))","v":""}]
[{"$f":"IF('Data Input'!A38=0,\"\",'Data Input'!A38)","v":""},{"$f":"IF(ISBLANK('Data Input'!A38),\"\",COUNTIF('Data Input'!C38:AQ38,\"\")-1)","v":""},{"$f":"IF(ISBLANK('Data Input'!A38),\"\",COUNTIF('Data Input'!C38:AQ38,\"0\"))","v":""},{"$f":"IF(ISBLANK('Data Input'!A38),\"\",SUM(B34,C34))","v":""},{"$f":"IF(ISBLANK('Data Input'!A38),\"\",SUM('Data Input'!C38:AQ38))","v":""},{"$f":"IF(E34=\"\",\"\",E34/(COUNTA('Data Input'!$C$8:$AQ$8)-1))","v":""},{"$f":"IF(ISBLANK('Data Input'!A38),\"\",SUM('Data Input'!H38,'Data Input'!I38,'Data Input'!M38,'Data Input'!N38))","v":""},{"$f":"IF(G34=\"\",\"\",G34/COUNTIF('Data Input'!$C$8:$AQ$8,$G$2))","v":""},{"$f":"IF(ISBLANK('Data Input'!A38),\"\",SUM('Data Input'!J38,'Data Input'!K38,'Data Input'!U38,'Data Input'!V38))","v":""},{"$f":"IF(I34=\"\",\"\",I34/COUNTIF('Data Input'!$C$8:$AQ$8,$I$2))","v":""},{"$f":"IF(ISBLANK('Data Input'!A38),\"\",SUM('Data Input'!D38))","v":""},{"$f":"IF(K34=\"\",\"\",K34/COUNTIF('Data Input'!$C$8:$AQ$8,$K$2))","v":""},{"$f":"IF(ISBLANK('Data Input'!A38),\"\",SUM('Data Input'!O38,'Data Input'!P38,'Data Input'!R38,'Data Input'!S38))","v":""},{"$f":"IF(M34=\"\",\"\",M34/COUNTIF('Data Input'!$C$8:$AQ$8,$M$2))","v":""},{"$f":"IF(ISBLANK('Data Input'!A38),\"\",SUM('Data Input'!C38,'Data Input'!E38,'Data Input'!F38,'Data Input'!G38,'Data Input'!Q38,'Data Input'!T38))","v":""},{"$f":"IF(O34=\"\",\"\",O34/COUNTIF('Data Input'!$C$8:$AQ$8,$O$2))","v":""},{"$f":"IF(ISBLANK('Data Input'!A38),\"\",SUM('Data Input'!L38))","v":""},{"$f":"IF(Q34=\"\",\"\",Q34/COUNTIF('Data Input'!$C$8:$AQ$8,$Q$2))","v":""},{"$f":"IF(ISBLANK('Data Input'!A38),\"\",SUM('Data Input'!X38:AQ38))","v":""},{"$f":"IF(S34=\"\",\"\",S34/COUNTIF('Data Input'!$C$8:$AQ$8,$S$2))","v":""}]
[{"$f":"IF('Data Input'!A39=0,\"\",'Data Input'!A39)","v":""},{"$f":"IF(ISBLANK('Data Input'!A39),\"\",COUNTIF('Data Input'!C39:AQ39,\"\")-1)","v":""},{"$f":"IF(ISBLANK('Data Input'!A39),\"\",COUNTIF('Data Input'!C39:AQ39,\"0\"))","v":""},{"$f":"IF(ISBLANK('Data Input'!A39),\"\",SUM(B35,C35))","v":""},{"$f":"IF(ISBLANK('Data Input'!A39),\"\",SUM('Data Input'!C39:AQ39))","v":""},{"$f":"IF(E35=\"\",\"\",E35/(COUNTA('Data Input'!$C$8:$AQ$8)-1))","v":""},{"$f":"IF(ISBLANK('Data Input'!A39),\"\",SUM('Data Input'!H39,'Data Input'!I39,'Data Input'!M39,'Data Input'!N39))","v":""},{"$f":"IF(G35=\"\",\"\",G35/COUNTIF('Data Input'!$C$8:$AQ$8,$G$2))","v":""},{"$f":"IF(ISBLANK('Data Input'!A39),\"\",SUM('Data Input'!J39,'Data Input'!K39,'Data Input'!U39,'Data Input'!V39))","v":""},{"$f":"IF(I35=\"\",\"\",I35/COUNTIF('Data Input'!$C$8:$AQ$8,$I$2))","v":""},{"$f":"IF(ISBLANK('Data Input'!A39),\"\",SUM('Data Input'!D39))","v":""},{"$f":"IF(K35=\"\",\"\",K35/COUNTIF('Data Input'!$C$8:$AQ$8,$K$2))","v":""},{"$f":"IF(ISBLANK('Data Input'!A39),\"\",SUM('Data Input'!O39,'Data Input'!P39,'Data Input'!R39,'Data Input'!S39))","v":""},{"$f":"IF(M35=\"\",\"\",M35/COUNTIF('Data Input'!$C$8:$AQ$8,$M$2))","v":""},{"$f":"IF(ISBLANK('Data Input'!A39),\"\",SUM('Data Input'!C39,'Data Input'!E39,'Data Input'!F39,'Data Input'!G39,'Data Input'!Q39,'Data Input'!T39))","v":""},{"$f":"IF(O35=\"\",\"\",O35/COUNTIF('Data Input'!$C$8:$AQ$8,$O$2))","v":""},{"$f":"IF(ISBLANK('Data Input'!A39),\"\",SUM('Data Input'!L39))","v":""},{"$f":"IF(Q35=\"\",\"\",Q35/COUNTIF('Data Input'!$C$8:$AQ$8,$Q$2))","v":""},{"$f":"IF(ISBLANK('Data Input'!A39),\"\",SUM('Data Input'!X39:AQ39))","v":""},{"$f":"IF(S35=\"\",\"\",S35/COUNTIF('Data Input'!$C$8:$AQ$8,$S$2))","v":""}]
[{"$f":"IF('Data Input'!A40=0,\"\",'Data Input'!A40)","v":""},{"$f":"IF(ISBLANK('Data Input'!A40),\"\",COUNTIF('Data Input'!C40:AQ40,\"\")-1)","v":""},{"$f":"IF(ISBLANK('Data Input'!A40),\"\",COUNTIF('Data Input'!C40:AQ40,\"0\"))","v":""},{"$f":"IF(ISBLANK('Data Input'!A40),\"\",SUM(B36,C36))","v":""},{"$f":"IF(ISBLANK('Data Input'!A40),\"\",SUM('Data Input'!C40:AQ40))","v":""},{"$f":"IF(E36=\"\",\"\",E36/(COUNTA('Data Input'!$C$8:$AQ$8)-1))","v":""},{"$f":"IF(ISBLANK('Data Input'!A40),\"\",SUM('Data Input'!H40,'Data Input'!I40,'Data Input'!M40,'Data Input'!N40))","v":""},{"$f":"IF(G36=\"\",\"\",G36/COUNTIF('Data Input'!$C$8:$AQ$8,$G$2))","v":""},{"$f":"IF(ISBLANK('Data Input'!A40),\"\",SUM('Data Input'!J40,'Data Input'!K40,'Data Input'!U40,'Data Input'!V40))","v":""},{"$f":"IF(I36=\"\",\"\",I36/COUNTIF('Data Input'!$C$8:$AQ$8,$I$2))","v":""},{"$f":"IF(ISBLANK('Data Input'!A40),\"\",SUM('Data Input'!D40))","v":""},{"$f":"IF(K36=\"\",\"\",K36/COUNTIF('Data Input'!$C$8:$AQ$8,$K$2))","v":""},{"$f":"IF(ISBLANK('Data Input'!A40),\"\",SUM('Data Input'!O40,'Data Input'!P40,'Data Input'!R40,'Data Input'!S40))","v":""},{"$f":"IF(M36=\"\",\"\",M36/COUNTIF('Data Input'!$C$8:$AQ$8,$M$2))","v":""},{"$f":"IF(ISBLANK('Data Input'!A40),\"\",SUM('Data Input'!C40,'Data Input'!E40,'Data Input'!F40,'Data Input'!G40,'Data Input'!Q40,'Data Input'!T40))","v":""},{"$f":"IF(O36=\"\",\"\",O36/COUNTIF('Data Input'!$C$8:$AQ$8,$O$2))","v":""},{"$f":"IF(ISBLANK('Data Input'!A40),\"\",SUM('Data Input'!L40))","v":""},{"$f":"IF(Q36=\"\",\"\",Q36/COUNTIF('Data Input'!$C$8:$AQ$8,$Q$2))","v":""},{"$f":"IF(ISBLANK('Data Input'!A40),\"\",SUM('Data Input'!X40:AQ40))","v":""},{"$f":"IF(S36=\"\",\"\",S36/COUNTIF('Data Input'!$C$8:$AQ$8,$S$2))","v":""}]
[{"$f":"IF('Data Input'!A41=0,\"\",'Data Input'!A41)","v":""},{"$f":"IF(ISBLANK('Data Input'!A41),\"\",COUNTIF('Data Input'!C41:AQ41,\"\")-1)","v":""},{"$f":"IF(ISBLANK('Data Input'!A41),\"\",COUNTIF('Data Input'!C41:AQ41,\"0\"))","v":""},{"$f":"IF(ISBLANK('Data Input'!A41),\"\",SUM(B37,C37))","v":""},{"$f":"IF(ISBLANK('Data Input'!A41),\"\",SUM('Data Input'!C41:AQ41))","v":""},{"$f":"IF(E37=\"\",\"\",E37/(COUNTA('Data Input'!$C$8:$AQ$8)-1))","v":""},{"$f":"IF(ISBLANK('Data Input'!A41),\"\",SUM('Data Input'!H41,'Data Input'!I41,'Data Input'!M41,'Data Input'!N41))","v":""},{"$f":"IF(G37=\"\",\"\",G37/COUNTIF('Data Input'!$C$8:$AQ$8,$G$2))","v":""},{"$f":"IF(ISBLANK('Data Input'!A41),\"\",SUM('Data Input'!J41,'Data Input'!K41,'Data Input'!U41,'Data Input'!V41))","v":""},{"$f":"IF(I37=\"\",\"\",I37/COUNTIF('Data Input'!$C$8:$AQ$8,$I$2))","v":""},{"$f":"IF(ISBLANK('Data Input'!A41),\"\",SUM('Data Input'!D41))","v":""},{"$f":"IF(K37=\"\",\"\",K37/COUNTIF('Data Input'!$C$8:$AQ$8,$K$2))","v":""},{"$f":"IF(ISBLANK('Data Input'!A41),\"\",SUM('Data Input'!O41,'Data Input'!P41,'Data Input'!R41,'Data Input'!S41))","v":""},{"$f":"IF(M37=\"\",\"\",M37/COUNTIF('Data Input'!$C$8:$AQ$8,$M$2))","v":""},{"$f":"IF(ISBLANK('Data Input'!A41),\"\",SUM('Data Input'!C41,'Data Input'!E41,'Data Input'!F41,'Data Input'!G41,'Data Input'!Q41,'Data Input'!T41))","v":""},{"$f":"IF(O37=\"\",\"\",O37/COUNTIF('Data Input'!$C$8:$AQ$8,$O$2))","v":""},{"$f":"IF(ISBLANK('Data Input'!A41),\"\",SUM('Data Input'!L41))","v":""},{"$f":"IF(Q37=\"\",\"\",Q37/COUNTIF('Data Input'!$C$8:$AQ$8,$Q$2))","v":""},{"$f":"IF(ISBLANK('Data Input'!A41),\"\",SUM('Data Input'!X41:AQ41))","v":""},{"$f":"IF(S37=\"\",\"\",S37/COUNTIF('Data Input'!$C$8:$AQ$8,$S$2))","v":""}]
[{"$f":"IF('Data Input'!A42=0,\"\",'Data Input'!A42)","v":""},{"$f":"IF(ISBLANK('Data Input'!A42),\"\",COUNTIF('Data Input'!C42:AQ42,\"\")-1)","v":""},{"$f":"IF(ISBLANK('Data Input'!A42),\"\",COUNTIF('Data Input'!C42:AQ42,\"0\"))","v":""},{"$f":"IF(ISBLANK('Data Input'!A42),\"\",SUM(B38,C38))","v":""},{"$f":"IF(ISBLANK('Data Input'!A42),\"\",SUM('Data Input'!C42:AQ42))","v":""},{"$f":"IF(E38=\"\",\"\",E38/(COUNTA('Data Input'!$C$8:$AQ$8)-1))","v":""},{"$f":"IF(ISBLANK('Data Input'!A42),\"\",SUM('Data Input'!H42,'Data Input'!I42,'Data Input'!M42,'Data Input'!N42))","v":""},{"$f":"IF(G38=\"\",\"\",G38/COUNTIF('Data Input'!$C$8:$AQ$8,$G$2))","v":""},{"$f":"IF(ISBLANK('Data Input'!A42),\"\",SUM('Data Input'!J42,'Data Input'!K42,'Data Input'!U42,'Data Input'!V42))","v":""},{"$f":"IF(I38=\"\",\"\",I38/COUNTIF('Data Input'!$C$8:$AQ$8,$I$2))","v":""},{"$f":"IF(ISBLANK('Data Input'!A42),\"\",SUM('Data Input'!D42))","v":""},{"$f":"IF(K38=\"\",\"\",K38/COUNTIF('Data Input'!$C$8:$AQ$8,$K$2))","v":""},{"$f":"IF(ISBLANK('Data Input'!A42),\"\",SUM('Data Input'!O42,'Data Input'!P42,'Data Input'!R42,'Data Input'!S42))","v":""},{"$f":"IF(M38=\"\",\"\",M38/COUNTIF('Data Input'!$C$8:$AQ$8,$M$2))","v":""},{"$f":"IF(ISBLANK('Data Input'!A42),\"\",SUM('Data Input'!C42,'Data Input'!E42,'Data Input'!F42,'Data Input'!G42,'Data Input'!Q42,'Data Input'!T42))","v":""},{"$f":"IF(O38=\"\",\"\",O38/COUNTIF('Data Input'!$C$8:$AQ$8,$O$2))","v":""},{"$f":"IF(ISBLANK('Data Input'!A42),\"\",SUM('Data Input'!L42))","v":""},{"$f":"IF(Q38=\"\",\"\",Q38/COUNTIF('Data Input'!$C$8:$AQ$8,$Q$2))","v":""},{"$f":"IF(ISBLANK('Data Input'!A42),\"\",SUM('Data Input'!X42:AQ42))","v":""},{"$f":"IF(S38=\"\",\"\",S38/COUNTIF('Data Input'!$C$8:$AQ$8,$S$2))","v":""}]
[{"$f":"IF('Data Input'!A43=0,\"\",'Data Input'!A43)","v":""},{"$f":"IF(ISBLANK('Data Input'!A43),\"\",COUNTIF('Data Input'!C43:AQ43,\"\")-1)","v":""},{"$f":"IF(ISBLANK('Data Input'!A43),\"\",COUNTIF('Data Input'!C43:AQ43,\"0\"))","v":""},{"$f":"IF(ISBLANK('Data Input'!A43),\"\",SUM(B39,C39))","v":""},{"$f":"IF(ISBLANK('Data Input'!A43),\"\",SUM('Data Input'!C43:AQ43))","v":""},{"$f":"IF(E39=\"\",\"\",E39/(COUNTA('Data Input'!$C$8:$AQ$8)-1))","v":""},{"$f":"IF(ISBLANK('Data Input'!A43),\"\",SUM('Data Input'!H43,'Data Input'!I43,'Data Input'!M43,'Data Input'!N43))","v":""},{"$f":"IF(G39=\"\",\"\",G39/COUNTIF('Data Input'!$C$8:$AQ$8,$G$2))","v":""},{"$f":"IF(ISBLANK('Data Input'!A43),\"\",SUM('Data Input'!J43,'Data Input'!K43,'Data Input'!U43,'Data Input'!V43))","v":""},{"$f":"IF(I39=\"\",\"\",I39/COUNTIF('Data Input'!$C$8:$AQ$8,$I$2))","v":""},{"$f":"IF(ISBLANK('Data Input'!A43),\"\",SUM('Data Input'!D43))","v":""},{"$f":"IF(K39=\"\",\"\",K39/COUNTIF('Data Input'!$C$8:$AQ$8,$K$2))","v":""},{"$f":"IF(ISBLANK('Data Input'!A43),\"\",SUM('Data Input'!O43,'Data Input'!P43,'Data Input'!R43,'Data Input'!S43))","v":""},{"$f":"IF(M39=\"\",\"\",M39/COUNTIF('Data Input'!$C$8:$AQ$8,$M$2))","v":""},{"$f":"IF(ISBLANK('Data Input'!A43),\"\",SUM('Data Input'!C43,'Data Input'!E43,'Data Input'!F43,'Data Input'!G43,'Data Input'!Q43,'Data Input'!T43))","v":""},{"$f":"IF(O39=\"\",\"\",O39/COUNTIF('Data Input'!$C$8:$AQ$8,$O$2))","v":""},{"$f":"IF(ISBLANK('Data Input'!A43),\"\",SUM('Data Input'!L43))","v":""},{"$f":"IF(Q39=\"\",\"\",Q39/COUNTIF('Data Input'!$C$8:$AQ$8,$Q$2))","v":""},{"$f":"IF(ISBLANK('Data Input'!A43),\"\",SUM('Data Input'!X43:AQ43))","v":""},{"$f":"IF(S39=\"\",\"\",S39/COUNTIF('Data Input'!$C$8:$AQ$8,$S$2))","v":""}]
[{"$f":"IF('Data Input'!A44=0,\"\",'Data Input'!A44)","v":""},{"$f":"IF(ISBLANK('Data Input'!A44),\"\",COUNTIF('Data Input'!C44:AQ44,\"\")-1)","v":""},{"$f":"IF(ISBLANK('Data Input'!A44),\"\",COUNTIF('Data Input'!C44:AQ44,\"0\"))","v":""},{"$f":"IF(ISBLANK('Data Input'!A44),\"\",SUM(B40,C40))","v":""},{"$f":"IF(ISBLANK('Data Input'!A44),\"\",SUM('Data Input'!C44:AQ44))","v":""},{"$f":"IF(E40=\"\",\"\",E40/(COUNTA('Data Input'!$C$8:$AQ$8)-1))","v":""},{"$f":"IF(ISBLANK('Data Input'!A44),\"\",SUM('Data Input'!H44,'Data Input'!I44,'Data Input'!M44,'Data Input'!N44))","v":""},{"$f":"IF(G40=\"\",\"\",G40/COUNTIF('Data Input'!$C$8:$AQ$8,$G$2))","v":""},{"$f":"IF(ISBLANK('Data Input'!A44),\"\",SUM('Data Input'!J44,'Data Input'!K44,'Data Input'!U44,'Data Input'!V44))","v":""},{"$f":"IF(I40=\"\",\"\",I40/COUNTIF('Data Input'!$C$8:$AQ$8,$I$2))","v":""},{"$f":"IF(ISBLANK('Data Input'!A44),\"\",SUM('Data Input'!D44))","v":""},{"$f":"IF(K40=\"\",\"\",K40/COUNTIF('Data Input'!$C$8:$AQ$8,$K$2))","v":""},{"$f":"IF(ISBLANK('Data Input'!A44),\"\",SUM('Data Input'!O44,'Data Input'!P44,'Data Input'!R44,'Data Input'!S44))","v":""},{"$f":"IF(M40=\"\",\"\",M40/COUNTIF('Data Input'!$C$8:$AQ$8,$M$2))","v":""},{"$f":"IF(ISBLANK('Data Input'!A44),\"\",SUM('Data Input'!C44,'Data Input'!E44,'Data Input'!F44,'Data Input'!G44,'Data Input'!Q44,'Data Input'!T44))","v":""},{"$f":"IF(O40=\"\",\"\",O40/COUNTIF('Data Input'!$C$8:$AQ$8,$O$2))","v":""},{"$f":"IF(ISBLANK('Data Input'!A44),\"\",SUM('Data Input'!L44))","v":""},{"$f":"IF(Q40=\"\",\"\",Q40/COUNTIF('Data Input'!$C$8:$AQ$8,$Q$2))","v":""},{"$f":"IF(ISBLANK('Data Input'!A44),\"\",SUM('Data Input'!X44:AQ44))","v":""},{"$f":"IF(S40=\"\",\"\",S40/COUNTIF('Data Input'!$C$8:$AQ$8,$S$2))","v":""}]
[{"$f":"IF('Data Input'!A45=0,\"\",'Data Input'!A45)","v":""},{"$f":"IF(ISBLANK('Data Input'!A45),\"\",COUNTIF('Data Input'!C45:AQ45,\"\")-1)","v":""},{"$f":"IF(ISBLANK('Data Input'!A45),\"\",COUNTIF('Data Input'!C45:AQ45,\"0\"))","v":""},{"$f":"IF(ISBLANK('Data Input'!A45),\"\",SUM(B41,C41))","v":""},{"$f":"IF(ISBLANK('Data Input'!A45),\"\",SUM('Data Input'!C45:AQ45))","v":""},{"$f":"IF(E41=\"\",\"\",E41/(COUNTA('Data Input'!$C$8:$AQ$8)-1))","v":""},{"$f":"IF(ISBLANK('Data Input'!A45),\"\",SUM('Data Input'!H45,'Data Input'!I45,'Data Input'!M45,'Data Input'!N45))","v":""},{"$f":"IF(G41=\"\",\"\",G41/COUNTIF('Data Input'!$C$8:$AQ$8,$G$2))","v":""},{"$f":"IF(ISBLANK('Data Input'!A45),\"\",SUM('Data Input'!J45,'Data Input'!K45,'Data Input'!U45,'Data Input'!V45))","v":""},{"$f":"IF(I41=\"\",\"\",I41/COUNTIF('Data Input'!$C$8:$AQ$8,$I$2))","v":""},{"$f":"IF(ISBLANK('Data Input'!A45),\"\",SUM('Data Input'!D45))","v":""},{"$f":"IF(K41=\"\",\"\",K41/COUNTIF('Data Input'!$C$8:$AQ$8,$K$2))","v":""},{"$f":"IF(ISBLANK('Data Input'!A45),\"\",SUM('Data Input'!O45,'Data Input'!P45,'Data Input'!R45,'Data Input'!S45))","v":""},{"$f":"IF(M41=\"\",\"\",M41/COUNTIF('Data Input'!$C$8:$AQ$8,$M$2))","v":""},{"$f":"IF(ISBLANK('Data Input'!A45),\"\",SUM('Data Input'!C45,'Data Input'!E45,'Data Input'!F45,'Data Input'!G45,'Data Input'!Q45,'Data Input'!T45))","v":""},{"$f":"IF(O41=\"\",\"\",O41/COUNTIF('Data Input'!$C$8:$AQ$8,$O$2))","v":""},{"$f":"IF(ISBLANK('Data Input'!A45),\"\",SUM('Data Input'!L45))","v":""},{"$f":"IF(Q41=\"\",\"\",Q41/COUNTIF('Data Input'!$C$8:$AQ$8,$Q$2))","v":""},{"$f":"IF(ISBLANK('Data Input'!A45),\"\",SUM('Data Input'!X45:AQ45))","v":""},{"$f":"IF(S41=\"\",\"\",S41/COUNTIF('Data Input'!$C$8:$AQ$8,$S$2))","v":""}]
[{"$f":"IF('Data Input'!A46=0,\"\",'Data Input'!A46)","v":""},{"$f":"IF(ISBLANK('Data Input'!A46),\"\",COUNTIF('Data Input'!C46:AQ46,\"\")-1)","v":""},{"$f":"IF(ISBLANK('Data Input'!A46),\"\",COUNTIF('Data Input'!C46:AQ46,\"0\"))","v":""},{"$f":"IF(ISBLANK('Data Input'!A46),\"\",SUM(B42,C42))","v":""},{"$f":"IF(ISBLANK('Data Input'!A46),\"\",SUM('Data Input'!C46:AQ46))","v":""},{"$f":"IF(E42=\"\",\"\",E42/(COUNTA('Data Input'!$C$8:$AQ$8)-1))","v":""},{"$f":"IF(ISBLANK('Data Input'!A46),\"\",SUM('Data Input'!H46,'Data Input'!I46,'Data Input'!M46,'Data Input'!N46))","v":""},{"$f":"IF(G42=\"\",\"\",G42/COUNTIF('Data Input'!$C$8:$AQ$8,$G$2))","v":""},{"$f":"IF(ISBLANK('Data Input'!A46),\"\",SUM('Data Input'!J46,'Data Input'!K46,'Data Input'!U46,'Data Input'!V46))","v":""},{"$f":"IF(I42=\"\",\"\",I42/COUNTIF('Data Input'!$C$8:$AQ$8,$I$2))","v":""},{"$f":"IF(ISBLANK('Data Input'!A46),\"\",SUM('Data Input'!D46))","v":""},{"$f":"IF(K42=\"\",\"\",K42/COUNTIF('Data Input'!$C$8:$AQ$8,$K$2))","v":""},{"$f":"IF(ISBLANK('Data Input'!A46),\"\",SUM('Data Input'!O46,'Data Input'!P46,'Data Input'!R46,'Data Input'!S46))","v":""},{"$f":"IF(M42=\"\",\"\",M42/COUNTIF('Data Input'!$C$8:$AQ$8,$M$2))","v":""},{"$f":"IF(ISBLANK('Data Input'!A46),\"\",SUM('Data Input'!C46,'Data Input'!E46,'Data Input'!F46,'Data Input'!G46,'Data Input'!Q46,'Data Input'!T46))","v":""},{"$f":"IF(O42=\"\",\"\",O42/COUNTIF('Data Input'!$C$8:$AQ$8,$O$2))","v":""},{"$f":"IF(ISBLANK('Data Input'!A46),\"\",SUM('Data Input'!L46))","v":""},{"$f":"IF(Q42=\"\",\"\",Q42/COUNTIF('Data Input'!$C$8:$AQ$8,$Q$2))","v":""},{"$f":"IF(ISBLANK('Data Input'!A46),\"\",SUM('Data Input'!X46:AQ46))","v":""},{"$f":"IF(S42=\"\",\"\",S42/COUNTIF('Data Input'!$C$8:$AQ$8,$S$2))","v":""}]
[{"$f":"IF('Data Input'!A47=0,\"\",'Data Input'!A47)","v":""},{"$f":"IF(ISBLANK('Data Input'!A47),\"\",COUNTIF('Data Input'!C47:AQ47,\"\")-1)","v":""},{"$f":"IF(ISBLANK('Data Input'!A47),\"\",COUNTIF('Data Input'!C47:AQ47,\"0\"))","v":""},{"$f":"IF(ISBLANK('Data Input'!A47),\"\",SUM(B43,C43))","v":""},{"$f":"IF(ISBLANK('Data Input'!A47),\"\",SUM('Data Input'!C47:AQ47))","v":""},{"$f":"IF(E43=\"\",\"\",E43/(COUNTA('Data Input'!$C$8:$AQ$8)-1))","v":""},{"$f":"IF(ISBLANK('Data Input'!A47),\"\",SUM('Data Input'!H47,'Data Input'!I47,'Data Input'!M47,'Data Input'!N47))","v":""},{"$f":"IF(G43=\"\",\"\",G43/COUNTIF('Data Input'!$C$8:$AQ$8,$G$2))","v":""},{"$f":"IF(ISBLANK('Data Input'!A47),\"\",SUM('Data Input'!J47,'Data Input'!K47,'Data Input'!U47,'Data Input'!V47))","v":""},{"$f":"IF(I43=\"\",\"\",I43/COUNTIF('Data Input'!$C$8:$AQ$8,$I$2))","v":""},{"$f":"IF(ISBLANK('Data Input'!A47),\"\",SUM('Data Input'!D47))","v":""},{"$f":"IF(K43=\"\",\"\",K43/COUNTIF('Data Input'!$C$8:$AQ$8,$K$2))","v":""},{"$f":"IF(ISBLANK('Data Input'!A47),\"\",SUM('Data Input'!O47,'Data Input'!P47,'Data Input'!R47,'Data Input'!S47))","v":""},{"$f":"IF(M43=\"\",\"\",M43/COUNTIF('Data Input'!$C$8:$AQ$8,$M$2))","v":""},{"$f":"IF(ISBLANK('Data Input'!A47),\"\",SUM('Data Input'!C47,'Data Input'!E47,'Data Input'!F47,'Data Input'!G47,'Data Input'!Q47,'Data Input'!T47))","v":""},{"$f":"IF(O43=\"\",\"\",O43/COUNTIF('Data Input'!$C$8:$AQ$8,$O$2))","v":""},{"$f":"IF(ISBLANK('Data Input'!A47),\"\",SUM('Data Input'!L47))","v":""},{"$f":"IF(Q43=\"\",\"\",Q43/COUNTIF('Data Input'!$C$8:$AQ$8,$Q$2))","v":""},{"$f":"IF(ISBLANK('Data Input'!A47),\"\",SUM('Data Input'!X47:AQ47))","v":""},{"$f":"IF(S43=\"\",\"\",S43/COUNTIF('Data Input'!$C$8:$AQ$8,$S$2))","v":""}]
[{"$f":"IF('Data Input'!A48=0,\"\",'Data Input'!A48)","v":""},{"$f":"IF(ISBLANK('Data Input'!A48),\"\",COUNTIF('Data Input'!C48:AQ48,\"\")-1)","v":""},{"$f":"IF(ISBLANK('Data Input'!A48),\"\",COUNTIF('Data Input'!C48:AQ48,\"0\"))","v":""},{"$f":"IF(ISBLANK('Data Input'!A48),\"\",SUM(B44,C44))","v":""},{"$f":"IF(ISBLANK('Data Input'!A48),\"\",SUM('Data Input'!C48:AQ48))","v":""},{"$f":"IF(E44=\"\",\"\",E44/(COUNTA('Data Input'!$C$8:$AQ$8)-1))","v":""},{"$f":"IF(ISBLANK('Data Input'!A48),\"\",SUM('Data Input'!H48,'Data Input'!I48,'Data Input'!M48,'Data Input'!N48))","v":""},{"$f":"IF(G44=\"\",\"\",G44/COUNTIF('Data Input'!$C$8:$AQ$8,$G$2))","v":""},{"$f":"IF(ISBLANK('Data Input'!A48),\"\",SUM('Data Input'!J48,'Data Input'!K48,'Data Input'!U48,'Data Input'!V48))","v":""},{"$f":"IF(I44=\"\",\"\",I44/COUNTIF('Data Input'!$C$8:$AQ$8,$I$2))","v":""},{"$f":"IF(ISBLANK('Data Input'!A48),\"\",SUM('Data Input'!D48))","v":""},{"$f":"IF(K44=\"\",\"\",K44/COUNTIF('Data Input'!$C$8:$AQ$8,$K$2))","v":""},{"$f":"IF(ISBLANK('Data Input'!A48),\"\",SUM('Data Input'!O48,'Data Input'!P48,'Data Input'!R48,'Data Input'!S48))","v":""},{"$f":"IF(M44=\"\",\"\",M44/COUNTIF('Data Input'!$C$8:$AQ$8,$M$2))","v":""},{"$f":"IF(ISBLANK('Data Input'!A48),\"\",SUM('Data Input'!C48,'Data Input'!E48,'Data Input'!F48,'Data Input'!G48,'Data Input'!Q48,'Data Input'!T48))","v":""},{"$f":"IF(O44=\"\",\"\",O44/COUNTIF('Data Input'!$C$8:$AQ$8,$O$2))","v":""},{"$f":"IF(ISBLANK('Data Input'!A48),\"\",SUM('Data Input'!L48))","v":""},{"$f":"IF(Q44=\"\",\"\",Q44/COUNTIF('Data Input'!$C$8:$AQ$8,$Q$2))","v":""},{"$f":"IF(ISBLANK('Data Input'!A48),\"\",SUM('Data Input'!X48:AQ48))","v":""},{"$f":"IF(S44=\"\",\"\",S44/COUNTIF('Data Input'!$C$8:$AQ$8,$S$2))","v":""}]
[{"$f":"IF('Data Input'!A49=0,\"\",'Data Input'!A49)","v":""},{"$f":"IF(ISBLANK('Data Input'!A49),\"\",COUNTIF('Data Input'!C49:AQ49,\"\")-1)","v":""},{"$f":"IF(ISBLANK('Data Input'!A49),\"\",COUNTIF('Data Input'!C49:AQ49,\"0\"))","v":""},{"$f":"IF(ISBLANK('Data Input'!A49),\"\",SUM(B45,C45))","v":""},{"$f":"IF(ISBLANK('Data Input'!A49),\"\",SUM('Data Input'!C49:AQ49))","v":""},{"$f":"IF(E45=\"\",\"\",E45/(COUNTA('Data Input'!$C$8:$AQ$8)-1))","v":""},{"$f":"IF(ISBLANK('Data Input'!A49),\"\",SUM('Data Input'!H49,'Data Input'!I49,'Data Input'!M49,'Data Input'!N49))","v":""},{"$f":"IF(G45=\"\",\"\",G45/COUNTIF('Data Input'!$C$8:$AQ$8,$G$2))","v":""},{"$f":"IF(ISBLANK('Data Input'!A49),\"\",SUM('Data Input'!J49,'Data Input'!K49,'Data Input'!U49,'Data Input'!V49))","v":""},{"$f":"IF(I45=\"\",\"\",I45/COUNTIF('Data Input'!$C$8:$AQ$8,$I$2))","v":""},{"$f":"IF(ISBLANK('Data Input'!A49),\"\",SUM('Data Input'!D49))","v":""},{"$f":"IF(K45=\"\",\"\",K45/COUNTIF('Data Input'!$C$8:$AQ$8,$K$2))","v":""},{"$f":"IF(ISBLANK('Data Input'!A49),\"\",SUM('Data Input'!O49,'Data Input'!P49,'Data Input'!R49,'Data Input'!S49))","v":""},{"$f":"IF(M45=\"\",\"\",M45/COUNTIF('Data Input'!$C$8:$AQ$8,$M$2))","v":""},{"$f":"IF(ISBLANK('Data Input'!A49),\"\",SUM('Data Input'!C49,'Data Input'!E49,'Data Input'!F49,'Data Input'!G49,'Data Input'!Q49,'Data Input'!T49))","v":""},{"$f":"IF(O45=\"\",\"\",O45/COUNTIF('Data Input'!$C$8:$AQ$8,$O$2))","v":""},{"$f":"IF(ISBLANK('Data Input'!A49),\"\",SUM('Data Input'!L49))","v":""},{"$f":"IF(Q45=\"\",\"\",Q45/COUNTIF('Data Input'!$C$8:$AQ$8,$Q$2))","v":""},{"$f":"IF(ISBLANK('Data Input'!A49),\"\",SUM('Data Input'!X49:AQ49))","v":""},{"$f":"IF(S45=\"\",\"\",S45/COUNTIF('Data Input'!$C$8:$AQ$8,$S$2))","v":""}]
[{"$f":"IF('Data Input'!A50=0,\"\",'Data Input'!A50)","v":""},{"$f":"IF(ISBLANK('Data Input'!A50),\"\",COUNTIF('Data Input'!C50:AQ50,\"\")-1)","v":""},{"$f":"IF(ISBLANK('Data Input'!A50),\"\",COUNTIF('Data Input'!C50:AQ50,\"0\"))","v":""},{"$f":"IF(ISBLANK('Data Input'!A50),\"\",SUM(B46,C46))","v":""},{"$f":"IF(ISBLANK('Data Input'!A50),\"\",SUM('Data Input'!C50:AQ50))","v":""},{"$f":"IF(E46=\"\",\"\",E46/(COUNTA('Data Input'!$C$8:$AQ$8)-1))","v":""},{"$f":"IF(ISBLANK('Data Input'!A50),\"\",SUM('Data Input'!H50,'Data Input'!I50,'Data Input'!M50,'Data Input'!N50))","v":""},{"$f":"IF(G46=\"\",\"\",G46/COUNTIF('Data Input'!$C$8:$AQ$8,$G$2))","v":""},{"$f":"IF(ISBLANK('Data Input'!A50),\"\",SUM('Data Input'!J50,'Data Input'!K50,'Data Input'!U50,'Data Input'!V50))","v":""},{"$f":"IF(I46=\"\",\"\",I46/COUNTIF('Data Input'!$C$8:$AQ$8,$I$2))","v":""},{"$f":"IF(ISBLANK('Data Input'!A50),\"\",SUM('Data Input'!D50))","v":""},{"$f":"IF(K46=\"\",\"\",K46/COUNTIF('Data Input'!$C$8:$AQ$8,$K$2))","v":""},{"$f":"IF(ISBLANK('Data Input'!A50),\"\",SUM('Data Input'!O50,'Data Input'!P50,'Data Input'!R50,'Data Input'!S50))","v":""},{"$f":"IF(M46=\"\",\"\",M46/COUNTIF('Data Input'!$C$8:$AQ$8,$M$2))","v":""},{"$f":"IF(ISBLANK('Data Input'!A50),\"\",SUM('Data Input'!C50,'Data Input'!E50,'Data Input'!F50,'Data Input'!G50,'Data Input'!Q50,'Data Input'!T50))","v":""},{"$f":"IF(O46=\"\",\"\",O46/COUNTIF('Data Input'!$C$8:$AQ$8,$O$2))","v":""},{"$f":"IF(ISBLANK('Data Input'!A50),\"\",SUM('Data Input'!L50))","v":""},{"$f":"IF(Q46=\"\",\"\",Q46/COUNTIF('Data Input'!$C$8:$AQ$8,$Q$2))","v":""},{"$f":"IF(ISBLANK('Data Input'!A50),\"\",SUM('Data Input'!X50:AQ50))","v":""},{"$f":"IF(S46=\"\",\"\",S46/COUNTIF('Data Input'!$C$8:$AQ$8,$S$2))","v":""}]
[{"$f":"IF('Data Input'!A51=0,\"\",'Data Input'!A51)","v":""},{"$f":"IF(ISBLANK('Data Input'!A51),\"\",COUNTIF('Data Input'!C51:AQ51,\"\")-1)","v":""},{"$f":"IF(ISBLANK('Data Input'!A51),\"\",COUNTIF('Data Input'!C51:AQ51,\"0\"))","v":""},{"$f":"IF(ISBLANK('Data Input'!A51),\"\",SUM(B47,C47))","v":""},{"$f":"IF(ISBLANK('Data Input'!A51),\"\",SUM('Data Input'!C51:AQ51))","v":""},{"$f":"IF(E47=\"\",\"\",E47/(COUNTA('Data Input'!$C$8:$AQ$8)-1))","v":""},{"$f":"IF(ISBLANK('Data Input'!A51),\"\",SUM('Data Input'!H51,'Data Input'!I51,'Data Input'!M51,'Data Input'!N51))","v":""},{"$f":"IF(G47=\"\",\"\",G47/COUNTIF('Data Input'!$C$8:$AQ$8,$G$2))","v":""},{"$f":"IF(ISBLANK('Data Input'!A51),\"\",SUM('Data Input'!J51,'Data Input'!K51,'Data Input'!U51,'Data Input'!V51))","v":""},{"$f":"IF(I47=\"\",\"\",I47/COUNTIF('Data Input'!$C$8:$AQ$8,$I$2))","v":""},{"$f":"IF(ISBLANK('Data Input'!A51),\"\",SUM('Data Input'!D51))","v":""},{"$f":"IF(K47=\"\",\"\",K47/COUNTIF('Data Input'!$C$8:$AQ$8,$K$2))","v":""},{"$f":"IF(ISBLANK('Data Input'!A51),\"\",SUM('Data Input'!O51,'Data Input'!P51,'Data Input'!R51,'Data Input'!S51))","v":""},{"$f":"IF(M47=\"\",\"\",M47/COUNTIF('Data Input'!$C$8:$AQ$8,$M$2))","v":""},{"$f":"IF(ISBLANK('Data Input'!A51),\"\",SUM('Data Input'!C51,'Data Input'!E51,'Data Input'!F51,'Data Input'!G51,'Data Input'!Q51,'Data Input'!T51))","v":""},{"$f":"IF(O47=\"\",\"\",O47/COUNTIF('Data Input'!$C$8:$AQ$8,$O$2))","v":""},{"$f":"IF(ISBLANK('Data Input'!A51),\"\",SUM('Data Input'!L51))","v":""},{"$f":"IF(Q47=\"\",\"\",Q47/COUNTIF('Data Input'!$C$8:$AQ$8,$Q$2))","v":""},{"$f":"IF(ISBLANK('Data Input'!A51),\"\",SUM('Data Input'!X51:AQ51))","v":""},{"$f":"IF(S47=\"\",\"\",S47/COUNTIF('Data Input'!$C$8:$AQ$8,$S$2))","v":""}]
[{"$f":"IF('Data Input'!A52=0,\"\",'Data Input'!A52)","v":""},{"$f":"IF(ISBLANK('Data Input'!A52),\"\",COUNTIF('Data Input'!C52:AQ52,\"\")-1)","v":""},{"$f":"IF(ISBLANK('Data Input'!A52),\"\",COUNTIF('Data Input'!C52:AQ52,\"0\"))","v":""},{"$f":"IF(ISBLANK('Data Input'!A52),\"\",SUM(B48,C48))","v":""},{"$f":"IF(ISBLANK('Data Input'!A52),\"\",SUM('Data Input'!C52:AQ52))","v":""},{"$f":"IF(E48=\"\",\"\",E48/(COUNTA('Data Input'!$C$8:$AQ$8)-1))","v":""},{"$f":"IF(ISBLANK('Data Input'!A52),\"\",SUM('Data Input'!H52,'Data Input'!I52,'Data Input'!M52,'Data Input'!N52))","v":""},{"$f":"IF(G48=\"\",\"\",G48/COUNTIF('Data Input'!$C$8:$AQ$8,$G$2))","v":""},{"$f":"IF(ISBLANK('Data Input'!A52),\"\",SUM('Data Input'!J52,'Data Input'!K52,'Data Input'!U52,'Data Input'!V52))","v":""},{"$f":"IF(I48=\"\",\"\",I48/COUNTIF('Data Input'!$C$8:$AQ$8,$I$2))","v":""},{"$f":"IF(ISBLANK('Data Input'!A52),\"\",SUM('Data Input'!D52))","v":""},{"$f":"IF(K48=\"\",\"\",K48/COUNTIF('Data Input'!$C$8:$AQ$8,$K$2))","v":""},{"$f":"IF(ISBLANK('Data Input'!A52),\"\",SUM('Data Input'!O52,'Data Input'!P52,'Data Input'!R52,'Data Input'!S52))","v":""},{"$f":"IF(M48=\"\",\"\",M48/COUNTIF('Data Input'!$C$8:$AQ$8,$M$2))","v":""},{"$f":"IF(ISBLANK('Data Input'!A52),\"\",SUM('Data Input'!C52,'Data Input'!E52,'Data Input'!F52,'Data Input'!G52,'Data Input'!Q52,'Data Input'!T52))","v":""},{"$f":"IF(O48=\"\",\"\",O48/COUNTIF('Data Input'!$C$8:$AQ$8,$O$2))","v":""},{"$f":"IF(ISBLANK('Data Input'!A52),\"\",SUM('Data Input'!L52))","v":""},{"$f":"IF(Q48=\"\",\"\",Q48/COUNTIF('Data Input'!$C$8:$AQ$8,$Q$2))","v":""},{"$f":"IF(ISBLANK('Data Input'!A52),\"\",SUM('Data Input'!X52:AQ52))","v":""},{"$f":"IF(S48=\"\",\"\",S48/COUNTIF('Data Input'!$C$8:$AQ$8,$S$2))","v":""}]
[{"$f":"IF('Data Input'!A53=0,\"\",'Data Input'!A53)","v":""},{"$f":"IF(ISBLANK('Data Input'!A53),\"\",COUNTIF('Data Input'!C53:AQ53,\"\")-1)","v":""},{"$f":"IF(ISBLANK('Data Input'!A53),\"\",COUNTIF('Data Input'!C53:AQ53,\"0\"))","v":""},{"$f":"IF(ISBLANK('Data Input'!A53),\"\",SUM(B49,C49))","v":""},{"$f":"IF(ISBLANK('Data Input'!A53),\"\",SUM('Data Input'!C53:AQ53))","v":""},{"$f":"IF(E49=\"\",\"\",E49/(COUNTA('Data Input'!$C$8:$AQ$8)-1))","v":""},{"$f":"IF(ISBLANK('Data Input'!A53),\"\",SUM('Data Input'!H53,'Data Input'!I53,'Data Input'!M53,'Data Input'!N53))","v":""},{"$f":"IF(G49=\"\",\"\",G49/COUNTIF('Data Input'!$C$8:$AQ$8,$G$2))","v":""},{"$f":"IF(ISBLANK('Data Input'!A53),\"\",SUM('Data Input'!J53,'Data Input'!K53,'Data Input'!U53,'Data Input'!V53))","v":""},{"$f":"IF(I49=\"\",\"\",I49/COUNTIF('Data Input'!$C$8:$AQ$8,$I$2))","v":""},{"$f":"IF(ISBLANK('Data Input'!A53),\"\",SUM('Data Input'!D53))","v":""},{"$f":"IF(K49=\"\",\"\",K49/COUNTIF('Data Input'!$C$8:$AQ$8,$K$2))","v":""},{"$f":"IF(ISBLANK('Data Input'!A53),\"\",SUM('Data Input'!O53,'Data Input'!P53,'Data Input'!R53,'Data Input'!S53))","v":""},{"$f":"IF(M49=\"\",\"\",M49/COUNTIF('Data Input'!$C$8:$AQ$8,$M$2))","v":""},{"$f":"IF(ISBLANK('Data Input'!A53),\"\",SUM('Data Input'!C53,'Data Input'!E53,'Data Input'!F53,'Data Input'!G53,'Data Input'!Q53,'Data Input'!T53))","v":""},{"$f":"IF(O49=\"\",\"\",O49/COUNTIF('Data Input'!$C$8:$AQ$8,$O$2))","v":""},{"$f":"IF(ISBLANK('Data Input'!A53),\"\",SUM('Data Input'!L53))","v":""},{"$f":"IF(Q49=\"\",\"\",Q49/COUNTIF('Data Input'!$C$8:$AQ$8,$Q$2))","v":""},{"$f":"IF(ISBLANK('Data Input'!A53),\"\",SUM('Data Input'!X53:AQ53))","v":""},{"$f":"IF(S49=\"\",\"\",S49/COUNTIF('Data Input'!$C$8:$AQ$8,$S$2))","v":""}]
[{"$f":"IF('Data Input'!A54=0,\"\",'Data Input'!A54)","v":""},{"$f":"IF(ISBLANK('Data Input'!A54),\"\",COUNTIF('Data Input'!C54:AQ54,\"\")-1)","v":""},{"$f":"IF(ISBLANK('Data Input'!A54),\"\",COUNTIF('Data Input'!C54:AQ54,\"0\"))","v":""},{"$f":"IF(ISBLANK('Data Input'!A54),\"\",SUM(B50,C50))","v":""},{"$f":"IF(ISBLANK('Data Input'!A54),\"\",SUM('Data Input'!C54:AQ54))","v":""},{"$f":"IF(E50=\"\",\"\",E50/(COUNTA('Data Input'!$C$8:$AQ$8)-1))","v":""},{"$f":"IF(ISBLANK('Data Input'!A54),\"\",SUM('Data Input'!H54,'Data Input'!I54,'Data Input'!M54,'Data Input'!N54))","v":""},{"$f":"IF(G50=\"\",\"\",G50/COUNTIF('Data Input'!$C$8:$AQ$8,$G$2))","v":""},{"$f":"IF(ISBLANK('Data Input'!A54),\"\",SUM('Data Input'!J54,'Data Input'!K54,'Data Input'!U54,'Data Input'!V54))","v":""},{"$f":"IF(I50=\"\",\"\",I50/COUNTIF('Data Input'!$C$8:$AQ$8,$I$2))","v":""},{"$f":"IF(ISBLANK('Data Input'!A54),\"\",SUM('Data Input'!D54))","v":""},{"$f":"IF(K50=\"\",\"\",K50/COUNTIF('Data Input'!$C$8:$AQ$8,$K$2))","v":""},{"$f":"IF(ISBLANK('Data Input'!A54),\"\",SUM('Data Input'!O54,'Data Input'!P54,'Data Input'!R54,'Data Input'!S54))","v":""},{"$f":"IF(M50=\"\",\"\",M50/COUNTIF('Data Input'!$C$8:$AQ$8,$M$2))","v":""},{"$f":"IF(ISBLANK('Data Input'!A54),\"\",SUM('Data Input'!C54,'Data Input'!E54,'Data Input'!F54,'Data Input'!G54,'Data Input'!Q54,'Data Input'!T54))","v":""},{"$f":"IF(O50=\"\",\"\",O50/COUNTIF('Data Input'!$C$8:$AQ$8,$O$2))","v":""},{"$f":"IF(ISBLANK('Data Input'!A54),\"\",SUM('Data Input'!L54))","v":""},{"$f":"IF(Q50=\"\",\"\",Q50/COUNTIF('Data Input'!$C$8:$AQ$8,$Q$2))","v":""},{"$f":"IF(ISBLANK('Data Input'!A54),\"\",SUM('Data Input'!X54:AQ54))","v":""},{"$f":"IF(S50=\"\",\"\",S50/COUNTIF('Data Input'!$C$8:$AQ$8,$S$2))","v":""}]
[{"$f":"IF('Data Input'!A55=0,\"\",'Data Input'!A55)","v":""},{"$f":"IF(ISBLANK('Data Input'!A55),\"\",COUNTIF('Data Input'!C55:AQ55,\"\")-1)","v":""},{"$f":"IF(ISBLANK('Data Input'!A55),\"\",COUNTIF('Data Input'!C55:AQ55,\"0\"))","v":""},{"$f":"IF(ISBLANK('Data Input'!A55),\"\",SUM(B51,C51))","v":""},{"$f":"IF(ISBLANK('Data Input'!A55),\"\",SUM('Data Input'!C55:AQ55))","v":""},{"$f":"IF(E51=\"\",\"\",E51/(COUNTA('Data Input'!$C$8:$AQ$8)-1))","v":""},{"$f":"IF(ISBLANK('Data Input'!A55),\"\",SUM('Data Input'!H55,'Data Input'!I55,'Data Input'!M55,'Data Input'!N55))","v":""},{"$f":"IF(G51=\"\",\"\",G51/COUNTIF('Data Input'!$C$8:$AQ$8,$G$2))","v":""},{"$f":"IF(ISBLANK('Data Input'!A55),\"\",SUM('Data Input'!J55,'Data Input'!K55,'Data Input'!U55,'Data Input'!V55))","v":""},{"$f":"IF(I51=\"\",\"\",I51/COUNTIF('Data Input'!$C$8:$AQ$8,$I$2))","v":""},{"$f":"IF(ISBLANK('Data Input'!A55),\"\",SUM('Data Input'!D55))","v":""},{"$f":"IF(K51=\"\",\"\",K51/COUNTIF('Data Input'!$C$8:$AQ$8,$K$2))","v":""},{"$f":"IF(ISBLANK('Data Input'!A55),\"\",SUM('Data Input'!O55,'Data Input'!P55,'Data Input'!R55,'Data Input'!S55))","v":""},{"$f":"IF(M51=\"\",\"\",M51/COUNTIF('Data Input'!$C$8:$AQ$8,$M$2))","v":""},{"$f":"IF(ISBLANK('Data Input'!A55),\"\",SUM('Data Input'!C55,'Data Input'!E55,'Data Input'!F55,'Data Input'!G55,'Data Input'!Q55,'Data Input'!T55))","v":""},{"$f":"IF(O51=\"\",\"\",O51/COUNTIF('Data Input'!$C$8:$AQ$8,$O$2))","v":""},{"$f":"IF(ISBLANK('Data Input'!A55),\"\",SUM('Data Input'!L55))","v":""},{"$f":"IF(Q51=\"\",\"\",Q51/COUNTIF('Data Input'!$C$8:$AQ$8,$Q$2))","v":""},{"$f":"IF(ISBLANK('Data Input'!A55),\"\",SUM('Data Input'!X55:AQ55))","v":""},{"$f":"IF(S51=\"\",\"\",S51/COUNTIF('Data Input'!$C$8:$AQ$8,$S$2))","v":""}]
[{"$f":"IF('Data Input'!A56=0,\"\",'Data Input'!A56)","v":""},{"$f":"IF(ISBLANK('Data Input'!A56),\"\",COUNTIF('Data Input'!C56:AQ56,\"\")-1)","v":""},{"$f":"IF(ISBLANK('Data Input'!A56),\"\",COUNTIF('Data Input'!C56:AQ56,\"0\"))","v":""},{"$f":"IF(ISBLANK('Data Input'!A56),\"\",SUM(B52,C52))","v":""},{"$f":"IF(ISBLANK('Data Input'!A56),\"\",SUM('Data Input'!C56:AQ56))","v":""},{"$f":"IF(E52=\"\",\"\",E52/(COUNTA('Data Input'!$C$8:$AQ$8)-1))","v":""},{"$f":"IF(ISBLANK('Data Input'!A56),\"\",SUM('Data Input'!H56,'Data Input'!I56,'Data Input'!M56,'Data Input'!N56))","v":""},{"$f":"IF(G52=\"\",\"\",G52/COUNTIF('Data Input'!$C$8:$AQ$8,$G$2))","v":""},{"$f":"IF(ISBLANK('Data Input'!A56),\"\",SUM('Data Input'!J56,'Data Input'!K56,'Data Input'!U56,'Data Input'!V56))","v":""},{"$f":"IF(I52=\"\",\"\",I52/COUNTIF('Data Input'!$C$8:$AQ$8,$I$2))","v":""},{"$f":"IF(ISBLANK('Data Input'!A56),\"\",SUM('Data Input'!D56))","v":""},{"$f":"IF(K52=\"\",\"\",K52/COUNTIF('Data Input'!$C$8:$AQ$8,$K$2))","v":""},{"$f":"IF(ISBLANK('Data Input'!A56),\"\",SUM('Data Input'!O56,'Data Input'!P56,'Data Input'!R56,'Data Input'!S56))","v":""},{"$f":"IF(M52=\"\",\"\",M52/COUNTIF('Data Input'!$C$8:$AQ$8,$M$2))","v":""},{"$f":"IF(ISBLANK('Data Input'!A56),\"\",SUM('Data Input'!C56,'Data Input'!E56,'Data Input'!F56,'Data Input'!G56,'Data Input'!Q56,'Data Input'!T56))","v":""},{"$f":"IF(O52=\"\",\"\",O52/COUNTIF('Data Input'!$C$8:$AQ$8,$O$2))","v":""},{"$f":"IF(ISBLANK('Data Input'!A56),\"\",SUM('Data Input'!L56))","v":""},{"$f":"IF(Q52=\"\",\"\",Q52/COUNTIF('Data Input'!$C$8:$AQ$8,$Q$2))","v":""},{"$f":"IF(ISBLANK('Data Input'!A56),\"\",SUM('Data Input'!X56:AQ56))","v":""},{"$f":"IF(S52=\"\",\"\",S52/COUNTIF('Data Input'!$C$8:$AQ$8,$S$2))","v":""}]
[{"$f":"IF('Data Input'!A57=0,\"\",'Data Input'!A57)","v":""},{"$f":"IF(ISBLANK('Data Input'!A57),\"\",COUNTIF('Data Input'!C57:AQ57,\"\")-1)","v":""},{"$f":"IF(ISBLANK('Data Input'!A57),\"\",COUNTIF('Data Input'!C57:AQ57,\"0\"))","v":""},{"$f":"IF(ISBLANK('Data Input'!A57),\"\",SUM(B53,C53))","v":""},{"$f":"IF(ISBLANK('Data Input'!A57),\"\",SUM('Data Input'!C57:AQ57))","v":""},{"$f":"IF(E53=\"\",\"\",E53/(COUNTA('Data Input'!$C$8:$AQ$8)-1))","v":""},{"$f":"IF(ISBLANK('Data Input'!A57),\"\",SUM('Data Input'!H57,'Data Input'!I57,'Data Input'!M57,'Data Input'!N57))","v":""},{"$f":"IF(G53=\"\",\"\",G53/COUNTIF('Data Input'!$C$8:$AQ$8,$G$2))","v":""},{"$f":"IF(ISBLANK('Data Input'!A57),\"\",SUM('Data Input'!J57,'Data Input'!K57,'Data Input'!U57,'Data Input'!V57))","v":""},{"$f":"IF(I53=\"\",\"\",I53/COUNTIF('Data Input'!$C$8:$AQ$8,$I$2))","v":""},{"$f":"IF(ISBLANK('Data Input'!A57),\"\",SUM('Data Input'!D57))","v":""},{"$f":"IF(K53=\"\",\"\",K53/COUNTIF('Data Input'!$C$8:$AQ$8,$K$2))","v":""},{"$f":"IF(ISBLANK('Data Input'!A57),\"\",SUM('Data Input'!O57,'Data Input'!P57,'Data Input'!R57,'Data Input'!S57))","v":""},{"$f":"IF(M53=\"\",\"\",M53/COUNTIF('Data Input'!$C$8:$AQ$8,$M$2))","v":""},{"$f":"IF(ISBLANK('Data Input'!A57),\"\",SUM('Data Input'!C57,'Data Input'!E57,'Data Input'!F57,'Data Input'!G57,'Data Input'!Q57,'Data Input'!T57))","v":""},{"$f":"IF(O53=\"\",\"\",O53/COUNTIF('Data Input'!$C$8:$AQ$8,$O$2))","v":""},{"$f":"IF(ISBLANK('Data Input'!A57),\"\",SUM('Data Input'!L57))","v":""},{"$f":"IF(Q53=\"\",\"\",Q53/COUNTIF('Data Input'!$C$8:$AQ$8,$Q$2))","v":""},{"$f":"IF(ISBLANK('Data Input'!A57),\"\",SUM('Data Input'!X57:AQ57))","v":""},{"$f":"IF(S53=\"\",\"\",S53/COUNTIF('Data Input'!$C$8:$AQ$8,$S$2))","v":""}]
[{"$f":"IF('Data Input'!A58=0,\"\",'Data Input'!A58)","v":""},{"$f":"IF(ISBLANK('Data Input'!A58),\"\",COUNTIF('Data Input'!C58:AQ58,\"\")-1)","v":""},{"$f":"IF(ISBLANK('Data Input'!A58),\"\",COUNTIF('Data Input'!C58:AQ58,\"0\"))","v":""},{"$f":"IF(ISBLANK('Data Input'!A58),\"\",SUM(B54,C54))","v":""},{"$f":"IF(ISBLANK('Data Input'!A58),\"\",SUM('Data Input'!C58:AQ58))","v":""},{"$f":"IF(E54=\"\",\"\",E54/(COUNTA('Data Input'!$C$8:$AQ$8)-1))","v":""},{"$f":"IF(ISBLANK('Data Input'!A58),\"\",SUM('Data Input'!H58,'Data Input'!I58,'Data Input'!M58,'Data Input'!N58))","v":""},{"$f":"IF(G54=\"\",\"\",G54/COUNTIF('Data Input'!$C$8:$AQ$8,$G$2))","v":""},{"$f":"IF(ISBLANK('Data Input'!A58),\"\",SUM('Data Input'!J58,'Data Input'!K58,'Data Input'!U58,'Data Input'!V58))","v":""},{"$f":"IF(I54=\"\",\"\",I54/COUNTIF('Data Input'!$C$8:$AQ$8,$I$2))","v":""},{"$f":"IF(ISBLANK('Data Input'!A58),\"\",SUM('Data Input'!D58))","v":""},{"$f":"IF(K54=\"\",\"\",K54/COUNTIF('Data Input'!$C$8:$AQ$8,$K$2))","v":""},{"$f":"IF(ISBLANK('Data Input'!A58),\"\",SUM('Data Input'!O58,'Data Input'!P58,'Data Input'!R58,'Data Input'!S58))","v":""},{"$f":"IF(M54=\"\",\"\",M54/COUNTIF('Data Input'!$C$8:$AQ$8,$M$2))","v":""},{"$f":"IF(ISBLANK('Data Input'!A58),\"\",SUM('Data Input'!C58,'Data Input'!E58,'Data Input'!F58,'Data Input'!G58,'Data Input'!Q58,'Data Input'!T58))","v":""},{"$f":"IF(O54=\"\",\"\",O54/COUNTIF('Data Input'!$C$8:$AQ$8,$O$2))","v":""},{"$f":"IF(ISBLANK('Data Input'!A58),\"\",SUM('Data Input'!L58))","v":""},{"$f":"IF(Q54=\"\",\"\",Q54/COUNTIF('Data Input'!$C$8:$AQ$8,$Q$2))","v":""},{"$f":"IF(ISBLANK('Data Input'!A58),\"\",SUM('Data Input'!X58:AQ58))","v":""},{"$f":"IF(S54=\"\",\"\",S54/COUNTIF('Data Input'!$C$8:$AQ$8,$S$2))","v":""}]
[{"$f":"IF('Data Input'!A59=0,\"\",'Data Input'!A59)","v":""},{"$f":"IF(ISBLANK('Data Input'!A59),\"\",COUNTIF('Data Input'!C59:AQ59,\"\")-1)","v":""},{"$f":"IF(ISBLANK('Data Input'!A59),\"\",COUNTIF('Data Input'!C59:AQ59,\"0\"))","v":""},{"$f":"IF(ISBLANK('Data Input'!A59),\"\",SUM(B55,C55))","v":""},{"$f":"IF(ISBLANK('Data Input'!A59),\"\",SUM('Data Input'!C59:AQ59))","v":""},{"$f":"IF(E55=\"\",\"\",E55/(COUNTA('Data Input'!$C$8:$AQ$8)-1))","v":""},{"$f":"IF(ISBLANK('Data Input'!A59),\"\",SUM('Data Input'!H59,'Data Input'!I59,'Data Input'!M59,'Data Input'!N59))","v":""},{"$f":"IF(G55=\"\",\"\",G55/COUNTIF('Data Input'!$C$8:$AQ$8,$G$2))","v":""},{"$f":"IF(ISBLANK('Data Input'!A59),\"\",SUM('Data Input'!J59,'Data Input'!K59,'Data Input'!U59,'Data Input'!V59))","v":""},{"$f":"IF(I55=\"\",\"\",I55/COUNTIF('Data Input'!$C$8:$AQ$8,$I$2))","v":""},{"$f":"IF(ISBLANK('Data Input'!A59),\"\",SUM('Data Input'!D59))","v":""},{"$f":"IF(K55=\"\",\"\",K55/COUNTIF('Data Input'!$C$8:$AQ$8,$K$2))","v":""},{"$f":"IF(ISBLANK('Data Input'!A59),\"\",SUM('Data Input'!O59,'Data Input'!P59,'Data Input'!R59,'Data Input'!S59))","v":""},{"$f":"IF(M55=\"\",\"\",M55/COUNTIF('Data Input'!$C$8:$AQ$8,$M$2))","v":""},{"$f":"IF(ISBLANK('Data Input'!A59),\"\",SUM('Data Input'!C59,'Data Input'!E59,'Data Input'!F59,'Data Input'!G59,'Data Input'!Q59,'Data Input'!T59))","v":""},{"$f":"IF(O55=\"\",\"\",O55/COUNTIF('Data Input'!$C$8:$AQ$8,$O$2))","v":""},{"$f":"IF(ISBLANK('Data Input'!A59),\"\",SUM('Data Input'!L59))","v":""},{"$f":"IF(Q55=\"\",\"\",Q55/COUNTIF('Data Input'!$C$8:$AQ$8,$Q$2))","v":""},{"$f":"IF(ISBLANK('Data Input'!A59),\"\",SUM('Data Input'!X59:AQ59))","v":""},{"$f":"IF(S55=\"\",\"\",S55/COUNTIF('Data Input'!$C$8:$AQ$8,$S$2))","v":""}]
[{"$f":"IF('Data Input'!A60=0,\"\",'Data Input'!A60)","v":""},{"$f":"IF(ISBLANK('Data Input'!A60),\"\",COUNTIF('Data Input'!C60:AQ60,\"\")-1)","v":""},{"$f":"IF(ISBLANK('Data Input'!A60),\"\",COUNTIF('Data Input'!C60:AQ60,\"0\"))","v":""},{"$f":"IF(ISBLANK('Data Input'!A60),\"\",SUM(B56,C56))","v":""},{"$f":"IF(ISBLANK('Data Input'!A60),\"\",SUM('Data Input'!C60:AQ60))","v":""},{"$f":"IF(E56=\"\",\"\",E56/(COUNTA('Data Input'!$C$8:$AQ$8)-1))","v":""},{"$f":"IF(ISBLANK('Data Input'!A60),\"\",SUM('Data Input'!H60,'Data Input'!I60,'Data Input'!M60,'Data Input'!N60))","v":""},{"$f":"IF(G56=\"\",\"\",G56/COUNTIF('Data Input'!$C$8:$AQ$8,$G$2))","v":""},{"$f":"IF(ISBLANK('Data Input'!A60),\"\",SUM('Data Input'!J60,'Data Input'!K60,'Data Input'!U60,'Data Input'!V60))","v":""},{"$f":"IF(I56=\"\",\"\",I56/COUNTIF('Data Input'!$C$8:$AQ$8,$I$2))","v":""},{"$f":"IF(ISBLANK('Data Input'!A60),\"\",SUM('Data Input'!D60))","v":""},{"$f":"IF(K56=\"\",\"\",K56/COUNTIF('Data Input'!$C$8:$AQ$8,$K$2))","v":""},{"$f":"IF(ISBLANK('Data Input'!A60),\"\",SUM('Data Input'!O60,'Data Input'!P60,'Data Input'!R60,'Data Input'!S60))","v":""},{"$f":"IF(M56=\"\",\"\",M56/COUNTIF('Data Input'!$C$8:$AQ$8,$M$2))","v":""},{"$f":"IF(ISBLANK('Data Input'!A60),\"\",SUM('Data Input'!C60,'Data Input'!E60,'Data Input'!F60,'Data Input'!G60,'Data Input'!Q60,'Data Input'!T60))","v":""},{"$f":"IF(O56=\"\",\"\",O56/COUNTIF('Data Input'!$C$8:$AQ$8,$O$2))","v":""},{"$f":"IF(ISBLANK('Data Input'!A60),\"\",SUM('Data Input'!L60))","v":""},{"$f":"IF(Q56=\"\",\"\",Q56/COUNTIF('Data Input'!$C$8:$AQ$8,$Q$2))","v":""},{"$f":"IF(ISBLANK('Data Input'!A60),\"\",SUM('Data Input'!X60:AQ60))","v":""},{"$f":"IF(S56=\"\",\"\",S56/COUNTIF('Data Input'!$C$8:$AQ$8,$S$2))","v":""}]
[{"$f":"IF('Data Input'!A61=0,\"\",'Data Input'!A61)","v":""},{"$f":"IF(ISBLANK('Data Input'!A61),\"\",COUNTIF('Data Input'!C61:AQ61,\"\")-1)","v":""},{"$f":"IF(ISBLANK('Data Input'!A61),\"\",COUNTIF('Data Input'!C61:AQ61,\"0\"))","v":""},{"$f":"IF(ISBLANK('Data Input'!A61),\"\",SUM(B57,C57))","v":""},{"$f":"IF(ISBLANK('Data Input'!A61),\"\",SUM('Data Input'!C61:AQ61))","v":""},{"$f":"IF(E57=\"\",\"\",E57/(COUNTA('Data Input'!$C$8:$AQ$8)-1))","v":""},{"$f":"IF(ISBLANK('Data Input'!A61),\"\",SUM('Data Input'!H61,'Data Input'!I61,'Data Input'!M61,'Data Input'!N61))","v":""},{"$f":"IF(G57=\"\",\"\",G57/COUNTIF('Data Input'!$C$8:$AQ$8,$G$2))","v":""},{"$f":"IF(ISBLANK('Data Input'!A61),\"\",SUM('Data Input'!J61,'Data Input'!K61,'Data Input'!U61,'Data Input'!V61))","v":""},{"$f":"IF(I57=\"\",\"\",I57/COUNTIF('Data Input'!$C$8:$AQ$8,$I$2))","v":""},{"$f":"IF(ISBLANK('Data Input'!A61),\"\",SUM('Data Input'!D61))","v":""},{"$f":"IF(K57=\"\",\"\",K57/COUNTIF('Data Input'!$C$8:$AQ$8,$K$2))","v":""},{"$f":"IF(ISBLANK('Data Input'!A61),\"\",SUM('Data Input'!O61,'Data Input'!P61,'Data Input'!R61,'Data Input'!S61))","v":""},{"$f":"IF(M57=\"\",\"\",M57/COUNTIF('Data Input'!$C$8:$AQ$8,$M$2))","v":""},{"$f":"IF(ISBLANK('Data Input'!A61),\"\",SUM('Data Input'!C61,'Data Input'!E61,'Data Input'!F61,'Data Input'!G61,'Data Input'!Q61,'Data Input'!T61))","v":""},{"$f":"IF(O57=\"\",\"\",O57/COUNTIF('Data Input'!$C$8:$AQ$8,$O$2))","v":""},{"$f":"IF(ISBLANK('Data Input'!A61),\"\",SUM('Data Input'!L61))","v":""},{"$f":"IF(Q57=\"\",\"\",Q57/COUNTIF('Data Input'!$C$8:$AQ$8,$Q$2))","v":""},{"$f":"IF(ISBLANK('Data Input'!A61),\"\",SUM('Data Input'!X61:AQ61))","v":""},{"$f":"IF(S57=\"\",\"\",S57/COUNTIF('Data Input'!$C$8:$AQ$8,$S$2))","v":""}]
[{"$f":"IF('Data Input'!A62=0,\"\",'Data Input'!A62)","v":""},{"$f":"IF(ISBLANK('Data Input'!A62),\"\",COUNTIF('Data Input'!C62:AQ62,\"\")-1)","v":""},{"$f":"IF(ISBLANK('Data Input'!A62),\"\",COUNTIF('Data Input'!C62:AQ62,\"0\"))","v":""},{"$f":"IF(ISBLANK('Data Input'!A62),\"\",SUM(B58,C58))","v":""},{"$f":"IF(ISBLANK('Data Input'!A62),\"\",SUM('Data Input'!C62:AQ62))","v":""},{"$f":"IF(E58=\"\",\"\",E58/(COUNTA('Data Input'!$C$8:$AQ$8)-1))","v":""},{"$f":"IF(ISBLANK('Data Input'!A62),\"\",SUM('Data Input'!H62,'Data Input'!I62,'Data Input'!M62,'Data Input'!N62))","v":""},{"$f":"IF(G58=\"\",\"\",G58/COUNTIF('Data Input'!$C$8:$AQ$8,$G$2))","v":""},{"$f":"IF(ISBLANK('Data Input'!A62),\"\",SUM('Data Input'!J62,'Data Input'!K62,'Data Input'!U62,'Data Input'!V62))","v":""},{"$f":"IF(I58=\"\",\"\",I58/COUNTIF('Data Input'!$C$8:$AQ$8,$I$2))","v":""},{"$f":"IF(ISBLANK('Data Input'!A62),\"\",SUM('Data Input'!D62))","v":""},{"$f":"IF(K58=\"\",\"\",K58/COUNTIF('Data Input'!$C$8:$AQ$8,$K$2))","v":""},{"$f":"IF(ISBLANK('Data Input'!A62),\"\",SUM('Data Input'!O62,'Data Input'!P62,'Data Input'!R62,'Data Input'!S62))","v":""},{"$f":"IF(M58=\"\",\"\",M58/COUNTIF('Data Input'!$C$8:$AQ$8,$M$2))","v":""},{"$f":"IF(ISBLANK('Data Input'!A62),\"\",SUM('Data Input'!C62,'Data Input'!E62,'Data Input'!F62,'Data Input'!G62,'Data Input'!Q62,'Data Input'!T62))","v":""},{"$f":"IF(O58=\"\",\"\",O58/COUNTIF('Data Input'!$C$8:$AQ$8,$O$2))","v":""},{"$f":"IF(ISBLANK('Data Input'!A62),\"\",SUM('Data Input'!L62))","v":""},{"$f":"IF(Q58=\"\",\"\",Q58/COUNTIF('Data Input'!$C$8:$AQ$8,$Q$2))","v":""},{"$f":"IF(ISBLANK('Data Input'!A62),\"\",SUM('Data Input'!X62:AQ62))","v":""},{"$f":"IF(S58=\"\",\"\",S58/COUNTIF('Data Input'!$C$8:$AQ$8,$S$2))","v":""}]
[{"$f":"IF('Data Input'!A63=0,\"\",'Data Input'!A63)","v":""},{"$f":"IF(ISBLANK('Data Input'!A63),\"\",COUNTIF('Data Input'!C63:AQ63,\"\")-1)","v":""},{"$f":"IF(ISBLANK('Data Input'!A63),\"\",COUNTIF('Data Input'!C63:AQ63,\"0\"))","v":""},{"$f":"IF(ISBLANK('Data Input'!A63),\"\",SUM(B59,C59))","v":""},{"$f":"IF(ISBLANK('Data Input'!A63),\"\",SUM('Data Input'!C63:AQ63))","v":""},{"$f":"IF(E59=\"\",\"\",E59/(COUNTA('Data Input'!$C$8:$AQ$8)-1))","v":""},{"$f":"IF(ISBLANK('Data Input'!A63),\"\",SUM('Data Input'!H63,'Data Input'!I63,'Data Input'!M63,'Data Input'!N63))","v":""},{"$f":"IF(G59=\"\",\"\",G59/COUNTIF('Data Input'!$C$8:$AQ$8,$G$2))","v":""},{"$f":"IF(ISBLANK('Data Input'!A63),\"\",SUM('Data Input'!J63,'Data Input'!K63,'Data Input'!U63,'Data Input'!V63))","v":""},{"$f":"IF(I59=\"\",\"\",I59/COUNTIF('Data Input'!$C$8:$AQ$8,$I$2))","v":""},{"$f":"IF(ISBLANK('Data Input'!A63),\"\",SUM('Data Input'!D63))","v":""},{"$f":"IF(K59=\"\",\"\",K59/COUNTIF('Data Input'!$C$8:$AQ$8,$K$2))","v":""},{"$f":"IF(ISBLANK('Data Input'!A63),\"\",SUM('Data Input'!O63,'Data Input'!P63,'Data Input'!R63,'Data Input'!S63))","v":""},{"$f":"IF(M59=\"\",\"\",M59/COUNTIF('Data Input'!$C$8:$AQ$8,$M$2))","v":""},{"$f":"IF(ISBLANK('Data Input'!A63),\"\",SUM('Data Input'!C63,'Data Input'!E63,'Data Input'!F63,'Data Input'!G63,'Data Input'!Q63,'Data Input'!T63))","v":""},{"$f":"IF(O59=\"\",\"\",O59/COUNTIF('Data Input'!$C$8:$AQ$8,$O$2))","v":""},{"$f":"IF(ISBLANK('Data Input'!A63),\"\",SUM('Data Input'!L63))","v":""},{"$f":"IF(Q59=\"\",\"\",Q59/COUNTIF('Data Input'!$C$8:$AQ$8,$Q$2))","v":""},{"$f":"IF(ISBLANK('Data Input'!A63),\"\",SUM('Data Input'!X63:AQ63))","v":""},{"$f":"IF(S59=\"\",\"\",S59/COUNTIF('Data Input'!$C$8:$AQ$8,$S$2))","v":""}]
[{"$f":"IF('Data Input'!A64=0,\"\",'Data Input'!A64)","v":""},{"$f":"IF(ISBLANK('Data Input'!A64),\"\",COUNTIF('Data Input'!C64:AQ64,\"\")-1)","v":""},{"$f":"IF(ISBLANK('Data Input'!A64),\"\",COUNTIF('Data Input'!C64:AQ64,\"0\"))","v":""},{"$f":"IF(ISBLANK('Data Input'!A64),\"\",SUM(B60,C60))","v":""},{"$f":"IF(ISBLANK('Data Input'!A64),\"\",SUM('Data Input'!C64:AQ64))","v":""},{"$f":"IF(E60=\"\",\"\",E60/(COUNTA('Data Input'!$C$8:$AQ$8)-1))","v":""},{"$f":"IF(ISBLANK('Data Input'!A64),\"\",SUM('Data Input'!H64,'Data Input'!I64,'Data Input'!M64,'Data Input'!N64))","v":""},{"$f":"IF(G60=\"\",\"\",G60/COUNTIF('Data Input'!$C$8:$AQ$8,$G$2))","v":""},{"$f":"IF(ISBLANK('Data Input'!A64),\"\",SUM('Data Input'!J64,'Data Input'!K64,'Data Input'!U64,'Data Input'!V64))","v":""},{"$f":"IF(I60=\"\",\"\",I60/COUNTIF('Data Input'!$C$8:$AQ$8,$I$2))","v":""},{"$f":"IF(ISBLANK('Data Input'!A64),\"\",SUM('Data Input'!D64))","v":""},{"$f":"IF(K60=\"\",\"\",K60/COUNTIF('Data Input'!$C$8:$AQ$8,$K$2))","v":""},{"$f":"IF(ISBLANK('Data Input'!A64),\"\",SUM('Data Input'!O64,'Data Input'!P64,'Data Input'!R64,'Data Input'!S64))","v":""},{"$f":"IF(M60=\"\",\"\",M60/COUNTIF('Data Input'!$C$8:$AQ$8,$M$2))","v":""},{"$f":"IF(ISBLANK('Data Input'!A64),\"\",SUM('Data Input'!C64,'Data Input'!E64,'Data Input'!F64,'Data Input'!G64,'Data Input'!Q64,'Data Input'!T64))","v":""},{"$f":"IF(O60=\"\",\"\",O60/COUNTIF('Data Input'!$C$8:$AQ$8,$O$2))","v":""},{"$f":"IF(ISBLANK('Data Input'!A64),\"\",SUM('Data Input'!L64))","v":""},{"$f":"IF(Q60=\"\",\"\",Q60/COUNTIF('Data Input'!$C$8:$AQ$8,$Q$2))","v":""},{"$f":"IF(ISBLANK('Data Input'!A64),\"\",SUM('Data Input'!X64:AQ64))","v":""},{"$f":"IF(S60=\"\",\"\",S60/COUNTIF('Data Input'!$C$8:$AQ$8,$S$2))","v":""}]
[{"$f":"IF('Data Input'!A65=0,\"\",'Data Input'!A65)","v":""},{"$f":"IF(ISBLANK('Data Input'!A65),\"\",COUNTIF('Data Input'!C65:AQ65,\"\")-1)","v":""},{"$f":"IF(ISBLANK('Data Input'!A65),\"\",COUNTIF('Data Input'!C65:AQ65,\"0\"))","v":""},{"$f":"IF(ISBLANK('Data Input'!A65),\"\",SUM(B61,C61))","v":""},{"$f":"IF(ISBLANK('Data Input'!A65),\"\",SUM('Data Input'!C65:AQ65))","v":""},{"$f":"IF(E61=\"\",\"\",E61/(COUNTA('Data Input'!$C$8:$AQ$8)-1))","v":""},{"$f":"IF(ISBLANK('Data Input'!A65),\"\",SUM('Data Input'!H65,'Data Input'!I65,'Data Input'!M65,'Data Input'!N65))","v":""},{"$f":"IF(G61=\"\",\"\",G61/COUNTIF('Data Input'!$C$8:$AQ$8,$G$2))","v":""},{"$f":"IF(ISBLANK('Data Input'!A65),\"\",SUM('Data Input'!J65,'Data Input'!K65,'Data Input'!U65,'Data Input'!V65))","v":""},{"$f":"IF(I61=\"\",\"\",I61/COUNTIF('Data Input'!$C$8:$AQ$8,$I$2))","v":""},{"$f":"IF(ISBLANK('Data Input'!A65),\"\",SUM('Data Input'!D65))","v":""},{"$f":"IF(K61=\"\",\"\",K61/COUNTIF('Data Input'!$C$8:$AQ$8,$K$2))","v":""},{"$f":"IF(ISBLANK('Data Input'!A65),\"\",SUM('Data Input'!O65,'Data Input'!P65,'Data Input'!R65,'Data Input'!S65))","v":""},{"$f":"IF(M61=\"\",\"\",M61/COUNTIF('Data Input'!$C$8:$AQ$8,$M$2))","v":""},{"$f":"IF(ISBLANK('Data Input'!A65),\"\",SUM('Data Input'!C65,'Data Input'!E65,'Data Input'!F65,'Data Input'!G65,'Data Input'!Q65,'Data Input'!T65))","v":""},{"$f":"IF(O61=\"\",\"\",O61/COUNTIF('Data Input'!$C$8:$AQ$8,$O$2))","v":""},{"$f":"IF(ISBLANK('Data Input'!A65),\"\",SUM('Data Input'!L65))","v":""},{"$f":"IF(Q61=\"\",\"\",Q61/COUNTIF('Data Input'!$C$8:$AQ$8,$Q$2))","v":""},{"$f":"IF(ISBLANK('Data Input'!A65),\"\",SUM('Data Input'!X65:AQ65))","v":""},{"$f":"IF(S61=\"\",\"\",S61/COUNTIF('Data Input'!$C$8:$AQ$8,$S$2))","v":""}]
[{"$f":"IF('Data Input'!A66=0,\"\",'Data Input'!A66)","v":""},{"$f":"IF(ISBLANK('Data Input'!A66),\"\",COUNTIF('Data Input'!C66:AQ66,\"\")-1)","v":""},{"$f":"IF(ISBLANK('Data Input'!A66),\"\",COUNTIF('Data Input'!C66:AQ66,\"0\"))","v":""},{"$f":"IF(ISBLANK('Data Input'!A66),\"\",SUM(B62,C62))","v":""},{"$f":"IF(ISBLANK('Data Input'!A66),\"\",SUM('Data Input'!C66:AQ66))","v":""},{"$f":"IF(E62=\"\",\"\",E62/(COUNTA('Data Input'!$C$8:$AQ$8)-1))","v":""},{"$f":"IF(ISBLANK('Data Input'!A66),\"\",SUM('Data Input'!H66,'Data Input'!I66,'Data Input'!M66,'Data Input'!N66))","v":""},{"$f":"IF(G62=\"\",\"\",G62/COUNTIF('Data Input'!$C$8:$AQ$8,$G$2))","v":""},{"$f":"IF(ISBLANK('Data Input'!A66),\"\",SUM('Data Input'!J66,'Data Input'!K66,'Data Input'!U66,'Data Input'!V66))","v":""},{"$f":"IF(I62=\"\",\"\",I62/COUNTIF('Data Input'!$C$8:$AQ$8,$I$2))","v":""},{"$f":"IF(ISBLANK('Data Input'!A66),\"\",SUM('Data Input'!D66))","v":""},{"$f":"IF(K62=\"\",\"\",K62/COUNTIF('Data Input'!$C$8:$AQ$8,$K$2))","v":""},{"$f":"IF(ISBLANK('Data Input'!A66),\"\",SUM('Data Input'!O66,'Data Input'!P66,'Data Input'!R66,'Data Input'!S66))","v":""},{"$f":"IF(M62=\"\",\"\",M62/COUNTIF('Data Input'!$C$8:$AQ$8,$M$2))","v":""},{"$f":"IF(ISBLANK('Data Input'!A66),\"\",SUM('Data Input'!C66,'Data Input'!E66,'Data Input'!F66,'Data Input'!G66,'Data Input'!Q66,'Data Input'!T66))","v":""},{"$f":"IF(O62=\"\",\"\",O62/COUNTIF('Data Input'!$C$8:$AQ$8,$O$2))","v":""},{"$f":"IF(ISBLANK('Data Input'!A66),\"\",SUM('Data Input'!L66))","v":""},{"$f":"IF(Q62=\"\",\"\",Q62/COUNTIF('Data Input'!$C$8:$AQ$8,$Q$2))","v":""},{"$f":"IF(ISBLANK('Data Input'!A66),\"\",SUM('Data Input'!X66:AQ66))","v":""},{"$f":"IF(S62=\"\",\"\",S62/COUNTIF('Data Input'!$C$8:$AQ$8,$S$2))","v":""}]
[{"$f":"IF('Data Input'!A67=0,\"\",'Data Input'!A67)","v":""},{"$f":"IF(ISBLANK('Data Input'!A67),\"\",COUNTIF('Data Input'!C67:AQ67,\"\")-1)","v":""},{"$f":"IF(ISBLANK('Data Input'!A67),\"\",COUNTIF('Data Input'!C67:AQ67,\"0\"))","v":""},{"$f":"IF(ISBLANK('Data Input'!A67),\"\",SUM(B63,C63))","v":""},{"$f":"IF(ISBLANK('Data Input'!A67),\"\",SUM('Data Input'!C67:AQ67))","v":""},{"$f":"IF(E63=\"\",\"\",E63/(COUNTA('Data Input'!$C$8:$AQ$8)-1))","v":""},{"$f":"IF(ISBLANK('Data Input'!A67),\"\",SUM('Data Input'!H67,'Data Input'!I67,'Data Input'!M67,'Data Input'!N67))","v":""},{"$f":"IF(G63=\"\",\"\",G63/COUNTIF('Data Input'!$C$8:$AQ$8,$G$2))","v":""},{"$f":"IF(ISBLANK('Data Input'!A67),\"\",SUM('Data Input'!J67,'Data Input'!K67,'Data Input'!U67,'Data Input'!V67))","v":""},{"$f":"IF(I63=\"\",\"\",I63/COUNTIF('Data Input'!$C$8:$AQ$8,$I$2))","v":""},{"$f":"IF(ISBLANK('Data Input'!A67),\"\",SUM('Data Input'!D67))","v":""},{"$f":"IF(K63=\"\",\"\",K63/COUNTIF('Data Input'!$C$8:$AQ$8,$K$2))","v":""},{"$f":"IF(ISBLANK('Data Input'!A67),\"\",SUM('Data Input'!O67,'Data Input'!P67,'Data Input'!R67,'Data Input'!S67))","v":""},{"$f":"IF(M63=\"\",\"\",M63/COUNTIF('Data Input'!$C$8:$AQ$8,$M$2))","v":""},{"$f":"IF(ISBLANK('Data Input'!A67),\"\",SUM('Data Input'!C67,'Data Input'!E67,'Data Input'!F67,'Data Input'!G67,'Data Input'!Q67,'Data Input'!T67))","v":""},{"$f":"IF(O63=\"\",\"\",O63/COUNTIF('Data Input'!$C$8:$AQ$8,$O$2))","v":""},{"$f":"IF(ISBLANK('Data Input'!A67),\"\",SUM('Data Input'!L67))","v":""},{"$f":"IF(Q63=\"\",\"\",Q63/COUNTIF('Data Input'!$C$8:$AQ$8,$Q$2))","v":""},{"$f":"IF(ISBLANK('Data Input'!A67),\"\",SUM('Data Input'!X67:AQ67))","v":""},{"$f":"IF(S63=\"\",\"\",S63/COUNTIF('Data Input'!$C$8:$AQ$8,$S$2))","v":""}]
[{"$f":"IF('Data Input'!A68=0,\"\",'Data Input'!A68)","v":""},{"$f":"IF(ISBLANK('Data Input'!A68),\"\",COUNTIF('Data Input'!C68:AQ68,\"\")-1)","v":""},{"$f":"IF(ISBLANK('Data Input'!A68),\"\",COUNTIF('Data Input'!C68:AQ68,\"0\"))","v":""},{"$f":"IF(ISBLANK('Data Input'!A68),\"\",SUM(B64,C64))","v":""},{"$f":"IF(ISBLANK('Data Input'!A68),\"\",SUM('Data Input'!C68:AQ68))","v":""},{"$f":"IF(E64=\"\",\"\",E64/(COUNTA('Data Input'!$C$8:$AQ$8)-1))","v":""},{"$f":"IF(ISBLANK('Data Input'!A68),\"\",SUM('Data Input'!H68,'Data Input'!I68,'Data Input'!M68,'Data Input'!N68))","v":""},{"$f":"IF(G64=\"\",\"\",G64/COUNTIF('Data Input'!$C$8:$AQ$8,$G$2))","v":""},{"$f":"IF(ISBLANK('Data Input'!A68),\"\",SUM('Data Input'!J68,'Data Input'!K68,'Data Input'!U68,'Data Input'!V68))","v":""},{"$f":"IF(I64=\"\",\"\",I64/COUNTIF('Data Input'!$C$8:$AQ$8,$I$2))","v":""},{"$f":"IF(ISBLANK('Data Input'!A68),\"\",SUM('Data Input'!D68))","v":""},{"$f":"IF(K64=\"\",\"\",K64/COUNTIF('Data Input'!$C$8:$AQ$8,$K$2))","v":""},{"$f":"IF(ISBLANK('Data Input'!A68),\"\",SUM('Data Input'!O68,'Data Input'!P68,'Data Input'!R68,'Data Input'!S68))","v":""},{"$f":"IF(M64=\"\",\"\",M64/COUNTIF('Data Input'!$C$8:$AQ$8,$M$2))","v":""},{"$f":"IF(ISBLANK('Data Input'!A68),\"\",SUM('Data Input'!C68,'Data Input'!E68,'Data Input'!F68,'Data Input'!G68,'Data Input'!Q68,'Data Input'!T68))","v":""},{"$f":"IF(O64=\"\",\"\",O64/COUNTIF('Data Input'!$C$8:$AQ$8,$O$2))","v":""},{"$f":"IF(ISBLANK('Data Input'!A68),\"\",SUM('Data Input'!L68))","v":""},{"$f":"IF(Q64=\"\",\"\",Q64/COUNTIF('Data Input'!$C$8:$AQ$8,$Q$2))","v":""},{"$f":"IF(ISBLANK('Data Input'!A68),\"\",SUM('Data Input'!X68:AQ68))","v":""},{"$f":"IF(S64=\"\",\"\",S64/COUNTIF('Data Input'!$C$8:$AQ$8,$S$2))","v":""}]
[{"$f":"IF('Data Input'!A69=0,\"\",'Data Input'!A69)","v":""},{"$f":"IF(ISBLANK('Data Input'!A69),\"\",COUNTIF('Data Input'!C69:AQ69,\"\")-1)","v":""},{"$f":"IF(ISBLANK('Data Input'!A69),\"\",COUNTIF('Data Input'!C69:AQ69,\"0\"))","v":""},{"$f":"IF(ISBLANK('Data Input'!A69),\"\",SUM(B65,C65))","v":""},{"$f":"IF(ISBLANK('Data Input'!A69),\"\",SUM('Data Input'!C69:AQ69))","v":""},{"$f":"IF(E65=\"\",\"\",E65/(COUNTA('Data Input'!$C$8:$AQ$8)-1))","v":""},{"$f":"IF(ISBLANK('Data Input'!A69),\"\",SUM('Data Input'!H69,'Data Input'!I69,'Data Input'!M69,'Data Input'!N69))","v":""},{"$f":"IF(G65=\"\",\"\",G65/COUNTIF('Data Input'!$C$8:$AQ$8,$G$2))","v":""},{"$f":"IF(ISBLANK('Data Input'!A69),\"\",SUM('Data Input'!J69,'Data Input'!K69,'Data Input'!U69,'Data Input'!V69))","v":""},{"$f":"IF(I65=\"\",\"\",I65/COUNTIF('Data Input'!$C$8:$AQ$8,$I$2))","v":""},{"$f":"IF(ISBLANK('Data Input'!A69),\"\",SUM('Data Input'!D69))","v":""},{"$f":"IF(K65=\"\",\"\",K65/COUNTIF('Data Input'!$C$8:$AQ$8,$K$2))","v":""},{"$f":"IF(ISBLANK('Data Input'!A69),\"\",SUM('Data Input'!O69,'Data Input'!P69,'Data Input'!R69,'Data Input'!S69))","v":""},{"$f":"IF(M65=\"\",\"\",M65/COUNTIF('Data Input'!$C$8:$AQ$8,$M$2))","v":""},{"$f":"IF(ISBLANK('Data Input'!A69),\"\",SUM('Data Input'!C69,'Data Input'!E69,'Data Input'!F69,'Data Input'!G69,'Data Input'!Q69,'Data Input'!T69))","v":""},{"$f":"IF(O65=\"\",\"\",O65/COUNTIF('Data Input'!$C$8:$AQ$8,$O$2))","v":""},{"$f":"IF(ISBLANK('Data Input'!A69),\"\",SUM('Data Input'!L69))","v":""},{"$f":"IF(Q65=\"\",\"\",Q65/COUNTIF('Data Input'!$C$8:$AQ$8,$Q$2))","v":""},{"$f":"IF(ISBLANK('Data Input'!A69),\"\",SUM('Data Input'!X69:AQ69))","v":""},{"$f":"IF(S65=\"\",\"\",S65/COUNTIF('Data Input'!$C$8:$AQ$8,$S$2))","v":""}]
[{"$f":"IF('Data Input'!A70=0,\"\",'Data Input'!A70)","v":""},{"$f":"IF(ISBLANK('Data Input'!A70),\"\",COUNTIF('Data Input'!C70:AQ70,\"\")-1)","v":""},{"$f":"IF(ISBLANK('Data Input'!A70),\"\",COUNTIF('Data Input'!C70:AQ70,\"0\"))","v":""},{"$f":"IF(ISBLANK('Data Input'!A70),\"\",SUM(B66,C66))","v":""},{"$f":"IF(ISBLANK('Data Input'!A70),\"\",SUM('Data Input'!C70:AQ70))","v":""},{"$f":"IF(E66=\"\",\"\",E66/(COUNTA('Data Input'!$C$8:$AQ$8)-1))","v":""},{"$f":"IF(ISBLANK('Data Input'!A70),\"\",SUM('Data Input'!H70,'Data Input'!I70,'Data Input'!M70,'Data Input'!N70))","v":""},{"$f":"IF(G66=\"\",\"\",G66/COUNTIF('Data Input'!$C$8:$AQ$8,$G$2))","v":""},{"$f":"IF(ISBLANK('Data Input'!A70),\"\",SUM('Data Input'!J70,'Data Input'!K70,'Data Input'!U70,'Data Input'!V70))","v":""},{"$f":"IF(I66=\"\",\"\",I66/COUNTIF('Data Input'!$C$8:$AQ$8,$I$2))","v":""},{"$f":"IF(ISBLANK('Data Input'!A70),\"\",SUM('Data Input'!D70))","v":""},{"$f":"IF(K66=\"\",\"\",K66/COUNTIF('Data Input'!$C$8:$AQ$8,$K$2))","v":""},{"$f":"IF(ISBLANK('Data Input'!A70),\"\",SUM('Data Input'!O70,'Data Input'!P70,'Data Input'!R70,'Data Input'!S70))","v":""},{"$f":"IF(M66=\"\",\"\",M66/COUNTIF('Data Input'!$C$8:$AQ$8,$M$2))","v":""},{"$f":"IF(ISBLANK('Data Input'!A70),\"\",SUM('Data Input'!C70,'Data Input'!E70,'Data Input'!F70,'Data Input'!G70,'Data Input'!Q70,'Data Input'!T70))","v":""},{"$f":"IF(O66=\"\",\"\",O66/COUNTIF('Data Input'!$C$8:$AQ$8,$O$2))","v":""},{"$f":"IF(ISBLANK('Data Input'!A70),\"\",SUM('Data Input'!L70))","v":""},{"$f":"IF(Q66=\"\",\"\",Q66/COUNTIF('Data Input'!$C$8:$AQ$8,$Q$2))","v":""},{"$f":"IF(ISBLANK('Data Input'!A70),\"\",SUM('Data Input'!X70:AQ70))","v":""},{"$f":"IF(S66=\"\",\"\",S66/COUNTIF('Data Input'!$C$8:$AQ$8,$S$2))","v":""}]
[{"$f":"IF('Data Input'!A71=0,\"\",'Data Input'!A71)","v":""},{"$f":"IF(ISBLANK('Data Input'!A71),\"\",COUNTIF('Data Input'!C71:AQ71,\"\")-1)","v":""},{"$f":"IF(ISBLANK('Data Input'!A71),\"\",COUNTIF('Data Input'!C71:AQ71,\"0\"))","v":""},{"$f":"IF(ISBLANK('Data Input'!A71),\"\",SUM(B67,C67))","v":""},{"$f":"IF(ISBLANK('Data Input'!A71),\"\",SUM('Data Input'!C71:AQ71))","v":""},{"$f":"IF(E67=\"\",\"\",E67/(COUNTA('Data Input'!$C$8:$AQ$8)-1))","v":""},{"$f":"IF(ISBLANK('Data Input'!A71),\"\",SUM('Data Input'!H71,'Data Input'!I71,'Data Input'!M71,'Data Input'!N71))","v":""},{"$f":"IF(G67=\"\",\"\",G67/COUNTIF('Data Input'!$C$8:$AQ$8,$G$2))","v":""},{"$f":"IF(ISBLANK('Data Input'!A71),\"\",SUM('Data Input'!J71,'Data Input'!K71,'Data Input'!U71,'Data Input'!V71))","v":""},{"$f":"IF(I67=\"\",\"\",I67/COUNTIF('Data Input'!$C$8:$AQ$8,$I$2))","v":""},{"$f":"IF(ISBLANK('Data Input'!A71),\"\",SUM('Data Input'!D71))","v":""},{"$f":"IF(K67=\"\",\"\",K67/COUNTIF('Data Input'!$C$8:$AQ$8,$K$2))","v":""},{"$f":"IF(ISBLANK('Data Input'!A71),\"\",SUM('Data Input'!O71,'Data Input'!P71,'Data Input'!R71,'Data Input'!S71))","v":""},{"$f":"IF(M67=\"\",\"\",M67/COUNTIF('Data Input'!$C$8:$AQ$8,$M$2))","v":""},{"$f":"IF(ISBLANK('Data Input'!A71),\"\",SUM('Data Input'!C71,'Data Input'!E71,'Data Input'!F71,'Data Input'!G71,'Data Input'!Q71,'Data Input'!T71))","v":""},{"$f":"IF(O67=\"\",\"\",O67/COUNTIF('Data Input'!$C$8:$AQ$8,$O$2))","v":""},{"$f":"IF(ISBLANK('Data Input'!A71),\"\",SUM('Data Input'!L71))","v":""},{"$f":"IF(Q67=\"\",\"\",Q67/COUNTIF('Data Input'!$C$8:$AQ$8,$Q$2))","v":""},{"$f":"IF(ISBLANK('Data Input'!A71),\"\",SUM('Data Input'!X71:AQ71))","v":""},{"$f":"IF(S67=\"\",\"\",S67/COUNTIF('Data Input'!$C$8:$AQ$8,$S$2))","v":""}]
[{"$f":"IF('Data Input'!A72=0,\"\",'Data Input'!A72)","v":""},{"$f":"IF(ISBLANK('Data Input'!A72),\"\",COUNTIF('Data Input'!C72:AQ72,\"\")-1)","v":""},{"$f":"IF(ISBLANK('Data Input'!A72),\"\",COUNTIF('Data Input'!C72:AQ72,\"0\"))","v":""},{"$f":"IF(ISBLANK('Data Input'!A72),\"\",SUM(B68,C68))","v":""},{"$f":"IF(ISBLANK('Data Input'!A72),\"\",SUM('Data Input'!C72:AQ72))","v":""},{"$f":"IF(E68=\"\",\"\",E68/(COUNTA('Data Input'!$C$8:$AQ$8)-1))","v":""},{"$f":"IF(ISBLANK('Data Input'!A72),\"\",SUM('Data Input'!H72,'Data Input'!I72,'Data Input'!M72,'Data Input'!N72))","v":""},{"$f":"IF(G68=\"\",\"\",G68/COUNTIF('Data Input'!$C$8:$AQ$8,$G$2))","v":""},{"$f":"IF(ISBLANK('Data Input'!A72),\"\",SUM('Data Input'!J72,'Data Input'!K72,'Data Input'!U72,'Data Input'!V72))","v":""},{"$f":"IF(I68=\"\",\"\",I68/COUNTIF('Data Input'!$C$8:$AQ$8,$I$2))","v":""},{"$f":"IF(ISBLANK('Data Input'!A72),\"\",SUM('Data Input'!D72))","v":""},{"$f":"IF(K68=\"\",\"\",K68/COUNTIF('Data Input'!$C$8:$AQ$8,$K$2))","v":""},{"$f":"IF(ISBLANK('Data Input'!A72),\"\",SUM('Data Input'!O72,'Data Input'!P72,'Data Input'!R72,'Data Input'!S72))","v":""},{"$f":"IF(M68=\"\",\"\",M68/COUNTIF('Data Input'!$C$8:$AQ$8,$M$2))","v":""},{"$f":"IF(ISBLANK('Data Input'!A72),\"\",SUM('Data Input'!C72,'Data Input'!E72,'Data Input'!F72,'Data Input'!G72,'Data Input'!Q72,'Data Input'!T72))","v":""},{"$f":"IF(O68=\"\",\"\",O68/COUNTIF('Data Input'!$C$8:$AQ$8,$O$2))","v":""},{"$f":"IF(ISBLANK('Data Input'!A72),\"\",SUM('Data Input'!L72))","v":""},{"$f":"IF(Q68=\"\",\"\",Q68/COUNTIF('Data Input'!$C$8:$AQ$8,$Q$2))","v":""},{"$f":"IF(ISBLANK('Data Input'!A72),\"\",SUM('Data Input'!X72:AQ72))","v":""},{"$f":"IF(S68=\"\",\"\",S68/COUNTIF('Data Input'!$C$8:$AQ$8,$S$2))","v":""}]
[{"$f":"IF('Data Input'!A73=0,\"\",'Data Input'!A73)","v":""},{"$f":"IF(ISBLANK('Data Input'!A73),\"\",COUNTIF('Data Input'!C73:AQ73,\"\")-1)","v":""},{"$f":"IF(ISBLANK('Data Input'!A73),\"\",COUNTIF('Data Input'!C73:AQ73,\"0\"))","v":""},{"$f":"IF(ISBLANK('Data Input'!A73),\"\",SUM(B69,C69))","v":""},{"$f":"IF(ISBLANK('Data Input'!A73),\"\",SUM('Data Input'!C73:AQ73))","v":""},{"$f":"IF(E69=\"\",\"\",E69/(COUNTA('Data Input'!$C$8:$AQ$8)-1))","v":""},{"$f":"IF(ISBLANK('Data Input'!A73),\"\",SUM('Data Input'!H73,'Data Input'!I73,'Data Input'!M73,'Data Input'!N73))","v":""},{"$f":"IF(G69=\"\",\"\",G69/COUNTIF('Data Input'!$C$8:$AQ$8,$G$2))","v":""},{"$f":"IF(ISBLANK('Data Input'!A73),\"\",SUM('Data Input'!J73,'Data Input'!K73,'Data Input'!U73,'Data Input'!V73))","v":""},{"$f":"IF(I69=\"\",\"\",I69/COUNTIF('Data Input'!$C$8:$AQ$8,$I$2))","v":""},{"$f":"IF(ISBLANK('Data Input'!A73),\"\",SUM('Data Input'!D73))","v":""},{"$f":"IF(K69=\"\",\"\",K69/COUNTIF('Data Input'!$C$8:$AQ$8,$K$2))","v":""},{"$f":"IF(ISBLANK('Data Input'!A73),\"\",SUM('Data Input'!O73,'Data Input'!P73,'Data Input'!R73,'Data Input'!S73))","v":""},{"$f":"IF(M69=\"\",\"\",M69/COUNTIF('Data Input'!$C$8:$AQ$8,$M$2))","v":""},{"$f":"IF(ISBLANK('Data Input'!A73),\"\",SUM('Data Input'!C73,'Data Input'!E73,'Data Input'!F73,'Data Input'!G73,'Data Input'!Q73,'Data Input'!T73))","v":""},{"$f":"IF(O69=\"\",\"\",O69/COUNTIF('Data Input'!$C$8:$AQ$8,$O$2))","v":""},{"$f":"IF(ISBLANK('Data Input'!A73),\"\",SUM('Data Input'!L73))","v":""},{"$f":"IF(Q69=\"\",\"\",Q69/COUNTIF('Data Input'!$C$8:$AQ$8,$Q$2))","v":""},{"$f":"IF(ISBLANK('Data Input'!A73),\"\",SUM('Data Input'!X73:AQ73))","v":""},{"$f":"IF(S69=\"\",\"\",S69/COUNTIF('Data Input'!$C$8:$AQ$8,$S$2))","v":""}]
[{"$f":"IF('Data Input'!A74=0,\"\",'Data Input'!A74)","v":""},{"$f":"IF(ISBLANK('Data Input'!A74),\"\",COUNTIF('Data Input'!C74:AQ74,\"\")-1)","v":""},{"$f":"IF(ISBLANK('Data Input'!A74),\"\",COUNTIF('Data Input'!C74:AQ74,\"0\"))","v":""},{"$f":"IF(ISBLANK('Data Input'!A74),\"\",SUM(B70,C70))","v":""},{"$f":"IF(ISBLANK('Data Input'!A74),\"\",SUM('Data Input'!C74:AQ74))","v":""},{"$f":"IF(E70=\"\",\"\",E70/(COUNTA('Data Input'!$C$8:$AQ$8)-1))","v":""},{"$f":"IF(ISBLANK('Data Input'!A74),\"\",SUM('Data Input'!H74,'Data Input'!I74,'Data Input'!M74,'Data Input'!N74))","v":""},{"$f":"IF(G70=\"\",\"\",G70/COUNTIF('Data Input'!$C$8:$AQ$8,$G$2))","v":""},{"$f":"IF(ISBLANK('Data Input'!A74),\"\",SUM('Data Input'!J74,'Data Input'!K74,'Data Input'!U74,'Data Input'!V74))","v":""},{"$f":"IF(I70=\"\",\"\",I70/COUNTIF('Data Input'!$C$8:$AQ$8,$I$2))","v":""},{"$f":"IF(ISBLANK('Data Input'!A74),\"\",SUM('Data Input'!D74))","v":""},{"$f":"IF(K70=\"\",\"\",K70/COUNTIF('Data Input'!$C$8:$AQ$8,$K$2))","v":""},{"$f":"IF(ISBLANK('Data Input'!A74),\"\",SUM('Data Input'!O74,'Data Input'!P74,'Data Input'!R74,'Data Input'!S74))","v":""},{"$f":"IF(M70=\"\",\"\",M70/COUNTIF('Data Input'!$C$8:$AQ$8,$M$2))","v":""},{"$f":"IF(ISBLANK('Data Input'!A74),\"\",SUM('Data Input'!C74,'Data Input'!E74,'Data Input'!F74,'Data Input'!G74,'Data Input'!Q74,'Data Input'!T74))","v":""},{"$f":"IF(O70=\"\",\"\",O70/COUNTIF('Data Input'!$C$8:$AQ$8,$O$2))","v":""},{"$f":"IF(ISBLANK('Data Input'!A74),\"\",SUM('Data Input'!L74))","v":""},{"$f":"IF(Q70=\"\",\"\",Q70/COUNTIF('Data Input'!$C$8:$AQ$8,$Q$2))","v":""},{"$f":"IF(ISBLANK('Data Input'!A74),\"\",SUM('Data Input'!X74:AQ74))","v":""},{"$f":"IF(S70=\"\",\"\",S70/COUNTIF('Data Input'!$C$8:$AQ$8,$S$2))","v":""}]
[{"$f":"IF('Data Input'!A75=0,\"\",'Data Input'!A75)","v":""},{"$f":"IF(ISBLANK('Data Input'!A75),\"\",COUNTIF('Data Input'!C75:AQ75,\"\")-1)","v":""},{"$f":"IF(ISBLANK('Data Input'!A75),\"\",COUNTIF('Data Input'!C75:AQ75,\"0\"))","v":""},{"$f":"IF(ISBLANK('Data Input'!A75),\"\",SUM(B71,C71))","v":""},{"$f":"IF(ISBLANK('Data Input'!A75),\"\",SUM('Data Input'!C75:AQ75))","v":""},{"$f":"IF(E71=\"\",\"\",E71/(COUNTA('Data Input'!$C$8:$AQ$8)-1))","v":""},{"$f":"IF(ISBLANK('Data Input'!A75),\"\",SUM('Data Input'!H75,'Data Input'!I75,'Data Input'!M75,'Data Input'!N75))","v":""},{"$f":"IF(G71=\"\",\"\",G71/COUNTIF('Data Input'!$C$8:$AQ$8,$G$2))","v":""},{"$f":"IF(ISBLANK('Data Input'!A75),\"\",SUM('Data Input'!J75,'Data Input'!K75,'Data Input'!U75,'Data Input'!V75))","v":""},{"$f":"IF(I71=\"\",\"\",I71/COUNTIF('Data Input'!$C$8:$AQ$8,$I$2))","v":""},{"$f":"IF(ISBLANK('Data Input'!A75),\"\",SUM('Data Input'!D75))","v":""},{"$f":"IF(K71=\"\",\"\",K71/COUNTIF('Data Input'!$C$8:$AQ$8,$K$2))","v":""},{"$f":"IF(ISBLANK('Data Input'!A75),\"\",SUM('Data Input'!O75,'Data Input'!P75,'Data Input'!R75,'Data Input'!S75))","v":""},{"$f":"IF(M71=\"\",\"\",M71/COUNTIF('Data Input'!$C$8:$AQ$8,$M$2))","v":""},{"$f":"IF(ISBLANK('Data Input'!A75),\"\",SUM('Data Input'!C75,'Data Input'!E75,'Data Input'!F75,'Data Input'!G75,'Data Input'!Q75,'Data Input'!T75))","v":""},{"$f":"IF(O71=\"\",\"\",O71/COUNTIF('Data Input'!$C$8:$AQ$8,$O$2))","v":""},{"$f":"IF(ISBLANK('Data Input'!A75),\"\",SUM('Data Input'!L75))","v":""},{"$f":"IF(Q71=\"\",\"\",Q71/COUNTIF('Data Input'!$C$8:$AQ$8,$Q$2))","v":""},{"$f":"IF(ISBLANK('Data Input'!A75),\"\",SUM('Data Input'!X75:AQ75))","v":""},{"$f":"IF(S71=\"\",\"\",S71/COUNTIF('Data Input'!$C$8:$AQ$8,$S$2))","v":""}]
[{"$f":"IF('Data Input'!A76=0,\"\",'Data Input'!A76)","v":""},{"$f":"IF(ISBLANK('Data Input'!A76),\"\",COUNTIF('Data Input'!C76:AQ76,\"\")-1)","v":""},{"$f":"IF(ISBLANK('Data Input'!A76),\"\",COUNTIF('Data Input'!C76:AQ76,\"0\"))","v":""},{"$f":"IF(ISBLANK('Data Input'!A76),\"\",SUM(B72,C72))","v":""},{"$f":"IF(ISBLANK('Data Input'!A76),\"\",SUM('Data Input'!C76:AQ76))","v":""},{"$f":"IF(E72=\"\",\"\",E72/(COUNTA('Data Input'!$C$8:$AQ$8)-1))","v":""},{"$f":"IF(ISBLANK('Data Input'!A76),\"\",SUM('Data Input'!H76,'Data Input'!I76,'Data Input'!M76,'Data Input'!N76))","v":""},{"$f":"IF(G72=\"\",\"\",G72/COUNTIF('Data Input'!$C$8:$AQ$8,$G$2))","v":""},{"$f":"IF(ISBLANK('Data Input'!A76),\"\",SUM('Data Input'!J76,'Data Input'!K76,'Data Input'!U76,'Data Input'!V76))","v":""},{"$f":"IF(I72=\"\",\"\",I72/COUNTIF('Data Input'!$C$8:$AQ$8,$I$2))","v":""},{"$f":"IF(ISBLANK('Data Input'!A76),\"\",SUM('Data Input'!D76))","v":""},{"$f":"IF(K72=\"\",\"\",K72/COUNTIF('Data Input'!$C$8:$AQ$8,$K$2))","v":""},{"$f":"IF(ISBLANK('Data Input'!A76),\"\",SUM('Data Input'!O76,'Data Input'!P76,'Data Input'!R76,'Data Input'!S76))","v":""},{"$f":"IF(M72=\"\",\"\",M72/COUNTIF('Data Input'!$C$8:$AQ$8,$M$2))","v":""},{"$f":"IF(ISBLANK('Data Input'!A76),\"\",SUM('Data Input'!C76,'Data Input'!E76,'Data Input'!F76,'Data Input'!G76,'Data Input'!Q76,'Data Input'!T76))","v":""},{"$f":"IF(O72=\"\",\"\",O72/COUNTIF('Data Input'!$C$8:$AQ$8,$O$2))","v":""},{"$f":"IF(ISBLANK('Data Input'!A76),\"\",SUM('Data Input'!L76))","v":""},{"$f":"IF(Q72=\"\",\"\",Q72/COUNTIF('Data Input'!$C$8:$AQ$8,$Q$2))","v":""},{"$f":"IF(ISBLANK('Data Input'!A76),\"\",SUM('Data Input'!X76:AQ76))","v":""},{"$f":"IF(S72=\"\",\"\",S72/COUNTIF('Data Input'!$C$8:$AQ$8,$S$2))","v":""}]
[{"$f":"IF('Data Input'!A77=0,\"\",'Data Input'!A77)","v":""},{"$f":"IF(ISBLANK('Data Input'!A77),\"\",COUNTIF('Data Input'!C77:AQ77,\"\")-1)","v":""},{"$f":"IF(ISBLANK('Data Input'!A77),\"\",COUNTIF('Data Input'!C77:AQ77,\"0\"))","v":""},{"$f":"IF(ISBLANK('Data Input'!A77),\"\",SUM(B73,C73))","v":""},{"$f":"IF(ISBLANK('Data Input'!A77),\"\",SUM('Data Input'!C77:AQ77))","v":""},{"$f":"IF(E73=\"\",\"\",E73/(COUNTA('Data Input'!$C$8:$AQ$8)-1))","v":""},{"$f":"IF(ISBLANK('Data Input'!A77),\"\",SUM('Data Input'!H77,'Data Input'!I77,'Data Input'!M77,'Data Input'!N77))","v":""},{"$f":"IF(G73=\"\",\"\",G73/COUNTIF('Data Input'!$C$8:$AQ$8,$G$2))","v":""},{"$f":"IF(ISBLANK('Data Input'!A77),\"\",SUM('Data Input'!J77,'Data Input'!K77,'Data Input'!U77,'Data Input'!V77))","v":""},{"$f":"IF(I73=\"\",\"\",I73/COUNTIF('Data Input'!$C$8:$AQ$8,$I$2))","v":""},{"$f":"IF(ISBLANK('Data Input'!A77),\"\",SUM('Data Input'!D77))","v":""},{"$f":"IF(K73=\"\",\"\",K73/COUNTIF('Data Input'!$C$8:$AQ$8,$K$2))","v":""},{"$f":"IF(ISBLANK('Data Input'!A77),\"\",SUM('Data Input'!O77,'Data Input'!P77,'Data Input'!R77,'Data Input'!S77))","v":""},{"$f":"IF(M73=\"\",\"\",M73/COUNTIF('Data Input'!$C$8:$AQ$8,$M$2))","v":""},{"$f":"IF(ISBLANK('Data Input'!A77),\"\",SUM('Data Input'!C77,'Data Input'!E77,'Data Input'!F77,'Data Input'!G77,'Data Input'!Q77,'Data Input'!T77))","v":""},{"$f":"IF(O73=\"\",\"\",O73/COUNTIF('Data Input'!$C$8:$AQ$8,$O$2))","v":""},{"$f":"IF(ISBLANK('Data Input'!A77),\"\",SUM('Data Input'!L77))","v":""},{"$f":"IF(Q73=\"\",\"\",Q73/COUNTIF('Data Input'!$C$8:$AQ$8,$Q$2))","v":""},{"$f":"IF(ISBLANK('Data Input'!A77),\"\",SUM('Data Input'!X77:AQ77))","v":""},{"$f":"IF(S73=\"\",\"\",S73/COUNTIF('Data Input'!$C$8:$AQ$8,$S$2))","v":""}]
[{"$f":"IF('Data Input'!A78=0,\"\",'Data Input'!A78)","v":""},{"$f":"IF(ISBLANK('Data Input'!A78),\"\",COUNTIF('Data Input'!C78:AQ78,\"\")-1)","v":""},{"$f":"IF(ISBLANK('Data Input'!A78),\"\",COUNTIF('Data Input'!C78:AQ78,\"0\"))","v":""},{"$f":"IF(ISBLANK('Data Input'!A78),\"\",SUM(B74,C74))","v":""},{"$f":"IF(ISBLANK('Data Input'!A78),\"\",SUM('Data Input'!C78:AQ78))","v":""},{"$f":"IF(E74=\"\",\"\",E74/(COUNTA('Data Input'!$C$8:$AQ$8)-1))","v":""},{"$f":"IF(ISBLANK('Data Input'!A78),\"\",SUM('Data Input'!H78,'Data Input'!I78,'Data Input'!M78,'Data Input'!N78))","v":""},{"$f":"IF(G74=\"\",\"\",G74/COUNTIF('Data Input'!$C$8:$AQ$8,$G$2))","v":""},{"$f":"IF(ISBLANK('Data Input'!A78),\"\",SUM('Data Input'!J78,'Data Input'!K78,'Data Input'!U78,'Data Input'!V78))","v":""},{"$f":"IF(I74=\"\",\"\",I74/COUNTIF('Data Input'!$C$8:$AQ$8,$I$2))","v":""},{"$f":"IF(ISBLANK('Data Input'!A78),\"\",SUM('Data Input'!D78))","v":""},{"$f":"IF(K74=\"\",\"\",K74/COUNTIF('Data Input'!$C$8:$AQ$8,$K$2))","v":""},{"$f":"IF(ISBLANK('Data Input'!A78),\"\",SUM('Data Input'!O78,'Data Input'!P78,'Data Input'!R78,'Data Input'!S78))","v":""},{"$f":"IF(M74=\"\",\"\",M74/COUNTIF('Data Input'!$C$8:$AQ$8,$M$2))","v":""},{"$f":"IF(ISBLANK('Data Input'!A78),\"\",SUM('Data Input'!C78,'Data Input'!E78,'Data Input'!F78,'Data Input'!G78,'Data Input'!Q78,'Data Input'!T78))","v":""},{"$f":"IF(O74=\"\",\"\",O74/COUNTIF('Data Input'!$C$8:$AQ$8,$O$2))","v":""},{"$f":"IF(ISBLANK('Data Input'!A78),\"\",SUM('Data Input'!L78))","v":""},{"$f":"IF(Q74=\"\",\"\",Q74/COUNTIF('Data Input'!$C$8:$AQ$8,$Q$2))","v":""},{"$f":"IF(ISBLANK('Data Input'!A78),\"\",SUM('Data Input'!X78:AQ78))","v":""},{"$f":"IF(S74=\"\",\"\",S74/COUNTIF('Data Input'!$C$8:$AQ$8,$S$2))","v":""}]
[{"$f":"IF('Data Input'!A79=0,\"\",'Data Input'!A79)","v":""},{"$f":"IF(ISBLANK('Data Input'!A79),\"\",COUNTIF('Data Input'!C79:AQ79,\"\")-1)","v":""},{"$f":"IF(ISBLANK('Data Input'!A79),\"\",COUNTIF('Data Input'!C79:AQ79,\"0\"))","v":""},{"$f":"IF(ISBLANK('Data Input'!A79),\"\",SUM(B75,C75))","v":""},{"$f":"IF(ISBLANK('Data Input'!A79),\"\",SUM('Data Input'!C79:AQ79))","v":""},{"$f":"IF(E75=\"\",\"\",E75/(COUNTA('Data Input'!$C$8:$AQ$8)-1))","v":""},{"$f":"IF(ISBLANK('Data Input'!A79),\"\",SUM('Data Input'!H79,'Data Input'!I79,'Data Input'!M79,'Data Input'!N79))","v":""},{"$f":"IF(G75=\"\",\"\",G75/COUNTIF('Data Input'!$C$8:$AQ$8,$G$2))","v":""},{"$f":"IF(ISBLANK('Data Input'!A79),\"\",SUM('Data Input'!J79,'Data Input'!K79,'Data Input'!U79,'Data Input'!V79))","v":""},{"$f":"IF(I75=\"\",\"\",I75/COUNTIF('Data Input'!$C$8:$AQ$8,$I$2))","v":""},{"$f":"IF(ISBLANK('Data Input'!A79),\"\",SUM('Data Input'!D79))","v":""},{"$f":"IF(K75=\"\",\"\",K75/COUNTIF('Data Input'!$C$8:$AQ$8,$K$2))","v":""},{"$f":"IF(ISBLANK('Data Input'!A79),\"\",SUM('Data Input'!O79,'Data Input'!P79,'Data Input'!R79,'Data Input'!S79))","v":""},{"$f":"IF(M75=\"\",\"\",M75/COUNTIF('Data Input'!$C$8:$AQ$8,$M$2))","v":""},{"$f":"IF(ISBLANK('Data Input'!A79),\"\",SUM('Data Input'!C79,'Data Input'!E79,'Data Input'!F79,'Data Input'!G79,'Data Input'!Q79,'Data Input'!T79))","v":""},{"$f":"IF(O75=\"\",\"\",O75/COUNTIF('Data Input'!$C$8:$AQ$8,$O$2))","v":""},{"$f":"IF(ISBLANK('Data Input'!A79),\"\",SUM('Data Input'!L79))","v":""},{"$f":"IF(Q75=\"\",\"\",Q75/COUNTIF('Data Input'!$C$8:$AQ$8,$Q$2))","v":""},{"$f":"IF(ISBLANK('Data Input'!A79),\"\",SUM('Data Input'!X79:AQ79))","v":""},{"$f":"IF(S75=\"\",\"\",S75/COUNTIF('Data Input'!$C$8:$AQ$8,$S$2))","v":""}]
[{"$f":"IF('Data Input'!A80=0,\"\",'Data Input'!A80)","v":""},{"$f":"IF(ISBLANK('Data Input'!A80),\"\",COUNTIF('Data Input'!C80:AQ80,\"\")-1)","v":""},{"$f":"IF(ISBLANK('Data Input'!A80),\"\",COUNTIF('Data Input'!C80:AQ80,\"0\"))","v":""},{"$f":"IF(ISBLANK('Data Input'!A80),\"\",SUM(B76,C76))","v":""},{"$f":"IF(ISBLANK('Data Input'!A80),\"\",SUM('Data Input'!C80:AQ80))","v":""},{"$f":"IF(E76=\"\",\"\",E76/(COUNTA('Data Input'!$C$8:$AQ$8)-1))","v":""},{"$f":"IF(ISBLANK('Data Input'!A80),\"\",SUM('Data Input'!H80,'Data Input'!I80,'Data Input'!M80,'Data Input'!N80))","v":""},{"$f":"IF(G76=\"\",\"\",G76/COUNTIF('Data Input'!$C$8:$AQ$8,$G$2))","v":""},{"$f":"IF(ISBLANK('Data Input'!A80),\"\",SUM('Data Input'!J80,'Data Input'!K80,'Data Input'!U80,'Data Input'!V80))","v":""},{"$f":"IF(I76=\"\",\"\",I76/COUNTIF('Data Input'!$C$8:$AQ$8,$I$2))","v":""},{"$f":"IF(ISBLANK('Data Input'!A80),\"\",SUM('Data Input'!D80))","v":""},{"$f":"IF(K76=\"\",\"\",K76/COUNTIF('Data Input'!$C$8:$AQ$8,$K$2))","v":""},{"$f":"IF(ISBLANK('Data Input'!A80),\"\",SUM('Data Input'!O80,'Data Input'!P80,'Data Input'!R80,'Data Input'!S80))","v":""},{"$f":"IF(M76=\"\",\"\",M76/COUNTIF('Data Input'!$C$8:$AQ$8,$M$2))","v":""},{"$f":"IF(ISBLANK('Data Input'!A80),\"\",SUM('Data Input'!C80,'Data Input'!E80,'Data Input'!F80,'Data Input'!G80,'Data Input'!Q80,'Data Input'!T80))","v":""},{"$f":"IF(O76=\"\",\"\",O76/COUNTIF('Data Input'!$C$8:$AQ$8,$O$2))","v":""},{"$f":"IF(ISBLANK('Data Input'!A80),\"\",SUM('Data Input'!L80))","v":""},{"$f":"IF(Q76=\"\",\"\",Q76/COUNTIF('Data Input'!$C$8:$AQ$8,$Q$2))","v":""},{"$f":"IF(ISBLANK('Data Input'!A80),\"\",SUM('Data Input'!X80:AQ80))","v":""},{"$f":"IF(S76=\"\",\"\",S76/COUNTIF('Data Input'!$C$8:$AQ$8,$S$2))","v":""}]
[{"$f":"IF('Data Input'!A81=0,\"\",'Data Input'!A81)","v":""},{"$f":"IF(ISBLANK('Data Input'!A81),\"\",COUNTIF('Data Input'!C81:AQ81,\"\")-1)","v":""},{"$f":"IF(ISBLANK('Data Input'!A81),\"\",COUNTIF('Data Input'!C81:AQ81,\"0\"))","v":""},{"$f":"IF(ISBLANK('Data Input'!A81),\"\",SUM(B77,C77))","v":""},{"$f":"IF(ISBLANK('Data Input'!A81),\"\",SUM('Data Input'!C81:AQ81))","v":""},{"$f":"IF(E77=\"\",\"\",E77/(COUNTA('Data Input'!$C$8:$AQ$8)-1))","v":""},{"$f":"IF(ISBLANK('Data Input'!A81),\"\",SUM('Data Input'!H81,'Data Input'!I81,'Data Input'!M81,'Data Input'!N81))","v":""},{"$f":"IF(G77=\"\",\"\",G77/COUNTIF('Data Input'!$C$8:$AQ$8,$G$2))","v":""},{"$f":"IF(ISBLANK('Data Input'!A81),\"\",SUM('Data Input'!J81,'Data Input'!K81,'Data Input'!U81,'Data Input'!V81))","v":""},{"$f":"IF(I77=\"\",\"\",I77/COUNTIF('Data Input'!$C$8:$AQ$8,$I$2))","v":""},{"$f":"IF(ISBLANK('Data Input'!A81),\"\",SUM('Data Input'!D81))","v":""},{"$f":"IF(K77=\"\",\"\",K77/COUNTIF('Data Input'!$C$8:$AQ$8,$K$2))","v":""},{"$f":"IF(ISBLANK('Data Input'!A81),\"\",SUM('Data Input'!O81,'Data Input'!P81,'Data Input'!R81,'Data Input'!S81))","v":""},{"$f":"IF(M77=\"\",\"\",M77/COUNTIF('Data Input'!$C$8:$AQ$8,$M$2))","v":""},{"$f":"IF(ISBLANK('Data Input'!A81),\"\",SUM('Data Input'!C81,'Data Input'!E81,'Data Input'!F81,'Data Input'!G81,'Data Input'!Q81,'Data Input'!T81))","v":""},{"$f":"IF(O77=\"\",\"\",O77/COUNTIF('Data Input'!$C$8:$AQ$8,$O$2))","v":""},{"$f":"IF(ISBLANK('Data Input'!A81),\"\",SUM('Data Input'!L81))","v":""},{"$f":"IF(Q77=\"\",\"\",Q77/COUNTIF('Data Input'!$C$8:$AQ$8,$Q$2))","v":""},{"$f":"IF(ISBLANK('Data Input'!A81),\"\",SUM('Data Input'!X81:AQ81))","v":""},{"$f":"IF(S77=\"\",\"\",S77/COUNTIF('Data Input'!$C$8:$AQ$8,$S$2))","v":""}]
[{"$f":"IF('Data Input'!A82=0,\"\",'Data Input'!A82)","v":""},{"$f":"IF(ISBLANK('Data Input'!A82),\"\",COUNTIF('Data Input'!C82:AQ82,\"\")-1)","v":""},{"$f":"IF(ISBLANK('Data Input'!A82),\"\",COUNTIF('Data Input'!C82:AQ82,\"0\"))","v":""},{"$f":"IF(ISBLANK('Data Input'!A82),\"\",SUM(B78,C78))","v":""},{"$f":"IF(ISBLANK('Data Input'!A82),\"\",SUM('Data Input'!C82:AQ82))","v":""},{"$f":"IF(E78=\"\",\"\",E78/(COUNTA('Data Input'!$C$8:$AQ$8)-1))","v":""},{"$f":"IF(ISBLANK('Data Input'!A82),\"\",SUM('Data Input'!H82,'Data Input'!I82,'Data Input'!M82,'Data Input'!N82))","v":""},{"$f":"IF(G78=\"\",\"\",G78/COUNTIF('Data Input'!$C$8:$AQ$8,$G$2))","v":""},{"$f":"IF(ISBLANK('Data Input'!A82),\"\",SUM('Data Input'!J82,'Data Input'!K82,'Data Input'!U82,'Data Input'!V82))","v":""},{"$f":"IF(I78=\"\",\"\",I78/COUNTIF('Data Input'!$C$8:$AQ$8,$I$2))","v":""},{"$f":"IF(ISBLANK('Data Input'!A82),\"\",SUM('Data Input'!D82))","v":""},{"$f":"IF(K78=\"\",\"\",K78/COUNTIF('Data Input'!$C$8:$AQ$8,$K$2))","v":""},{"$f":"IF(ISBLANK('Data Input'!A82),\"\",SUM('Data Input'!O82,'Data Input'!P82,'Data Input'!R82,'Data Input'!S82))","v":""},{"$f":"IF(M78=\"\",\"\",M78/COUNTIF('Data Input'!$C$8:$AQ$8,$M$2))","v":""},{"$f":"IF(ISBLANK('Data Input'!A82),\"\",SUM('Data Input'!C82,'Data Input'!E82,'Data Input'!F82,'Data Input'!G82,'Data Input'!Q82,'Data Input'!T82))","v":""},{"$f":"IF(O78=\"\",\"\",O78/COUNTIF('Data Input'!$C$8:$AQ$8,$O$2))","v":""},{"$f":"IF(ISBLANK('Data Input'!A82),\"\",SUM('Data Input'!L82))","v":""},{"$f":"IF(Q78=\"\",\"\",Q78/COUNTIF('Data Input'!$C$8:$AQ$8,$Q$2))","v":""},{"$f":"IF(ISBLANK('Data Input'!A82),\"\",SUM('Data Input'!X82:AQ82))","v":""},{"$f":"IF(S78=\"\",\"\",S78/COUNTIF('Data Input'!$C$8:$AQ$8,$S$2))","v":""}]
[{"$f":"IF('Data Input'!A83=0,\"\",'Data Input'!A83)","v":""},{"$f":"IF(ISBLANK('Data Input'!A83),\"\",COUNTIF('Data Input'!C83:AQ83,\"\")-1)","v":""},{"$f":"IF(ISBLANK('Data Input'!A83),\"\",COUNTIF('Data Input'!C83:AQ83,\"0\"))","v":""},{"$f":"IF(ISBLANK('Data Input'!A83),\"\",SUM(B79,C79))","v":""},{"$f":"IF(ISBLANK('Data Input'!A83),\"\",SUM('Data Input'!C83:AQ83))","v":""},{"$f":"IF(E79=\"\",\"\",E79/(COUNTA('Data Input'!$C$8:$AQ$8)-1))","v":""},{"$f":"IF(ISBLANK('Data Input'!A83),\"\",SUM('Data Input'!H83,'Data Input'!I83,'Data Input'!M83,'Data Input'!N83))","v":""},{"$f":"IF(G79=\"\",\"\",G79/COUNTIF('Data Input'!$C$8:$AQ$8,$G$2))","v":""},{"$f":"IF(ISBLANK('Data Input'!A83),\"\",SUM('Data Input'!J83,'Data Input'!K83,'Data Input'!U83,'Data Input'!V83))","v":""},{"$f":"IF(I79=\"\",\"\",I79/COUNTIF('Data Input'!$C$8:$AQ$8,$I$2))","v":""},{"$f":"IF(ISBLANK('Data Input'!A83),\"\",SUM('Data Input'!D83))","v":""},{"$f":"IF(K79=\"\",\"\",K79/COUNTIF('Data Input'!$C$8:$AQ$8,$K$2))","v":""},{"$f":"IF(ISBLANK('Data Input'!A83),\"\",SUM('Data Input'!O83,'Data Input'!P83,'Data Input'!R83,'Data Input'!S83))","v":""},{"$f":"IF(M79=\"\",\"\",M79/COUNTIF('Data Input'!$C$8:$AQ$8,$M$2))","v":""},{"$f":"IF(ISBLANK('Data Input'!A83),\"\",SUM('Data Input'!C83,'Data Input'!E83,'Data Input'!F83,'Data Input'!G83,'Data Input'!Q83,'Data Input'!T83))","v":""},{"$f":"IF(O79=\"\",\"\",O79/COUNTIF('Data Input'!$C$8:$AQ$8,$O$2))","v":""},{"$f":"IF(ISBLANK('Data Input'!A83),\"\",SUM('Data Input'!L83))","v":""},{"$f":"IF(Q79=\"\",\"\",Q79/COUNTIF('Data Input'!$C$8:$AQ$8,$Q$2))","v":""},{"$f":"IF(ISBLANK('Data Input'!A83),\"\",SUM('Data Input'!X83:AQ83))","v":""},{"$f":"IF(S79=\"\",\"\",S79/COUNTIF('Data Input'!$C$8:$AQ$8,$S$2))","v":""}]
[{"$f":"IF('Data Input'!A84=0,\"\",'Data Input'!A84)","v":""},{"$f":"IF(ISBLANK('Data Input'!A84),\"\",COUNTIF('Data Input'!C84:AQ84,\"\")-1)","v":""},{"$f":"IF(ISBLANK('Data Input'!A84),\"\",COUNTIF('Data Input'!C84:AQ84,\"0\"))","v":""},{"$f":"IF(ISBLANK('Data Input'!A84),\"\",SUM(B80,C80))","v":""},{"$f":"IF(ISBLANK('Data Input'!A84),\"\",SUM('Data Input'!C84:AQ84))","v":""},{"$f":"IF(E80=\"\",\"\",E80/(COUNTA('Data Input'!$C$8:$AQ$8)-1))","v":""},{"$f":"IF(ISBLANK('Data Input'!A84),\"\",SUM('Data Input'!H84,'Data Input'!I84,'Data Input'!M84,'Data Input'!N84))","v":""},{"$f":"IF(G80=\"\",\"\",G80/COUNTIF('Data Input'!$C$8:$AQ$8,$G$2))","v":""},{"$f":"IF(ISBLANK('Data Input'!A84),\"\",SUM('Data Input'!J84,'Data Input'!K84,'Data Input'!U84,'Data Input'!V84))","v":""},{"$f":"IF(I80=\"\",\"\",I80/COUNTIF('Data Input'!$C$8:$AQ$8,$I$2))","v":""},{"$f":"IF(ISBLANK('Data Input'!A84),\"\",SUM('Data Input'!D84))","v":""},{"$f":"IF(K80=\"\",\"\",K80/COUNTIF('Data Input'!$C$8:$AQ$8,$K$2))","v":""},{"$f":"IF(ISBLANK('Data Input'!A84),\"\",SUM('Data Input'!O84,'Data Input'!P84,'Data Input'!R84,'Data Input'!S84))","v":""},{"$f":"IF(M80=\"\",\"\",M80/COUNTIF('Data Input'!$C$8:$AQ$8,$M$2))","v":""},{"$f":"IF(ISBLANK('Data Input'!A84),\"\",SUM('Data Input'!C84,'Data Input'!E84,'Data Input'!F84,'Data Input'!G84,'Data Input'!Q84,'Data Input'!T84))","v":""},{"$f":"IF(O80=\"\",\"\",O80/COUNTIF('Data Input'!$C$8:$AQ$8,$O$2))","v":""},{"$f":"IF(ISBLANK('Data Input'!A84),\"\",SUM('Data Input'!L84))","v":""},{"$f":"IF(Q80=\"\",\"\",Q80/COUNTIF('Data Input'!$C$8:$AQ$8,$Q$2))","v":""},{"$f":"IF(ISBLANK('Data Input'!A84),\"\",SUM('Data Input'!X84:AQ84))","v":""},{"$f":"IF(S80=\"\",\"\",S80/COUNTIF('Data Input'!$C$8:$AQ$8,$S$2))","v":""}]
[{"$f":"IF('Data Input'!A85=0,\"\",'Data Input'!A85)","v":""},{"$f":"IF(ISBLANK('Data Input'!A85),\"\",COUNTIF('Data Input'!C85:AQ85,\"\")-1)","v":""},{"$f":"IF(ISBLANK('Data Input'!A85),\"\",COUNTIF('Data Input'!C85:AQ85,\"0\"))","v":""},{"$f":"IF(ISBLANK('Data Input'!A85),\"\",SUM(B81,C81))","v":""},{"$f":"IF(ISBLANK('Data Input'!A85),\"\",SUM('Data Input'!C85:AQ85))","v":""},{"$f":"IF(E81=\"\",\"\",E81/(COUNTA('Data Input'!$C$8:$AQ$8)-1))","v":""},{"$f":"IF(ISBLANK('Data Input'!A85),\"\",SUM('Data Input'!H85,'Data Input'!I85,'Data Input'!M85,'Data Input'!N85))","v":""},{"$f":"IF(G81=\"\",\"\",G81/COUNTIF('Data Input'!$C$8:$AQ$8,$G$2))","v":""},{"$f":"IF(ISBLANK('Data Input'!A85),\"\",SUM('Data Input'!J85,'Data Input'!K85,'Data Input'!U85,'Data Input'!V85))","v":""},{"$f":"IF(I81=\"\",\"\",I81/COUNTIF('Data Input'!$C$8:$AQ$8,$I$2))","v":""},{"$f":"IF(ISBLANK('Data Input'!A85),\"\",SUM('Data Input'!D85))","v":""},{"$f":"IF(K81=\"\",\"\",K81/COUNTIF('Data Input'!$C$8:$AQ$8,$K$2))","v":""},{"$f":"IF(ISBLANK('Data Input'!A85),\"\",SUM('Data Input'!O85,'Data Input'!P85,'Data Input'!R85,'Data Input'!S85))","v":""},{"$f":"IF(M81=\"\",\"\",M81/COUNTIF('Data Input'!$C$8:$AQ$8,$M$2))","v":""},{"$f":"IF(ISBLANK('Data Input'!A85),\"\",SUM('Data Input'!C85,'Data Input'!E85,'Data Input'!F85,'Data Input'!G85,'Data Input'!Q85,'Data Input'!T85))","v":""},{"$f":"IF(O81=\"\",\"\",O81/COUNTIF('Data Input'!$C$8:$AQ$8,$O$2))","v":""},{"$f":"IF(ISBLANK('Data Input'!A85),\"\",SUM('Data Input'!L85))","v":""},{"$f":"IF(Q81=\"\",\"\",Q81/COUNTIF('Data Input'!$C$8:$AQ$8,$Q$2))","v":""},{"$f":"IF(ISBLANK('Data Input'!A85),\"\",SUM('Data Input'!X85:AQ85))","v":""},{"$f":"IF(S81=\"\",\"\",S81/COUNTIF('Data Input'!$C$8:$AQ$8,$S$2))","v":""}]
[{"$f":"IF('Data Input'!A86=0,\"\",'Data Input'!A86)","v":""},{"$f":"IF(ISBLANK('Data Input'!A86),\"\",COUNTIF('Data Input'!C86:AQ86,\"\")-1)","v":""},{"$f":"IF(ISBLANK('Data Input'!A86),\"\",COUNTIF('Data Input'!C86:AQ86,\"0\"))","v":""},{"$f":"IF(ISBLANK('Data Input'!A86),\"\",SUM(B82,C82))","v":""},{"$f":"IF(ISBLANK('Data Input'!A86),\"\",SUM('Data Input'!C86:AQ86))","v":""},{"$f":"IF(E82=\"\",\"\",E82/(COUNTA('Data Input'!$C$8:$AQ$8)-1))","v":""},{"$f":"IF(ISBLANK('Data Input'!A86),\"\",SUM('Data Input'!H86,'Data Input'!I86,'Data Input'!M86,'Data Input'!N86))","v":""},{"$f":"IF(G82=\"\",\"\",G82/COUNTIF('Data Input'!$C$8:$AQ$8,$G$2))","v":""},{"$f":"IF(ISBLANK('Data Input'!A86),\"\",SUM('Data Input'!J86,'Data Input'!K86,'Data Input'!U86,'Data Input'!V86))","v":""},{"$f":"IF(I82=\"\",\"\",I82/COUNTIF('Data Input'!$C$8:$AQ$8,$I$2))","v":""},{"$f":"IF(ISBLANK('Data Input'!A86),\"\",SUM('Data Input'!D86))","v":""},{"$f":"IF(K82=\"\",\"\",K82/COUNTIF('Data Input'!$C$8:$AQ$8,$K$2))","v":""},{"$f":"IF(ISBLANK('Data Input'!A86),\"\",SUM('Data Input'!O86,'Data Input'!P86,'Data Input'!R86,'Data Input'!S86))","v":""},{"$f":"IF(M82=\"\",\"\",M82/COUNTIF('Data Input'!$C$8:$AQ$8,$M$2))","v":""},{"$f":"IF(ISBLANK('Data Input'!A86),\"\",SUM('Data Input'!C86,'Data Input'!E86,'Data Input'!F86,'Data Input'!G86,'Data Input'!Q86,'Data Input'!T86))","v":""},{"$f":"IF(O82=\"\",\"\",O82/COUNTIF('Data Input'!$C$8:$AQ$8,$O$2))","v":""},{"$f":"IF(ISBLANK('Data Input'!A86),\"\",SUM('Data Input'!L86))","v":""},{"$f":"IF(Q82=\"\",\"\",Q82/COUNTIF('Data Input'!$C$8:$AQ$8,$Q$2))","v":""},{"$f":"IF(ISBLANK('Data Input'!A86),\"\",SUM('Data Input'!X86:AQ86))","v":""},{"$f":"IF(S82=\"\",\"\",S82/COUNTIF('Data Input'!$C$8:$AQ$8,$S$2))","v":""}]
[{"$f":"IF('Data Input'!A87=0,\"\",'Data Input'!A87)","v":""},{"$f":"IF(ISBLANK('Data Input'!A87),\"\",COUNTIF('Data Input'!C87:AQ87,\"\")-1)","v":""},{"$f":"IF(ISBLANK('Data Input'!A87),\"\",COUNTIF('Data Input'!C87:AQ87,\"0\"))","v":""},{"$f":"IF(ISBLANK('Data Input'!A87),\"\",SUM(B83,C83))","v":""},{"$f":"IF(ISBLANK('Data Input'!A87),\"\",SUM('Data Input'!C87:AQ87))","v":""},{"$f":"IF(E83=\"\",\"\",E83/(COUNTA('Data Input'!$C$8:$AQ$8)-1))","v":""},{"$f":"IF(ISBLANK('Data Input'!A87),\"\",SUM('Data Input'!H87,'Data Input'!I87,'Data Input'!M87,'Data Input'!N87))","v":""},{"$f":"IF(G83=\"\",\"\",G83/COUNTIF('Data Input'!$C$8:$AQ$8,$G$2))","v":""},{"$f":"IF(ISBLANK('Data Input'!A87),\"\",SUM('Data Input'!J87,'Data Input'!K87,'Data Input'!U87,'Data Input'!V87))","v":""},{"$f":"IF(I83=\"\",\"\",I83/COUNTIF('Data Input'!$C$8:$AQ$8,$I$2))","v":""},{"$f":"IF(ISBLANK('Data Input'!A87),\"\",SUM('Data Input'!D87))","v":""},{"$f":"IF(K83=\"\",\"\",K83/COUNTIF('Data Input'!$C$8:$AQ$8,$K$2))","v":""},{"$f":"IF(ISBLANK('Data Input'!A87),\"\",SUM('Data Input'!O87,'Data Input'!P87,'Data Input'!R87,'Data Input'!S87))","v":""},{"$f":"IF(M83=\"\",\"\",M83/COUNTIF('Data Input'!$C$8:$AQ$8,$M$2))","v":""},{"$f":"IF(ISBLANK('Data Input'!A87),\"\",SUM('Data Input'!C87,'Data Input'!E87,'Data Input'!F87,'Data Input'!G87,'Data Input'!Q87,'Data Input'!T87))","v":""},{"$f":"IF(O83=\"\",\"\",O83/COUNTIF('Data Input'!$C$8:$AQ$8,$O$2))","v":""},{"$f":"IF(ISBLANK('Data Input'!A87),\"\",SUM('Data Input'!L87))","v":""},{"$f":"IF(Q83=\"\",\"\",Q83/COUNTIF('Data Input'!$C$8:$AQ$8,$Q$2))","v":""},{"$f":"IF(ISBLANK('Data Input'!A87),\"\",SUM('Data Input'!X87:AQ87))","v":""},{"$f":"IF(S83=\"\",\"\",S83/COUNTIF('Data Input'!$C$8:$AQ$8,$S$2))","v":""}]
[{"$f":"IF('Data Input'!A88=0,\"\",'Data Input'!A88)","v":""},{"$f":"IF(ISBLANK('Data Input'!A88),\"\",COUNTIF('Data Input'!C88:AQ88,\"\")-1)","v":""},{"$f":"IF(ISBLANK('Data Input'!A88),\"\",COUNTIF('Data Input'!C88:AQ88,\"0\"))","v":""},{"$f":"IF(ISBLANK('Data Input'!A88),\"\",SUM(B84,C84))","v":""},{"$f":"IF(ISBLANK('Data Input'!A88),\"\",SUM('Data Input'!C88:AQ88))","v":""},{"$f":"IF(E84=\"\",\"\",E84/(COUNTA('Data Input'!$C$8:$AQ$8)-1))","v":""},{"$f":"IF(ISBLANK('Data Input'!A88),\"\",SUM('Data Input'!H88,'Data Input'!I88,'Data Input'!M88,'Data Input'!N88))","v":""},{"$f":"IF(G84=\"\",\"\",G84/COUNTIF('Data Input'!$C$8:$AQ$8,$G$2))","v":""},{"$f":"IF(ISBLANK('Data Input'!A88),\"\",SUM('Data Input'!J88,'Data Input'!K88,'Data Input'!U88,'Data Input'!V88))","v":""},{"$f":"IF(I84=\"\",\"\",I84/COUNTIF('Data Input'!$C$8:$AQ$8,$I$2))","v":""},{"$f":"IF(ISBLANK('Data Input'!A88),\"\",SUM('Data Input'!D88))","v":""},{"$f":"IF(K84=\"\",\"\",K84/COUNTIF('Data Input'!$C$8:$AQ$8,$K$2))","v":""},{"$f":"IF(ISBLANK('Data Input'!A88),\"\",SUM('Data Input'!O88,'Data Input'!P88,'Data Input'!R88,'Data Input'!S88))","v":""},{"$f":"IF(M84=\"\",\"\",M84/COUNTIF('Data Input'!$C$8:$AQ$8,$M$2))","v":""},{"$f":"IF(ISBLANK('Data Input'!A88),\"\",SUM('Data Input'!C88,'Data Input'!E88,'Data Input'!F88,'Data Input'!G88,'Data Input'!Q88,'Data Input'!T88))","v":""},{"$f":"IF(O84=\"\",\"\",O84/COUNTIF('Data Input'!$C$8:$AQ$8,$O$2))","v":""},{"$f":"IF(ISBLANK('Data Input'!A88),\"\",SUM('Data Input'!L88))","v":""},{"$f":"IF(Q84=\"\",\"\",Q84/COUNTIF('Data Input'!$C$8:$AQ$8,$Q$2))","v":""},{"$f":"IF(ISBLANK('Data Input'!A88),\"\",SUM('Data Input'!X88:AQ88))","v":""},{"$f":"IF(S84=\"\",\"\",S84/COUNTIF('Data Input'!$C$8:$AQ$8,$S$2))","v":""}]
[{"$f":"IF('Data Input'!A89=0,\"\",'Data Input'!A89)","v":""},{"$f":"IF(ISBLANK('Data Input'!A89),\"\",COUNTIF('Data Input'!C89:AQ89,\"\")-1)","v":""},{"$f":"IF(ISBLANK('Data Input'!A89),\"\",COUNTIF('Data Input'!C89:AQ89,\"0\"))","v":""},{"$f":"IF(ISBLANK('Data Input'!A89),\"\",SUM(B85,C85))","v":""},{"$f":"IF(ISBLANK('Data Input'!A89),\"\",SUM('Data Input'!C89:AQ89))","v":""},{"$f":"IF(E85=\"\",\"\",E85/(COUNTA('Data Input'!$C$8:$AQ$8)-1))","v":""},{"$f":"IF(ISBLANK('Data Input'!A89),\"\",SUM('Data Input'!H89,'Data Input'!I89,'Data Input'!M89,'Data Input'!N89))","v":""},{"$f":"IF(G85=\"\",\"\",G85/COUNTIF('Data Input'!$C$8:$AQ$8,$G$2))","v":""},{"$f":"IF(ISBLANK('Data Input'!A89),\"\",SUM('Data Input'!J89,'Data Input'!K89,'Data Input'!U89,'Data Input'!V89))","v":""},{"$f":"IF(I85=\"\",\"\",I85/COUNTIF('Data Input'!$C$8:$AQ$8,$I$2))","v":""},{"$f":"IF(ISBLANK('Data Input'!A89),\"\",SUM('Data Input'!D89))","v":""},{"$f":"IF(K85=\"\",\"\",K85/COUNTIF('Data Input'!$C$8:$AQ$8,$K$2))","v":""},{"$f":"IF(ISBLANK('Data Input'!A89),\"\",SUM('Data Input'!O89,'Data Input'!P89,'Data Input'!R89,'Data Input'!S89))","v":""},{"$f":"IF(M85=\"\",\"\",M85/COUNTIF('Data Input'!$C$8:$AQ$8,$M$2))","v":""},{"$f":"IF(ISBLANK('Data Input'!A89),\"\",SUM('Data Input'!C89,'Data Input'!E89,'Data Input'!F89,'Data Input'!G89,'Data Input'!Q89,'Data Input'!T89))","v":""},{"$f":"IF(O85=\"\",\"\",O85/COUNTIF('Data Input'!$C$8:$AQ$8,$O$2))","v":""},{"$f":"IF(ISBLANK('Data Input'!A89),\"\",SUM('Data Input'!L89))","v":""},{"$f":"IF(Q85=\"\",\"\",Q85/COUNTIF('Data Input'!$C$8:$AQ$8,$Q$2))","v":""},{"$f":"IF(ISBLANK('Data Input'!A89),\"\",SUM('Data Input'!X89:AQ89))","v":""},{"$f":"IF(S85=\"\",\"\",S85/COUNTIF('Data Input'!$C$8:$AQ$8,$S$2))","v":""}]
[{"$f":"IF('Data Input'!A90=0,\"\",'Data Input'!A90)","v":""},{"$f":"IF(ISBLANK('Data Input'!A90),\"\",COUNTIF('Data Input'!C90:AQ90,\"\")-1)","v":""},{"$f":"IF(ISBLANK('Data Input'!A90),\"\",COUNTIF('Data Input'!C90:AQ90,\"0\"))","v":""},{"$f":"IF(ISBLANK('Data Input'!A90),\"\",SUM(B86,C86))","v":""},{"$f":"IF(ISBLANK('Data Input'!A90),\"\",SUM('Data Input'!C90:AQ90))","v":""},{"$f":"IF(E86=\"\",\"\",E86/(COUNTA('Data Input'!$C$8:$AQ$8)-1))","v":""},{"$f":"IF(ISBLANK('Data Input'!A90),\"\",SUM('Data Input'!H90,'Data Input'!I90,'Data Input'!M90,'Data Input'!N90))","v":""},{"$f":"IF(G86=\"\",\"\",G86/COUNTIF('Data Input'!$C$8:$AQ$8,$G$2))","v":""},{"$f":"IF(ISBLANK('Data Input'!A90),\"\",SUM('Data Input'!J90,'Data Input'!K90,'Data Input'!U90,'Data Input'!V90))","v":""},{"$f":"IF(I86=\"\",\"\",I86/COUNTIF('Data Input'!$C$8:$AQ$8,$I$2))","v":""},{"$f":"IF(ISBLANK('Data Input'!A90),\"\",SUM('Data Input'!D90))","v":""},{"$f":"IF(K86=\"\",\"\",K86/COUNTIF('Data Input'!$C$8:$AQ$8,$K$2))","v":""},{"$f":"IF(ISBLANK('Data Input'!A90),\"\",SUM('Data Input'!O90,'Data Input'!P90,'Data Input'!R90,'Data Input'!S90))","v":""},{"$f":"IF(M86=\"\",\"\",M86/COUNTIF('Data Input'!$C$8:$AQ$8,$M$2))","v":""},{"$f":"IF(ISBLANK('Data Input'!A90),\"\",SUM('Data Input'!C90,'Data Input'!E90,'Data Input'!F90,'Data Input'!G90,'Data Input'!Q90,'Data Input'!T90))","v":""},{"$f":"IF(O86=\"\",\"\",O86/COUNTIF('Data Input'!$C$8:$AQ$8,$O$2))","v":""},{"$f":"IF(ISBLANK('Data Input'!A90),\"\",SUM('Data Input'!L90))","v":""},{"$f":"IF(Q86=\"\",\"\",Q86/COUNTIF('Data Input'!$C$8:$AQ$8,$Q$2))","v":""},{"$f":"IF(ISBLANK('Data Input'!A90),\"\",SUM('Data Input'!X90:AQ90))","v":""},{"$f":"IF(S86=\"\",\"\",S86/COUNTIF('Data Input'!$C$8:$AQ$8,$S$2))","v":""}]
[{"$f":"IF('Data Input'!A91=0,\"\",'Data Input'!A91)","v":""},{"$f":"IF(ISBLANK('Data Input'!A91),\"\",COUNTIF('Data Input'!C91:AQ91,\"\")-1)","v":""},{"$f":"IF(ISBLANK('Data Input'!A91),\"\",COUNTIF('Data Input'!C91:AQ91,\"0\"))","v":""},{"$f":"IF(ISBLANK('Data Input'!A91),\"\",SUM(B87,C87))","v":""},{"$f":"IF(ISBLANK('Data Input'!A91),\"\",SUM('Data Input'!C91:AQ91))","v":""},{"$f":"IF(E87=\"\",\"\",E87/(COUNTA('Data Input'!$C$8:$AQ$8)-1))","v":""},{"$f":"IF(ISBLANK('Data Input'!A91),\"\",SUM('Data Input'!H91,'Data Input'!I91,'Data Input'!M91,'Data Input'!N91))","v":""},{"$f":"IF(G87=\"\",\"\",G87/COUNTIF('Data Input'!$C$8:$AQ$8,$G$2))","v":""},{"$f":"IF(ISBLANK('Data Input'!A91),\"\",SUM('Data Input'!J91,'Data Input'!K91,'Data Input'!U91,'Data Input'!V91))","v":""},{"$f":"IF(I87=\"\",\"\",I87/COUNTIF('Data Input'!$C$8:$AQ$8,$I$2))","v":""},{"$f":"IF(ISBLANK('Data Input'!A91),\"\",SUM('Data Input'!D91))","v":""},{"$f":"IF(K87=\"\",\"\",K87/COUNTIF('Data Input'!$C$8:$AQ$8,$K$2))","v":""},{"$f":"IF(ISBLANK('Data Input'!A91),\"\",SUM('Data Input'!O91,'Data Input'!P91,'Data Input'!R91,'Data Input'!S91))","v":""},{"$f":"IF(M87=\"\",\"\",M87/COUNTIF('Data Input'!$C$8:$AQ$8,$M$2))","v":""},{"$f":"IF(ISBLANK('Data Input'!A91),\"\",SUM('Data Input'!C91,'Data Input'!E91,'Data Input'!F91,'Data Input'!G91,'Data Input'!Q91,'Data Input'!T91))","v":""},{"$f":"IF(O87=\"\",\"\",O87/COUNTIF('Data Input'!$C$8:$AQ$8,$O$2))","v":""},{"$f":"IF(ISBLANK('Data Input'!A91),\"\",SUM('Data Input'!L91))","v":""},{"$f":"IF(Q87=\"\",\"\",Q87/COUNTIF('Data Input'!$C$8:$AQ$8,$Q$2))","v":""},{"$f":"IF(ISBLANK('Data Input'!A91),\"\",SUM('Data Input'!X91:AQ91))","v":""},{"$f":"IF(S87=\"\",\"\",S87/COUNTIF('Data Input'!$C$8:$AQ$8,$S$2))","v":""}]
[{"$f":"IF('Data Input'!A92=0,\"\",'Data Input'!A92)","v":""},{"$f":"IF(ISBLANK('Data Input'!A92),\"\",COUNTIF('Data Input'!C92:AQ92,\"\")-1)","v":""},{"$f":"IF(ISBLANK('Data Input'!A92),\"\",COUNTIF('Data Input'!C92:AQ92,\"0\"))","v":""},{"$f":"IF(ISBLANK('Data Input'!A92),\"\",SUM(B88,C88))","v":""},{"$f":"IF(ISBLANK('Data Input'!A92),\"\",SUM('Data Input'!C92:AQ92))","v":""},{"$f":"IF(E88=\"\",\"\",E88/(COUNTA('Data Input'!$C$8:$AQ$8)-1))","v":""},{"$f":"IF(ISBLANK('Data Input'!A92),\"\",SUM('Data Input'!H92,'Data Input'!I92,'Data Input'!M92,'Data Input'!N92))","v":""},{"$f":"IF(G88=\"\",\"\",G88/COUNTIF('Data Input'!$C$8:$AQ$8,$G$2))","v":""},{"$f":"IF(ISBLANK('Data Input'!A92),\"\",SUM('Data Input'!J92,'Data Input'!K92,'Data Input'!U92,'Data Input'!V92))","v":""},{"$f":"IF(I88=\"\",\"\",I88/COUNTIF('Data Input'!$C$8:$AQ$8,$I$2))","v":""},{"$f":"IF(ISBLANK('Data Input'!A92),\"\",SUM('Data Input'!D92))","v":""},{"$f":"IF(K88=\"\",\"\",K88/COUNTIF('Data Input'!$C$8:$AQ$8,$K$2))","v":""},{"$f":"IF(ISBLANK('Data Input'!A92),\"\",SUM('Data Input'!O92,'Data Input'!P92,'Data Input'!R92,'Data Input'!S92))","v":""},{"$f":"IF(M88=\"\",\"\",M88/COUNTIF('Data Input'!$C$8:$AQ$8,$M$2))","v":""},{"$f":"IF(ISBLANK('Data Input'!A92),\"\",SUM('Data Input'!C92,'Data Input'!E92,'Data Input'!F92,'Data Input'!G92,'Data Input'!Q92,'Data Input'!T92))","v":""},{"$f":"IF(O88=\"\",\"\",O88/COUNTIF('Data Input'!$C$8:$AQ$8,$O$2))","v":""},{"$f":"IF(ISBLANK('Data Input'!A92),\"\",SUM('Data Input'!L92))","v":""},{"$f":"IF(Q88=\"\",\"\",Q88/COUNTIF('Data Input'!$C$8:$AQ$8,$Q$2))","v":""},{"$f":"IF(ISBLANK('Data Input'!A92),\"\",SUM('Data Input'!X92:AQ92))","v":""},{"$f":"IF(S88=\"\",\"\",S88/COUNTIF('Data Input'!$C$8:$AQ$8,$S$2))","v":""}]
[{"$f":"IF('Data Input'!A93=0,\"\",'Data Input'!A93)","v":""},{"$f":"IF(ISBLANK('Data Input'!A93),\"\",COUNTIF('Data Input'!C93:AQ93,\"\")-1)","v":""},{"$f":"IF(ISBLANK('Data Input'!A93),\"\",COUNTIF('Data Input'!C93:AQ93,\"0\"))","v":""},{"$f":"IF(ISBLANK('Data Input'!A93),\"\",SUM(B89,C89))","v":""},{"$f":"IF(ISBLANK('Data Input'!A93),\"\",SUM('Data Input'!C93:AQ93))","v":""},{"$f":"IF(E89=\"\",\"\",E89/(COUNTA('Data Input'!$C$8:$AQ$8)-1))","v":""},{"$f":"IF(ISBLANK('Data Input'!A93),\"\",SUM('Data Input'!H93,'Data Input'!I93,'Data Input'!M93,'Data Input'!N93))","v":""},{"$f":"IF(G89=\"\",\"\",G89/COUNTIF('Data Input'!$C$8:$AQ$8,$G$2))","v":""},{"$f":"IF(ISBLANK('Data Input'!A93),\"\",SUM('Data Input'!J93,'Data Input'!K93,'Data Input'!U93,'Data Input'!V93))","v":""},{"$f":"IF(I89=\"\",\"\",I89/COUNTIF('Data Input'!$C$8:$AQ$8,$I$2))","v":""},{"$f":"IF(ISBLANK('Data Input'!A93),\"\",SUM('Data Input'!D93))","v":""},{"$f":"IF(K89=\"\",\"\",K89/COUNTIF('Data Input'!$C$8:$AQ$8,$K$2))","v":""},{"$f":"IF(ISBLANK('Data Input'!A93),\"\",SUM('Data Input'!O93,'Data Input'!P93,'Data Input'!R93,'Data Input'!S93))","v":""},{"$f":"IF(M89=\"\",\"\",M89/COUNTIF('Data Input'!$C$8:$AQ$8,$M$2))","v":""},{"$f":"IF(ISBLANK('Data Input'!A93),\"\",SUM('Data Input'!C93,'Data Input'!E93,'Data Input'!F93,'Data Input'!G93,'Data Input'!Q93,'Data Input'!T93))","v":""},{"$f":"IF(O89=\"\",\"\",O89/COUNTIF('Data Input'!$C$8:$AQ$8,$O$2))","v":""},{"$f":"IF(ISBLANK('Data Input'!A93),\"\",SUM('Data Input'!L93))","v":""},{"$f":"IF(Q89=\"\",\"\",Q89/COUNTIF('Data Input'!$C$8:$AQ$8,$Q$2))","v":""},{"$f":"IF(ISBLANK('Data Input'!A93),\"\",SUM('Data Input'!X93:AQ93))","v":""},{"$f":"IF(S89=\"\",\"\",S89/COUNTIF('Data Input'!$C$8:$AQ$8,$S$2))","v":""}]
[{"$f":"IF('Data Input'!A94=0,\"\",'Data Input'!A94)","v":""},{"$f":"IF(ISBLANK('Data Input'!A94),\"\",COUNTIF('Data Input'!C94:AQ94,\"\")-1)","v":""},{"$f":"IF(ISBLANK('Data Input'!A94),\"\",COUNTIF('Data Input'!C94:AQ94,\"0\"))","v":""},{"$f":"IF(ISBLANK('Data Input'!A94),\"\",SUM(B90,C90))","v":""},{"$f":"IF(ISBLANK('Data Input'!A94),\"\",SUM('Data Input'!C94:AQ94))","v":""},{"$f":"IF(E90=\"\",\"\",E90/(COUNTA('Data Input'!$C$8:$AQ$8)-1))","v":""},{"$f":"IF(ISBLANK('Data Input'!A94),\"\",SUM('Data Input'!H94,'Data Input'!I94,'Data Input'!M94,'Data Input'!N94))","v":""},{"$f":"IF(G90=\"\",\"\",G90/COUNTIF('Data Input'!$C$8:$AQ$8,$G$2))","v":""},{"$f":"IF(ISBLANK('Data Input'!A94),\"\",SUM('Data Input'!J94,'Data Input'!K94,'Data Input'!U94,'Data Input'!V94))","v":""},{"$f":"IF(I90=\"\",\"\",I90/COUNTIF('Data Input'!$C$8:$AQ$8,$I$2))","v":""},{"$f":"IF(ISBLANK('Data Input'!A94),\"\",SUM('Data Input'!D94))","v":""},{"$f":"IF(K90=\"\",\"\",K90/COUNTIF('Data Input'!$C$8:$AQ$8,$K$2))","v":""},{"$f":"IF(ISBLANK('Data Input'!A94),\"\",SUM('Data Input'!O94,'Data Input'!P94,'Data Input'!R94,'Data Input'!S94))","v":""},{"$f":"IF(M90=\"\",\"\",M90/COUNTIF('Data Input'!$C$8:$AQ$8,$M$2))","v":""},{"$f":"IF(ISBLANK('Data Input'!A94),\"\",SUM('Data Input'!C94,'Data Input'!E94,'Data Input'!F94,'Data Input'!G94,'Data Input'!Q94,'Data Input'!T94))","v":""},{"$f":"IF(O90=\"\",\"\",O90/COUNTIF('Data Input'!$C$8:$AQ$8,$O$2))","v":""},{"$f":"IF(ISBLANK('Data Input'!A94),\"\",SUM('Data Input'!L94))","v":""},{"$f":"IF(Q90=\"\",\"\",Q90/COUNTIF('Data Input'!$C$8:$AQ$8,$Q$2))","v":""},{"$f":"IF(ISBLANK('Data Input'!A94),\"\",SUM('Data Input'!X94:AQ94))","v":""},{"$f":"IF(S90=\"\",\"\",S90/COUNTIF('Data Input'!$C$8:$AQ$8,$S$2))","v":""}]
[{"$f":"IF('Data Input'!A95=0,\"\",'Data Input'!A95)","v":""},{"$f":"IF(ISBLANK('Data Input'!A95),\"\",COUNTIF('Data Input'!C95:AQ95,\"\")-1)","v":""},{"$f":"IF(ISBLANK('Data Input'!A95),\"\",COUNTIF('Data Input'!C95:AQ95,\"0\"))","v":""},{"$f":"IF(ISBLANK('Data Input'!A95),\"\",SUM(B91,C91))","v":""},{"$f":"IF(ISBLANK('Data Input'!A95),\"\",SUM('Data Input'!C95:AQ95))","v":""},{"$f":"IF(E91=\"\",\"\",E91/(COUNTA('Data Input'!$C$8:$AQ$8)-1))","v":""},{"$f":"IF(ISBLANK('Data Input'!A95),\"\",SUM('Data Input'!H95,'Data Input'!I95,'Data Input'!M95,'Data Input'!N95))","v":""},{"$f":"IF(G91=\"\",\"\",G91/COUNTIF('Data Input'!$C$8:$AQ$8,$G$2))","v":""},{"$f":"IF(ISBLANK('Data Input'!A95),\"\",SUM('Data Input'!J95,'Data Input'!K95,'Data Input'!U95,'Data Input'!V95))","v":""},{"$f":"IF(I91=\"\",\"\",I91/COUNTIF('Data Input'!$C$8:$AQ$8,$I$2))","v":""},{"$f":"IF(ISBLANK('Data Input'!A95),\"\",SUM('Data Input'!D95))","v":""},{"$f":"IF(K91=\"\",\"\",K91/COUNTIF('Data Input'!$C$8:$AQ$8,$K$2))","v":""},{"$f":"IF(ISBLANK('Data Input'!A95),\"\",SUM('Data Input'!O95,'Data Input'!P95,'Data Input'!R95,'Data Input'!S95))","v":""},{"$f":"IF(M91=\"\",\"\",M91/COUNTIF('Data Input'!$C$8:$AQ$8,$M$2))","v":""},{"$f":"IF(ISBLANK('Data Input'!A95),\"\",SUM('Data Input'!C95,'Data Input'!E95,'Data Input'!F95,'Data Input'!G95,'Data Input'!Q95,'Data Input'!T95))","v":""},{"$f":"IF(O91=\"\",\"\",O91/COUNTIF('Data Input'!$C$8:$AQ$8,$O$2))","v":""},{"$f":"IF(ISBLANK('Data Input'!A95),\"\",SUM('Data Input'!L95))","v":""},{"$f":"IF(Q91=\"\",\"\",Q91/COUNTIF('Data Input'!$C$8:$AQ$8,$Q$2))","v":""},{"$f":"IF(ISBLANK('Data Input'!A95),\"\",SUM('Data Input'!X95:AQ95))","v":""},{"$f":"IF(S91=\"\",\"\",S91/COUNTIF('Data Input'!$C$8:$AQ$8,$S$2))","v":""}]
[{"$f":"IF('Data Input'!A96=0,\"\",'Data Input'!A96)","v":""},{"$f":"IF(ISBLANK('Data Input'!A96),\"\",COUNTIF('Data Input'!C96:AQ96,\"\")-1)","v":""},{"$f":"IF(ISBLANK('Data Input'!A96),\"\",COUNTIF('Data Input'!C96:AQ96,\"0\"))","v":""},{"$f":"IF(ISBLANK('Data Input'!A96),\"\",SUM(B92,C92))","v":""},{"$f":"IF(ISBLANK('Data Input'!A96),\"\",SUM('Data Input'!C96:AQ96))","v":""},{"$f":"IF(E92=\"\",\"\",E92/(COUNTA('Data Input'!$C$8:$AQ$8)-1))","v":""},{"$f":"IF(ISBLANK('Data Input'!A96),\"\",SUM('Data Input'!H96,'Data Input'!I96,'Data Input'!M96,'Data Input'!N96))","v":""},{"$f":"IF(G92=\"\",\"\",G92/COUNTIF('Data Input'!$C$8:$AQ$8,$G$2))","v":""},{"$f":"IF(ISBLANK('Data Input'!A96),\"\",SUM('Data Input'!J96,'Data Input'!K96,'Data Input'!U96,'Data Input'!V96))","v":""},{"$f":"IF(I92=\"\",\"\",I92/COUNTIF('Data Input'!$C$8:$AQ$8,$I$2))","v":""},{"$f":"IF(ISBLANK('Data Input'!A96),\"\",SUM('Data Input'!D96))","v":""},{"$f":"IF(K92=\"\",\"\",K92/COUNTIF('Data Input'!$C$8:$AQ$8,$K$2))","v":""},{"$f":"IF(ISBLANK('Data Input'!A96),\"\",SUM('Data Input'!O96,'Data Input'!P96,'Data Input'!R96,'Data Input'!S96))","v":""},{"$f":"IF(M92=\"\",\"\",M92/COUNTIF('Data Input'!$C$8:$AQ$8,$M$2))","v":""},{"$f":"IF(ISBLANK('Data Input'!A96),\"\",SUM('Data Input'!C96,'Data Input'!E96,'Data Input'!F96,'Data Input'!G96,'Data Input'!Q96,'Data Input'!T96))","v":""},{"$f":"IF(O92=\"\",\"\",O92/COUNTIF('Data Input'!$C$8:$AQ$8,$O$2))","v":""},{"$f":"IF(ISBLANK('Data Input'!A96),\"\",SUM('Data Input'!L96))","v":""},{"$f":"IF(Q92=\"\",\"\",Q92/COUNTIF('Data Input'!$C$8:$AQ$8,$Q$2))","v":""},{"$f":"IF(ISBLANK('Data Input'!A96),\"\",SUM('Data Input'!X96:AQ96))","v":""},{"$f":"IF(S92=\"\",\"\",S92/COUNTIF('Data Input'!$C$8:$AQ$8,$S$2))","v":""}]
[{"$f":"IF('Data Input'!A97=0,\"\",'Data Input'!A97)","v":""},{"$f":"IF(ISBLANK('Data Input'!A97),\"\",COUNTIF('Data Input'!C97:AQ97,\"\")-1)","v":""},{"$f":"IF(ISBLANK('Data Input'!A97),\"\",COUNTIF('Data Input'!C97:AQ97,\"0\"))","v":""},{"$f":"IF(ISBLANK('Data Input'!A97),\"\",SUM(B93,C93))","v":""},{"$f":"IF(ISBLANK('Data Input'!A97),\"\",SUM('Data Input'!C97:AQ97))","v":""},{"$f":"IF(E93=\"\",\"\",E93/(COUNTA('Data Input'!$C$8:$AQ$8)-1))","v":""},{"$f":"IF(ISBLANK('Data Input'!A97),\"\",SUM('Data Input'!H97,'Data Input'!I97,'Data Input'!M97,'Data Input'!N97))","v":""},{"$f":"IF(G93=\"\",\"\",G93/COUNTIF('Data Input'!$C$8:$AQ$8,$G$2))","v":""},{"$f":"IF(ISBLANK('Data Input'!A97),\"\",SUM('Data Input'!J97,'Data Input'!K97,'Data Input'!U97,'Data Input'!V97))","v":""},{"$f":"IF(I93=\"\",\"\",I93/COUNTIF('Data Input'!$C$8:$AQ$8,$I$2))","v":""},{"$f":"IF(ISBLANK('Data Input'!A97),\"\",SUM('Data Input'!D97))","v":""},{"$f":"IF(K93=\"\",\"\",K93/COUNTIF('Data Input'!$C$8:$AQ$8,$K$2))","v":""},{"$f":"IF(ISBLANK('Data Input'!A97),\"\",SUM('Data Input'!O97,'Data Input'!P97,'Data Input'!R97,'Data Input'!S97))","v":""},{"$f":"IF(M93=\"\",\"\",M93/COUNTIF('Data Input'!$C$8:$AQ$8,$M$2))","v":""},{"$f":"IF(ISBLANK('Data Input'!A97),\"\",SUM('Data Input'!C97,'Data Input'!E97,'Data Input'!F97,'Data Input'!G97,'Data Input'!Q97,'Data Input'!T97))","v":""},{"$f":"IF(O93=\"\",\"\",O93/COUNTIF('Data Input'!$C$8:$AQ$8,$O$2))","v":""},{"$f":"IF(ISBLANK('Data Input'!A97),\"\",SUM('Data Input'!L97))","v":""},{"$f":"IF(Q93=\"\",\"\",Q93/COUNTIF('Data Input'!$C$8:$AQ$8,$Q$2))","v":""},{"$f":"IF(ISBLANK('Data Input'!A97),\"\",SUM('Data Input'!X97:AQ97))","v":""},{"$f":"IF(S93=\"\",\"\",S93/COUNTIF('Data Input'!$C$8:$AQ$8,$S$2))","v":""}]
[{"$f":"IF('Data Input'!A98=0,\"\",'Data Input'!A98)","v":""},{"$f":"IF(ISBLANK('Data Input'!A98),\"\",COUNTIF('Data Input'!C98:AQ98,\"\")-1)","v":""},{"$f":"IF(ISBLANK('Data Input'!A98),\"\",COUNTIF('Data Input'!C98:AQ98,\"0\"))","v":""},{"$f":"IF(ISBLANK('Data Input'!A98),\"\",SUM(B94,C94))","v":""},{"$f":"IF(ISBLANK('Data Input'!A98),\"\",SUM('Data Input'!C98:AQ98))","v":""},{"$f":"IF(E94=\"\",\"\",E94/(COUNTA('Data Input'!$C$8:$AQ$8)-1))","v":""},{"$f":"IF(ISBLANK('Data Input'!A98),\"\",SUM('Data Input'!H98,'Data Input'!I98,'Data Input'!M98,'Data Input'!N98))","v":""},{"$f":"IF(G94=\"\",\"\",G94/COUNTIF('Data Input'!$C$8:$AQ$8,$G$2))","v":""},{"$f":"IF(ISBLANK('Data Input'!A98),\"\",SUM('Data Input'!J98,'Data Input'!K98,'Data Input'!U98,'Data Input'!V98))","v":""},{"$f":"IF(I94=\"\",\"\",I94/COUNTIF('Data Input'!$C$8:$AQ$8,$I$2))","v":""},{"$f":"IF(ISBLANK('Data Input'!A98),\"\",SUM('Data Input'!D98))","v":""},{"$f":"IF(K94=\"\",\"\",K94/COUNTIF('Data Input'!$C$8:$AQ$8,$K$2))","v":""},{"$f":"IF(ISBLANK('Data Input'!A98),\"\",SUM('Data Input'!O98,'Data Input'!P98,'Data Input'!R98,'Data Input'!S98))","v":""},{"$f":"IF(M94=\"\",\"\",M94/COUNTIF('Data Input'!$C$8:$AQ$8,$M$2))","v":""},{"$f":"IF(ISBLANK('Data Input'!A98),\"\",SUM('Data Input'!C98,'Data Input'!E98,'Data Input'!F98,'Data Input'!G98,'Data Input'!Q98,'Data Input'!T98))","v":""},{"$f":"IF(O94=\"\",\"\",O94/COUNTIF('Data Input'!$C$8:$AQ$8,$O$2))","v":""},{"$f":"IF(ISBLANK('Data Input'!A98),\"\",SUM('Data Input'!L98))","v":""},{"$f":"IF(Q94=\"\",\"\",Q94/COUNTIF('Data Input'!$C$8:$AQ$8,$Q$2))","v":""},{"$f":"IF(ISBLANK('Data Input'!A98),\"\",SUM('Data Input'!X98:AQ98))","v":""},{"$f":"IF(S94=\"\",\"\",S94/COUNTIF('Data Input'!$C$8:$AQ$8,$S$2))","v":""}]
[{"$f":"IF('Data Input'!A99=0,\"\",'Data Input'!A99)","v":""},{"$f":"IF(ISBLANK('Data Input'!A99),\"\",COUNTIF('Data Input'!C99:AQ99,\"\")-1)","v":""},{"$f":"IF(ISBLANK('Data Input'!A99),\"\",COUNTIF('Data Input'!C99:AQ99,\"0\"))","v":""},{"$f":"IF(ISBLANK('Data Input'!A99),\"\",SUM(B95,C95))","v":""},{"$f":"IF(ISBLANK('Data Input'!A99),\"\",SUM('Data Input'!C99:AQ99))","v":""},{"$f":"IF(E95=\"\",\"\",E95/(COUNTA('Data Input'!$C$8:$AQ$8)-1))","v":""},{"$f":"IF(ISBLANK('Data Input'!A99),\"\",SUM('Data Input'!H99,'Data Input'!I99,'Data Input'!M99,'Data Input'!N99))","v":""},{"$f":"IF(G95=\"\",\"\",G95/COUNTIF('Data Input'!$C$8:$AQ$8,$G$2))","v":""},{"$f":"IF(ISBLANK('Data Input'!A99),\"\",SUM('Data Input'!J99,'Data Input'!K99,'Data Input'!U99,'Data Input'!V99))","v":""},{"$f":"IF(I95=\"\",\"\",I95/COUNTIF('Data Input'!$C$8:$AQ$8,$I$2))","v":""},{"$f":"IF(ISBLANK('Data Input'!A99),\"\",SUM('Data Input'!D99))","v":""},{"$f":"IF(K95=\"\",\"\",K95/COUNTIF('Data Input'!$C$8:$AQ$8,$K$2))","v":""},{"$f":"IF(ISBLANK('Data Input'!A99),\"\",SUM('Data Input'!O99,'Data Input'!P99,'Data Input'!R99,'Data Input'!S99))","v":""},{"$f":"IF(M95=\"\",\"\",M95/COUNTIF('Data Input'!$C$8:$AQ$8,$M$2))","v":""},{"$f":"IF(ISBLANK('Data Input'!A99),\"\",SUM('Data Input'!C99,'Data Input'!E99,'Data Input'!F99,'Data Input'!G99,'Data Input'!Q99,'Data Input'!T99))","v":""},{"$f":"IF(O95=\"\",\"\",O95/COUNTIF('Data Input'!$C$8:$AQ$8,$O$2))","v":""},{"$f":"IF(ISBLANK('Data Input'!A99),\"\",SUM('Data Input'!L99))","v":""},{"$f":"IF(Q95=\"\",\"\",Q95/COUNTIF('Data Input'!$C$8:$AQ$8,$Q$2))","v":""},{"$f":"IF(ISBLANK('Data Input'!A99),\"\",SUM('Data Input'!X99:AQ99))","v":""},{"$f":"IF(S95=\"\",\"\",S95/COUNTIF('Data Input'!$C$8:$AQ$8,$S$2))","v":""}]
[{"$f":"IF('Data Input'!A100=0,\"\",'Data Input'!A100)","v":""},{"$f":"IF(ISBLANK('Data Input'!A100),\"\",COUNTIF('Data Input'!C100:AQ100,\"\")-1)","v":""},{"$f":"IF(ISBLANK('Data Input'!A100),\"\",COUNTIF('Data Input'!C100:AQ100,\"0\"))","v":""},{"$f":"IF(ISBLANK('Data Input'!A100),\"\",SUM(B96,C96))","v":""},{"$f":"IF(ISBLANK('Data Input'!A100),\"\",SUM('Data Input'!C100:AQ100))","v":""},{"$f":"IF(E96=\"\",\"\",E96/(COUNTA('Data Input'!$C$8:$AQ$8)-1))","v":""},{"$f":"IF(ISBLANK('Data Input'!A100),\"\",SUM('Data Input'!H100,'Data Input'!I100,'Data Input'!M100,'Data Input'!N100))","v":""},{"$f":"IF(G96=\"\",\"\",G96/COUNTIF('Data Input'!$C$8:$AQ$8,$G$2))","v":""},{"$f":"IF(ISBLANK('Data Input'!A100),\"\",SUM('Data Input'!J100,'Data Input'!K100,'Data Input'!U100,'Data Input'!V100))","v":""},{"$f":"IF(I96=\"\",\"\",I96/COUNTIF('Data Input'!$C$8:$AQ$8,$I$2))","v":""},{"$f":"IF(ISBLANK('Data Input'!A100),\"\",SUM('Data Input'!D100))","v":""},{"$f":"IF(K96=\"\",\"\",K96/COUNTIF('Data Input'!$C$8:$AQ$8,$K$2))","v":""},{"$f":"IF(ISBLANK('Data Input'!A100),\"\",SUM('Data Input'!O100,'Data Input'!P100,'Data Input'!R100,'Data Input'!S100))","v":""},{"$f":"IF(M96=\"\",\"\",M96/COUNTIF('Data Input'!$C$8:$AQ$8,$M$2))","v":""},{"$f":"IF(ISBLANK('Data Input'!A100),\"\",SUM('Data Input'!C100,'Data Input'!E100,'Data Input'!F100,'Data Input'!G100,'Data Input'!Q100,'Data Input'!T100))","v":""},{"$f":"IF(O96=\"\",\"\",O96/COUNTIF('Data Input'!$C$8:$AQ$8,$O$2))","v":""},{"$f":"IF(ISBLANK('Data Input'!A100),\"\",SUM('Data Input'!L100))","v":""},{"$f":"IF(Q96=\"\",\"\",Q96/COUNTIF('Data Input'!$C$8:$AQ$8,$Q$2))","v":""},{"$f":"IF(ISBLANK('Data Input'!A100),\"\",SUM('Data Input'!X100:AQ100))","v":""},{"$f":"IF(S96=\"\",\"\",S96/COUNTIF('Data Input'!$C$8:$AQ$8,$S$2))","v":""}]
[{"$f":"IF('Data Input'!A101=0,\"\",'Data Input'!A101)","v":""},{"$f":"IF(ISBLANK('Data Input'!A101),\"\",COUNTIF('Data Input'!C101:AQ101,\"\")-1)","v":""},{"$f":"IF(ISBLANK('Data Input'!A101),\"\",COUNTIF('Data Input'!C101:AQ101,\"0\"))","v":""},{"$f":"IF(ISBLANK('Data Input'!A101),\"\",SUM(B97,C97))","v":""},{"$f":"IF(ISBLANK('Data Input'!A101),\"\",SUM('Data Input'!C101:AQ101))","v":""},{"$f":"IF(E97=\"\",\"\",E97/(COUNTA('Data Input'!$C$8:$AQ$8)-1))","v":""},{"$f":"IF(ISBLANK('Data Input'!A101),\"\",SUM('Data Input'!H101,'Data Input'!I101,'Data Input'!M101,'Data Input'!N101))","v":""},{"$f":"IF(G97=\"\",\"\",G97/COUNTIF('Data Input'!$C$8:$AQ$8,$G$2))","v":""},{"$f":"IF(ISBLANK('Data Input'!A101),\"\",SUM('Data Input'!J101,'Data Input'!K101,'Data Input'!U101,'Data Input'!V101))","v":""},{"$f":"IF(I97=\"\",\"\",I97/COUNTIF('Data Input'!$C$8:$AQ$8,$I$2))","v":""},{"$f":"IF(ISBLANK('Data Input'!A101),\"\",SUM('Data Input'!D101))","v":""},{"$f":"IF(K97=\"\",\"\",K97/COUNTIF('Data Input'!$C$8:$AQ$8,$K$2))","v":""},{"$f":"IF(ISBLANK('Data Input'!A101),\"\",SUM('Data Input'!O101,'Data Input'!P101,'Data Input'!R101,'Data Input'!S101))","v":""},{"$f":"IF(M97=\"\",\"\",M97/COUNTIF('Data Input'!$C$8:$AQ$8,$M$2))","v":""},{"$f":"IF(ISBLANK('Data Input'!A101),\"\",SUM('Data Input'!C101,'Data Input'!E101,'Data Input'!F101,'Data Input'!G101,'Data Input'!Q101,'Data Input'!T101))","v":""},{"$f":"IF(O97=\"\",\"\",O97/COUNTIF('Data Input'!$C$8:$AQ$8,$O$2))","v":""},{"$f":"IF(ISBLANK('Data Input'!A101),\"\",SUM('Data Input'!L101))","v":""},{"$f":"IF(Q97=\"\",\"\",Q97/COUNTIF('Data Input'!$C$8:$AQ$8,$Q$2))","v":""},{"$f":"IF(ISBLANK('Data Input'!A101),\"\",SUM('Data Input'!X101:AQ101))","v":""},{"$f":"IF(S97=\"\",\"\",S97/COUNTIF('Data Input'!$C$8:$AQ$8,$S$2))","v":""}]
[{"$f":"IF('Data Input'!A102=0,\"\",'Data Input'!A102)","v":""},{"$f":"IF(ISBLANK('Data Input'!A102),\"\",COUNTIF('Data Input'!C102:AQ102,\"\")-1)","v":""},{"$f":"IF(ISBLANK('Data Input'!A102),\"\",COUNTIF('Data Input'!C102:AQ102,\"0\"))","v":""},{"$f":"IF(ISBLANK('Data Input'!A102),\"\",SUM(B98,C98))","v":""},{"$f":"IF(ISBLANK('Data Input'!A102),\"\",SUM('Data Input'!C102:AQ102))","v":""},{"$f":"IF(E98=\"\",\"\",E98/(COUNTA('Data Input'!$C$8:$AQ$8)-1))","v":""},{"$f":"IF(ISBLANK('Data Input'!A102),\"\",SUM('Data Input'!H102,'Data Input'!I102,'Data Input'!M102,'Data Input'!N102))","v":""},{"$f":"IF(G98=\"\",\"\",G98/COUNTIF('Data Input'!$C$8:$AQ$8,$G$2))","v":""},{"$f":"IF(ISBLANK('Data Input'!A102),\"\",SUM('Data Input'!J102,'Data Input'!K102,'Data Input'!U102,'Data Input'!V102))","v":""},{"$f":"IF(I98=\"\",\"\",I98/COUNTIF('Data Input'!$C$8:$AQ$8,$I$2))","v":""},{"$f":"IF(ISBLANK('Data Input'!A102),\"\",SUM('Data Input'!D102))","v":""},{"$f":"IF(K98=\"\",\"\",K98/COUNTIF('Data Input'!$C$8:$AQ$8,$K$2))","v":""},{"$f":"IF(ISBLANK('Data Input'!A102),\"\",SUM('Data Input'!O102,'Data Input'!P102,'Data Input'!R102,'Data Input'!S102))","v":""},{"$f":"IF(M98=\"\",\"\",M98/COUNTIF('Data Input'!$C$8:$AQ$8,$M$2))","v":""},{"$f":"IF(ISBLANK('Data Input'!A102),\"\",SUM('Data Input'!C102,'Data Input'!E102,'Data Input'!F102,'Data Input'!G102,'Data Input'!Q102,'Data Input'!T102))","v":""},{"$f":"IF(O98=\"\",\"\",O98/COUNTIF('Data Input'!$C$8:$AQ$8,$O$2))","v":""},{"$f":"IF(ISBLANK('Data Input'!A102),\"\",SUM('Data Input'!L102))","v":""},{"$f":"IF(Q98=\"\",\"\",Q98/COUNTIF('Data Input'!$C$8:$AQ$8,$Q$2))","v":""},{"$f":"IF(ISBLANK('Data Input'!A102),\"\",SUM('Data Input'!X102:AQ102))","v":""},{"$f":"IF(S98=\"\",\"\",S98/COUNTIF('Data Input'!$C$8:$AQ$8,$S$2))","v":""}]
[{"$f":"IF('Data Input'!A103=0,\"\",'Data Input'!A103)","v":""},{"$f":"IF(ISBLANK('Data Input'!A103),\"\",COUNTIF('Data Input'!C103:AQ103,\"\")-1)","v":""},{"$f":"IF(ISBLANK('Data Input'!A103),\"\",COUNTIF('Data Input'!C103:AQ103,\"0\"))","v":""},{"$f":"IF(ISBLANK('Data Input'!A103),\"\",SUM(B99,C99))","v":""},{"$f":"IF(ISBLANK('Data Input'!A103),\"\",SUM('Data Input'!C103:AQ103))","v":""},{"$f":"IF(E99=\"\",\"\",E99/(COUNTA('Data Input'!$C$8:$AQ$8)-1))","v":""},{"$f":"IF(ISBLANK('Data Input'!A103),\"\",SUM('Data Input'!H103,'Data Input'!I103,'Data Input'!M103,'Data Input'!N103))","v":""},{"$f":"IF(G99=\"\",\"\",G99/COUNTIF('Data Input'!$C$8:$AQ$8,$G$2))","v":""},{"$f":"IF(ISBLANK('Data Input'!A103),\"\",SUM('Data Input'!J103,'Data Input'!K103,'Data Input'!U103,'Data Input'!V103))","v":""},{"$f":"IF(I99=\"\",\"\",I99/COUNTIF('Data Input'!$C$8:$AQ$8,$I$2))","v":""},{"$f":"IF(ISBLANK('Data Input'!A103),\"\",SUM('Data Input'!D103))","v":""},{"$f":"IF(K99=\"\",\"\",K99/COUNTIF('Data Input'!$C$8:$AQ$8,$K$2))","v":""},{"$f":"IF(ISBLANK('Data Input'!A103),\"\",SUM('Data Input'!O103,'Data Input'!P103,'Data Input'!R103,'Data Input'!S103))","v":""},{"$f":"IF(M99=\"\",\"\",M99/COUNTIF('Data Input'!$C$8:$AQ$8,$M$2))","v":""},{"$f":"IF(ISBLANK('Data Input'!A103),\"\",SUM('Data Input'!C103,'Data Input'!E103,'Data Input'!F103,'Data Input'!G103,'Data Input'!Q103,'Data Input'!T103))","v":""},{"$f":"IF(O99=\"\",\"\",O99/COUNTIF('Data Input'!$C$8:$AQ$8,$O$2))","v":""},{"$f":"IF(ISBLANK('Data Input'!A103),\"\",SUM('Data Input'!L103))","v":""},{"$f":"IF(Q99=\"\",\"\",Q99/COUNTIF('Data Input'!$C$8:$AQ$8,$Q$2))","v":""},{"$f":"IF(ISBLANK('Data Input'!A103),\"\",SUM('Data Input'!X103:AQ103))","v":""},{"$f":"IF(S99=\"\",\"\",S99/COUNTIF('Data Input'!$C$8:$AQ$8,$S$2))","v":""}]
[{"$f":"IF('Data Input'!A104=0,\"\",'Data Input'!A104)","v":""},{"$f":"IF(ISBLANK('Data Input'!A104),\"\",COUNTIF('Data Input'!C104:AQ104,\"\")-1)","v":""},{"$f":"IF(ISBLANK('Data Input'!A104),\"\",COUNTIF('Data Input'!C104:AQ104,\"0\"))","v":""},{"$f":"IF(ISBLANK('Data Input'!A104),\"\",SUM(B100,C100))","v":""},{"$f":"IF(ISBLANK('Data Input'!A104),\"\",SUM('Data Input'!C104:AQ104))","v":""},{"$f":"IF(E100=\"\",\"\",E100/(COUNTA('Data Input'!$C$8:$AQ$8)-1))","v":""},{"$f":"IF(ISBLANK('Data Input'!A104),\"\",SUM('Data Input'!H104,'Data Input'!I104,'Data Input'!M104,'Data Input'!N104))","v":""},{"$f":"IF(G100=\"\",\"\",G100/COUNTIF('Data Input'!$C$8:$AQ$8,$G$2))","v":""},{"$f":"IF(ISBLANK('Data Input'!A104),\"\",SUM('Data Input'!J104,'Data Input'!K104,'Data Input'!U104,'Data Input'!V104))","v":""},{"$f":"IF(I100=\"\",\"\",I100/COUNTIF('Data Input'!$C$8:$AQ$8,$I$2))","v":""},{"$f":"IF(ISBLANK('Data Input'!A104),\"\",SUM('Data Input'!D104))","v":""},{"$f":"IF(K100=\"\",\"\",K100/COUNTIF('Data Input'!$C$8:$AQ$8,$K$2))","v":""},{"$f":"IF(ISBLANK('Data Input'!A104),\"\",SUM('Data Input'!O104,'Data Input'!P104,'Data Input'!R104,'Data Input'!S104))","v":""},{"$f":"IF(M100=\"\",\"\",M100/COUNTIF('Data Input'!$C$8:$AQ$8,$M$2))","v":""},{"$f":"IF(ISBLANK('Data Input'!A104),\"\",SUM('Data Input'!C104,'Data Input'!E104,'Data Input'!F104,'Data Input'!G104,'Data Input'!Q104,'Data Input'!T104))","v":""},{"$f":"IF(O100=\"\",\"\",O100/COUNTIF('Data Input'!$C$8:$AQ$8,$O$2))","v":""},{"$f":"IF(ISBLANK('Data Input'!A104),\"\",SUM('Data Input'!L104))","v":""},{"$f":"IF(Q100=\"\",\"\",Q100/COUNTIF('Data Input'!$C$8:$AQ$8,$Q$2))","v":""},{"$f":"IF(ISBLANK('Data Input'!A104),\"\",SUM('Data Input'!X104:AQ104))","v":""},{"$f":"IF(S100=\"\",\"\",S100/COUNTIF('Data Input'!$C$8:$AQ$8,$S$2))","v":""}]
[{"$f":"IF('Data Input'!A105=0,\"\",'Data Input'!A105)","v":""},{"$f":"IF(ISBLANK('Data Input'!A105),\"\",COUNTIF('Data Input'!C105:AQ105,\"\")-1)","v":""},{"$f":"IF(ISBLANK('Data Input'!A105),\"\",COUNTIF('Data Input'!C105:AQ105,\"0\"))","v":""},{"$f":"IF(ISBLANK('Data Input'!A105),\"\",SUM(B101,C101))","v":""},{"$f":"IF(ISBLANK('Data Input'!A105),\"\",SUM('Data Input'!C105:AQ105))","v":""},{"$f":"IF(E101=\"\",\"\",E101/(COUNTA('Data Input'!$C$8:$AQ$8)-1))","v":""},{"$f":"IF(ISBLANK('Data Input'!A105),\"\",SUM('Data Input'!H105,'Data Input'!I105,'Data Input'!M105,'Data Input'!N105))","v":""},{"$f":"IF(G101=\"\",\"\",G101/COUNTIF('Data Input'!$C$8:$AQ$8,$G$2))","v":""},{"$f":"IF(ISBLANK('Data Input'!A105),\"\",SUM('Data Input'!J105,'Data Input'!K105,'Data Input'!U105,'Data Input'!V105))","v":""},{"$f":"IF(I101=\"\",\"\",I101/COUNTIF('Data Input'!$C$8:$AQ$8,$I$2))","v":""},{"$f":"IF(ISBLANK('Data Input'!A105),\"\",SUM('Data Input'!D105))","v":""},{"$f":"IF(K101=\"\",\"\",K101/COUNTIF('Data Input'!$C$8:$AQ$8,$K$2))","v":""},{"$f":"IF(ISBLANK('Data Input'!A105),\"\",SUM('Data Input'!O105,'Data Input'!P105,'Data Input'!R105,'Data Input'!S105))","v":""},{"$f":"IF(M101=\"\",\"\",M101/COUNTIF('Data Input'!$C$8:$AQ$8,$M$2))","v":""},{"$f":"IF(ISBLANK('Data Input'!A105),\"\",SUM('Data Input'!C105,'Data Input'!E105,'Data Input'!F105,'Data Input'!G105,'Data Input'!Q105,'Data Input'!T105))","v":""},{"$f":"IF(O101=\"\",\"\",O101/COUNTIF('Data Input'!$C$8:$AQ$8,$O$2))","v":""},{"$f":"IF(ISBLANK('Data Input'!A105),\"\",SUM('Data Input'!L105))","v":""},{"$f":"IF(Q101=\"\",\"\",Q101/COUNTIF('Data Input'!$C$8:$AQ$8,$Q$2))","v":""},{"$f":"IF(ISBLANK('Data Input'!A105),\"\",SUM('Data Input'!X105:AQ105))","v":""},{"$f":"IF(S101=\"\",\"\",S101/COUNTIF('Data Input'!$C$8:$AQ$8,$S$2))","v":""}]
[{"$f":"IF('Data Input'!A106=0,\"\",'Data Input'!A106)","v":""},{"$f":"IF(ISBLANK('Data Input'!A106),\"\",COUNTIF('Data Input'!C106:AQ106,\"\")-1)","v":""},{"$f":"IF(ISBLANK('Data Input'!A106),\"\",COUNTIF('Data Input'!C106:AQ106,\"0\"))","v":""},{"$f":"IF(ISBLANK('Data Input'!A106),\"\",SUM(B102,C102))","v":""},{"$f":"IF(ISBLANK('Data Input'!A106),\"\",SUM('Data Input'!C106:AQ106))","v":""},{"$f":"IF(E102=\"\",\"\",E102/(COUNTA('Data Input'!$C$8:$AQ$8)-1))","v":""},{"$f":"IF(ISBLANK('Data Input'!A106),\"\",SUM('Data Input'!H106,'Data Input'!I106,'Data Input'!M106,'Data Input'!N106))","v":""},{"$f":"IF(G102=\"\",\"\",G102/COUNTIF('Data Input'!$C$8:$AQ$8,$G$2))","v":""},{"$f":"IF(ISBLANK('Data Input'!A106),\"\",SUM('Data Input'!J106,'Data Input'!K106,'Data Input'!U106,'Data Input'!V106))","v":""},{"$f":"IF(I102=\"\",\"\",I102/COUNTIF('Data Input'!$C$8:$AQ$8,$I$2))","v":""},{"$f":"IF(ISBLANK('Data Input'!A106),\"\",SUM('Data Input'!D106))","v":""},{"$f":"IF(K102=\"\",\"\",K102/COUNTIF('Data Input'!$C$8:$AQ$8,$K$2))","v":""},{"$f":"IF(ISBLANK('Data Input'!A106),\"\",SUM('Data Input'!O106,'Data Input'!P106,'Data Input'!R106,'Data Input'!S106))","v":""},{"$f":"IF(M102=\"\",\"\",M102/COUNTIF('Data Input'!$C$8:$AQ$8,$M$2))","v":""},{"$f":"IF(ISBLANK('Data Input'!A106),\"\",SUM('Data Input'!C106,'Data Input'!E106,'Data Input'!F106,'Data Input'!G106,'Data Input'!Q106,'Data Input'!T106))","v":""},{"$f":"IF(O102=\"\",\"\",O102/COUNTIF('Data Input'!$C$8:$AQ$8,$O$2))","v":""},{"$f":"IF(ISBLANK('Data Input'!A106),\"\",SUM('Data Input'!L106))","v":""},{"$f":"IF(Q102=\"\",\"\",Q102/COUNTIF('Data Input'!$C$8:$AQ$8,$Q$2))","v":""},{"$f":"IF(ISBLANK('Data Input'!A106),\"\",SUM('Data Input'!X106:AQ106))","v":""},{"$f":"IF(S102=\"\",\"\",S102/COUNTIF('Data Input'!$C$8:$AQ$8,$S$2))","v":""}]
[{"$f":"IF('Data Input'!A107=0,\"\",'Data Input'!A107)","v":""},{"$f":"IF(ISBLANK('Data Input'!A107),\"\",COUNTIF('Data Input'!C107:AQ107,\"\")-1)","v":""},{"$f":"IF(ISBLANK('Data Input'!A107),\"\",COUNTIF('Data Input'!C107:AQ107,\"0\"))","v":""},{"$f":"IF(ISBLANK('Data Input'!A107),\"\",SUM(B103,C103))","v":""},{"$f":"IF(ISBLANK('Data Input'!A107),\"\",SUM('Data Input'!C107:AQ107))","v":""},{"$f":"IF(E103=\"\",\"\",E103/(COUNTA('Data Input'!$C$8:$AQ$8)-1))","v":""},{"$f":"IF(ISBLANK('Data Input'!A107),\"\",SUM('Data Input'!H107,'Data Input'!I107,'Data Input'!M107,'Data Input'!N107))","v":""},{"$f":"IF(G103=\"\",\"\",G103/COUNTIF('Data Input'!$C$8:$AQ$8,$G$2))","v":""},{"$f":"IF(ISBLANK('Data Input'!A107),\"\",SUM('Data Input'!J107,'Data Input'!K107,'Data Input'!U107,'Data Input'!V107))","v":""},{"$f":"IF(I103=\"\",\"\",I103/COUNTIF('Data Input'!$C$8:$AQ$8,$I$2))","v":""},{"$f":"IF(ISBLANK('Data Input'!A107),\"\",SUM('Data Input'!D107))","v":""},{"$f":"IF(K103=\"\",\"\",K103/COUNTIF('Data Input'!$C$8:$AQ$8,$K$2))","v":""},{"$f":"IF(ISBLANK('Data Input'!A107),\"\",SUM('Data Input'!O107,'Data Input'!P107,'Data Input'!R107,'Data Input'!S107))","v":""},{"$f":"IF(M103=\"\",\"\",M103/COUNTIF('Data Input'!$C$8:$AQ$8,$M$2))","v":""},{"$f":"IF(ISBLANK('Data Input'!A107),\"\",SUM('Data Input'!C107,'Data Input'!E107,'Data Input'!F107,'Data Input'!G107,'Data Input'!Q107,'Data Input'!T107))","v":""},{"$f":"IF(O103=\"\",\"\",O103/COUNTIF('Data Input'!$C$8:$AQ$8,$O$2))","v":""},{"$f":"IF(ISBLANK('Data Input'!A107),\"\",SUM('Data Input'!L107))","v":""},{"$f":"IF(Q103=\"\",\"\",Q103/COUNTIF('Data Input'!$C$8:$AQ$8,$Q$2))","v":""},{"$f":"IF(ISBLANK('Data Input'!A107),\"\",SUM('Data Input'!X107:AQ107))","v":""},{"$f":"IF(S103=\"\",\"\",S103/COUNTIF('Data Input'!$C$8:$AQ$8,$S$2))","v":""}]
[{"$f":"IF('Data Input'!A108=0,\"\",'Data Input'!A108)","v":""},{"$f":"IF(ISBLANK('Data Input'!A108),\"\",COUNTIF('Data Input'!C108:AQ108,\"\")-1)","v":""},{"$f":"IF(ISBLANK('Data Input'!A108),\"\",COUNTIF('Data Input'!C108:AQ108,\"0\"))","v":""},{"$f":"IF(ISBLANK('Data Input'!A108),\"\",SUM(B104,C104))","v":""},{"$f":"IF(ISBLANK('Data Input'!A108),\"\",SUM('Data Input'!C108:AQ108))","v":""},{"$f":"IF(E104=\"\",\"\",E104/(COUNTA('Data Input'!$C$8:$AQ$8)-1))","v":""},{"$f":"IF(ISBLANK('Data Input'!A108),\"\",SUM('Data Input'!H108,'Data Input'!I108,'Data Input'!M108,'Data Input'!N108))","v":""},{"$f":"IF(G104=\"\",\"\",G104/COUNTIF('Data Input'!$C$8:$AQ$8,$G$2))","v":""},{"$f":"IF(ISBLANK('Data Input'!A108),\"\",SUM('Data Input'!J108,'Data Input'!K108,'Data Input'!U108,'Data Input'!V108))","v":""},{"$f":"IF(I104=\"\",\"\",I104/COUNTIF('Data Input'!$C$8:$AQ$8,$I$2))","v":""},{"$f":"IF(ISBLANK('Data Input'!A108),\"\",SUM('Data Input'!D108))","v":""},{"$f":"IF(K104=\"\",\"\",K104/COUNTIF('Data Input'!$C$8:$AQ$8,$K$2))","v":""},{"$f":"IF(ISBLANK('Data Input'!A108),\"\",SUM('Data Input'!O108,'Data Input'!P108,'Data Input'!R108,'Data Input'!S108))","v":""},{"$f":"IF(M104=\"\",\"\",M104/COUNTIF('Data Input'!$C$8:$AQ$8,$M$2))","v":""},{"$f":"IF(ISBLANK('Data Input'!A108),\"\",SUM('Data Input'!C108,'Data Input'!E108,'Data Input'!F108,'Data Input'!G108,'Data Input'!Q108,'Data Input'!T108))","v":""},{"$f":"IF(O104=\"\",\"\",O104/COUNTIF('Data Input'!$C$8:$AQ$8,$O$2))","v":""},{"$f":"IF(ISBLANK('Data Input'!A108),\"\",SUM('Data Input'!L108))","v":""},{"$f":"IF(Q104=\"\",\"\",Q104/COUNTIF('Data Input'!$C$8:$AQ$8,$Q$2))","v":""},{"$f":"IF(ISBLANK('Data Input'!A108),\"\",SUM('Data Input'!X108:AQ108))","v":""},{"$f":"IF(S104=\"\",\"\",S104/COUNTIF('Data Input'!$C$8:$AQ$8,$S$2))","v":""}]
[{"$f":"IF('Data Input'!A109=0,\"\",'Data Input'!A109)","v":""},{"$f":"IF(ISBLANK('Data Input'!A109),\"\",COUNTIF('Data Input'!C109:AQ109,\"\")-1)","v":""},{"$f":"IF(ISBLANK('Data Input'!A109),\"\",COUNTIF('Data Input'!C109:AQ109,\"0\"))","v":""},{"$f":"IF(ISBLANK('Data Input'!A109),\"\",SUM(B105,C105))","v":""},{"$f":"IF(ISBLANK('Data Input'!A109),\"\",SUM('Data Input'!C109:AQ109))","v":""},{"$f":"IF(E105=\"\",\"\",E105/(COUNTA('Data Input'!$C$8:$AQ$8)-1))","v":""},{"$f":"IF(ISBLANK('Data Input'!A109),\"\",SUM('Data Input'!H109,'Data Input'!I109,'Data Input'!M109,'Data Input'!N109))","v":""},{"$f":"IF(G105=\"\",\"\",G105/COUNTIF('Data Input'!$C$8:$AQ$8,$G$2))","v":""},{"$f":"IF(ISBLANK('Data Input'!A109),\"\",SUM('Data Input'!J109,'Data Input'!K109,'Data Input'!U109,'Data Input'!V109))","v":""},{"$f":"IF(I105=\"\",\"\",I105/COUNTIF('Data Input'!$C$8:$AQ$8,$I$2))","v":""},{"$f":"IF(ISBLANK('Data Input'!A109),\"\",SUM('Data Input'!D109))","v":""},{"$f":"IF(K105=\"\",\"\",K105/COUNTIF('Data Input'!$C$8:$AQ$8,$K$2))","v":""},{"$f":"IF(ISBLANK('Data Input'!A109),\"\",SUM('Data Input'!O109,'Data Input'!P109,'Data Input'!R109,'Data Input'!S109))","v":""},{"$f":"IF(M105=\"\",\"\",M105/COUNTIF('Data Input'!$C$8:$AQ$8,$M$2))","v":""},{"$f":"IF(ISBLANK('Data Input'!A109),\"\",SUM('Data Input'!C109,'Data Input'!E109,'Data Input'!F109,'Data Input'!G109,'Data Input'!Q109,'Data Input'!T109))","v":""},{"$f":"IF(O105=\"\",\"\",O105/COUNTIF('Data Input'!$C$8:$AQ$8,$O$2))","v":""},{"$f":"IF(ISBLANK('Data Input'!A109),\"\",SUM('Data Input'!L109))","v":""},{"$f":"IF(Q105=\"\",\"\",Q105/COUNTIF('Data Input'!$C$8:$AQ$8,$Q$2))","v":""},{"$f":"IF(ISBLANK('Data Input'!A109),\"\",SUM('Data Input'!X109:AQ109))","v":""},{"$f":"IF(S105=\"\",\"\",S105/COUNTIF('Data Input'!$C$8:$AQ$8,$S$2))","v":""}]
[{"$f":"IF('Data Input'!A110=0,\"\",'Data Input'!A110)","v":""},{"$f":"IF(ISBLANK('Data Input'!A110),\"\",COUNTIF('Data Input'!C110:AQ110,\"\")-1)","v":""},{"$f":"IF(ISBLANK('Data Input'!A110),\"\",COUNTIF('Data Input'!C110:AQ110,\"0\"))","v":""},{"$f":"IF(ISBLANK('Data Input'!A110),\"\",SUM(B106,C106))","v":""},{"$f":"IF(ISBLANK('Data Input'!A110),\"\",SUM('Data Input'!C110:AQ110))","v":""},{"$f":"IF(E106=\"\",\"\",E106/(COUNTA('Data Input'!$C$8:$AQ$8)-1))","v":""},{"$f":"IF(ISBLANK('Data Input'!A110),\"\",SUM('Data Input'!H110,'Data Input'!I110,'Data Input'!M110,'Data Input'!N110))","v":""},{"$f":"IF(G106=\"\",\"\",G106/COUNTIF('Data Input'!$C$8:$AQ$8,$G$2))","v":""},{"$f":"IF(ISBLANK('Data Input'!A110),\"\",SUM('Data Input'!J110,'Data Input'!K110,'Data Input'!U110,'Data Input'!V110))","v":""},{"$f":"IF(I106=\"\",\"\",I106/COUNTIF('Data Input'!$C$8:$AQ$8,$I$2))","v":""},{"$f":"IF(ISBLANK('Data Input'!A110),\"\",SUM('Data Input'!D110))","v":""},{"$f":"IF(K106=\"\",\"\",K106/COUNTIF('Data Input'!$C$8:$AQ$8,$K$2))","v":""},{"$f":"IF(ISBLANK('Data Input'!A110),\"\",SUM('Data Input'!O110,'Data Input'!P110,'Data Input'!R110,'Data Input'!S110))","v":""},{"$f":"IF(M106=\"\",\"\",M106/COUNTIF('Data Input'!$C$8:$AQ$8,$M$2))","v":""},{"$f":"IF(ISBLANK('Data Input'!A110),\"\",SUM('Data Input'!C110,'Data Input'!E110,'Data Input'!F110,'Data Input'!G110,'Data Input'!Q110,'Data Input'!T110))","v":""},{"$f":"IF(O106=\"\",\"\",O106/COUNTIF('Data Input'!$C$8:$AQ$8,$O$2))","v":""},{"$f":"IF(ISBLANK('Data Input'!A110),\"\",SUM('Data Input'!L110))","v":""},{"$f":"IF(Q106=\"\",\"\",Q106/COUNTIF('Data Input'!$C$8:$AQ$8,$Q$2))","v":""},{"$f":"IF(ISBLANK('Data Input'!A110),\"\",SUM('Data Input'!X110:AQ110))","v":""},{"$f":"IF(S106=\"\",\"\",S106/COUNTIF('Data Input'!$C$8:$AQ$8,$S$2))","v":""}]
[{"$f":"IF('Data Input'!A111=0,\"\",'Data Input'!A111)","v":""},{"$f":"IF(ISBLANK('Data Input'!A111),\"\",COUNTIF('Data Input'!C111:AQ111,\"\")-1)","v":""},{"$f":"IF(ISBLANK('Data Input'!A111),\"\",COUNTIF('Data Input'!C111:AQ111,\"0\"))","v":""},{"$f":"IF(ISBLANK('Data Input'!A111),\"\",SUM(B107,C107))","v":""},{"$f":"IF(ISBLANK('Data Input'!A111),\"\",SUM('Data Input'!C111:AQ111))","v":""},{"$f":"IF(E107=\"\",\"\",E107/(COUNTA('Data Input'!$C$8:$AQ$8)-1))","v":""},{"$f":"IF(ISBLANK('Data Input'!A111),\"\",SUM('Data Input'!H111,'Data Input'!I111,'Data Input'!M111,'Data Input'!N111))","v":""},{"$f":"IF(G107=\"\",\"\",G107/COUNTIF('Data Input'!$C$8:$AQ$8,$G$2))","v":""},{"$f":"IF(ISBLANK('Data Input'!A111),\"\",SUM('Data Input'!J111,'Data Input'!K111,'Data Input'!U111,'Data Input'!V111))","v":""},{"$f":"IF(I107=\"\",\"\",I107/COUNTIF('Data Input'!$C$8:$AQ$8,$I$2))","v":""},{"$f":"IF(ISBLANK('Data Input'!A111),\"\",SUM('Data Input'!D111))","v":""},{"$f":"IF(K107=\"\",\"\",K107/COUNTIF('Data Input'!$C$8:$AQ$8,$K$2))","v":""},{"$f":"IF(ISBLANK('Data Input'!A111),\"\",SUM('Data Input'!O111,'Data Input'!P111,'Data Input'!R111,'Data Input'!S111))","v":""},{"$f":"IF(M107=\"\",\"\",M107/COUNTIF('Data Input'!$C$8:$AQ$8,$M$2))","v":""},{"$f":"IF(ISBLANK('Data Input'!A111),\"\",SUM('Data Input'!C111,'Data Input'!E111,'Data Input'!F111,'Data Input'!G111,'Data Input'!Q111,'Data Input'!T111))","v":""},{"$f":"IF(O107=\"\",\"\",O107/COUNTIF('Data Input'!$C$8:$AQ$8,$O$2))","v":""},{"$f":"IF(ISBLANK('Data Input'!A111),\"\",SUM('Data Input'!L111))","v":""},{"$f":"IF(Q107=\"\",\"\",Q107/COUNTIF('Data Input'!$C$8:$AQ$8,$Q$2))","v":""},{"$f":"IF(ISBLANK('Data Input'!A111),\"\",SUM('Data Input'!X111:AQ111))","v":""},{"$f":"IF(S107=\"\",\"\",S107/COUNTIF('Data Input'!$C$8:$AQ$8,$S$2))","v":""}]
[{"$f":"IF('Data Input'!A112=0,\"\",'Data Input'!A112)","v":""},{"$f":"IF(ISBLANK('Data Input'!A112),\"\",COUNTIF('Data Input'!C112:AQ112,\"\")-1)","v":""},{"$f":"IF(ISBLANK('Data Input'!A112),\"\",COUNTIF('Data Input'!C112:AQ112,\"0\"))","v":""},{"$f":"IF(ISBLANK('Data Input'!A112),\"\",SUM(B108,C108))","v":""},{"$f":"IF(ISBLANK('Data Input'!A112),\"\",SUM('Data Input'!C112:AQ112))","v":""},{"$f":"IF(E108=\"\",\"\",E108/(COUNTA('Data Input'!$C$8:$AQ$8)-1))","v":""},{"$f":"IF(ISBLANK('Data Input'!A112),\"\",SUM('Data Input'!H112,'Data Input'!I112,'Data Input'!M112,'Data Input'!N112))","v":""},{"$f":"IF(G108=\"\",\"\",G108/COUNTIF('Data Input'!$C$8:$AQ$8,$G$2))","v":""},{"$f":"IF(ISBLANK('Data Input'!A112),\"\",SUM('Data Input'!J112,'Data Input'!K112,'Data Input'!U112,'Data Input'!V112))","v":""},{"$f":"IF(I108=\"\",\"\",I108/COUNTIF('Data Input'!$C$8:$AQ$8,$I$2))","v":""},{"$f":"IF(ISBLANK('Data Input'!A112),\"\",SUM('Data Input'!D112))","v":""},{"$f":"IF(K108=\"\",\"\",K108/COUNTIF('Data Input'!$C$8:$AQ$8,$K$2))","v":""},{"$f":"IF(ISBLANK('Data Input'!A112),\"\",SUM('Data Input'!O112,'Data Input'!P112,'Data Input'!R112,'Data Input'!S112))","v":""},{"$f":"IF(M108=\"\",\"\",M108/COUNTIF('Data Input'!$C$8:$AQ$8,$M$2))","v":""},{"$f":"IF(ISBLANK('Data Input'!A112),\"\",SUM('Data Input'!C112,'Data Input'!E112,'Data Input'!F112,'Data Input'!G112,'Data Input'!Q112,'Data Input'!T112))","v":""},{"$f":"IF(O108=\"\",\"\",O108/COUNTIF('Data Input'!$C$8:$AQ$8,$O$2))","v":""},{"$f":"IF(ISBLANK('Data Input'!A112),\"\",SUM('Data Input'!L112))","v":""},{"$f":"IF(Q108=\"\",\"\",Q108/COUNTIF('Data Input'!$C$8:$AQ$8,$Q$2))","v":""},{"$f":"IF(ISBLANK('Data Input'!A112),\"\",SUM('Data Input'!X112:AQ112))","v":""},{"$f":"IF(S108=\"\",\"\",S108/COUNTIF('Data Input'!$C$8:$AQ$8,$S$2))","v":""}]
[{"$f":"IF('Data Input'!A113=0,\"\",'Data Input'!A113)","v":""},{"$f":"IF(ISBLANK('Data Input'!A113),\"\",COUNTIF('Data Input'!C113:AQ113,\"\")-1)","v":""},{"$f":"IF(ISBLANK('Data Input'!A113),\"\",COUNTIF('Data Input'!C113:AQ113,\"0\"))","v":""},{"$f":"IF(ISBLANK('Data Input'!A113),\"\",SUM(B109,C109))","v":""},{"$f":"IF(ISBLANK('Data Input'!A113),\"\",SUM('Data Input'!C113:AQ113))","v":""},{"$f":"IF(E109=\"\",\"\",E109/(COUNTA('Data Input'!$C$8:$AQ$8)-1))","v":""},{"$f":"IF(ISBLANK('Data Input'!A113),\"\",SUM('Data Input'!H113,'Data Input'!I113,'Data Input'!M113,'Data Input'!N113))","v":""},{"$f":"IF(G109=\"\",\"\",G109/COUNTIF('Data Input'!$C$8:$AQ$8,$G$2))","v":""},{"$f":"IF(ISBLANK('Data Input'!A113),\"\",SUM('Data Input'!J113,'Data Input'!K113,'Data Input'!U113,'Data Input'!V113))","v":""},{"$f":"IF(I109=\"\",\"\",I109/COUNTIF('Data Input'!$C$8:$AQ$8,$I$2))","v":""},{"$f":"IF(ISBLANK('Data Input'!A113),\"\",SUM('Data Input'!D113))","v":""},{"$f":"IF(K109=\"\",\"\",K109/COUNTIF('Data Input'!$C$8:$AQ$8,$K$2))","v":""},{"$f":"IF(ISBLANK('Data Input'!A113),\"\",SUM('Data Input'!O113,'Data Input'!P113,'Data Input'!R113,'Data Input'!S113))","v":""},{"$f":"IF(M109=\"\",\"\",M109/COUNTIF('Data Input'!$C$8:$AQ$8,$M$2))","v":""},{"$f":"IF(ISBLANK('Data Input'!A113),\"\",SUM('Data Input'!C113,'Data Input'!E113,'Data Input'!F113,'Data Input'!G113,'Data Input'!Q113,'Data Input'!T113))","v":""},{"$f":"IF(O109=\"\",\"\",O109/COUNTIF('Data Input'!$C$8:$AQ$8,$O$2))","v":""},{"$f":"IF(ISBLANK('Data Input'!A113),\"\",SUM('Data Input'!L113))","v":""},{"$f":"IF(Q109=\"\",\"\",Q109/COUNTIF('Data Input'!$C$8:$AQ$8,$Q$2))","v":""},{"$f":"IF(ISBLANK('Data Input'!A113),\"\",SUM('Data Input'!X113:AQ113))","v":""},{"$f":"IF(S109=\"\",\"\",S109/COUNTIF('Data Input'!$C$8:$AQ$8,$S$2))","v":""}]
[{"$f":"IF('Data Input'!A114=0,\"\",'Data Input'!A114)","v":""},{"$f":"IF(ISBLANK('Data Input'!A114),\"\",COUNTIF('Data Input'!C114:AQ114,\"\")-1)","v":""},{"$f":"IF(ISBLANK('Data Input'!A114),\"\",COUNTIF('Data Input'!C114:AQ114,\"0\"))","v":""},{"$f":"IF(ISBLANK('Data Input'!A114),\"\",SUM(B110,C110))","v":""},{"$f":"IF(ISBLANK('Data Input'!A114),\"\",SUM('Data Input'!C114:AQ114))","v":""},{"$f":"IF(E110=\"\",\"\",E110/(COUNTA('Data Input'!$C$8:$AQ$8)-1))","v":""},{"$f":"IF(ISBLANK('Data Input'!A114),\"\",SUM('Data Input'!H114,'Data Input'!I114,'Data Input'!M114,'Data Input'!N114))","v":""},{"$f":"IF(G110=\"\",\"\",G110/COUNTIF('Data Input'!$C$8:$AQ$8,$G$2))","v":""},{"$f":"IF(ISBLANK('Data Input'!A114),\"\",SUM('Data Input'!J114,'Data Input'!K114,'Data Input'!U114,'Data Input'!V114))","v":""},{"$f":"IF(I110=\"\",\"\",I110/COUNTIF('Data Input'!$C$8:$AQ$8,$I$2))","v":""},{"$f":"IF(ISBLANK('Data Input'!A114),\"\",SUM('Data Input'!D114))","v":""},{"$f":"IF(K110=\"\",\"\",K110/COUNTIF('Data Input'!$C$8:$AQ$8,$K$2))","v":""},{"$f":"IF(ISBLANK('Data Input'!A114),\"\",SUM('Data Input'!O114,'Data Input'!P114,'Data Input'!R114,'Data Input'!S114))","v":""},{"$f":"IF(M110=\"\",\"\",M110/COUNTIF('Data Input'!$C$8:$AQ$8,$M$2))","v":""},{"$f":"IF(ISBLANK('Data Input'!A114),\"\",SUM('Data Input'!C114,'Data Input'!E114,'Data Input'!F114,'Data Input'!G114,'Data Input'!Q114,'Data Input'!T114))","v":""},{"$f":"IF(O110=\"\",\"\",O110/COUNTIF('Data Input'!$C$8:$AQ$8,$O$2))","v":""},{"$f":"IF(ISBLANK('Data Input'!A114),\"\",SUM('Data Input'!L114))","v":""},{"$f":"IF(Q110=\"\",\"\",Q110/COUNTIF('Data Input'!$C$8:$AQ$8,$Q$2))","v":""},{"$f":"IF(ISBLANK('Data Input'!A114),\"\",SUM('Data Input'!X114:AQ114))","v":""},{"$f":"IF(S110=\"\",\"\",S110/COUNTIF('Data Input'!$C$8:$AQ$8,$S$2))","v":""}]
[{"$f":"IF('Data Input'!A115=0,\"\",'Data Input'!A115)","v":""},{"$f":"IF(ISBLANK('Data Input'!A115),\"\",COUNTIF('Data Input'!C115:AQ115,\"\")-1)","v":""},{"$f":"IF(ISBLANK('Data Input'!A115),\"\",COUNTIF('Data Input'!C115:AQ115,\"0\"))","v":""},{"$f":"IF(ISBLANK('Data Input'!A115),\"\",SUM(B111,C111))","v":""},{"$f":"IF(ISBLANK('Data Input'!A115),\"\",SUM('Data Input'!C115:AQ115))","v":""},{"$f":"IF(E111=\"\",\"\",E111/(COUNTA('Data Input'!$C$8:$AQ$8)-1))","v":""},{"$f":"IF(ISBLANK('Data Input'!A115),\"\",SUM('Data Input'!H115,'Data Input'!I115,'Data Input'!M115,'Data Input'!N115))","v":""},{"$f":"IF(G111=\"\",\"\",G111/COUNTIF('Data Input'!$C$8:$AQ$8,$G$2))","v":""},{"$f":"IF(ISBLANK('Data Input'!A115),\"\",SUM('Data Input'!J115,'Data Input'!K115,'Data Input'!U115,'Data Input'!V115))","v":""},{"$f":"IF(I111=\"\",\"\",I111/COUNTIF('Data Input'!$C$8:$AQ$8,$I$2))","v":""},{"$f":"IF(ISBLANK('Data Input'!A115),\"\",SUM('Data Input'!D115))","v":""},{"$f":"IF(K111=\"\",\"\",K111/COUNTIF('Data Input'!$C$8:$AQ$8,$K$2))","v":""},{"$f":"IF(ISBLANK('Data Input'!A115),\"\",SUM('Data Input'!O115,'Data Input'!P115,'Data Input'!R115,'Data Input'!S115))","v":""},{"$f":"IF(M111=\"\",\"\",M111/COUNTIF('Data Input'!$C$8:$AQ$8,$M$2))","v":""},{"$f":"IF(ISBLANK('Data Input'!A115),\"\",SUM('Data Input'!C115,'Data Input'!E115,'Data Input'!F115,'Data Input'!G115,'Data Input'!Q115,'Data Input'!T115))","v":""},{"$f":"IF(O111=\"\",\"\",O111/COUNTIF('Data Input'!$C$8:$AQ$8,$O$2))","v":""},{"$f":"IF(ISBLANK('Data Input'!A115),\"\",SUM('Data Input'!L115))","v":""},{"$f":"IF(Q111=\"\",\"\",Q111/COUNTIF('Data Input'!$C$8:$AQ$8,$Q$2))","v":""},{"$f":"IF(ISBLANK('Data Input'!A115),\"\",SUM('Data Input'!X115:AQ115))","v":""},{"$f":"IF(S111=\"\",\"\",S111/COUNTIF('Data Input'!$C$8:$AQ$8,$S$2))","v":""}]
[{"$f":"IF('Data Input'!A116=0,\"\",'Data Input'!A116)","v":""},{"$f":"IF(ISBLANK('Data Input'!A116),\"\",COUNTIF('Data Input'!C116:AQ116,\"\")-1)","v":""},{"$f":"IF(ISBLANK('Data Input'!A116),\"\",COUNTIF('Data Input'!C116:AQ116,\"0\"))","v":""},{"$f":"IF(ISBLANK('Data Input'!A116),\"\",SUM(B112,C112))","v":""},{"$f":"IF(ISBLANK('Data Input'!A116),\"\",SUM('Data Input'!C116:AQ116))","v":""},{"$f":"IF(E112=\"\",\"\",E112/(COUNTA('Data Input'!$C$8:$AQ$8)-1))","v":""},{"$f":"IF(ISBLANK('Data Input'!A116),\"\",SUM('Data Input'!H116,'Data Input'!I116,'Data Input'!M116,'Data Input'!N116))","v":""},{"$f":"IF(G112=\"\",\"\",G112/COUNTIF('Data Input'!$C$8:$AQ$8,$G$2))","v":""},{"$f":"IF(ISBLANK('Data Input'!A116),\"\",SUM('Data Input'!J116,'Data Input'!K116,'Data Input'!U116,'Data Input'!V116))","v":""},{"$f":"IF(I112=\"\",\"\",I112/COUNTIF('Data Input'!$C$8:$AQ$8,$I$2))","v":""},{"$f":"IF(ISBLANK('Data Input'!A116),\"\",SUM('Data Input'!D116))","v":""},{"$f":"IF(K112=\"\",\"\",K112/COUNTIF('Data Input'!$C$8:$AQ$8,$K$2))","v":""},{"$f":"IF(ISBLANK('Data Input'!A116),\"\",SUM('Data Input'!O116,'Data Input'!P116,'Data Input'!R116,'Data Input'!S116))","v":""},{"$f":"IF(M112=\"\",\"\",M112/COUNTIF('Data Input'!$C$8:$AQ$8,$M$2))","v":""},{"$f":"IF(ISBLANK('Data Input'!A116),\"\",SUM('Data Input'!C116,'Data Input'!E116,'Data Input'!F116,'Data Input'!G116,'Data Input'!Q116,'Data Input'!T116))","v":""},{"$f":"IF(O112=\"\",\"\",O112/COUNTIF('Data Input'!$C$8:$AQ$8,$O$2))","v":""},{"$f":"IF(ISBLANK('Data Input'!A116),\"\",SUM('Data Input'!L116))","v":""},{"$f":"IF(Q112=\"\",\"\",Q112/COUNTIF('Data Input'!$C$8:$AQ$8,$Q$2))","v":""},{"$f":"IF(ISBLANK('Data Input'!A116),\"\",SUM('Data Input'!X116:AQ116))","v":""},{"$f":"IF(S112=\"\",\"\",S112/COUNTIF('Data Input'!$C$8:$AQ$8,$S$2))","v":""}]
[{"$f":"IF('Data Input'!A117=0,\"\",'Data Input'!A117)","v":""},{"$f":"IF(ISBLANK('Data Input'!A117),\"\",COUNTIF('Data Input'!C117:AQ117,\"\")-1)","v":""},{"$f":"IF(ISBLANK('Data Input'!A117),\"\",COUNTIF('Data Input'!C117:AQ117,\"0\"))","v":""},{"$f":"IF(ISBLANK('Data Input'!A117),\"\",SUM(B113,C113))","v":""},{"$f":"IF(ISBLANK('Data Input'!A117),\"\",SUM('Data Input'!C117:AQ117))","v":""},{"$f":"IF(E113=\"\",\"\",E113/(COUNTA('Data Input'!$C$8:$AQ$8)-1))","v":""},{"$f":"IF(ISBLANK('Data Input'!A117),\"\",SUM('Data Input'!H117,'Data Input'!I117,'Data Input'!M117,'Data Input'!N117))","v":""},{"$f":"IF(G113=\"\",\"\",G113/COUNTIF('Data Input'!$C$8:$AQ$8,$G$2))","v":""},{"$f":"IF(ISBLANK('Data Input'!A117),\"\",SUM('Data Input'!J117,'Data Input'!K117,'Data Input'!U117,'Data Input'!V117))","v":""},{"$f":"IF(I113=\"\",\"\",I113/COUNTIF('Data Input'!$C$8:$AQ$8,$I$2))","v":""},{"$f":"IF(ISBLANK('Data Input'!A117),\"\",SUM('Data Input'!D117))","v":""},{"$f":"IF(K113=\"\",\"\",K113/COUNTIF('Data Input'!$C$8:$AQ$8,$K$2))","v":""},{"$f":"IF(ISBLANK('Data Input'!A117),\"\",SUM('Data Input'!O117,'Data Input'!P117,'Data Input'!R117,'Data Input'!S117))","v":""},{"$f":"IF(M113=\"\",\"\",M113/COUNTIF('Data Input'!$C$8:$AQ$8,$M$2))","v":""},{"$f":"IF(ISBLANK('Data Input'!A117),\"\",SUM('Data Input'!C117,'Data Input'!E117,'Data Input'!F117,'Data Input'!G117,'Data Input'!Q117,'Data Input'!T117))","v":""},{"$f":"IF(O113=\"\",\"\",O113/COUNTIF('Data Input'!$C$8:$AQ$8,$O$2))","v":""},{"$f":"IF(ISBLANK('Data Input'!A117),\"\",SUM('Data Input'!L117))","v":""},{"$f":"IF(Q113=\"\",\"\",Q113/COUNTIF('Data Input'!$C$8:$AQ$8,$Q$2))","v":""},{"$f":"IF(ISBLANK('Data Input'!A117),\"\",SUM('Data Input'!X117:AQ117))","v":""},{"$f":"IF(S113=\"\",\"\",S113/COUNTIF('Data Input'!$C$8:$AQ$8,$S$2))","v":""}]
[{"$f":"IF('Data Input'!A118=0,\"\",'Data Input'!A118)","v":""},{"$f":"IF(ISBLANK('Data Input'!A118),\"\",COUNTIF('Data Input'!C118:AQ118,\"\")-1)","v":""},{"$f":"IF(ISBLANK('Data Input'!A118),\"\",COUNTIF('Data Input'!C118:AQ118,\"0\"))","v":""},{"$f":"IF(ISBLANK('Data Input'!A118),\"\",SUM(B114,C114))","v":""},{"$f":"IF(ISBLANK('Data Input'!A118),\"\",SUM('Data Input'!C118:AQ118))","v":""},{"$f":"IF(E114=\"\",\"\",E114/(COUNTA('Data Input'!$C$8:$AQ$8)-1))","v":""},{"$f":"IF(ISBLANK('Data Input'!A118),\"\",SUM('Data Input'!H118,'Data Input'!I118,'Data Input'!M118,'Data Input'!N118))","v":""},{"$f":"IF(G114=\"\",\"\",G114/COUNTIF('Data Input'!$C$8:$AQ$8,$G$2))","v":""},{"$f":"IF(ISBLANK('Data Input'!A118),\"\",SUM('Data Input'!J118,'Data Input'!K118,'Data Input'!U118,'Data Input'!V118))","v":""},{"$f":"IF(I114=\"\",\"\",I114/COUNTIF('Data Input'!$C$8:$AQ$8,$I$2))","v":""},{"$f":"IF(ISBLANK('Data Input'!A118),\"\",SUM('Data Input'!D118))","v":""},{"$f":"IF(K114=\"\",\"\",K114/COUNTIF('Data Input'!$C$8:$AQ$8,$K$2))","v":""},{"$f":"IF(ISBLANK('Data Input'!A118),\"\",SUM('Data Input'!O118,'Data Input'!P118,'Data Input'!R118,'Data Input'!S118))","v":""},{"$f":"IF(M114=\"\",\"\",M114/COUNTIF('Data Input'!$C$8:$AQ$8,$M$2))","v":""},{"$f":"IF(ISBLANK('Data Input'!A118),\"\",SUM('Data Input'!C118,'Data Input'!E118,'Data Input'!F118,'Data Input'!G118,'Data Input'!Q118,'Data Input'!T118))","v":""},{"$f":"IF(O114=\"\",\"\",O114/COUNTIF('Data Input'!$C$8:$AQ$8,$O$2))","v":""},{"$f":"IF(ISBLANK('Data Input'!A118),\"\",SUM('Data Input'!L118))","v":""},{"$f":"IF(Q114=\"\",\"\",Q114/COUNTIF('Data Input'!$C$8:$AQ$8,$Q$2))","v":""},{"$f":"IF(ISBLANK('Data Input'!A118),\"\",SUM('Data Input'!X118:AQ118))","v":""},{"$f":"IF(S114=\"\",\"\",S114/COUNTIF('Data Input'!$C$8:$AQ$8,$S$2))","v":""}]
[{"$f":"IF('Data Input'!A119=0,\"\",'Data Input'!A119)","v":""},{"$f":"IF(ISBLANK('Data Input'!A119),\"\",COUNTIF('Data Input'!C119:AQ119,\"\")-1)","v":""},{"$f":"IF(ISBLANK('Data Input'!A119),\"\",COUNTIF('Data Input'!C119:AQ119,\"0\"))","v":""},{"$f":"IF(ISBLANK('Data Input'!A119),\"\",SUM(B115,C115))","v":""},{"$f":"IF(ISBLANK('Data Input'!A119),\"\",SUM('Data Input'!C119:AQ119))","v":""},{"$f":"IF(E115=\"\",\"\",E115/(COUNTA('Data Input'!$C$8:$AQ$8)-1))","v":""},{"$f":"IF(ISBLANK('Data Input'!A119),\"\",SUM('Data Input'!H119,'Data Input'!I119,'Data Input'!M119,'Data Input'!N119))","v":""},{"$f":"IF(G115=\"\",\"\",G115/COUNTIF('Data Input'!$C$8:$AQ$8,$G$2))","v":""},{"$f":"IF(ISBLANK('Data Input'!A119),\"\",SUM('Data Input'!J119,'Data Input'!K119,'Data Input'!U119,'Data Input'!V119))","v":""},{"$f":"IF(I115=\"\",\"\",I115/COUNTIF('Data Input'!$C$8:$AQ$8,$I$2))","v":""},{"$f":"IF(ISBLANK('Data Input'!A119),\"\",SUM('Data Input'!D119))","v":""},{"$f":"IF(K115=\"\",\"\",K115/COUNTIF('Data Input'!$C$8:$AQ$8,$K$2))","v":""},{"$f":"IF(ISBLANK('Data Input'!A119),\"\",SUM('Data Input'!O119,'Data Input'!P119,'Data Input'!R119,'Data Input'!S119))","v":""},{"$f":"IF(M115=\"\",\"\",M115/COUNTIF('Data Input'!$C$8:$AQ$8,$M$2))","v":""},{"$f":"IF(ISBLANK('Data Input'!A119),\"\",SUM('Data Input'!C119,'Data Input'!E119,'Data Input'!F119,'Data Input'!G119,'Data Input'!Q119,'Data Input'!T119))","v":""},{"$f":"IF(O115=\"\",\"\",O115/COUNTIF('Data Input'!$C$8:$AQ$8,$O$2))","v":""},{"$f":"IF(ISBLANK('Data Input'!A119),\"\",SUM('Data Input'!L119))","v":""},{"$f":"IF(Q115=\"\",\"\",Q115/COUNTIF('Data Input'!$C$8:$AQ$8,$Q$2))","v":""},{"$f":"IF(ISBLANK('Data Input'!A119),\"\",SUM('Data Input'!X119:AQ119))","v":""},{"$f":"IF(S115=\"\",\"\",S115/COUNTIF('Data Input'!$C$8:$AQ$8,$S$2))","v":""}]
[{"$f":"IF('Data Input'!A120=0,\"\",'Data Input'!A120)","v":""},{"$f":"IF(ISBLANK('Data Input'!A120),\"\",COUNTIF('Data Input'!C120:AQ120,\"\")-1)","v":""},{"$f":"IF(ISBLANK('Data Input'!A120),\"\",COUNTIF('Data Input'!C120:AQ120,\"0\"))","v":""},{"$f":"IF(ISBLANK('Data Input'!A120),\"\",SUM(B116,C116))","v":""},{"$f":"IF(ISBLANK('Data Input'!A120),\"\",SUM('Data Input'!C120:AQ120))","v":""},{"$f":"IF(E116=\"\",\"\",E116/(COUNTA('Data Input'!$C$8:$AQ$8)-1))","v":""},{"$f":"IF(ISBLANK('Data Input'!A120),\"\",SUM('Data Input'!H120,'Data Input'!I120,'Data Input'!M120,'Data Input'!N120))","v":""},{"$f":"IF(G116=\"\",\"\",G116/COUNTIF('Data Input'!$C$8:$AQ$8,$G$2))","v":""},{"$f":"IF(ISBLANK('Data Input'!A120),\"\",SUM('Data Input'!J120,'Data Input'!K120,'Data Input'!U120,'Data Input'!V120))","v":""},{"$f":"IF(I116=\"\",\"\",I116/COUNTIF('Data Input'!$C$8:$AQ$8,$I$2))","v":""},{"$f":"IF(ISBLANK('Data Input'!A120),\"\",SUM('Data Input'!D120))","v":""},{"$f":"IF(K116=\"\",\"\",K116/COUNTIF('Data Input'!$C$8:$AQ$8,$K$2))","v":""},{"$f":"IF(ISBLANK('Data Input'!A120),\"\",SUM('Data Input'!O120,'Data Input'!P120,'Data Input'!R120,'Data Input'!S120))","v":""},{"$f":"IF(M116=\"\",\"\",M116/COUNTIF('Data Input'!$C$8:$AQ$8,$M$2))","v":""},{"$f":"IF(ISBLANK('Data Input'!A120),\"\",SUM('Data Input'!C120,'Data Input'!E120,'Data Input'!F120,'Data Input'!G120,'Data Input'!Q120,'Data Input'!T120))","v":""},{"$f":"IF(O116=\"\",\"\",O116/COUNTIF('Data Input'!$C$8:$AQ$8,$O$2))","v":""},{"$f":"IF(ISBLANK('Data Input'!A120),\"\",SUM('Data Input'!L120))","v":""},{"$f":"IF(Q116=\"\",\"\",Q116/COUNTIF('Data Input'!$C$8:$AQ$8,$Q$2))","v":""},{"$f":"IF(ISBLANK('Data Input'!A120),\"\",SUM('Data Input'!X120:AQ120))","v":""},{"$f":"IF(S116=\"\",\"\",S116/COUNTIF('Data Input'!$C$8:$AQ$8,$S$2))","v":""}]
[{"$f":"IF('Data Input'!A121=0,\"\",'Data Input'!A121)","v":""},{"$f":"IF(ISBLANK('Data Input'!A121),\"\",COUNTIF('Data Input'!C121:AQ121,\"\")-1)","v":""},{"$f":"IF(ISBLANK('Data Input'!A121),\"\",COUNTIF('Data Input'!C121:AQ121,\"0\"))","v":""},{"$f":"IF(ISBLANK('Data Input'!A121),\"\",SUM(B117,C117))","v":""},{"$f":"IF(ISBLANK('Data Input'!A121),\"\",SUM('Data Input'!C121:AQ121))","v":""},{"$f":"IF(E117=\"\",\"\",E117/(COUNTA('Data Input'!$C$8:$AQ$8)-1))","v":""},{"$f":"IF(ISBLANK('Data Input'!A121),\"\",SUM('Data Input'!H121,'Data Input'!I121,'Data Input'!M121,'Data Input'!N121))","v":""},{"$f":"IF(G117=\"\",\"\",G117/COUNTIF('Data Input'!$C$8:$AQ$8,$G$2))","v":""},{"$f":"IF(ISBLANK('Data Input'!A121),\"\",SUM('Data Input'!J121,'Data Input'!K121,'Data Input'!U121,'Data Input'!V121))","v":""},{"$f":"IF(I117=\"\",\"\",I117/COUNTIF('Data Input'!$C$8:$AQ$8,$I$2))","v":""},{"$f":"IF(ISBLANK('Data Input'!A121),\"\",SUM('Data Input'!D121))","v":""},{"$f":"IF(K117=\"\",\"\",K117/COUNTIF('Data Input'!$C$8:$AQ$8,$K$2))","v":""},{"$f":"IF(ISBLANK('Data Input'!A121),\"\",SUM('Data Input'!O121,'Data Input'!P121,'Data Input'!R121,'Data Input'!S121))","v":""},{"$f":"IF(M117=\"\",\"\",M117/COUNTIF('Data Input'!$C$8:$AQ$8,$M$2))","v":""},{"$f":"IF(ISBLANK('Data Input'!A121),\"\",SUM('Data Input'!C121,'Data Input'!E121,'Data Input'!F121,'Data Input'!G121,'Data Input'!Q121,'Data Input'!T121))","v":""},{"$f":"IF(O117=\"\",\"\",O117/COUNTIF('Data Input'!$C$8:$AQ$8,$O$2))","v":""},{"$f":"IF(ISBLANK('Data Input'!A121),\"\",SUM('Data Input'!L121))","v":""},{"$f":"IF(Q117=\"\",\"\",Q117/COUNTIF('Data Input'!$C$8:$AQ$8,$Q$2))","v":""},{"$f":"IF(ISBLANK('Data Input'!A121),\"\",SUM('Data Input'!X121:AQ121))","v":""},{"$f":"IF(S117=\"\",\"\",S117/COUNTIF('Data Input'!$C$8:$AQ$8,$S$2))","v":""}]
[{"$f":"IF('Data Input'!A122=0,\"\",'Data Input'!A122)","v":""},{"$f":"IF(ISBLANK('Data Input'!A122),\"\",COUNTIF('Data Input'!C122:AQ122,\"\")-1)","v":""},{"$f":"IF(ISBLANK('Data Input'!A122),\"\",COUNTIF('Data Input'!C122:AQ122,\"0\"))","v":""},{"$f":"IF(ISBLANK('Data Input'!A122),\"\",SUM(B118,C118))","v":""},{"$f":"IF(ISBLANK('Data Input'!A122),\"\",SUM('Data Input'!C122:AQ122))","v":""},{"$f":"IF(E118=\"\",\"\",E118/(COUNTA('Data Input'!$C$8:$AQ$8)-1))","v":""},{"$f":"IF(ISBLANK('Data Input'!A122),\"\",SUM('Data Input'!H122,'Data Input'!I122,'Data Input'!M122,'Data Input'!N122))","v":""},{"$f":"IF(G118=\"\",\"\",G118/COUNTIF('Data Input'!$C$8:$AQ$8,$G$2))","v":""},{"$f":"IF(ISBLANK('Data Input'!A122),\"\",SUM('Data Input'!J122,'Data Input'!K122,'Data Input'!U122,'Data Input'!V122))","v":""},{"$f":"IF(I118=\"\",\"\",I118/COUNTIF('Data Input'!$C$8:$AQ$8,$I$2))","v":""},{"$f":"IF(ISBLANK('Data Input'!A122),\"\",SUM('Data Input'!D122))","v":""},{"$f":"IF(K118=\"\",\"\",K118/COUNTIF('Data Input'!$C$8:$AQ$8,$K$2))","v":""},{"$f":"IF(ISBLANK('Data Input'!A122),\"\",SUM('Data Input'!O122,'Data Input'!P122,'Data Input'!R122,'Data Input'!S122))","v":""},{"$f":"IF(M118=\"\",\"\",M118/COUNTIF('Data Input'!$C$8:$AQ$8,$M$2))","v":""},{"$f":"IF(ISBLANK('Data Input'!A122),\"\",SUM('Data Input'!C122,'Data Input'!E122,'Data Input'!F122,'Data Input'!G122,'Data Input'!Q122,'Data Input'!T122))","v":""},{"$f":"IF(O118=\"\",\"\",O118/COUNTIF('Data Input'!$C$8:$AQ$8,$O$2))","v":""},{"$f":"IF(ISBLANK('Data Input'!A122),\"\",SUM('Data Input'!L122))","v":""},{"$f":"IF(Q118=\"\",\"\",Q118/COUNTIF('Data Input'!$C$8:$AQ$8,$Q$2))","v":""},{"$f":"IF(ISBLANK('Data Input'!A122),\"\",SUM('Data Input'!X122:AQ122))","v":""},{"$f":"IF(S118=\"\",\"\",S118/COUNTIF('Data Input'!$C$8:$AQ$8,$S$2))","v":""}]
[{"$f":"IF('Data Input'!A123=0,\"\",'Data Input'!A123)","v":""},{"$f":"IF(ISBLANK('Data Input'!A123),\"\",COUNTIF('Data Input'!C123:AQ123,\"\")-1)","v":""},{"$f":"IF(ISBLANK('Data Input'!A123),\"\",COUNTIF('Data Input'!C123:AQ123,\"0\"))","v":""},{"$f":"IF(ISBLANK('Data Input'!A123),\"\",SUM(B119,C119))","v":""},{"$f":"IF(ISBLANK('Data Input'!A123),\"\",SUM('Data Input'!C123:AQ123))","v":""},{"$f":"IF(E119=\"\",\"\",E119/(COUNTA('Data Input'!$C$8:$AQ$8)-1))","v":""},{"$f":"IF(ISBLANK('Data Input'!A123),\"\",SUM('Data Input'!H123,'Data Input'!I123,'Data Input'!M123,'Data Input'!N123))","v":""},{"$f":"IF(G119=\"\",\"\",G119/COUNTIF('Data Input'!$C$8:$AQ$8,$G$2))","v":""},{"$f":"IF(ISBLANK('Data Input'!A123),\"\",SUM('Data Input'!J123,'Data Input'!K123,'Data Input'!U123,'Data Input'!V123))","v":""},{"$f":"IF(I119=\"\",\"\",I119/COUNTIF('Data Input'!$C$8:$AQ$8,$I$2))","v":""},{"$f":"IF(ISBLANK('Data Input'!A123),\"\",SUM('Data Input'!D123))","v":""},{"$f":"IF(K119=\"\",\"\",K119/COUNTIF('Data Input'!$C$8:$AQ$8,$K$2))","v":""},{"$f":"IF(ISBLANK('Data Input'!A123),\"\",SUM('Data Input'!O123,'Data Input'!P123,'Data Input'!R123,'Data Input'!S123))","v":""},{"$f":"IF(M119=\"\",\"\",M119/COUNTIF('Data Input'!$C$8:$AQ$8,$M$2))","v":""},{"$f":"IF(ISBLANK('Data Input'!A123),\"\",SUM('Data Input'!C123,'Data Input'!E123,'Data Input'!F123,'Data Input'!G123,'Data Input'!Q123,'Data Input'!T123))","v":""},{"$f":"IF(O119=\"\",\"\",O119/COUNTIF('Data Input'!$C$8:$AQ$8,$O$2))","v":""},{"$f":"IF(ISBLANK('Data Input'!A123),\"\",SUM('Data Input'!L123))","v":""},{"$f":"IF(Q119=\"\",\"\",Q119/COUNTIF('Data Input'!$C$8:$AQ$8,$Q$2))","v":""},{"$f":"IF(ISBLANK('Data Input'!A123),\"\",SUM('Data Input'!X123:AQ123))","v":""},{"$f":"IF(S119=\"\",\"\",S119/COUNTIF('Data Input'!$C$8:$AQ$8,$S$2))","v":""}]
[{"$f":"IF('Data Input'!A124=0,\"\",'Data Input'!A124)","v":""},{"$f":"IF(ISBLANK('Data Input'!A124),\"\",COUNTIF('Data Input'!C124:AQ124,\"\")-1)","v":""},{"$f":"IF(ISBLANK('Data Input'!A124),\"\",COUNTIF('Data Input'!C124:AQ124,\"0\"))","v":""},{"$f":"IF(ISBLANK('Data Input'!A124),\"\",SUM(B120,C120))","v":""},{"$f":"IF(ISBLANK('Data Input'!A124),\"\",SUM('Data Input'!C124:AQ124))","v":""},{"$f":"IF(E120=\"\",\"\",E120/(COUNTA('Data Input'!$C$8:$AQ$8)-1))","v":""},{"$f":"IF(ISBLANK('Data Input'!A124),\"\",SUM('Data Input'!H124,'Data Input'!I124,'Data Input'!M124,'Data Input'!N124))","v":""},{"$f":"IF(G120=\"\",\"\",G120/COUNTIF('Data Input'!$C$8:$AQ$8,$G$2))","v":""},{"$f":"IF(ISBLANK('Data Input'!A124),\"\",SUM('Data Input'!J124,'Data Input'!K124,'Data Input'!U124,'Data Input'!V124))","v":""},{"$f":"IF(I120=\"\",\"\",I120/COUNTIF('Data Input'!$C$8:$AQ$8,$I$2))","v":""},{"$f":"IF(ISBLANK('Data Input'!A124),\"\",SUM('Data Input'!D124))","v":""},{"$f":"IF(K120=\"\",\"\",K120/COUNTIF('Data Input'!$C$8:$AQ$8,$K$2))","v":""},{"$f":"IF(ISBLANK('Data Input'!A124),\"\",SUM('Data Input'!O124,'Data Input'!P124,'Data Input'!R124,'Data Input'!S124))","v":""},{"$f":"IF(M120=\"\",\"\",M120/COUNTIF('Data Input'!$C$8:$AQ$8,$M$2))","v":""},{"$f":"IF(ISBLANK('Data Input'!A124),\"\",SUM('Data Input'!C124,'Data Input'!E124,'Data Input'!F124,'Data Input'!G124,'Data Input'!Q124,'Data Input'!T124))","v":""},{"$f":"IF(O120=\"\",\"\",O120/COUNTIF('Data Input'!$C$8:$AQ$8,$O$2))","v":""},{"$f":"IF(ISBLANK('Data Input'!A124),\"\",SUM('Data Input'!L124))","v":""},{"$f":"IF(Q120=\"\",\"\",Q120/COUNTIF('Data Input'!$C$8:$AQ$8,$Q$2))","v":""},{"$f":"IF(ISBLANK('Data Input'!A124),\"\",SUM('Data Input'!X124:AQ124))","v":""},{"$f":"IF(S120=\"\",\"\",S120/COUNTIF('Data Input'!$C$8:$AQ$8,$S$2))","v":""}]
[{"$f":"IF('Data Input'!A125=0,\"\",'Data Input'!A125)","v":""},{"$f":"IF(ISBLANK('Data Input'!A125),\"\",COUNTIF('Data Input'!C125:AQ125,\"\")-1)","v":""},{"$f":"IF(ISBLANK('Data Input'!A125),\"\",COUNTIF('Data Input'!C125:AQ125,\"0\"))","v":""},{"$f":"IF(ISBLANK('Data Input'!A125),\"\",SUM(B121,C121))","v":""},{"$f":"IF(ISBLANK('Data Input'!A125),\"\",SUM('Data Input'!C125:AQ125))","v":""},{"$f":"IF(E121=\"\",\"\",E121/(COUNTA('Data Input'!$C$8:$AQ$8)-1))","v":""},{"$f":"IF(ISBLANK('Data Input'!A125),\"\",SUM('Data Input'!H125,'Data Input'!I125,'Data Input'!M125,'Data Input'!N125))","v":""},{"$f":"IF(G121=\"\",\"\",G121/COUNTIF('Data Input'!$C$8:$AQ$8,$G$2))","v":""},{"$f":"IF(ISBLANK('Data Input'!A125),\"\",SUM('Data Input'!J125,'Data Input'!K125,'Data Input'!U125,'Data Input'!V125))","v":""},{"$f":"IF(I121=\"\",\"\",I121/COUNTIF('Data Input'!$C$8:$AQ$8,$I$2))","v":""},{"$f":"IF(ISBLANK('Data Input'!A125),\"\",SUM('Data Input'!D125))","v":""},{"$f":"IF(K121=\"\",\"\",K121/COUNTIF('Data Input'!$C$8:$AQ$8,$K$2))","v":""},{"$f":"IF(ISBLANK('Data Input'!A125),\"\",SUM('Data Input'!O125,'Data Input'!P125,'Data Input'!R125,'Data Input'!S125))","v":""},{"$f":"IF(M121=\"\",\"\",M121/COUNTIF('Data Input'!$C$8:$AQ$8,$M$2))","v":""},{"$f":"IF(ISBLANK('Data Input'!A125),\"\",SUM('Data Input'!C125,'Data Input'!E125,'Data Input'!F125,'Data Input'!G125,'Data Input'!Q125,'Data Input'!T125))","v":""},{"$f":"IF(O121=\"\",\"\",O121/COUNTIF('Data Input'!$C$8:$AQ$8,$O$2))","v":""},{"$f":"IF(ISBLANK('Data Input'!A125),\"\",SUM('Data Input'!L125))","v":""},{"$f":"IF(Q121=\"\",\"\",Q121/COUNTIF('Data Input'!$C$8:$AQ$8,$Q$2))","v":""},{"$f":"IF(ISBLANK('Data Input'!A125),\"\",SUM('Data Input'!X125:AQ125))","v":""},{"$f":"IF(S121=\"\",\"\",S121/COUNTIF('Data Input'!$C$8:$AQ$8,$S$2))","v":""}]
[{"$f":"IF('Data Input'!A126=0,\"\",'Data Input'!A126)","v":""},{"$f":"IF(ISBLANK('Data Input'!A126),\"\",COUNTIF('Data Input'!C126:AQ126,\"\")-1)","v":""},{"$f":"IF(ISBLANK('Data Input'!A126),\"\",COUNTIF('Data Input'!C126:AQ126,\"0\"))","v":""},{"$f":"IF(ISBLANK('Data Input'!A126),\"\",SUM(B122,C122))","v":""},{"$f":"IF(ISBLANK('Data Input'!A126),\"\",SUM('Data Input'!C126:AQ126))","v":""},{"$f":"IF(E122=\"\",\"\",E122/(COUNTA('Data Input'!$C$8:$AQ$8)-1))","v":""},{"$f":"IF(ISBLANK('Data Input'!A126),\"\",SUM('Data Input'!H126,'Data Input'!I126,'Data Input'!M126,'Data Input'!N126))","v":""},{"$f":"IF(G122=\"\",\"\",G122/COUNTIF('Data Input'!$C$8:$AQ$8,$G$2))","v":""},{"$f":"IF(ISBLANK('Data Input'!A126),\"\",SUM('Data Input'!J126,'Data Input'!K126,'Data Input'!U126,'Data Input'!V126))","v":""},{"$f":"IF(I122=\"\",\"\",I122/COUNTIF('Data Input'!$C$8:$AQ$8,$I$2))","v":""},{"$f":"IF(ISBLANK('Data Input'!A126),\"\",SUM('Data Input'!D126))","v":""},{"$f":"IF(K122=\"\",\"\",K122/COUNTIF('Data Input'!$C$8:$AQ$8,$K$2))","v":""},{"$f":"IF(ISBLANK('Data Input'!A126),\"\",SUM('Data Input'!O126,'Data Input'!P126,'Data Input'!R126,'Data Input'!S126))","v":""},{"$f":"IF(M122=\"\",\"\",M122/COUNTIF('Data Input'!$C$8:$AQ$8,$M$2))","v":""},{"$f":"IF(ISBLANK('Data Input'!A126),\"\",SUM('Data Input'!C126,'Data Input'!E126,'Data Input'!F126,'Data Input'!G126,'Data Input'!Q126,'Data Input'!T126))","v":""},{"$f":"IF(O122=\"\",\"\",O122/COUNTIF('Data Input'!$C$8:$AQ$8,$O$2))","v":""},{"$f":"IF(ISBLANK('Data Input'!A126),\"\",SUM('Data Input'!L126))","v":""},{"$f":"IF(Q122=\"\",\"\",Q122/COUNTIF('Data Input'!$C$8:$AQ$8,$Q$2))","v":""},{"$f":"IF(ISBLANK('Data Input'!A126),\"\",SUM('Data Input'!X126:AQ126))","v":""},{"$f":"IF(S122=\"\",\"\",S122/COUNTIF('Data Input'!$C$8:$AQ$8,$S$2))","v":""}]
[{"$f":"IF('Data Input'!A127=0,\"\",'Data Input'!A127)","v":""},{"$f":"IF(ISBLANK('Data Input'!A127),\"\",COUNTIF('Data Input'!C127:AQ127,\"\")-1)","v":""},{"$f":"IF(ISBLANK('Data Input'!A127),\"\",COUNTIF('Data Input'!C127:AQ127,\"0\"))","v":""},{"$f":"IF(ISBLANK('Data Input'!A127),\"\",SUM(B123,C123))","v":""},{"$f":"IF(ISBLANK('Data Input'!A127),\"\",SUM('Data Input'!C127:AQ127))","v":""},{"$f":"IF(E123=\"\",\"\",E123/(COUNTA('Data Input'!$C$8:$AQ$8)-1))","v":""},{"$f":"IF(ISBLANK('Data Input'!A127),\"\",SUM('Data Input'!H127,'Data Input'!I127,'Data Input'!M127,'Data Input'!N127))","v":""},{"$f":"IF(G123=\"\",\"\",G123/COUNTIF('Data Input'!$C$8:$AQ$8,$G$2))","v":""},{"$f":"IF(ISBLANK('Data Input'!A127),\"\",SUM('Data Input'!J127,'Data Input'!K127,'Data Input'!U127,'Data Input'!V127))","v":""},{"$f":"IF(I123=\"\",\"\",I123/COUNTIF('Data Input'!$C$8:$AQ$8,$I$2))","v":""},{"$f":"IF(ISBLANK('Data Input'!A127),\"\",SUM('Data Input'!D127))","v":""},{"$f":"IF(K123=\"\",\"\",K123/COUNTIF('Data Input'!$C$8:$AQ$8,$K$2))","v":""},{"$f":"IF(ISBLANK('Data Input'!A127),\"\",SUM('Data Input'!O127,'Data Input'!P127,'Data Input'!R127,'Data Input'!S127))","v":""},{"$f":"IF(M123=\"\",\"\",M123/COUNTIF('Data Input'!$C$8:$AQ$8,$M$2))","v":""},{"$f":"IF(ISBLANK('Data Input'!A127),\"\",SUM('Data Input'!C127,'Data Input'!E127,'Data Input'!F127,'Data Input'!G127,'Data Input'!Q127,'Data Input'!T127))","v":""},{"$f":"IF(O123=\"\",\"\",O123/COUNTIF('Data Input'!$C$8:$AQ$8,$O$2))","v":""},{"$f":"IF(ISBLANK('Data Input'!A127),\"\",SUM('Data Input'!L127))","v":""},{"$f":"IF(Q123=\"\",\"\",Q123/COUNTIF('Data Input'!$C$8:$AQ$8,$Q$2))","v":""},{"$f":"IF(ISBLANK('Data Input'!A127),\"\",SUM('Data Input'!X127:AQ127))","v":""},{"$f":"IF(S123=\"\",\"\",S123/COUNTIF('Data Input'!$C$8:$AQ$8,$S$2))","v":""}]
[{"$f":"IF('Data Input'!A128=0,\"\",'Data Input'!A128)","v":""},{"$f":"IF(ISBLANK('Data Input'!A128),\"\",COUNTIF('Data Input'!C128:AQ128,\"\")-1)","v":""},{"$f":"IF(ISBLANK('Data Input'!A128),\"\",COUNTIF('Data Input'!C128:AQ128,\"0\"))","v":""},{"$f":"IF(ISBLANK('Data Input'!A128),\"\",SUM(B124,C124))","v":""},{"$f":"IF(ISBLANK('Data Input'!A128),\"\",SUM('Data Input'!C128:AQ128))","v":""},{"$f":"IF(E124=\"\",\"\",E124/(COUNTA('Data Input'!$C$8:$AQ$8)-1))","v":""},{"$f":"IF(ISBLANK('Data Input'!A128),\"\",SUM('Data Input'!H128,'Data Input'!I128,'Data Input'!M128,'Data Input'!N128))","v":""},{"$f":"IF(G124=\"\",\"\",G124/COUNTIF('Data Input'!$C$8:$AQ$8,$G$2))","v":""},{"$f":"IF(ISBLANK('Data Input'!A128),\"\",SUM('Data Input'!J128,'Data Input'!K128,'Data Input'!U128,'Data Input'!V128))","v":""},{"$f":"IF(I124=\"\",\"\",I124/COUNTIF('Data Input'!$C$8:$AQ$8,$I$2))","v":""},{"$f":"IF(ISBLANK('Data Input'!A128),\"\",SUM('Data Input'!D128))","v":""},{"$f":"IF(K124=\"\",\"\",K124/COUNTIF('Data Input'!$C$8:$AQ$8,$K$2))","v":""},{"$f":"IF(ISBLANK('Data Input'!A128),\"\",SUM('Data Input'!O128,'Data Input'!P128,'Data Input'!R128,'Data Input'!S128))","v":""},{"$f":"IF(M124=\"\",\"\",M124/COUNTIF('Data Input'!$C$8:$AQ$8,$M$2))","v":""},{"$f":"IF(ISBLANK('Data Input'!A128),\"\",SUM('Data Input'!C128,'Data Input'!E128,'Data Input'!F128,'Data Input'!G128,'Data Input'!Q128,'Data Input'!T128))","v":""},{"$f":"IF(O124=\"\",\"\",O124/COUNTIF('Data Input'!$C$8:$AQ$8,$O$2))","v":""},{"$f":"IF(ISBLANK('Data Input'!A128),\"\",SUM('Data Input'!L128))","v":""},{"$f":"IF(Q124=\"\",\"\",Q124/COUNTIF('Data Input'!$C$8:$AQ$8,$Q$2))","v":""},{"$f":"IF(ISBLANK('Data Input'!A128),\"\",SUM('Data Input'!X128:AQ128))","v":""},{"$f":"IF(S124=\"\",\"\",S124/COUNTIF('Data Input'!$C$8:$AQ$8,$S$2))","v":""}]
[{"$f":"IF('Data Input'!A129=0,\"\",'Data Input'!A129)","v":""},{"$f":"IF(ISBLANK('Data Input'!A129),\"\",COUNTIF('Data Input'!C129:AQ129,\"\")-1)","v":""},{"$f":"IF(ISBLANK('Data Input'!A129),\"\",COUNTIF('Data Input'!C129:AQ129,\"0\"))","v":""},{"$f":"IF(ISBLANK('Data Input'!A129),\"\",SUM(B125,C125))","v":""},{"$f":"IF(ISBLANK('Data Input'!A129),\"\",SUM('Data Input'!C129:AQ129))","v":""},{"$f":"IF(E125=\"\",\"\",E125/(COUNTA('Data Input'!$C$8:$AQ$8)-1))","v":""},{"$f":"IF(ISBLANK('Data Input'!A129),\"\",SUM('Data Input'!H129,'Data Input'!I129,'Data Input'!M129,'Data Input'!N129))","v":""},{"$f":"IF(G125=\"\",\"\",G125/COUNTIF('Data Input'!$C$8:$AQ$8,$G$2))","v":""},{"$f":"IF(ISBLANK('Data Input'!A129),\"\",SUM('Data Input'!J129,'Data Input'!K129,'Data Input'!U129,'Data Input'!V129))","v":""},{"$f":"IF(I125=\"\",\"\",I125/COUNTIF('Data Input'!$C$8:$AQ$8,$I$2))","v":""},{"$f":"IF(ISBLANK('Data Input'!A129),\"\",SUM('Data Input'!D129))","v":""},{"$f":"IF(K125=\"\",\"\",K125/COUNTIF('Data Input'!$C$8:$AQ$8,$K$2))","v":""},{"$f":"IF(ISBLANK('Data Input'!A129),\"\",SUM('Data Input'!O129,'Data Input'!P129,'Data Input'!R129,'Data Input'!S129))","v":""},{"$f":"IF(M125=\"\",\"\",M125/COUNTIF('Data Input'!$C$8:$AQ$8,$M$2))","v":""},{"$f":"IF(ISBLANK('Data Input'!A129),\"\",SUM('Data Input'!C129,'Data Input'!E129,'Data Input'!F129,'Data Input'!G129,'Data Input'!Q129,'Data Input'!T129))","v":""},{"$f":"IF(O125=\"\",\"\",O125/COUNTIF('Data Input'!$C$8:$AQ$8,$O$2))","v":""},{"$f":"IF(ISBLANK('Data Input'!A129),\"\",SUM('Data Input'!L129))","v":""},{"$f":"IF(Q125=\"\",\"\",Q125/COUNTIF('Data Input'!$C$8:$AQ$8,$Q$2))","v":""},{"$f":"IF(ISBLANK('Data Input'!A129),\"\",SUM('Data Input'!X129:AQ129))","v":""},{"$f":"IF(S125=\"\",\"\",S125/COUNTIF('Data Input'!$C$8:$AQ$8,$S$2))","v":""}]
[{"$f":"IF('Data Input'!A130=0,\"\",'Data Input'!A130)","v":""},{"$f":"IF(ISBLANK('Data Input'!A130),\"\",COUNTIF('Data Input'!C130:AQ130,\"\")-1)","v":""},{"$f":"IF(ISBLANK('Data Input'!A130),\"\",COUNTIF('Data Input'!C130:AQ130,\"0\"))","v":""},{"$f":"IF(ISBLANK('Data Input'!A130),\"\",SUM(B126,C126))","v":""},{"$f":"IF(ISBLANK('Data Input'!A130),\"\",SUM('Data Input'!C130:AQ130))","v":""},{"$f":"IF(E126=\"\",\"\",E126/(COUNTA('Data Input'!$C$8:$AQ$8)-1))","v":""},{"$f":"IF(ISBLANK('Data Input'!A130),\"\",SUM('Data Input'!H130,'Data Input'!I130,'Data Input'!M130,'Data Input'!N130))","v":""},{"$f":"IF(G126=\"\",\"\",G126/COUNTIF('Data Input'!$C$8:$AQ$8,$G$2))","v":""},{"$f":"IF(ISBLANK('Data Input'!A130),\"\",SUM('Data Input'!J130,'Data Input'!K130,'Data Input'!U130,'Data Input'!V130))","v":""},{"$f":"IF(I126=\"\",\"\",I126/COUNTIF('Data Input'!$C$8:$AQ$8,$I$2))","v":""},{"$f":"IF(ISBLANK('Data Input'!A130),\"\",SUM('Data Input'!D130))","v":""},{"$f":"IF(K126=\"\",\"\",K126/COUNTIF('Data Input'!$C$8:$AQ$8,$K$2))","v":""},{"$f":"IF(ISBLANK('Data Input'!A130),\"\",SUM('Data Input'!O130,'Data Input'!P130,'Data Input'!R130,'Data Input'!S130))","v":""},{"$f":"IF(M126=\"\",\"\",M126/COUNTIF('Data Input'!$C$8:$AQ$8,$M$2))","v":""},{"$f":"IF(ISBLANK('Data Input'!A130),\"\",SUM('Data Input'!C130,'Data Input'!E130,'Data Input'!F130,'Data Input'!G130,'Data Input'!Q130,'Data Input'!T130))","v":""},{"$f":"IF(O126=\"\",\"\",O126/COUNTIF('Data Input'!$C$8:$AQ$8,$O$2))","v":""},{"$f":"IF(ISBLANK('Data Input'!A130),\"\",SUM('Data Input'!L130))","v":""},{"$f":"IF(Q126=\"\",\"\",Q126/COUNTIF('Data Input'!$C$8:$AQ$8,$Q$2))","v":""},{"$f":"IF(ISBLANK('Data Input'!A130),\"\",SUM('Data Input'!X130:AQ130))","v":""},{"$f":"IF(S126=\"\",\"\",S126/COUNTIF('Data Input'!$C$8:$AQ$8,$S$2))","v":""}]
[{"$f":"IF('Data Input'!A131=0,\"\",'Data Input'!A131)","v":""},{"$f":"IF(ISBLANK('Data Input'!A131),\"\",COUNTIF('Data Input'!C131:AQ131,\"\")-1)","v":""},{"$f":"IF(ISBLANK('Data Input'!A131),\"\",COUNTIF('Data Input'!C131:AQ131,\"0\"))","v":""},{"$f":"IF(ISBLANK('Data Input'!A131),\"\",SUM(B127,C127))","v":""},{"$f":"IF(ISBLANK('Data Input'!A131),\"\",SUM('Data Input'!C131:AQ131))","v":""},{"$f":"IF(E127=\"\",\"\",E127/(COUNTA('Data Input'!$C$8:$AQ$8)-1))","v":""},{"$f":"IF(ISBLANK('Data Input'!A131),\"\",SUM('Data Input'!H131,'Data Input'!I131,'Data Input'!M131,'Data Input'!N131))","v":""},{"$f":"IF(G127=\"\",\"\",G127/COUNTIF('Data Input'!$C$8:$AQ$8,$G$2))","v":""},{"$f":"IF(ISBLANK('Data Input'!A131),\"\",SUM('Data Input'!J131,'Data Input'!K131,'Data Input'!U131,'Data Input'!V131))","v":""},{"$f":"IF(I127=\"\",\"\",I127/COUNTIF('Data Input'!$C$8:$AQ$8,$I$2))","v":""},{"$f":"IF(ISBLANK('Data Input'!A131),\"\",SUM('Data Input'!D131))","v":""},{"$f":"IF(K127=\"\",\"\",K127/COUNTIF('Data Input'!$C$8:$AQ$8,$K$2))","v":""},{"$f":"IF(ISBLANK('Data Input'!A131),\"\",SUM('Data Input'!O131,'Data Input'!P131,'Data Input'!R131,'Data Input'!S131))","v":""},{"$f":"IF(M127=\"\",\"\",M127/COUNTIF('Data Input'!$C$8:$AQ$8,$M$2))","v":""},{"$f":"IF(ISBLANK('Data Input'!A131),\"\",SUM('Data Input'!C131,'Data Input'!E131,'Data Input'!F131,'Data Input'!G131,'Data Input'!Q131,'Data Input'!T131))","v":""},{"$f":"IF(O127=\"\",\"\",O127/COUNTIF('Data Input'!$C$8:$AQ$8,$O$2))","v":""},{"$f":"IF(ISBLANK('Data Input'!A131),\"\",SUM('Data Input'!L131))","v":""},{"$f":"IF(Q127=\"\",\"\",Q127/COUNTIF('Data Input'!$C$8:$AQ$8,$Q$2))","v":""},{"$f":"IF(ISBLANK('Data Input'!A131),\"\",SUM('Data Input'!X131:AQ131))","v":""},{"$f":"IF(S127=\"\",\"\",S127/COUNTIF('Data Input'!$C$8:$AQ$8,$S$2))","v":""}]
[{"$f":"IF('Data Input'!A132=0,\"\",'Data Input'!A132)","v":""},{"$f":"IF(ISBLANK('Data Input'!A132),\"\",COUNTIF('Data Input'!C132:AQ132,\"\")-1)","v":""},{"$f":"IF(ISBLANK('Data Input'!A132),\"\",COUNTIF('Data Input'!C132:AQ132,\"0\"))","v":""},{"$f":"IF(ISBLANK('Data Input'!A132),\"\",SUM(B128,C128))","v":""},{"$f":"IF(ISBLANK('Data Input'!A132),\"\",SUM('Data Input'!C132:AQ132))","v":""},{"$f":"IF(E128=\"\",\"\",E128/(COUNTA('Data Input'!$C$8:$AQ$8)-1))","v":""},{"$f":"IF(ISBLANK('Data Input'!A132),\"\",SUM('Data Input'!H132,'Data Input'!I132,'Data Input'!M132,'Data Input'!N132))","v":""},{"$f":"IF(G128=\"\",\"\",G128/COUNTIF('Data Input'!$C$8:$AQ$8,$G$2))","v":""},{"$f":"IF(ISBLANK('Data Input'!A132),\"\",SUM('Data Input'!J132,'Data Input'!K132,'Data Input'!U132,'Data Input'!V132))","v":""},{"$f":"IF(I128=\"\",\"\",I128/COUNTIF('Data Input'!$C$8:$AQ$8,$I$2))","v":""},{"$f":"IF(ISBLANK('Data Input'!A132),\"\",SUM('Data Input'!D132))","v":""},{"$f":"IF(K128=\"\",\"\",K128/COUNTIF('Data Input'!$C$8:$AQ$8,$K$2))","v":""},{"$f":"IF(ISBLANK('Data Input'!A132),\"\",SUM('Data Input'!O132,'Data Input'!P132,'Data Input'!R132,'Data Input'!S132))","v":""},{"$f":"IF(M128=\"\",\"\",M128/COUNTIF('Data Input'!$C$8:$AQ$8,$M$2))","v":""},{"$f":"IF(ISBLANK('Data Input'!A132),\"\",SUM('Data Input'!C132,'Data Input'!E132,'Data Input'!F132,'Data Input'!G132,'Data Input'!Q132,'Data Input'!T132))","v":""},{"$f":"IF(O128=\"\",\"\",O128/COUNTIF('Data Input'!$C$8:$AQ$8,$O$2))","v":""},{"$f":"IF(ISBLANK('Data Input'!A132),\"\",SUM('Data Input'!L132))","v":""},{"$f":"IF(Q128=\"\",\"\",Q128/COUNTIF('Data Input'!$C$8:$AQ$8,$Q$2))","v":""},{"$f":"IF(ISBLANK('Data Input'!A132),\"\",SUM('Data Input'!X132:AQ132))","v":""},{"$f":"IF(S128=\"\",\"\",S128/COUNTIF('Data Input'!$C$8:$AQ$8,$S$2))","v":""}]
[{"$f":"IF('Data Input'!A133=0,\"\",'Data Input'!A133)","v":""},{"$f":"IF(ISBLANK('Data Input'!A133),\"\",COUNTIF('Data Input'!C133:AQ133,\"\")-1)","v":""},{"$f":"IF(ISBLANK('Data Input'!A133),\"\",COUNTIF('Data Input'!C133:AQ133,\"0\"))","v":""},{"$f":"IF(ISBLANK('Data Input'!A133),\"\",SUM(B129,C129))","v":""},{"$f":"IF(ISBLANK('Data Input'!A133),\"\",SUM('Data Input'!C133:AQ133))","v":""},{"$f":"IF(E129=\"\",\"\",E129/(COUNTA('Data Input'!$C$8:$AQ$8)-1))","v":""},{"$f":"IF(ISBLANK('Data Input'!A133),\"\",SUM('Data Input'!H133,'Data Input'!I133,'Data Input'!M133,'Data Input'!N133))","v":""},{"$f":"IF(G129=\"\",\"\",G129/COUNTIF('Data Input'!$C$8:$AQ$8,$G$2))","v":""},{"$f":"IF(ISBLANK('Data Input'!A133),\"\",SUM('Data Input'!J133,'Data Input'!K133,'Data Input'!U133,'Data Input'!V133))","v":""},{"$f":"IF(I129=\"\",\"\",I129/COUNTIF('Data Input'!$C$8:$AQ$8,$I$2))","v":""},{"$f":"IF(ISBLANK('Data Input'!A133),\"\",SUM('Data Input'!D133))","v":""},{"$f":"IF(K129=\"\",\"\",K129/COUNTIF('Data Input'!$C$8:$AQ$8,$K$2))","v":""},{"$f":"IF(ISBLANK('Data Input'!A133),\"\",SUM('Data Input'!O133,'Data Input'!P133,'Data Input'!R133,'Data Input'!S133))","v":""},{"$f":"IF(M129=\"\",\"\",M129/COUNTIF('Data Input'!$C$8:$AQ$8,$M$2))","v":""},{"$f":"IF(ISBLANK('Data Input'!A133),\"\",SUM('Data Input'!C133,'Data Input'!E133,'Data Input'!F133,'Data Input'!G133,'Data Input'!Q133,'Data Input'!T133))","v":""},{"$f":"IF(O129=\"\",\"\",O129/COUNTIF('Data Input'!$C$8:$AQ$8,$O$2))","v":""},{"$f":"IF(ISBLANK('Data Input'!A133),\"\",SUM('Data Input'!L133))","v":""},{"$f":"IF(Q129=\"\",\"\",Q129/COUNTIF('Data Input'!$C$8:$AQ$8,$Q$2))","v":""},{"$f":"IF(ISBLANK('Data Input'!A133),\"\",SUM('Data Input'!X133:AQ133))","v":""},{"$f":"IF(S129=\"\",\"\",S129/COUNTIF('Data Input'!$C$8:$AQ$8,$S$2))","v":""}]
[{"$f":"IF('Data Input'!A134=0,\"\",'Data Input'!A134)","v":""},{"$f":"IF(ISBLANK('Data Input'!A134),\"\",COUNTIF('Data Input'!C134:AQ134,\"\")-1)","v":""},{"$f":"IF(ISBLANK('Data Input'!A134),\"\",COUNTIF('Data Input'!C134:AQ134,\"0\"))","v":""},{"$f":"IF(ISBLANK('Data Input'!A134),\"\",SUM(B130,C130))","v":""},{"$f":"IF(ISBLANK('Data Input'!A134),\"\",SUM('Data Input'!C134:AQ134))","v":""},{"$f":"IF(E130=\"\",\"\",E130/(COUNTA('Data Input'!$C$8:$AQ$8)-1))","v":""},{"$f":"IF(ISBLANK('Data Input'!A134),\"\",SUM('Data Input'!H134,'Data Input'!I134,'Data Input'!M134,'Data Input'!N134))","v":""},{"$f":"IF(G130=\"\",\"\",G130/COUNTIF('Data Input'!$C$8:$AQ$8,$G$2))","v":""},{"$f":"IF(ISBLANK('Data Input'!A134),\"\",SUM('Data Input'!J134,'Data Input'!K134,'Data Input'!U134,'Data Input'!V134))","v":""},{"$f":"IF(I130=\"\",\"\",I130/COUNTIF('Data Input'!$C$8:$AQ$8,$I$2))","v":""},{"$f":"IF(ISBLANK('Data Input'!A134),\"\",SUM('Data Input'!D134))","v":""},{"$f":"IF(K130=\"\",\"\",K130/COUNTIF('Data Input'!$C$8:$AQ$8,$K$2))","v":""},{"$f":"IF(ISBLANK('Data Input'!A134),\"\",SUM('Data Input'!O134,'Data Input'!P134,'Data Input'!R134,'Data Input'!S134))","v":""},{"$f":"IF(M130=\"\",\"\",M130/COUNTIF('Data Input'!$C$8:$AQ$8,$M$2))","v":""},{"$f":"IF(ISBLANK('Data Input'!A134),\"\",SUM('Data Input'!C134,'Data Input'!E134,'Data Input'!F134,'Data Input'!G134,'Data Input'!Q134,'Data Input'!T134))","v":""},{"$f":"IF(O130=\"\",\"\",O130/COUNTIF('Data Input'!$C$8:$AQ$8,$O$2))","v":""},{"$f":"IF(ISBLANK('Data Input'!A134),\"\",SUM('Data Input'!L134))","v":""},{"$f":"IF(Q130=\"\",\"\",Q130/COUNTIF('Data Input'!$C$8:$AQ$8,$Q$2))","v":""},{"$f":"IF(ISBLANK('Data Input'!A134),\"\",SUM('Data Input'!X134:AQ134))","v":""},{"$f":"IF(S130=\"\",\"\",S130/COUNTIF('Data Input'!$C$8:$AQ$8,$S$2))","v":""}]
[{"$f":"IF('Data Input'!A135=0,\"\",'Data Input'!A135)","v":""},{"$f":"IF(ISBLANK('Data Input'!A135),\"\",COUNTIF('Data Input'!C135:AQ135,\"\")-1)","v":""},{"$f":"IF(ISBLANK('Data Input'!A135),\"\",COUNTIF('Data Input'!C135:AQ135,\"0\"))","v":""},{"$f":"IF(ISBLANK('Data Input'!A135),\"\",SUM(B131,C131))","v":""},{"$f":"IF(ISBLANK('Data Input'!A135),\"\",SUM('Data Input'!C135:AQ135))","v":""},{"$f":"IF(E131=\"\",\"\",E131/(COUNTA('Data Input'!$C$8:$AQ$8)-1))","v":""},{"$f":"IF(ISBLANK('Data Input'!A135),\"\",SUM('Data Input'!H135,'Data Input'!I135,'Data Input'!M135,'Data Input'!N135))","v":""},{"$f":"IF(G131=\"\",\"\",G131/COUNTIF('Data Input'!$C$8:$AQ$8,$G$2))","v":""},{"$f":"IF(ISBLANK('Data Input'!A135),\"\",SUM('Data Input'!J135,'Data Input'!K135,'Data Input'!U135,'Data Input'!V135))","v":""},{"$f":"IF(I131=\"\",\"\",I131/COUNTIF('Data Input'!$C$8:$AQ$8,$I$2))","v":""},{"$f":"IF(ISBLANK('Data Input'!A135),\"\",SUM('Data Input'!D135))","v":""},{"$f":"IF(K131=\"\",\"\",K131/COUNTIF('Data Input'!$C$8:$AQ$8,$K$2))","v":""},{"$f":"IF(ISBLANK('Data Input'!A135),\"\",SUM('Data Input'!O135,'Data Input'!P135,'Data Input'!R135,'Data Input'!S135))","v":""},{"$f":"IF(M131=\"\",\"\",M131/COUNTIF('Data Input'!$C$8:$AQ$8,$M$2))","v":""},{"$f":"IF(ISBLANK('Data Input'!A135),\"\",SUM('Data Input'!C135,'Data Input'!E135,'Data Input'!F135,'Data Input'!G135,'Data Input'!Q135,'Data Input'!T135))","v":""},{"$f":"IF(O131=\"\",\"\",O131/COUNTIF('Data Input'!$C$8:$AQ$8,$O$2))","v":""},{"$f":"IF(ISBLANK('Data Input'!A135),\"\",SUM('Data Input'!L135))","v":""},{"$f":"IF(Q131=\"\",\"\",Q131/COUNTIF('Data Input'!$C$8:$AQ$8,$Q$2))","v":""},{"$f":"IF(ISBLANK('Data Input'!A135),\"\",SUM('Data Input'!X135:AQ135))","v":""},{"$f":"IF(S131=\"\",\"\",S131/COUNTIF('Data Input'!$C$8:$AQ$8,$S$2))","v":""}]
[{"$f":"IF('Data Input'!A136=0,\"\",'Data Input'!A136)","v":""},{"$f":"IF(ISBLANK('Data Input'!A136),\"\",COUNTIF('Data Input'!C136:AQ136,\"\")-1)","v":""},{"$f":"IF(ISBLANK('Data Input'!A136),\"\",COUNTIF('Data Input'!C136:AQ136,\"0\"))","v":""},{"$f":"IF(ISBLANK('Data Input'!A136),\"\",SUM(B132,C132))","v":""},{"$f":"IF(ISBLANK('Data Input'!A136),\"\",SUM('Data Input'!C136:AQ136))","v":""},{"$f":"IF(E132=\"\",\"\",E132/(COUNTA('Data Input'!$C$8:$AQ$8)-1))","v":""},{"$f":"IF(ISBLANK('Data Input'!A136),\"\",SUM('Data Input'!H136,'Data Input'!I136,'Data Input'!M136,'Data Input'!N136))","v":""},{"$f":"IF(G132=\"\",\"\",G132/COUNTIF('Data Input'!$C$8:$AQ$8,$G$2))","v":""},{"$f":"IF(ISBLANK('Data Input'!A136),\"\",SUM('Data Input'!J136,'Data Input'!K136,'Data Input'!U136,'Data Input'!V136))","v":""},{"$f":"IF(I132=\"\",\"\",I132/COUNTIF('Data Input'!$C$8:$AQ$8,$I$2))","v":""},{"$f":"IF(ISBLANK('Data Input'!A136),\"\",SUM('Data Input'!D136))","v":""},{"$f":"IF(K132=\"\",\"\",K132/COUNTIF('Data Input'!$C$8:$AQ$8,$K$2))","v":""},{"$f":"IF(ISBLANK('Data Input'!A136),\"\",SUM('Data Input'!O136,'Data Input'!P136,'Data Input'!R136,'Data Input'!S136))","v":""},{"$f":"IF(M132=\"\",\"\",M132/COUNTIF('Data Input'!$C$8:$AQ$8,$M$2))","v":""},{"$f":"IF(ISBLANK('Data Input'!A136),\"\",SUM('Data Input'!C136,'Data Input'!E136,'Data Input'!F136,'Data Input'!G136,'Data Input'!Q136,'Data Input'!T136))","v":""},{"$f":"IF(O132=\"\",\"\",O132/COUNTIF('Data Input'!$C$8:$AQ$8,$O$2))","v":""},{"$f":"IF(ISBLANK('Data Input'!A136),\"\",SUM('Data Input'!L136))","v":""},{"$f":"IF(Q132=\"\",\"\",Q132/COUNTIF('Data Input'!$C$8:$AQ$8,$Q$2))","v":""},{"$f":"IF(ISBLANK('Data Input'!A136),\"\",SUM('Data Input'!X136:AQ136))","v":""},{"$f":"IF(S132=\"\",\"\",S132/COUNTIF('Data Input'!$C$8:$AQ$8,$S$2))","v":""}]
[{"$f":"IF('Data Input'!A137=0,\"\",'Data Input'!A137)","v":""},{"$f":"IF(ISBLANK('Data Input'!A137),\"\",COUNTIF('Data Input'!C137:AQ137,\"\")-1)","v":""},{"$f":"IF(ISBLANK('Data Input'!A137),\"\",COUNTIF('Data Input'!C137:AQ137,\"0\"))","v":""},{"$f":"IF(ISBLANK('Data Input'!A137),\"\",SUM(B133,C133))","v":""},{"$f":"IF(ISBLANK('Data Input'!A137),\"\",SUM('Data Input'!C137:AQ137))","v":""},{"$f":"IF(E133=\"\",\"\",E133/(COUNTA('Data Input'!$C$8:$AQ$8)-1))","v":""},{"$f":"IF(ISBLANK('Data Input'!A137),\"\",SUM('Data Input'!H137,'Data Input'!I137,'Data Input'!M137,'Data Input'!N137))","v":""},{"$f":"IF(G133=\"\",\"\",G133/COUNTIF('Data Input'!$C$8:$AQ$8,$G$2))","v":""},{"$f":"IF(ISBLANK('Data Input'!A137),\"\",SUM('Data Input'!J137,'Data Input'!K137,'Data Input'!U137,'Data Input'!V137))","v":""},{"$f":"IF(I133=\"\",\"\",I133/COUNTIF('Data Input'!$C$8:$AQ$8,$I$2))","v":""},{"$f":"IF(ISBLANK('Data Input'!A137),\"\",SUM('Data Input'!D137))","v":""},{"$f":"IF(K133=\"\",\"\",K133/COUNTIF('Data Input'!$C$8:$AQ$8,$K$2))","v":""},{"$f":"IF(ISBLANK('Data Input'!A137),\"\",SUM('Data Input'!O137,'Data Input'!P137,'Data Input'!R137,'Data Input'!S137))","v":""},{"$f":"IF(M133=\"\",\"\",M133/COUNTIF('Data Input'!$C$8:$AQ$8,$M$2))","v":""},{"$f":"IF(ISBLANK('Data Input'!A137),\"\",SUM('Data Input'!C137,'Data Input'!E137,'Data Input'!F137,'Data Input'!G137,'Data Input'!Q137,'Data Input'!T137))","v":""},{"$f":"IF(O133=\"\",\"\",O133/COUNTIF('Data Input'!$C$8:$AQ$8,$O$2))","v":""},{"$f":"IF(ISBLANK('Data Input'!A137),\"\",SUM('Data Input'!L137))","v":""},{"$f":"IF(Q133=\"\",\"\",Q133/COUNTIF('Data Input'!$C$8:$AQ$8,$Q$2))","v":""},{"$f":"IF(ISBLANK('Data Input'!A137),\"\",SUM('Data Input'!X137:AQ137))","v":""},{"$f":"IF(S133=\"\",\"\",S133/COUNTIF('Data Input'!$C$8:$AQ$8,$S$2))","v":""}]
[{"$f":"IF('Data Input'!A138=0,\"\",'Data Input'!A138)","v":""},{"$f":"IF(ISBLANK('Data Input'!A138),\"\",COUNTIF('Data Input'!C138:AQ138,\"\")-1)","v":""},{"$f":"IF(ISBLANK('Data Input'!A138),\"\",COUNTIF('Data Input'!C138:AQ138,\"0\"))","v":""},{"$f":"IF(ISBLANK('Data Input'!A138),\"\",SUM(B134,C134))","v":""},{"$f":"IF(ISBLANK('Data Input'!A138),\"\",SUM('Data Input'!C138:AQ138))","v":""},{"$f":"IF(E134=\"\",\"\",E134/(COUNTA('Data Input'!$C$8:$AQ$8)-1))","v":""},{"$f":"IF(ISBLANK('Data Input'!A138),\"\",SUM('Data Input'!H138,'Data Input'!I138,'Data Input'!M138,'Data Input'!N138))","v":""},{"$f":"IF(G134=\"\",\"\",G134/COUNTIF('Data Input'!$C$8:$AQ$8,$G$2))","v":""},{"$f":"IF(ISBLANK('Data Input'!A138),\"\",SUM('Data Input'!J138,'Data Input'!K138,'Data Input'!U138,'Data Input'!V138))","v":""},{"$f":"IF(I134=\"\",\"\",I134/COUNTIF('Data Input'!$C$8:$AQ$8,$I$2))","v":""},{"$f":"IF(ISBLANK('Data Input'!A138),\"\",SUM('Data Input'!D138))","v":""},{"$f":"IF(K134=\"\",\"\",K134/COUNTIF('Data Input'!$C$8:$AQ$8,$K$2))","v":""},{"$f":"IF(ISBLANK('Data Input'!A138),\"\",SUM('Data Input'!O138,'Data Input'!P138,'Data Input'!R138,'Data Input'!S138))","v":""},{"$f":"IF(M134=\"\",\"\",M134/COUNTIF('Data Input'!$C$8:$AQ$8,$M$2))","v":""},{"$f":"IF(ISBLANK('Data Input'!A138),\"\",SUM('Data Input'!C138,'Data Input'!E138,'Data Input'!F138,'Data Input'!G138,'Data Input'!Q138,'Data Input'!T138))","v":""},{"$f":"IF(O134=\"\",\"\",O134/COUNTIF('Data Input'!$C$8:$AQ$8,$O$2))","v":""},{"$f":"IF(ISBLANK('Data Input'!A138),\"\",SUM('Data Input'!L138))","v":""},{"$f":"IF(Q134=\"\",\"\",Q134/COUNTIF('Data Input'!$C$8:$AQ$8,$Q$2))","v":""},{"$f":"IF(ISBLANK('Data Input'!A138),\"\",SUM('Data Input'!X138:AQ138))","v":""},{"$f":"IF(S134=\"\",\"\",S134/COUNTIF('Data Input'!$C$8:$AQ$8,$S$2))","v":""}]
[{"$f":"IF('Data Input'!A139=0,\"\",'Data Input'!A139)","v":""},{"$f":"IF(ISBLANK('Data Input'!A139),\"\",COUNTIF('Data Input'!C139:AQ139,\"\")-1)","v":""},{"$f":"IF(ISBLANK('Data Input'!A139),\"\",COUNTIF('Data Input'!C139:AQ139,\"0\"))","v":""},{"$f":"IF(ISBLANK('Data Input'!A139),\"\",SUM(B135,C135))","v":""},{"$f":"IF(ISBLANK('Data Input'!A139),\"\",SUM('Data Input'!C139:AQ139))","v":""},{"$f":"IF(E135=\"\",\"\",E135/(COUNTA('Data Input'!$C$8:$AQ$8)-1))","v":""},{"$f":"IF(ISBLANK('Data Input'!A139),\"\",SUM('Data Input'!H139,'Data Input'!I139,'Data Input'!M139,'Data Input'!N139))","v":""},{"$f":"IF(G135=\"\",\"\",G135/COUNTIF('Data Input'!$C$8:$AQ$8,$G$2))","v":""},{"$f":"IF(ISBLANK('Data Input'!A139),\"\",SUM('Data Input'!J139,'Data Input'!K139,'Data Input'!U139,'Data Input'!V139))","v":""},{"$f":"IF(I135=\"\",\"\",I135/COUNTIF('Data Input'!$C$8:$AQ$8,$I$2))","v":""},{"$f":"IF(ISBLANK('Data Input'!A139),\"\",SUM('Data Input'!D139))","v":""},{"$f":"IF(K135=\"\",\"\",K135/COUNTIF('Data Input'!$C$8:$AQ$8,$K$2))","v":""},{"$f":"IF(ISBLANK('Data Input'!A139),\"\",SUM('Data Input'!O139,'Data Input'!P139,'Data Input'!R139,'Data Input'!S139))","v":""},{"$f":"IF(M135=\"\",\"\",M135/COUNTIF('Data Input'!$C$8:$AQ$8,$M$2))","v":""},{"$f":"IF(ISBLANK('Data Input'!A139),\"\",SUM('Data Input'!C139,'Data Input'!E139,'Data Input'!F139,'Data Input'!G139,'Data Input'!Q139,'Data Input'!T139))","v":""},{"$f":"IF(O135=\"\",\"\",O135/COUNTIF('Data Input'!$C$8:$AQ$8,$O$2))","v":""},{"$f":"IF(ISBLANK('Data Input'!A139),\"\",SUM('Data Input'!L139))","v":""},{"$f":"IF(Q135=\"\",\"\",Q135/COUNTIF('Data Input'!$C$8:$AQ$8,$Q$2))","v":""},{"$f":"IF(ISBLANK('Data Input'!A139),\"\",SUM('Data Input'!X139:AQ139))","v":""},{"$f":"IF(S135=\"\",\"\",S135/COUNTIF('Data Input'!$C$8:$AQ$8,$S$2))","v":""}]
[{"$f":"IF('Data Input'!A140=0,\"\",'Data Input'!A140)","v":""},{"$f":"IF(ISBLANK('Data Input'!A140),\"\",COUNTIF('Data Input'!C140:AQ140,\"\")-1)","v":""},{"$f":"IF(ISBLANK('Data Input'!A140),\"\",COUNTIF('Data Input'!C140:AQ140,\"0\"))","v":""},{"$f":"IF(ISBLANK('Data Input'!A140),\"\",SUM(B136,C136))","v":""},{"$f":"IF(ISBLANK('Data Input'!A140),\"\",SUM('Data Input'!C140:AQ140))","v":""},{"$f":"IF(E136=\"\",\"\",E136/(COUNTA('Data Input'!$C$8:$AQ$8)-1))","v":""},{"$f":"IF(ISBLANK('Data Input'!A140),\"\",SUM('Data Input'!H140,'Data Input'!I140,'Data Input'!M140,'Data Input'!N140))","v":""},{"$f":"IF(G136=\"\",\"\",G136/COUNTIF('Data Input'!$C$8:$AQ$8,$G$2))","v":""},{"$f":"IF(ISBLANK('Data Input'!A140),\"\",SUM('Data Input'!J140,'Data Input'!K140,'Data Input'!U140,'Data Input'!V140))","v":""},{"$f":"IF(I136=\"\",\"\",I136/COUNTIF('Data Input'!$C$8:$AQ$8,$I$2))","v":""},{"$f":"IF(ISBLANK('Data Input'!A140),\"\",SUM('Data Input'!D140))","v":""},{"$f":"IF(K136=\"\",\"\",K136/COUNTIF('Data Input'!$C$8:$AQ$8,$K$2))","v":""},{"$f":"IF(ISBLANK('Data Input'!A140),\"\",SUM('Data Input'!O140,'Data Input'!P140,'Data Input'!R140,'Data Input'!S140))","v":""},{"$f":"IF(M136=\"\",\"\",M136/COUNTIF('Data Input'!$C$8:$AQ$8,$M$2))","v":""},{"$f":"IF(ISBLANK('Data Input'!A140),\"\",SUM('Data Input'!C140,'Data Input'!E140,'Data Input'!F140,'Data Input'!G140,'Data Input'!Q140,'Data Input'!T140))","v":""},{"$f":"IF(O136=\"\",\"\",O136/COUNTIF('Data Input'!$C$8:$AQ$8,$O$2))","v":""},{"$f":"IF(ISBLANK('Data Input'!A140),\"\",SUM('Data Input'!L140))","v":""},{"$f":"IF(Q136=\"\",\"\",Q136/COUNTIF('Data Input'!$C$8:$AQ$8,$Q$2))","v":""},{"$f":"IF(ISBLANK('Data Input'!A140),\"\",SUM('Data Input'!X140:AQ140))","v":""},{"$f":"IF(S136=\"\",\"\",S136/COUNTIF('Data Input'!$C$8:$AQ$8,$S$2))","v":""}]
[{"$f":"IF('Data Input'!A141=0,\"\",'Data Input'!A141)","v":""},{"$f":"IF(ISBLANK('Data Input'!A141),\"\",COUNTIF('Data Input'!C141:AQ141,\"\")-1)","v":""},{"$f":"IF(ISBLANK('Data Input'!A141),\"\",COUNTIF('Data Input'!C141:AQ141,\"0\"))","v":""},{"$f":"IF(ISBLANK('Data Input'!A141),\"\",SUM(B137,C137))","v":""},{"$f":"IF(ISBLANK('Data Input'!A141),\"\",SUM('Data Input'!C141:AQ141))","v":""},{"$f":"IF(E137=\"\",\"\",E137/(COUNTA('Data Input'!$C$8:$AQ$8)-1))","v":""},{"$f":"IF(ISBLANK('Data Input'!A141),\"\",SUM('Data Input'!H141,'Data Input'!I141,'Data Input'!M141,'Data Input'!N141))","v":""},{"$f":"IF(G137=\"\",\"\",G137/COUNTIF('Data Input'!$C$8:$AQ$8,$G$2))","v":""},{"$f":"IF(ISBLANK('Data Input'!A141),\"\",SUM('Data Input'!J141,'Data Input'!K141,'Data Input'!U141,'Data Input'!V141))","v":""},{"$f":"IF(I137=\"\",\"\",I137/COUNTIF('Data Input'!$C$8:$AQ$8,$I$2))","v":""},{"$f":"IF(ISBLANK('Data Input'!A141),\"\",SUM('Data Input'!D141))","v":""},{"$f":"IF(K137=\"\",\"\",K137/COUNTIF('Data Input'!$C$8:$AQ$8,$K$2))","v":""},{"$f":"IF(ISBLANK('Data Input'!A141),\"\",SUM('Data Input'!O141,'Data Input'!P141,'Data Input'!R141,'Data Input'!S141))","v":""},{"$f":"IF(M137=\"\",\"\",M137/COUNTIF('Data Input'!$C$8:$AQ$8,$M$2))","v":""},{"$f":"IF(ISBLANK('Data Input'!A141),\"\",SUM('Data Input'!C141,'Data Input'!E141,'Data Input'!F141,'Data Input'!G141,'Data Input'!Q141,'Data Input'!T141))","v":""},{"$f":"IF(O137=\"\",\"\",O137/COUNTIF('Data Input'!$C$8:$AQ$8,$O$2))","v":""},{"$f":"IF(ISBLANK('Data Input'!A141),\"\",SUM('Data Input'!L141))","v":""},{"$f":"IF(Q137=\"\",\"\",Q137/COUNTIF('Data Input'!$C$8:$AQ$8,$Q$2))","v":""},{"$f":"IF(ISBLANK('Data Input'!A141),\"\",SUM('Data Input'!X141:AQ141))","v":""},{"$f":"IF(S137=\"\",\"\",S137/COUNTIF('Data Input'!$C$8:$AQ$8,$S$2))","v":""}]
[{"$f":"IF('Data Input'!A142=0,\"\",'Data Input'!A142)","v":""},{"$f":"IF(ISBLANK('Data Input'!A142),\"\",COUNTIF('Data Input'!C142:AQ142,\"\")-1)","v":""},{"$f":"IF(ISBLANK('Data Input'!A142),\"\",COUNTIF('Data Input'!C142:AQ142,\"0\"))","v":""},{"$f":"IF(ISBLANK('Data Input'!A142),\"\",SUM(B138,C138))","v":""},{"$f":"IF(ISBLANK('Data Input'!A142),\"\",SUM('Data Input'!C142:AQ142))","v":""},{"$f":"IF(E138=\"\",\"\",E138/(COUNTA('Data Input'!$C$8:$AQ$8)-1))","v":""},{"$f":"IF(ISBLANK('Data Input'!A142),\"\",SUM('Data Input'!H142,'Data Input'!I142,'Data Input'!M142,'Data Input'!N142))","v":""},{"$f":"IF(G138=\"\",\"\",G138/COUNTIF('Data Input'!$C$8:$AQ$8,$G$2))","v":""},{"$f":"IF(ISBLANK('Data Input'!A142),\"\",SUM('Data Input'!J142,'Data Input'!K142,'Data Input'!U142,'Data Input'!V142))","v":""},{"$f":"IF(I138=\"\",\"\",I138/COUNTIF('Data Input'!$C$8:$AQ$8,$I$2))","v":""},{"$f":"IF(ISBLANK('Data Input'!A142),\"\",SUM('Data Input'!D142))","v":""},{"$f":"IF(K138=\"\",\"\",K138/COUNTIF('Data Input'!$C$8:$AQ$8,$K$2))","v":""},{"$f":"IF(ISBLANK('Data Input'!A142),\"\",SUM('Data Input'!O142,'Data Input'!P142,'Data Input'!R142,'Data Input'!S142))","v":""},{"$f":"IF(M138=\"\",\"\",M138/COUNTIF('Data Input'!$C$8:$AQ$8,$M$2))","v":""},{"$f":"IF(ISBLANK('Data Input'!A142),\"\",SUM('Data Input'!C142,'Data Input'!E142,'Data Input'!F142,'Data Input'!G142,'Data Input'!Q142,'Data Input'!T142))","v":""},{"$f":"IF(O138=\"\",\"\",O138/COUNTIF('Data Input'!$C$8:$AQ$8,$O$2))","v":""},{"$f":"IF(ISBLANK('Data Input'!A142),\"\",SUM('Data Input'!L142))","v":""},{"$f":"IF(Q138=\"\",\"\",Q138/COUNTIF('Data Input'!$C$8:$AQ$8,$Q$2))","v":""},{"$f":"IF(ISBLANK('Data Input'!A142),\"\",SUM('Data Input'!X142:AQ142))","v":""},{"$f":"IF(S138=\"\",\"\",S138/COUNTIF('Data Input'!$C$8:$AQ$8,$S$2))","v":""}]
[{"$f":"IF('Data Input'!A143=0,\"\",'Data Input'!A143)","v":""},{"$f":"IF(ISBLANK('Data Input'!A143),\"\",COUNTIF('Data Input'!C143:AQ143,\"\")-1)","v":""},{"$f":"IF(ISBLANK('Data Input'!A143),\"\",COUNTIF('Data Input'!C143:AQ143,\"0\"))","v":""},{"$f":"IF(ISBLANK('Data Input'!A143),\"\",SUM(B139,C139))","v":""},{"$f":"IF(ISBLANK('Data Input'!A143),\"\",SUM('Data Input'!C143:AQ143))","v":""},{"$f":"IF(E139=\"\",\"\",E139/(COUNTA('Data Input'!$C$8:$AQ$8)-1))","v":""},{"$f":"IF(ISBLANK('Data Input'!A143),\"\",SUM('Data Input'!H143,'Data Input'!I143,'Data Input'!M143,'Data Input'!N143))","v":""},{"$f":"IF(G139=\"\",\"\",G139/COUNTIF('Data Input'!$C$8:$AQ$8,$G$2))","v":""},{"$f":"IF(ISBLANK('Data Input'!A143),\"\",SUM('Data Input'!J143,'Data Input'!K143,'Data Input'!U143,'Data Input'!V143))","v":""},{"$f":"IF(I139=\"\",\"\",I139/COUNTIF('Data Input'!$C$8:$AQ$8,$I$2))","v":""},{"$f":"IF(ISBLANK('Data Input'!A143),\"\",SUM('Data Input'!D143))","v":""},{"$f":"IF(K139=\"\",\"\",K139/COUNTIF('Data Input'!$C$8:$AQ$8,$K$2))","v":""},{"$f":"IF(ISBLANK('Data Input'!A143),\"\",SUM('Data Input'!O143,'Data Input'!P143,'Data Input'!R143,'Data Input'!S143))","v":""},{"$f":"IF(M139=\"\",\"\",M139/COUNTIF('Data Input'!$C$8:$AQ$8,$M$2))","v":""},{"$f":"IF(ISBLANK('Data Input'!A143),\"\",SUM('Data Input'!C143,'Data Input'!E143,'Data Input'!F143,'Data Input'!G143,'Data Input'!Q143,'Data Input'!T143))","v":""},{"$f":"IF(O139=\"\",\"\",O139/COUNTIF('Data Input'!$C$8:$AQ$8,$O$2))","v":""},{"$f":"IF(ISBLANK('Data Input'!A143),\"\",SUM('Data Input'!L143))","v":""},{"$f":"IF(Q139=\"\",\"\",Q139/COUNTIF('Data Input'!$C$8:$AQ$8,$Q$2))","v":""},{"$f":"IF(ISBLANK('Data Input'!A143),\"\",SUM('Data Input'!X143:AQ143))","v":""},{"$f":"IF(S139=\"\",\"\",S139/COUNTIF('Data Input'!$C$8:$AQ$8,$S$2))","v":""}]
[{"$f":"IF('Data Input'!A144=0,\"\",'Data Input'!A144)","v":""},{"$f":"IF(ISBLANK('Data Input'!A144),\"\",COUNTIF('Data Input'!C144:AQ144,\"\")-1)","v":""},{"$f":"IF(ISBLANK('Data Input'!A144),\"\",COUNTIF('Data Input'!C144:AQ144,\"0\"))","v":""},{"$f":"IF(ISBLANK('Data Input'!A144),\"\",SUM(B140,C140))","v":""},{"$f":"IF(ISBLANK('Data Input'!A144),\"\",SUM('Data Input'!C144:AQ144))","v":""},{"$f":"IF(E140=\"\",\"\",E140/(COUNTA('Data Input'!$C$8:$AQ$8)-1))","v":""},{"$f":"IF(ISBLANK('Data Input'!A144),\"\",SUM('Data Input'!H144,'Data Input'!I144,'Data Input'!M144,'Data Input'!N144))","v":""},{"$f":"IF(G140=\"\",\"\",G140/COUNTIF('Data Input'!$C$8:$AQ$8,$G$2))","v":""},{"$f":"IF(ISBLANK('Data Input'!A144),\"\",SUM('Data Input'!J144,'Data Input'!K144,'Data Input'!U144,'Data Input'!V144))","v":""},{"$f":"IF(I140=\"\",\"\",I140/COUNTIF('Data Input'!$C$8:$AQ$8,$I$2))","v":""},{"$f":"IF(ISBLANK('Data Input'!A144),\"\",SUM('Data Input'!D144))","v":""},{"$f":"IF(K140=\"\",\"\",K140/COUNTIF('Data Input'!$C$8:$AQ$8,$K$2))","v":""},{"$f":"IF(ISBLANK('Data Input'!A144),\"\",SUM('Data Input'!O144,'Data Input'!P144,'Data Input'!R144,'Data Input'!S144))","v":""},{"$f":"IF(M140=\"\",\"\",M140/COUNTIF('Data Input'!$C$8:$AQ$8,$M$2))","v":""},{"$f":"IF(ISBLANK('Data Input'!A144),\"\",SUM('Data Input'!C144,'Data Input'!E144,'Data Input'!F144,'Data Input'!G144,'Data Input'!Q144,'Data Input'!T144))","v":""},{"$f":"IF(O140=\"\",\"\",O140/COUNTIF('Data Input'!$C$8:$AQ$8,$O$2))","v":""},{"$f":"IF(ISBLANK('Data Input'!A144),\"\",SUM('Data Input'!L144))","v":""},{"$f":"IF(Q140=\"\",\"\",Q140/COUNTIF('Data Input'!$C$8:$AQ$8,$Q$2))","v":""},{"$f":"IF(ISBLANK('Data Input'!A144),\"\",SUM('Data Input'!X144:AQ144))","v":""},{"$f":"IF(S140=\"\",\"\",S140/COUNTIF('Data Input'!$C$8:$AQ$8,$S$2))","v":""}]
[{"$f":"IF('Data Input'!A145=0,\"\",'Data Input'!A145)","v":""},{"$f":"IF(ISBLANK('Data Input'!A145),\"\",COUNTIF('Data Input'!C145:AQ145,\"\")-1)","v":""},{"$f":"IF(ISBLANK('Data Input'!A145),\"\",COUNTIF('Data Input'!C145:AQ145,\"0\"))","v":""},{"$f":"IF(ISBLANK('Data Input'!A145),\"\",SUM(B141,C141))","v":""},{"$f":"IF(ISBLANK('Data Input'!A145),\"\",SUM('Data Input'!C145:AQ145))","v":""},{"$f":"IF(E141=\"\",\"\",E141/(COUNTA('Data Input'!$C$8:$AQ$8)-1))","v":""},{"$f":"IF(ISBLANK('Data Input'!A145),\"\",SUM('Data Input'!H145,'Data Input'!I145,'Data Input'!M145,'Data Input'!N145))","v":""},{"$f":"IF(G141=\"\",\"\",G141/COUNTIF('Data Input'!$C$8:$AQ$8,$G$2))","v":""},{"$f":"IF(ISBLANK('Data Input'!A145),\"\",SUM('Data Input'!J145,'Data Input'!K145,'Data Input'!U145,'Data Input'!V145))","v":""},{"$f":"IF(I141=\"\",\"\",I141/COUNTIF('Data Input'!$C$8:$AQ$8,$I$2))","v":""},{"$f":"IF(ISBLANK('Data Input'!A145),\"\",SUM('Data Input'!D145))","v":""},{"$f":"IF(K141=\"\",\"\",K141/COUNTIF('Data Input'!$C$8:$AQ$8,$K$2))","v":""},{"$f":"IF(ISBLANK('Data Input'!A145),\"\",SUM('Data Input'!O145,'Data Input'!P145,'Data Input'!R145,'Data Input'!S145))","v":""},{"$f":"IF(M141=\"\",\"\",M141/COUNTIF('Data Input'!$C$8:$AQ$8,$M$2))","v":""},{"$f":"IF(ISBLANK('Data Input'!A145),\"\",SUM('Data Input'!C145,'Data Input'!E145,'Data Input'!F145,'Data Input'!G145,'Data Input'!Q145,'Data Input'!T145))","v":""},{"$f":"IF(O141=\"\",\"\",O141/COUNTIF('Data Input'!$C$8:$AQ$8,$O$2))","v":""},{"$f":"IF(ISBLANK('Data Input'!A145),\"\",SUM('Data Input'!L145))","v":""},{"$f":"IF(Q141=\"\",\"\",Q141/COUNTIF('Data Input'!$C$8:$AQ$8,$Q$2))","v":""},{"$f":"IF(ISBLANK('Data Input'!A145),\"\",SUM('Data Input'!X145:AQ145))","v":""},{"$f":"IF(S141=\"\",\"\",S141/COUNTIF('Data Input'!$C$8:$AQ$8,$S$2))","v":""}]
[{"$f":"IF('Data Input'!A146=0,\"\",'Data Input'!A146)","v":""},{"$f":"IF(ISBLANK('Data Input'!A146),\"\",COUNTIF('Data Input'!C146:AQ146,\"\")-1)","v":""},{"$f":"IF(ISBLANK('Data Input'!A146),\"\",COUNTIF('Data Input'!C146:AQ146,\"0\"))","v":""},{"$f":"IF(ISBLANK('Data Input'!A146),\"\",SUM(B142,C142))","v":""},{"$f":"IF(ISBLANK('Data Input'!A146),\"\",SUM('Data Input'!C146:AQ146))","v":""},{"$f":"IF(E142=\"\",\"\",E142/(COUNTA('Data Input'!$C$8:$AQ$8)-1))","v":""},{"$f":"IF(ISBLANK('Data Input'!A146),\"\",SUM('Data Input'!H146,'Data Input'!I146,'Data Input'!M146,'Data Input'!N146))","v":""},{"$f":"IF(G142=\"\",\"\",G142/COUNTIF('Data Input'!$C$8:$AQ$8,$G$2))","v":""},{"$f":"IF(ISBLANK('Data Input'!A146),\"\",SUM('Data Input'!J146,'Data Input'!K146,'Data Input'!U146,'Data Input'!V146))","v":""},{"$f":"IF(I142=\"\",\"\",I142/COUNTIF('Data Input'!$C$8:$AQ$8,$I$2))","v":""},{"$f":"IF(ISBLANK('Data Input'!A146),\"\",SUM('Data Input'!D146))","v":""},{"$f":"IF(K142=\"\",\"\",K142/COUNTIF('Data Input'!$C$8:$AQ$8,$K$2))","v":""},{"$f":"IF(ISBLANK('Data Input'!A146),\"\",SUM('Data Input'!O146,'Data Input'!P146,'Data Input'!R146,'Data Input'!S146))","v":""},{"$f":"IF(M142=\"\",\"\",M142/COUNTIF('Data Input'!$C$8:$AQ$8,$M$2))","v":""},{"$f":"IF(ISBLANK('Data Input'!A146),\"\",SUM('Data Input'!C146,'Data Input'!E146,'Data Input'!F146,'Data Input'!G146,'Data Input'!Q146,'Data Input'!T146))","v":""},{"$f":"IF(O142=\"\",\"\",O142/COUNTIF('Data Input'!$C$8:$AQ$8,$O$2))","v":""},{"$f":"IF(ISBLANK('Data Input'!A146),\"\",SUM('Data Input'!L146))","v":""},{"$f":"IF(Q142=\"\",\"\",Q142/COUNTIF('Data Input'!$C$8:$AQ$8,$Q$2))","v":""},{"$f":"IF(ISBLANK('Data Input'!A146),\"\",SUM('Data Input'!X146:AQ146))","v":""},{"$f":"IF(S142=\"\",\"\",S142/COUNTIF('Data Input'!$C$8:$AQ$8,$S$2))","v":""}]
[{"$f":"IF('Data Input'!A147=0,\"\",'Data Input'!A147)","v":""},{"$f":"IF(ISBLANK('Data Input'!A147),\"\",COUNTIF('Data Input'!C147:AQ147,\"\")-1)","v":""},{"$f":"IF(ISBLANK('Data Input'!A147),\"\",COUNTIF('Data Input'!C147:AQ147,\"0\"))","v":""},{"$f":"IF(ISBLANK('Data Input'!A147),\"\",SUM(B143,C143))","v":""},{"$f":"IF(ISBLANK('Data Input'!A147),\"\",SUM('Data Input'!C147:AQ147))","v":""},{"$f":"IF(E143=\"\",\"\",E143/(COUNTA('Data Input'!$C$8:$AQ$8)-1))","v":""},{"$f":"IF(ISBLANK('Data Input'!A147),\"\",SUM('Data Input'!H147,'Data Input'!I147,'Data Input'!M147,'Data Input'!N147))","v":""},{"$f":"IF(G143=\"\",\"\",G143/COUNTIF('Data Input'!$C$8:$AQ$8,$G$2))","v":""},{"$f":"IF(ISBLANK('Data Input'!A147),\"\",SUM('Data Input'!J147,'Data Input'!K147,'Data Input'!U147,'Data Input'!V147))","v":""},{"$f":"IF(I143=\"\",\"\",I143/COUNTIF('Data Input'!$C$8:$AQ$8,$I$2))","v":""},{"$f":"IF(ISBLANK('Data Input'!A147),\"\",SUM('Data Input'!D147))","v":""},{"$f":"IF(K143=\"\",\"\",K143/COUNTIF('Data Input'!$C$8:$AQ$8,$K$2))","v":""},{"$f":"IF(ISBLANK('Data Input'!A147),\"\",SUM('Data Input'!O147,'Data Input'!P147,'Data Input'!R147,'Data Input'!S147))","v":""},{"$f":"IF(M143=\"\",\"\",M143/COUNTIF('Data Input'!$C$8:$AQ$8,$M$2))","v":""},{"$f":"IF(ISBLANK('Data Input'!A147),\"\",SUM('Data Input'!C147,'Data Input'!E147,'Data Input'!F147,'Data Input'!G147,'Data Input'!Q147,'Data Input'!T147))","v":""},{"$f":"IF(O143=\"\",\"\",O143/COUNTIF('Data Input'!$C$8:$AQ$8,$O$2))","v":""},{"$f":"IF(ISBLANK('Data Input'!A147),\"\",SUM('Data Input'!L147))","v":""},{"$f":"IF(Q143=\"\",\"\",Q143/COUNTIF('Data Input'!$C$8:$AQ$8,$Q$2))","v":""},{"$f":"IF(ISBLANK('Data Input'!A147),\"\",SUM('Data Input'!X147:AQ147))","v":""},{"$f":"IF(S143=\"\",\"\",S143/COUNTIF('Data Input'!$C$8:$AQ$8,$S$2))","v":""}]
[{"$f":"IF('Data Input'!A148=0,\"\",'Data Input'!A148)","v":""},{"$f":"IF(ISBLANK('Data Input'!A148),\"\",COUNTIF('Data Input'!C148:AQ148,\"\")-1)","v":""},{"$f":"IF(ISBLANK('Data Input'!A148),\"\",COUNTIF('Data Input'!C148:AQ148,\"0\"))","v":""},{"$f":"IF(ISBLANK('Data Input'!A148),\"\",SUM(B144,C144))","v":""},{"$f":"IF(ISBLANK('Data Input'!A148),\"\",SUM('Data Input'!C148:AQ148))","v":""},{"$f":"IF(E144=\"\",\"\",E144/(COUNTA('Data Input'!$C$8:$AQ$8)-1))","v":""},{"$f":"IF(ISBLANK('Data Input'!A148),\"\",SUM('Data Input'!H148,'Data Input'!I148,'Data Input'!M148,'Data Input'!N148))","v":""},{"$f":"IF(G144=\"\",\"\",G144/COUNTIF('Data Input'!$C$8:$AQ$8,$G$2))","v":""},{"$f":"IF(ISBLANK('Data Input'!A148),\"\",SUM('Data Input'!J148,'Data Input'!K148,'Data Input'!U148,'Data Input'!V148))","v":""},{"$f":"IF(I144=\"\",\"\",I144/COUNTIF('Data Input'!$C$8:$AQ$8,$I$2))","v":""},{"$f":"IF(ISBLANK('Data Input'!A148),\"\",SUM('Data Input'!D148))","v":""},{"$f":"IF(K144=\"\",\"\",K144/COUNTIF('Data Input'!$C$8:$AQ$8,$K$2))","v":""},{"$f":"IF(ISBLANK('Data Input'!A148),\"\",SUM('Data Input'!O148,'Data Input'!P148,'Data Input'!R148,'Data Input'!S148))","v":""},{"$f":"IF(M144=\"\",\"\",M144/COUNTIF('Data Input'!$C$8:$AQ$8,$M$2))","v":""},{"$f":"IF(ISBLANK('Data Input'!A148),\"\",SUM('Data Input'!C148,'Data Input'!E148,'Data Input'!F148,'Data Input'!G148,'Data Input'!Q148,'Data Input'!T148))","v":""},{"$f":"IF(O144=\"\",\"\",O144/COUNTIF('Data Input'!$C$8:$AQ$8,$O$2))","v":""},{"$f":"IF(ISBLANK('Data Input'!A148),\"\",SUM('Data Input'!L148))","v":""},{"$f":"IF(Q144=\"\",\"\",Q144/COUNTIF('Data Input'!$C$8:$AQ$8,$Q$2))","v":""},{"$f":"IF(ISBLANK('Data Input'!A148),\"\",SUM('Data Input'!X148:AQ148))","v":""},{"$f":"IF(S144=\"\",\"\",S144/COUNTIF('Data Input'!$C$8:$AQ$8,$S$2))","v":""}]
[{"$f":"IF('Data Input'!A149=0,\"\",'Data Input'!A149)","v":""},{"$f":"IF(ISBLANK('Data Input'!A149),\"\",COUNTIF('Data Input'!C149:AQ149,\"\")-1)","v":""},{"$f":"IF(ISBLANK('Data Input'!A149),\"\",COUNTIF('Data Input'!C149:AQ149,\"0\"))","v":""},{"$f":"IF(ISBLANK('Data Input'!A149),\"\",SUM(B145,C145))","v":""},{"$f":"IF(ISBLANK('Data Input'!A149),\"\",SUM('Data Input'!C149:AQ149))","v":""},{"$f":"IF(E145=\"\",\"\",E145/(COUNTA('Data Input'!$C$8:$AQ$8)-1))","v":""},{"$f":"IF(ISBLANK('Data Input'!A149),\"\",SUM('Data Input'!H149,'Data Input'!I149,'Data Input'!M149,'Data Input'!N149))","v":""},{"$f":"IF(G145=\"\",\"\",G145/COUNTIF('Data Input'!$C$8:$AQ$8,$G$2))","v":""},{"$f":"IF(ISBLANK('Data Input'!A149),\"\",SUM('Data Input'!J149,'Data Input'!K149,'Data Input'!U149,'Data Input'!V149))","v":""},{"$f":"IF(I145=\"\",\"\",I145/COUNTIF('Data Input'!$C$8:$AQ$8,$I$2))","v":""},{"$f":"IF(ISBLANK('Data Input'!A149),\"\",SUM('Data Input'!D149))","v":""},{"$f":"IF(K145=\"\",\"\",K145/COUNTIF('Data Input'!$C$8:$AQ$8,$K$2))","v":""},{"$f":"IF(ISBLANK('Data Input'!A149),\"\",SUM('Data Input'!O149,'Data Input'!P149,'Data Input'!R149,'Data Input'!S149))","v":""},{"$f":"IF(M145=\"\",\"\",M145/COUNTIF('Data Input'!$C$8:$AQ$8,$M$2))","v":""},{"$f":"IF(ISBLANK('Data Input'!A149),\"\",SUM('Data Input'!C149,'Data Input'!E149,'Data Input'!F149,'Data Input'!G149,'Data Input'!Q149,'Data Input'!T149))","v":""},{"$f":"IF(O145=\"\",\"\",O145/COUNTIF('Data Input'!$C$8:$AQ$8,$O$2))","v":""},{"$f":"IF(ISBLANK('Data Input'!A149),\"\",SUM('Data Input'!L149))","v":""},{"$f":"IF(Q145=\"\",\"\",Q145/COUNTIF('Data Input'!$C$8:$AQ$8,$Q$2))","v":""},{"$f":"IF(ISBLANK('Data Input'!A149),\"\",SUM('Data Input'!X149:AQ149))","v":""},{"$f":"IF(S145=\"\",\"\",S145/COUNTIF('Data Input'!$C$8:$AQ$8,$S$2))","v":""}]
[{"$f":"IF('Data Input'!A150=0,\"\",'Data Input'!A150)","v":""},{"$f":"IF(ISBLANK('Data Input'!A150),\"\",COUNTIF('Data Input'!C150:AQ150,\"\")-1)","v":""},{"$f":"IF(ISBLANK('Data Input'!A150),\"\",COUNTIF('Data Input'!C150:AQ150,\"0\"))","v":""},{"$f":"IF(ISBLANK('Data Input'!A150),\"\",SUM(B146,C146))","v":""},{"$f":"IF(ISBLANK('Data Input'!A150),\"\",SUM('Data Input'!C150:AQ150))","v":""},{"$f":"IF(E146=\"\",\"\",E146/(COUNTA('Data Input'!$C$8:$AQ$8)-1))","v":""},{"$f":"IF(ISBLANK('Data Input'!A150),\"\",SUM('Data Input'!H150,'Data Input'!I150,'Data Input'!M150,'Data Input'!N150))","v":""},{"$f":"IF(G146=\"\",\"\",G146/COUNTIF('Data Input'!$C$8:$AQ$8,$G$2))","v":""},{"$f":"IF(ISBLANK('Data Input'!A150),\"\",SUM('Data Input'!J150,'Data Input'!K150,'Data Input'!U150,'Data Input'!V150))","v":""},{"$f":"IF(I146=\"\",\"\",I146/COUNTIF('Data Input'!$C$8:$AQ$8,$I$2))","v":""},{"$f":"IF(ISBLANK('Data Input'!A150),\"\",SUM('Data Input'!D150))","v":""},{"$f":"IF(K146=\"\",\"\",K146/COUNTIF('Data Input'!$C$8:$AQ$8,$K$2))","v":""},{"$f":"IF(ISBLANK('Data Input'!A150),\"\",SUM('Data Input'!O150,'Data Input'!P150,'Data Input'!R150,'Data Input'!S150))","v":""},{"$f":"IF(M146=\"\",\"\",M146/COUNTIF('Data Input'!$C$8:$AQ$8,$M$2))","v":""},{"$f":"IF(ISBLANK('Data Input'!A150),\"\",SUM('Data Input'!C150,'Data Input'!E150,'Data Input'!F150,'Data Input'!G150,'Data Input'!Q150,'Data Input'!T150))","v":""},{"$f":"IF(O146=\"\",\"\",O146/COUNTIF('Data Input'!$C$8:$AQ$8,$O$2))","v":""},{"$f":"IF(ISBLANK('Data Input'!A150),\"\",SUM('Data Input'!L150))","v":""},{"$f":"IF(Q146=\"\",\"\",Q146/COUNTIF('Data Input'!$C$8:$AQ$8,$Q$2))","v":""},{"$f":"IF(ISBLANK('Data Input'!A150),\"\",SUM('Data Input'!X150:AQ150))","v":""},{"$f":"IF(S146=\"\",\"\",S146/COUNTIF('Data Input'!$C$8:$AQ$8,$S$2))","v":""}]
[{"$f":"IF('Data Input'!A151=0,\"\",'Data Input'!A151)","v":""},{"$f":"IF(ISBLANK('Data Input'!A151),\"\",COUNTIF('Data Input'!C151:AQ151,\"\")-1)","v":""},{"$f":"IF(ISBLANK('Data Input'!A151),\"\",COUNTIF('Data Input'!C151:AQ151,\"0\"))","v":""},{"$f":"IF(ISBLANK('Data Input'!A151),\"\",SUM(B147,C147))","v":""},{"$f":"IF(ISBLANK('Data Input'!A151),\"\",SUM('Data Input'!C151:AQ151))","v":""},{"$f":"IF(E147=\"\",\"\",E147/(COUNTA('Data Input'!$C$8:$AQ$8)-1))","v":""},{"$f":"IF(ISBLANK('Data Input'!A151),\"\",SUM('Data Input'!H151,'Data Input'!I151,'Data Input'!M151,'Data Input'!N151))","v":""},{"$f":"IF(G147=\"\",\"\",G147/COUNTIF('Data Input'!$C$8:$AQ$8,$G$2))","v":""},{"$f":"IF(ISBLANK('Data Input'!A151),\"\",SUM('Data Input'!J151,'Data Input'!K151,'Data Input'!U151,'Data Input'!V151))","v":""},{"$f":"IF(I147=\"\",\"\",I147/COUNTIF('Data Input'!$C$8:$AQ$8,$I$2))","v":""},{"$f":"IF(ISBLANK('Data Input'!A151),\"\",SUM('Data Input'!D151))","v":""},{"$f":"IF(K147=\"\",\"\",K147/COUNTIF('Data Input'!$C$8:$AQ$8,$K$2))","v":""},{"$f":"IF(ISBLANK('Data Input'!A151),\"\",SUM('Data Input'!O151,'Data Input'!P151,'Data Input'!R151,'Data Input'!S151))","v":""},{"$f":"IF(M147=\"\",\"\",M147/COUNTIF('Data Input'!$C$8:$AQ$8,$M$2))","v":""},{"$f":"IF(ISBLANK('Data Input'!A151),\"\",SUM('Data Input'!C151,'Data Input'!E151,'Data Input'!F151,'Data Input'!G151,'Data Input'!Q151,'Data Input'!T151))","v":""},{"$f":"IF(O147=\"\",\"\",O147/COUNTIF('Data Input'!$C$8:$AQ$8,$O$2))","v":""},{"$f":"IF(ISBLANK('Data Input'!A151),\"\",SUM('Data Input'!L151))","v":""},{"$f":"IF(Q147=\"\",\"\",Q147/COUNTIF('Data Input'!$C$8:$AQ$8,$Q$2))","v":""},{"$f":"IF(ISBLANK('Data Input'!A151),\"\",SUM('Data Input'!X151:AQ151))","v":""},{"$f":"IF(S147=\"\",\"\",S147/COUNTIF('Data Input'!$C$8:$AQ$8,$S$2))","v":""}]
[{"$f":"IF('Data Input'!A152=0,\"\",'Data Input'!A152)","v":""},{"$f":"IF(ISBLANK('Data Input'!A152),\"\",COUNTIF('Data Input'!C152:AQ152,\"\")-1)","v":""},{"$f":"IF(ISBLANK('Data Input'!A152),\"\",COUNTIF('Data Input'!C152:AQ152,\"0\"))","v":""},{"$f":"IF(ISBLANK('Data Input'!A152),\"\",SUM(B148,C148))","v":""},{"$f":"IF(ISBLANK('Data Input'!A152),\"\",SUM('Data Input'!C152:AQ152))","v":""},{"$f":"IF(E148=\"\",\"\",E148/(COUNTA('Data Input'!$C$8:$AQ$8)-1))","v":""},{"$f":"IF(ISBLANK('Data Input'!A152),\"\",SUM('Data Input'!H152,'Data Input'!I152,'Data Input'!M152,'Data Input'!N152))","v":""},{"$f":"IF(G148=\"\",\"\",G148/COUNTIF('Data Input'!$C$8:$AQ$8,$G$2))","v":""},{"$f":"IF(ISBLANK('Data Input'!A152),\"\",SUM('Data Input'!J152,'Data Input'!K152,'Data Input'!U152,'Data Input'!V152))","v":""},{"$f":"IF(I148=\"\",\"\",I148/COUNTIF('Data Input'!$C$8:$AQ$8,$I$2))","v":""},{"$f":"IF(ISBLANK('Data Input'!A152),\"\",SUM('Data Input'!D152))","v":""},{"$f":"IF(K148=\"\",\"\",K148/COUNTIF('Data Input'!$C$8:$AQ$8,$K$2))","v":""},{"$f":"IF(ISBLANK('Data Input'!A152),\"\",SUM('Data Input'!O152,'Data Input'!P152,'Data Input'!R152,'Data Input'!S152))","v":""},{"$f":"IF(M148=\"\",\"\",M148/COUNTIF('Data Input'!$C$8:$AQ$8,$M$2))","v":""},{"$f":"IF(ISBLANK('Data Input'!A152),\"\",SUM('Data Input'!C152,'Data Input'!E152,'Data Input'!F152,'Data Input'!G152,'Data Input'!Q152,'Data Input'!T152))","v":""},{"$f":"IF(O148=\"\",\"\",O148/COUNTIF('Data Input'!$C$8:$AQ$8,$O$2))","v":""},{"$f":"IF(ISBLANK('Data Input'!A152),\"\",SUM('Data Input'!L152))","v":""},{"$f":"IF(Q148=\"\",\"\",Q148/COUNTIF('Data Input'!$C$8:$AQ$8,$Q$2))","v":""},{"$f":"IF(ISBLANK('Data Input'!A152),\"\",SUM('Data Input'!X152:AQ152))","v":""},{"$f":"IF(S148=\"\",\"\",S148/COUNTIF('Data Input'!$C$8:$AQ$8,$S$2))","v":""}]
[{"$f":"IF('Data Input'!A153=0,\"\",'Data Input'!A153)","v":""},{"$f":"IF(ISBLANK('Data Input'!A153),\"\",COUNTIF('Data Input'!C153:AQ153,\"\")-1)","v":""},{"$f":"IF(ISBLANK('Data Input'!A153),\"\",COUNTIF('Data Input'!C153:AQ153,\"0\"))","v":""},{"$f":"IF(ISBLANK('Data Input'!A153),\"\",SUM(B149,C149))","v":""},{"$f":"IF(ISBLANK('Data Input'!A153),\"\",SUM('Data Input'!C153:AQ153))","v":""},{"$f":"IF(E149=\"\",\"\",E149/(COUNTA('Data Input'!$C$8:$AQ$8)-1))","v":""},{"$f":"IF(ISBLANK('Data Input'!A153),\"\",SUM('Data Input'!H153,'Data Input'!I153,'Data Input'!M153,'Data Input'!N153))","v":""},{"$f":"IF(G149=\"\",\"\",G149/COUNTIF('Data Input'!$C$8:$AQ$8,$G$2))","v":""},{"$f":"IF(ISBLANK('Data Input'!A153),\"\",SUM('Data Input'!J153,'Data Input'!K153,'Data Input'!U153,'Data Input'!V153))","v":""},{"$f":"IF(I149=\"\",\"\",I149/COUNTIF('Data Input'!$C$8:$AQ$8,$I$2))","v":""},{"$f":"IF(ISBLANK('Data Input'!A153),\"\",SUM('Data Input'!D153))","v":""},{"$f":"IF(K149=\"\",\"\",K149/COUNTIF('Data Input'!$C$8:$AQ$8,$K$2))","v":""},{"$f":"IF(ISBLANK('Data Input'!A153),\"\",SUM('Data Input'!O153,'Data Input'!P153,'Data Input'!R153,'Data Input'!S153))","v":""},{"$f":"IF(M149=\"\",\"\",M149/COUNTIF('Data Input'!$C$8:$AQ$8,$M$2))","v":""},{"$f":"IF(ISBLANK('Data Input'!A153),\"\",SUM('Data Input'!C153,'Data Input'!E153,'Data Input'!F153,'Data Input'!G153,'Data Input'!Q153,'Data Input'!T153))","v":""},{"$f":"IF(O149=\"\",\"\",O149/COUNTIF('Data Input'!$C$8:$AQ$8,$O$2))","v":""},{"$f":"IF(ISBLANK('Data Input'!A153),\"\",SUM('Data Input'!L153))","v":""},{"$f":"IF(Q149=\"\",\"\",Q149/COUNTIF('Data Input'!$C$8:$AQ$8,$Q$2))","v":""},{"$f":"IF(ISBLANK('Data Input'!A153),\"\",SUM('Data Input'!X153:AQ153))","v":""},{"$f":"IF(S149=\"\",\"\",S149/COUNTIF('Data Input'!$C$8:$AQ$8,$S$2))","v":""}]
[{"$f":"IF('Data Input'!A154=0,\"\",'Data Input'!A154)","v":""},{"$f":"IF(ISBLANK('Data Input'!A154),\"\",COUNTIF('Data Input'!C154:AQ154,\"\")-1)","v":""},{"$f":"IF(ISBLANK('Data Input'!A154),\"\",COUNTIF('Data Input'!C154:AQ154,\"0\"))","v":""},{"$f":"IF(ISBLANK('Data Input'!A154),\"\",SUM(B150,C150))","v":""},{"$f":"IF(ISBLANK('Data Input'!A154),\"\",SUM('Data Input'!C154:AQ154))","v":""},{"$f":"IF(E150=\"\",\"\",E150/(COUNTA('Data Input'!$C$8:$AQ$8)-1))","v":""},{"$f":"IF(ISBLANK('Data Input'!A154),\"\",SUM('Data Input'!H154,'Data Input'!I154,'Data Input'!M154,'Data Input'!N154))","v":""},{"$f":"IF(G150=\"\",\"\",G150/COUNTIF('Data Input'!$C$8:$AQ$8,$G$2))","v":""},{"$f":"IF(ISBLANK('Data Input'!A154),\"\",SUM('Data Input'!J154,'Data Input'!K154,'Data Input'!U154,'Data Input'!V154))","v":""},{"$f":"IF(I150=\"\",\"\",I150/COUNTIF('Data Input'!$C$8:$AQ$8,$I$2))","v":""},{"$f":"IF(ISBLANK('Data Input'!A154),\"\",SUM('Data Input'!D154))","v":""},{"$f":"IF(K150=\"\",\"\",K150/COUNTIF('Data Input'!$C$8:$AQ$8,$K$2))","v":""},{"$f":"IF(ISBLANK('Data Input'!A154),\"\",SUM('Data Input'!O154,'Data Input'!P154,'Data Input'!R154,'Data Input'!S154))","v":""},{"$f":"IF(M150=\"\",\"\",M150/COUNTIF('Data Input'!$C$8:$AQ$8,$M$2))","v":""},{"$f":"IF(ISBLANK('Data Input'!A154),\"\",SUM('Data Input'!C154,'Data Input'!E154,'Data Input'!F154,'Data Input'!G154,'Data Input'!Q154,'Data Input'!T154))","v":""},{"$f":"IF(O150=\"\",\"\",O150/COUNTIF('Data Input'!$C$8:$AQ$8,$O$2))","v":""},{"$f":"IF(ISBLANK('Data Input'!A154),\"\",SUM('Data Input'!L154))","v":""},{"$f":"IF(Q150=\"\",\"\",Q150/COUNTIF('Data Input'!$C$8:$AQ$8,$Q$2))","v":""},{"$f":"IF(ISBLANK('Data Input'!A154),\"\",SUM('Data Input'!X154:AQ154))","v":""},{"$f":"IF(S150=\"\",\"\",S150/COUNTIF('Data Input'!$C$8:$AQ$8,$S$2))","v":""}]
[{"$f":"IF('Data Input'!A155=0,\"\",'Data Input'!A155)","v":""},{"$f":"IF(ISBLANK('Data Input'!A155),\"\",COUNTIF('Data Input'!C155:AQ155,\"\")-1)","v":""},{"$f":"IF(ISBLANK('Data Input'!A155),\"\",COUNTIF('Data Input'!C155:AQ155,\"0\"))","v":""},{"$f":"IF(ISBLANK('Data Input'!A155),\"\",SUM(B151,C151))","v":""},{"$f":"IF(ISBLANK('Data Input'!A155),\"\",SUM('Data Input'!C155:AQ155))","v":""},{"$f":"IF(E151=\"\",\"\",E151/(COUNTA('Data Input'!$C$8:$AQ$8)-1))","v":""},{"$f":"IF(ISBLANK('Data Input'!A155),\"\",SUM('Data Input'!H155,'Data Input'!I155,'Data Input'!M155,'Data Input'!N155))","v":""},{"$f":"IF(G151=\"\",\"\",G151/COUNTIF('Data Input'!$C$8:$AQ$8,$G$2))","v":""},{"$f":"IF(ISBLANK('Data Input'!A155),\"\",SUM('Data Input'!J155,'Data Input'!K155,'Data Input'!U155,'Data Input'!V155))","v":""},{"$f":"IF(I151=\"\",\"\",I151/COUNTIF('Data Input'!$C$8:$AQ$8,$I$2))","v":""},{"$f":"IF(ISBLANK('Data Input'!A155),\"\",SUM('Data Input'!D155))","v":""},{"$f":"IF(K151=\"\",\"\",K151/COUNTIF('Data Input'!$C$8:$AQ$8,$K$2))","v":""},{"$f":"IF(ISBLANK('Data Input'!A155),\"\",SUM('Data Input'!O155,'Data Input'!P155,'Data Input'!R155,'Data Input'!S155))","v":""},{"$f":"IF(M151=\"\",\"\",M151/COUNTIF('Data Input'!$C$8:$AQ$8,$M$2))","v":""},{"$f":"IF(ISBLANK('Data Input'!A155),\"\",SUM('Data Input'!C155,'Data Input'!E155,'Data Input'!F155,'Data Input'!G155,'Data Input'!Q155,'Data Input'!T155))","v":""},{"$f":"IF(O151=\"\",\"\",O151/COUNTIF('Data Input'!$C$8:$AQ$8,$O$2))","v":""},{"$f":"IF(ISBLANK('Data Input'!A155),\"\",SUM('Data Input'!L155))","v":""},{"$f":"IF(Q151=\"\",\"\",Q151/COUNTIF('Data Input'!$C$8:$AQ$8,$Q$2))","v":""},{"$f":"IF(ISBLANK('Data Input'!A155),\"\",SUM('Data Input'!X155:AQ155))","v":""},{"$f":"IF(S151=\"\",\"\",S151/COUNTIF('Data Input'!$C$8:$AQ$8,$S$2))","v":""}]
[{"$f":"IF('Data Input'!A156=0,\"\",'Data Input'!A156)","v":""},{"$f":"IF(ISBLANK('Data Input'!A156),\"\",COUNTIF('Data Input'!C156:AQ156,\"\")-1)","v":""},{"$f":"IF(ISBLANK('Data Input'!A156),\"\",COUNTIF('Data Input'!C156:AQ156,\"0\"))","v":""},{"$f":"IF(ISBLANK('Data Input'!A156),\"\",SUM(B152,C152))","v":""},{"$f":"IF(ISBLANK('Data Input'!A156),\"\",SUM('Data Input'!C156:AQ156))","v":""},{"$f":"IF(E152=\"\",\"\",E152/(COUNTA('Data Input'!$C$8:$AQ$8)-1))","v":""},{"$f":"IF(ISBLANK('Data Input'!A156),\"\",SUM('Data Input'!H156,'Data Input'!I156,'Data Input'!M156,'Data Input'!N156))","v":""},{"$f":"IF(G152=\"\",\"\",G152/COUNTIF('Data Input'!$C$8:$AQ$8,$G$2))","v":""},{"$f":"IF(ISBLANK('Data Input'!A156),\"\",SUM('Data Input'!J156,'Data Input'!K156,'Data Input'!U156,'Data Input'!V156))","v":""},{"$f":"IF(I152=\"\",\"\",I152/COUNTIF('Data Input'!$C$8:$AQ$8,$I$2))","v":""},{"$f":"IF(ISBLANK('Data Input'!A156),\"\",SUM('Data Input'!D156))","v":""},{"$f":"IF(K152=\"\",\"\",K152/COUNTIF('Data Input'!$C$8:$AQ$8,$K$2))","v":""},{"$f":"IF(ISBLANK('Data Input'!A156),\"\",SUM('Data Input'!O156,'Data Input'!P156,'Data Input'!R156,'Data Input'!S156))","v":""},{"$f":"IF(M152=\"\",\"\",M152/COUNTIF('Data Input'!$C$8:$AQ$8,$M$2))","v":""},{"$f":"IF(ISBLANK('Data Input'!A156),\"\",SUM('Data Input'!C156,'Data Input'!E156,'Data Input'!F156,'Data Input'!G156,'Data Input'!Q156,'Data Input'!T156))","v":""},{"$f":"IF(O152=\"\",\"\",O152/COUNTIF('Data Input'!$C$8:$AQ$8,$O$2))","v":""},{"$f":"IF(ISBLANK('Data Input'!A156),\"\",SUM('Data Input'!L156))","v":""},{"$f":"IF(Q152=\"\",\"\",Q152/COUNTIF('Data Input'!$C$8:$AQ$8,$Q$2))","v":""},{"$f":"IF(ISBLANK('Data Input'!A156),\"\",SUM('Data Input'!X156:AQ156))","v":""},{"$f":"IF(S152=\"\",\"\",S152/COUNTIF('Data Input'!$C$8:$AQ$8,$S$2))","v":""}]
[{"$f":"IF('Data Input'!A157=0,\"\",'Data Input'!A157)","v":""},{"$f":"IF(ISBLANK('Data Input'!A157),\"\",COUNTIF('Data Input'!C157:AQ157,\"\")-1)","v":""},{"$f":"IF(ISBLANK('Data Input'!A157),\"\",COUNTIF('Data Input'!C157:AQ157,\"0\"))","v":""},{"$f":"IF(ISBLANK('Data Input'!A157),\"\",SUM(B153,C153))","v":""},{"$f":"IF(ISBLANK('Data Input'!A157),\"\",SUM('Data Input'!C157:AQ157))","v":""},{"$f":"IF(E153=\"\",\"\",E153/(COUNTA('Data Input'!$C$8:$AQ$8)-1))","v":""},{"$f":"IF(ISBLANK('Data Input'!A157),\"\",SUM('Data Input'!H157,'Data Input'!I157,'Data Input'!M157,'Data Input'!N157))","v":""},{"$f":"IF(G153=\"\",\"\",G153/COUNTIF('Data Input'!$C$8:$AQ$8,$G$2))","v":""},{"$f":"IF(ISBLANK('Data Input'!A157),\"\",SUM('Data Input'!J157,'Data Input'!K157,'Data Input'!U157,'Data Input'!V157))","v":""},{"$f":"IF(I153=\"\",\"\",I153/COUNTIF('Data Input'!$C$8:$AQ$8,$I$2))","v":""},{"$f":"IF(ISBLANK('Data Input'!A157),\"\",SUM('Data Input'!D157))","v":""},{"$f":"IF(K153=\"\",\"\",K153/COUNTIF('Data Input'!$C$8:$AQ$8,$K$2))","v":""},{"$f":"IF(ISBLANK('Data Input'!A157),\"\",SUM('Data Input'!O157,'Data Input'!P157,'Data Input'!R157,'Data Input'!S157))","v":""},{"$f":"IF(M153=\"\",\"\",M153/COUNTIF('Data Input'!$C$8:$AQ$8,$M$2))","v":""},{"$f":"IF(ISBLANK('Data Input'!A157),\"\",SUM('Data Input'!C157,'Data Input'!E157,'Data Input'!F157,'Data Input'!G157,'Data Input'!Q157,'Data Input'!T157))","v":""},{"$f":"IF(O153=\"\",\"\",O153/COUNTIF('Data Input'!$C$8:$AQ$8,$O$2))","v":""},{"$f":"IF(ISBLANK('Data Input'!A157),\"\",SUM('Data Input'!L157))","v":""},{"$f":"IF(Q153=\"\",\"\",Q153/COUNTIF('Data Input'!$C$8:$AQ$8,$Q$2))","v":""},{"$f":"IF(ISBLANK('Data Input'!A157),\"\",SUM('Data Input'!X157:AQ157))","v":""},{"$f":"IF(S153=\"\",\"\",S153/COUNTIF('Data Input'!$C$8:$AQ$8,$S$2))","v":""}]
[{"$f":"IF('Data Input'!A158=0,\"\",'Data Input'!A158)","v":""},{"$f":"IF(ISBLANK('Data Input'!A158),\"\",COUNTIF('Data Input'!C158:AQ158,\"\")-1)","v":""},{"$f":"IF(ISBLANK('Data Input'!A158),\"\",COUNTIF('Data Input'!C158:AQ158,\"0\"))","v":""},{"$f":"IF(ISBLANK('Data Input'!A158),\"\",SUM(B154,C154))","v":""},{"$f":"IF(ISBLANK('Data Input'!A158),\"\",SUM('Data Input'!C158:AQ158))","v":""},{"$f":"IF(E154=\"\",\"\",E154/(COUNTA('Data Input'!$C$8:$AQ$8)-1))","v":""},{"$f":"IF(ISBLANK('Data Input'!A158),\"\",SUM('Data Input'!H158,'Data Input'!I158,'Data Input'!M158,'Data Input'!N158))","v":""},{"$f":"IF(G154=\"\",\"\",G154/COUNTIF('Data Input'!$C$8:$AQ$8,$G$2))","v":""},{"$f":"IF(ISBLANK('Data Input'!A158),\"\",SUM('Data Input'!J158,'Data Input'!K158,'Data Input'!U158,'Data Input'!V158))","v":""},{"$f":"IF(I154=\"\",\"\",I154/COUNTIF('Data Input'!$C$8:$AQ$8,$I$2))","v":""},{"$f":"IF(ISBLANK('Data Input'!A158),\"\",SUM('Data Input'!D158))","v":""},{"$f":"IF(K154=\"\",\"\",K154/COUNTIF('Data Input'!$C$8:$AQ$8,$K$2))","v":""},{"$f":"IF(ISBLANK('Data Input'!A158),\"\",SUM('Data Input'!O158,'Data Input'!P158,'Data Input'!R158,'Data Input'!S158))","v":""},{"$f":"IF(M154=\"\",\"\",M154/COUNTIF('Data Input'!$C$8:$AQ$8,$M$2))","v":""},{"$f":"IF(ISBLANK('Data Input'!A158),\"\",SUM('Data Input'!C158,'Data Input'!E158,'Data Input'!F158,'Data Input'!G158,'Data Input'!Q158,'Data Input'!T158))","v":""},{"$f":"IF(O154=\"\",\"\",O154/COUNTIF('Data Input'!$C$8:$AQ$8,$O$2))","v":""},{"$f":"IF(ISBLANK('Data Input'!A158),\"\",SUM('Data Input'!L158))","v":""},{"$f":"IF(Q154=\"\",\"\",Q154/COUNTIF('Data Input'!$C$8:$AQ$8,$Q$2))","v":""},{"$f":"IF(ISBLANK('Data Input'!A158),\"\",SUM('Data Input'!X158:AQ158))","v":""},{"$f":"IF(S154=\"\",\"\",S154/COUNTIF('Data Input'!$C$8:$AQ$8,$S$2))","v":""}]
[{"$f":"IF('Data Input'!A159=0,\"\",'Data Input'!A159)","v":""},{"$f":"IF(ISBLANK('Data Input'!A159),\"\",COUNTIF('Data Input'!C159:AQ159,\"\")-1)","v":""},{"$f":"IF(ISBLANK('Data Input'!A159),\"\",COUNTIF('Data Input'!C159:AQ159,\"0\"))","v":""},{"$f":"IF(ISBLANK('Data Input'!A159),\"\",SUM(B155,C155))","v":""},{"$f":"IF(ISBLANK('Data Input'!A159),\"\",SUM('Data Input'!C159:AQ159))","v":""},{"$f":"IF(E155=\"\",\"\",E155/(COUNTA('Data Input'!$C$8:$AQ$8)-1))","v":""},{"$f":"IF(ISBLANK('Data Input'!A159),\"\",SUM('Data Input'!H159,'Data Input'!I159,'Data Input'!M159,'Data Input'!N159))","v":""},{"$f":"IF(G155=\"\",\"\",G155/COUNTIF('Data Input'!$C$8:$AQ$8,$G$2))","v":""},{"$f":"IF(ISBLANK('Data Input'!A159),\"\",SUM('Data Input'!J159,'Data Input'!K159,'Data Input'!U159,'Data Input'!V159))","v":""},{"$f":"IF(I155=\"\",\"\",I155/COUNTIF('Data Input'!$C$8:$AQ$8,$I$2))","v":""},{"$f":"IF(ISBLANK('Data Input'!A159),\"\",SUM('Data Input'!D159))","v":""},{"$f":"IF(K155=\"\",\"\",K155/COUNTIF('Data Input'!$C$8:$AQ$8,$K$2))","v":""},{"$f":"IF(ISBLANK('Data Input'!A159),\"\",SUM('Data Input'!O159,'Data Input'!P159,'Data Input'!R159,'Data Input'!S159))","v":""},{"$f":"IF(M155=\"\",\"\",M155/COUNTIF('Data Input'!$C$8:$AQ$8,$M$2))","v":""},{"$f":"IF(ISBLANK('Data Input'!A159),\"\",SUM('Data Input'!C159,'Data Input'!E159,'Data Input'!F159,'Data Input'!G159,'Data Input'!Q159,'Data Input'!T159))","v":""},{"$f":"IF(O155=\"\",\"\",O155/COUNTIF('Data Input'!$C$8:$AQ$8,$O$2))","v":""},{"$f":"IF(ISBLANK('Data Input'!A159),\"\",SUM('Data Input'!L159))","v":""},{"$f":"IF(Q155=\"\",\"\",Q155/COUNTIF('Data Input'!$C$8:$AQ$8,$Q$2))","v":""},{"$f":"IF(ISBLANK('Data Input'!A159),\"\",SUM('Data Input'!X159:AQ159))","v":""},{"$f":"IF(S155=\"\",\"\",S155/COUNTIF('Data Input'!$C$8:$AQ$8,$S$2))","v":""}]
[{"$f":"IF('Data Input'!A160=0,\"\",'Data Input'!A160)","v":""},{"$f":"IF(ISBLANK('Data Input'!A160),\"\",COUNTIF('Data Input'!C160:AQ160,\"\")-1)","v":""},{"$f":"IF(ISBLANK('Data Input'!A160),\"\",COUNTIF('Data Input'!C160:AQ160,\"0\"))","v":""},{"$f":"IF(ISBLANK('Data Input'!A160),\"\",SUM(B156,C156))","v":""},{"$f":"IF(ISBLANK('Data Input'!A160),\"\",SUM('Data Input'!C160:AQ160))","v":""},{"$f":"IF(E156=\"\",\"\",E156/(COUNTA('Data Input'!$C$8:$AQ$8)-1))","v":""},{"$f":"IF(ISBLANK('Data Input'!A160),\"\",SUM('Data Input'!H160,'Data Input'!I160,'Data Input'!M160,'Data Input'!N160))","v":""},{"$f":"IF(G156=\"\",\"\",G156/COUNTIF('Data Input'!$C$8:$AQ$8,$G$2))","v":""},{"$f":"IF(ISBLANK('Data Input'!A160),\"\",SUM('Data Input'!J160,'Data Input'!K160,'Data Input'!U160,'Data Input'!V160))","v":""},{"$f":"IF(I156=\"\",\"\",I156/COUNTIF('Data Input'!$C$8:$AQ$8,$I$2))","v":""},{"$f":"IF(ISBLANK('Data Input'!A160),\"\",SUM('Data Input'!D160))","v":""},{"$f":"IF(K156=\"\",\"\",K156/COUNTIF('Data Input'!$C$8:$AQ$8,$K$2))","v":""},{"$f":"IF(ISBLANK('Data Input'!A160),\"\",SUM('Data Input'!O160,'Data Input'!P160,'Data Input'!R160,'Data Input'!S160))","v":""},{"$f":"IF(M156=\"\",\"\",M156/COUNTIF('Data Input'!$C$8:$AQ$8,$M$2))","v":""},{"$f":"IF(ISBLANK('Data Input'!A160),\"\",SUM('Data Input'!C160,'Data Input'!E160,'Data Input'!F160,'Data Input'!G160,'Data Input'!Q160,'Data Input'!T160))","v":""},{"$f":"IF(O156=\"\",\"\",O156/COUNTIF('Data Input'!$C$8:$AQ$8,$O$2))","v":""},{"$f":"IF(ISBLANK('Data Input'!A160),\"\",SUM('Data Input'!L160))","v":""},{"$f":"IF(Q156=\"\",\"\",Q156/COUNTIF('Data Input'!$C$8:$AQ$8,$Q$2))","v":""},{"$f":"IF(ISBLANK('Data Input'!A160),\"\",SUM('Data Input'!X160:AQ160))","v":""},{"$f":"IF(S156=\"\",\"\",S156/COUNTIF('Data Input'!$C$8:$AQ$8,$S$2))","v":""}]
[{"$f":"IF('Data Input'!A161=0,\"\",'Data Input'!A161)","v":""},{"$f":"IF(ISBLANK('Data Input'!A161),\"\",COUNTIF('Data Input'!C161:AQ161,\"\")-1)","v":""},{"$f":"IF(ISBLANK('Data Input'!A161),\"\",COUNTIF('Data Input'!C161:AQ161,\"0\"))","v":""},{"$f":"IF(ISBLANK('Data Input'!A161),\"\",SUM(B157,C157))","v":""},{"$f":"IF(ISBLANK('Data Input'!A161),\"\",SUM('Data Input'!C161:AQ161))","v":""},{"$f":"IF(E157=\"\",\"\",E157/(COUNTA('Data Input'!$C$8:$AQ$8)-1))","v":""},{"$f":"IF(ISBLANK('Data Input'!A161),\"\",SUM('Data Input'!H161,'Data Input'!I161,'Data Input'!M161,'Data Input'!N161))","v":""},{"$f":"IF(G157=\"\",\"\",G157/COUNTIF('Data Input'!$C$8:$AQ$8,$G$2))","v":""},{"$f":"IF(ISBLANK('Data Input'!A161),\"\",SUM('Data Input'!J161,'Data Input'!K161,'Data Input'!U161,'Data Input'!V161))","v":""},{"$f":"IF(I157=\"\",\"\",I157/COUNTIF('Data Input'!$C$8:$AQ$8,$I$2))","v":""},{"$f":"IF(ISBLANK('Data Input'!A161),\"\",SUM('Data Input'!D161))","v":""},{"$f":"IF(K157=\"\",\"\",K157/COUNTIF('Data Input'!$C$8:$AQ$8,$K$2))","v":""},{"$f":"IF(ISBLANK('Data Input'!A161),\"\",SUM('Data Input'!O161,'Data Input'!P161,'Data Input'!R161,'Data Input'!S161))","v":""},{"$f":"IF(M157=\"\",\"\",M157/COUNTIF('Data Input'!$C$8:$AQ$8,$M$2))","v":""},{"$f":"IF(ISBLANK('Data Input'!A161),\"\",SUM('Data Input'!C161,'Data Input'!E161,'Data Input'!F161,'Data Input'!G161,'Data Input'!Q161,'Data Input'!T161))","v":""},{"$f":"IF(O157=\"\",\"\",O157/COUNTIF('Data Input'!$C$8:$AQ$8,$O$2))","v":""},{"$f":"IF(ISBLANK('Data Input'!A161),\"\",SUM('Data Input'!L161))","v":""},{"$f":"IF(Q157=\"\",\"\",Q157/COUNTIF('Data Input'!$C$8:$AQ$8,$Q$2))","v":""},{"$f":"IF(ISBLANK('Data Input'!A161),\"\",SUM('Data Input'!X161:AQ161))","v":""},{"$f":"IF(S157=\"\",\"\",S157/COUNTIF('Data Input'!$C$8:$AQ$8,$S$2))","v":""}]
[{"$f":"IF('Data Input'!A162=0,\"\",'Data Input'!A162)","v":""},{"$f":"IF(ISBLANK('Data Input'!A162),\"\",COUNTIF('Data Input'!C162:AQ162,\"\")-1)","v":""},{"$f":"IF(ISBLANK('Data Input'!A162),\"\",COUNTIF('Data Input'!C162:AQ162,\"0\"))","v":""},{"$f":"IF(ISBLANK('Data Input'!A162),\"\",SUM(B158,C158))","v":""},{"$f":"IF(ISBLANK('Data Input'!A162),\"\",SUM('Data Input'!C162:AQ162))","v":""},{"$f":"IF(E158=\"\",\"\",E158/(COUNTA('Data Input'!$C$8:$AQ$8)-1))","v":""},{"$f":"IF(ISBLANK('Data Input'!A162),\"\",SUM('Data Input'!H162,'Data Input'!I162,'Data Input'!M162,'Data Input'!N162))","v":""},{"$f":"IF(G158=\"\",\"\",G158/COUNTIF('Data Input'!$C$8:$AQ$8,$G$2))","v":""},{"$f":"IF(ISBLANK('Data Input'!A162),\"\",SUM('Data Input'!J162,'Data Input'!K162,'Data Input'!U162,'Data Input'!V162))","v":""},{"$f":"IF(I158=\"\",\"\",I158/COUNTIF('Data Input'!$C$8:$AQ$8,$I$2))","v":""},{"$f":"IF(ISBLANK('Data Input'!A162),\"\",SUM('Data Input'!D162))","v":""},{"$f":"IF(K158=\"\",\"\",K158/COUNTIF('Data Input'!$C$8:$AQ$8,$K$2))","v":""},{"$f":"IF(ISBLANK('Data Input'!A162),\"\",SUM('Data Input'!O162,'Data Input'!P162,'Data Input'!R162,'Data Input'!S162))","v":""},{"$f":"IF(M158=\"\",\"\",M158/COUNTIF('Data Input'!$C$8:$AQ$8,$M$2))","v":""},{"$f":"IF(ISBLANK('Data Input'!A162),\"\",SUM('Data Input'!C162,'Data Input'!E162,'Data Input'!F162,'Data Input'!G162,'Data Input'!Q162,'Data Input'!T162))","v":""},{"$f":"IF(O158=\"\",\"\",O158/COUNTIF('Data Input'!$C$8:$AQ$8,$O$2))","v":""},{"$f":"IF(ISBLANK('Data Input'!A162),\"\",SUM('Data Input'!L162))","v":""},{"$f":"IF(Q158=\"\",\"\",Q158/COUNTIF('Data Input'!$C$8:$AQ$8,$Q$2))","v":""},{"$f":"IF(ISBLANK('Data Input'!A162),\"\",SUM('Data Input'!X162:AQ162))","v":""},{"$f":"IF(S158=\"\",\"\",S158/COUNTIF('Data Input'!$C$8:$AQ$8,$S$2))","v":""}]
[{"$f":"IF('Data Input'!A163=0,\"\",'Data Input'!A163)","v":""},{"$f":"IF(ISBLANK('Data Input'!A163),\"\",COUNTIF('Data Input'!C163:AQ163,\"\")-1)","v":""},{"$f":"IF(ISBLANK('Data Input'!A163),\"\",COUNTIF('Data Input'!C163:AQ163,\"0\"))","v":""},{"$f":"IF(ISBLANK('Data Input'!A163),\"\",SUM(B159,C159))","v":""},{"$f":"IF(ISBLANK('Data Input'!A163),\"\",SUM('Data Input'!C163:AQ163))","v":""},{"$f":"IF(E159=\"\",\"\",E159/(COUNTA('Data Input'!$C$8:$AQ$8)-1))","v":""},{"$f":"IF(ISBLANK('Data Input'!A163),\"\",SUM('Data Input'!H163,'Data Input'!I163,'Data Input'!M163,'Data Input'!N163))","v":""},{"$f":"IF(G159=\"\",\"\",G159/COUNTIF('Data Input'!$C$8:$AQ$8,$G$2))","v":""},{"$f":"IF(ISBLANK('Data Input'!A163),\"\",SUM('Data Input'!J163,'Data Input'!K163,'Data Input'!U163,'Data Input'!V163))","v":""},{"$f":"IF(I159=\"\",\"\",I159/COUNTIF('Data Input'!$C$8:$AQ$8,$I$2))","v":""},{"$f":"IF(ISBLANK('Data Input'!A163),\"\",SUM('Data Input'!D163))","v":""},{"$f":"IF(K159=\"\",\"\",K159/COUNTIF('Data Input'!$C$8:$AQ$8,$K$2))","v":""},{"$f":"IF(ISBLANK('Data Input'!A163),\"\",SUM('Data Input'!O163,'Data Input'!P163,'Data Input'!R163,'Data Input'!S163))","v":""},{"$f":"IF(M159=\"\",\"\",M159/COUNTIF('Data Input'!$C$8:$AQ$8,$M$2))","v":""},{"$f":"IF(ISBLANK('Data Input'!A163),\"\",SUM('Data Input'!C163,'Data Input'!E163,'Data Input'!F163,'Data Input'!G163,'Data Input'!Q163,'Data Input'!T163))","v":""},{"$f":"IF(O159=\"\",\"\",O159/COUNTIF('Data Input'!$C$8:$AQ$8,$O$2))","v":""},{"$f":"IF(ISBLANK('Data Input'!A163),\"\",SUM('Data Input'!L163))","v":""},{"$f":"IF(Q159=\"\",\"\",Q159/COUNTIF('Data Input'!$C$8:$AQ$8,$Q$2))","v":""},{"$f":"IF(ISBLANK('Data Input'!A163),\"\",SUM('Data Input'!X163:AQ163))","v":""},{"$f":"IF(S159=\"\",\"\",S159/COUNTIF('Data Input'!$C$8:$AQ$8,$S$2))","v":""}]
[{"$f":"IF('Data Input'!A164=0,\"\",'Data Input'!A164)","v":""},{"$f":"IF(ISBLANK('Data Input'!A164),\"\",COUNTIF('Data Input'!C164:AQ164,\"\")-1)","v":""},{"$f":"IF(ISBLANK('Data Input'!A164),\"\",COUNTIF('Data Input'!C164:AQ164,\"0\"))","v":""},{"$f":"IF(ISBLANK('Data Input'!A164),\"\",SUM(B160,C160))","v":""},{"$f":"IF(ISBLANK('Data Input'!A164),\"\",SUM('Data Input'!C164:AQ164))","v":""},{"$f":"IF(E160=\"\",\"\",E160/(COUNTA('Data Input'!$C$8:$AQ$8)-1))","v":""},{"$f":"IF(ISBLANK('Data Input'!A164),\"\",SUM('Data Input'!H164,'Data Input'!I164,'Data Input'!M164,'Data Input'!N164))","v":""},{"$f":"IF(G160=\"\",\"\",G160/COUNTIF('Data Input'!$C$8:$AQ$8,$G$2))","v":""},{"$f":"IF(ISBLANK('Data Input'!A164),\"\",SUM('Data Input'!J164,'Data Input'!K164,'Data Input'!U164,'Data Input'!V164))","v":""},{"$f":"IF(I160=\"\",\"\",I160/COUNTIF('Data Input'!$C$8:$AQ$8,$I$2))","v":""},{"$f":"IF(ISBLANK('Data Input'!A164),\"\",SUM('Data Input'!D164))","v":""},{"$f":"IF(K160=\"\",\"\",K160/COUNTIF('Data Input'!$C$8:$AQ$8,$K$2))","v":""},{"$f":"IF(ISBLANK('Data Input'!A164),\"\",SUM('Data Input'!O164,'Data Input'!P164,'Data Input'!R164,'Data Input'!S164))","v":""},{"$f":"IF(M160=\"\",\"\",M160/COUNTIF('Data Input'!$C$8:$AQ$8,$M$2))","v":""},{"$f":"IF(ISBLANK('Data Input'!A164),\"\",SUM('Data Input'!C164,'Data Input'!E164,'Data Input'!F164,'Data Input'!G164,'Data Input'!Q164,'Data Input'!T164))","v":""},{"$f":"IF(O160=\"\",\"\",O160/COUNTIF('Data Input'!$C$8:$AQ$8,$O$2))","v":""},{"$f":"IF(ISBLANK('Data Input'!A164),\"\",SUM('Data Input'!L164))","v":""},{"$f":"IF(Q160=\"\",\"\",Q160/COUNTIF('Data Input'!$C$8:$AQ$8,$Q$2))","v":""},{"$f":"IF(ISBLANK('Data Input'!A164),\"\",SUM('Data Input'!X164:AQ164))","v":""},{"$f":"IF(S160=\"\",\"\",S160/COUNTIF('Data Input'!$C$8:$AQ$8,$S$2))","v":""}]
[{"$f":"IF('Data Input'!A165=0,\"\",'Data Input'!A165)","v":""},{"$f":"IF(ISBLANK('Data Input'!A165),\"\",COUNTIF('Data Input'!C165:AQ165,\"\")-1)","v":""},{"$f":"IF(ISBLANK('Data Input'!A165),\"\",COUNTIF('Data Input'!C165:AQ165,\"0\"))","v":""},{"$f":"IF(ISBLANK('Data Input'!A165),\"\",SUM(B161,C161))","v":""},{"$f":"IF(ISBLANK('Data Input'!A165),\"\",SUM('Data Input'!C165:AQ165))","v":""},{"$f":"IF(E161=\"\",\"\",E161/(COUNTA('Data Input'!$C$8:$AQ$8)-1))","v":""},{"$f":"IF(ISBLANK('Data Input'!A165),\"\",SUM('Data Input'!H165,'Data Input'!I165,'Data Input'!M165,'Data Input'!N165))","v":""},{"$f":"IF(G161=\"\",\"\",G161/COUNTIF('Data Input'!$C$8:$AQ$8,$G$2))","v":""},{"$f":"IF(ISBLANK('Data Input'!A165),\"\",SUM('Data Input'!J165,'Data Input'!K165,'Data Input'!U165,'Data Input'!V165))","v":""},{"$f":"IF(I161=\"\",\"\",I161/COUNTIF('Data Input'!$C$8:$AQ$8,$I$2))","v":""},{"$f":"IF(ISBLANK('Data Input'!A165),\"\",SUM('Data Input'!D165))","v":""},{"$f":"IF(K161=\"\",\"\",K161/COUNTIF('Data Input'!$C$8:$AQ$8,$K$2))","v":""},{"$f":"IF(ISBLANK('Data Input'!A165),\"\",SUM('Data Input'!O165,'Data Input'!P165,'Data Input'!R165,'Data Input'!S165))","v":""},{"$f":"IF(M161=\"\",\"\",M161/COUNTIF('Data Input'!$C$8:$AQ$8,$M$2))","v":""},{"$f":"IF(ISBLANK('Data Input'!A165),\"\",SUM('Data Input'!C165,'Data Input'!E165,'Data Input'!F165,'Data Input'!G165,'Data Input'!Q165,'Data Input'!T165))","v":""},{"$f":"IF(O161=\"\",\"\",O161/COUNTIF('Data Input'!$C$8:$AQ$8,$O$2))","v":""},{"$f":"IF(ISBLANK('Data Input'!A165),\"\",SUM('Data Input'!L165))","v":""},{"$f":"IF(Q161=\"\",\"\",Q161/COUNTIF('Data Input'!$C$8:$AQ$8,$Q$2))","v":""},{"$f":"IF(ISBLANK('Data Input'!A165),\"\",SUM('Data Input'!X165:AQ165))","v":""},{"$f":"IF(S161=\"\",\"\",S161/COUNTIF('Data Input'!$C$8:$AQ$8,$S$2))","v":""}]
[{"$f":"IF('Data Input'!A166=0,\"\",'Data Input'!A166)","v":""},{"$f":"IF(ISBLANK('Data Input'!A166),\"\",COUNTIF('Data Input'!C166:AQ166,\"\")-1)","v":""},{"$f":"IF(ISBLANK('Data Input'!A166),\"\",COUNTIF('Data Input'!C166:AQ166,\"0\"))","v":""},{"$f":"IF(ISBLANK('Data Input'!A166),\"\",SUM(B162,C162))","v":""},{"$f":"IF(ISBLANK('Data Input'!A166),\"\",SUM('Data Input'!C166:AQ166))","v":""},{"$f":"IF(E162=\"\",\"\",E162/(COUNTA('Data Input'!$C$8:$AQ$8)-1))","v":""},{"$f":"IF(ISBLANK('Data Input'!A166),\"\",SUM('Data Input'!H166,'Data Input'!I166,'Data Input'!M166,'Data Input'!N166))","v":""},{"$f":"IF(G162=\"\",\"\",G162/COUNTIF('Data Input'!$C$8:$AQ$8,$G$2))","v":""},{"$f":"IF(ISBLANK('Data Input'!A166),\"\",SUM('Data Input'!J166,'Data Input'!K166,'Data Input'!U166,'Data Input'!V166))","v":""},{"$f":"IF(I162=\"\",\"\",I162/COUNTIF('Data Input'!$C$8:$AQ$8,$I$2))","v":""},{"$f":"IF(ISBLANK('Data Input'!A166),\"\",SUM('Data Input'!D166))","v":""},{"$f":"IF(K162=\"\",\"\",K162/COUNTIF('Data Input'!$C$8:$AQ$8,$K$2))","v":""},{"$f":"IF(ISBLANK('Data Input'!A166),\"\",SUM('Data Input'!O166,'Data Input'!P166,'Data Input'!R166,'Data Input'!S166))","v":""},{"$f":"IF(M162=\"\",\"\",M162/COUNTIF('Data Input'!$C$8:$AQ$8,$M$2))","v":""},{"$f":"IF(ISBLANK('Data Input'!A166),\"\",SUM('Data Input'!C166,'Data Input'!E166,'Data Input'!F166,'Data Input'!G166,'Data Input'!Q166,'Data Input'!T166))","v":""},{"$f":"IF(O162=\"\",\"\",O162/COUNTIF('Data Input'!$C$8:$AQ$8,$O$2))","v":""},{"$f":"IF(ISBLANK('Data Input'!A166),\"\",SUM('Data Input'!L166))","v":""},{"$f":"IF(Q162=\"\",\"\",Q162/COUNTIF('Data Input'!$C$8:$AQ$8,$Q$2))","v":""},{"$f":"IF(ISBLANK('Data Input'!A166),\"\",SUM('Data Input'!X166:AQ166))","v":""},{"$f":"IF(S162=\"\",\"\",S162/COUNTIF('Data Input'!$C$8:$AQ$8,$S$2))","v":""}]
[{"$f":"IF('Data Input'!A167=0,\"\",'Data Input'!A167)","v":""},{"$f":"IF(ISBLANK('Data Input'!A167),\"\",COUNTIF('Data Input'!C167:AQ167,\"\")-1)","v":""},{"$f":"IF(ISBLANK('Data Input'!A167),\"\",COUNTIF('Data Input'!C167:AQ167,\"0\"))","v":""},{"$f":"IF(ISBLANK('Data Input'!A167),\"\",SUM(B163,C163))","v":""},{"$f":"IF(ISBLANK('Data Input'!A167),\"\",SUM('Data Input'!C167:AQ167))","v":""},{"$f":"IF(E163=\"\",\"\",E163/(COUNTA('Data Input'!$C$8:$AQ$8)-1))","v":""},{"$f":"IF(ISBLANK('Data Input'!A167),\"\",SUM('Data Input'!H167,'Data Input'!I167,'Data Input'!M167,'Data Input'!N167))","v":""},{"$f":"IF(G163=\"\",\"\",G163/COUNTIF('Data Input'!$C$8:$AQ$8,$G$2))","v":""},{"$f":"IF(ISBLANK('Data Input'!A167),\"\",SUM('Data Input'!J167,'Data Input'!K167,'Data Input'!U167,'Data Input'!V167))","v":""},{"$f":"IF(I163=\"\",\"\",I163/COUNTIF('Data Input'!$C$8:$AQ$8,$I$2))","v":""},{"$f":"IF(ISBLANK('Data Input'!A167),\"\",SUM('Data Input'!D167))","v":""},{"$f":"IF(K163=\"\",\"\",K163/COUNTIF('Data Input'!$C$8:$AQ$8,$K$2))","v":""},{"$f":"IF(ISBLANK('Data Input'!A167),\"\",SUM('Data Input'!O167,'Data Input'!P167,'Data Input'!R167,'Data Input'!S167))","v":""},{"$f":"IF(M163=\"\",\"\",M163/COUNTIF('Data Input'!$C$8:$AQ$8,$M$2))","v":""},{"$f":"IF(ISBLANK('Data Input'!A167),\"\",SUM('Data Input'!C167,'Data Input'!E167,'Data Input'!F167,'Data Input'!G167,'Data Input'!Q167,'Data Input'!T167))","v":""},{"$f":"IF(O163=\"\",\"\",O163/COUNTIF('Data Input'!$C$8:$AQ$8,$O$2))","v":""},{"$f":"IF(ISBLANK('Data Input'!A167),\"\",SUM('Data Input'!L167))","v":""},{"$f":"IF(Q163=\"\",\"\",Q163/COUNTIF('Data Input'!$C$8:$AQ$8,$Q$2))","v":""},{"$f":"IF(ISBLANK('Data Input'!A167),\"\",SUM('Data Input'!X167:AQ167))","v":""},{"$f":"IF(S163=\"\",\"\",S163/COUNTIF('Data Input'!$C$8:$AQ$8,$S$2))","v":""}]
[{"$f":"IF('Data Input'!A168=0,\"\",'Data Input'!A168)","v":""},{"$f":"IF(ISBLANK('Data Input'!A168),\"\",COUNTIF('Data Input'!C168:AQ168,\"\")-1)","v":""},{"$f":"IF(ISBLANK('Data Input'!A168),\"\",COUNTIF('Data Input'!C168:AQ168,\"0\"))","v":""},{"$f":"IF(ISBLANK('Data Input'!A168),\"\",SUM(B164,C164))","v":""},{"$f":"IF(ISBLANK('Data Input'!A168),\"\",SUM('Data Input'!C168:AQ168))","v":""},{"$f":"IF(E164=\"\",\"\",E164/(COUNTA('Data Input'!$C$8:$AQ$8)-1))","v":""},{"$f":"IF(ISBLANK('Data Input'!A168),\"\",SUM('Data Input'!H168,'Data Input'!I168,'Data Input'!M168,'Data Input'!N168))","v":""},{"$f":"IF(G164=\"\",\"\",G164/COUNTIF('Data Input'!$C$8:$AQ$8,$G$2))","v":""},{"$f":"IF(ISBLANK('Data Input'!A168),\"\",SUM('Data Input'!J168,'Data Input'!K168,'Data Input'!U168,'Data Input'!V168))","v":""},{"$f":"IF(I164=\"\",\"\",I164/COUNTIF('Data Input'!$C$8:$AQ$8,$I$2))","v":""},{"$f":"IF(ISBLANK('Data Input'!A168),\"\",SUM('Data Input'!D168))","v":""},{"$f":"IF(K164=\"\",\"\",K164/COUNTIF('Data Input'!$C$8:$AQ$8,$K$2))","v":""},{"$f":"IF(ISBLANK('Data Input'!A168),\"\",SUM('Data Input'!O168,'Data Input'!P168,'Data Input'!R168,'Data Input'!S168))","v":""},{"$f":"IF(M164=\"\",\"\",M164/COUNTIF('Data Input'!$C$8:$AQ$8,$M$2))","v":""},{"$f":"IF(ISBLANK('Data Input'!A168),\"\",SUM('Data Input'!C168,'Data Input'!E168,'Data Input'!F168,'Data Input'!G168,'Data Input'!Q168,'Data Input'!T168))","v":""},{"$f":"IF(O164=\"\",\"\",O164/COUNTIF('Data Input'!$C$8:$AQ$8,$O$2))","v":""},{"$f":"IF(ISBLANK('Data Input'!A168),\"\",SUM('Data Input'!L168))","v":""},{"$f":"IF(Q164=\"\",\"\",Q164/COUNTIF('Data Input'!$C$8:$AQ$8,$Q$2))","v":""},{"$f":"IF(ISBLANK('Data Input'!A168),\"\",SUM('Data Input'!X168:AQ168))","v":""},{"$f":"IF(S164=\"\",\"\",S164/COUNTIF('Data Input'!$C$8:$AQ$8,$S$2))","v":""}]
[{"$f":"IF('Data Input'!A169=0,\"\",'Data Input'!A169)","v":""},{"$f":"IF(ISBLANK('Data Input'!A169),\"\",COUNTIF('Data Input'!C169:AQ169,\"\")-1)","v":""},{"$f":"IF(ISBLANK('Data Input'!A169),\"\",COUNTIF('Data Input'!C169:AQ169,\"0\"))","v":""},{"$f":"IF(ISBLANK('Data Input'!A169),\"\",SUM(B165,C165))","v":""},{"$f":"IF(ISBLANK('Data Input'!A169),\"\",SUM('Data Input'!C169:AQ169))","v":""},{"$f":"IF(E165=\"\",\"\",E165/(COUNTA('Data Input'!$C$8:$AQ$8)-1))","v":""},{"$f":"IF(ISBLANK('Data Input'!A169),\"\",SUM('Data Input'!H169,'Data Input'!I169,'Data Input'!M169,'Data Input'!N169))","v":""},{"$f":"IF(G165=\"\",\"\",G165/COUNTIF('Data Input'!$C$8:$AQ$8,$G$2))","v":""},{"$f":"IF(ISBLANK('Data Input'!A169),\"\",SUM('Data Input'!J169,'Data Input'!K169,'Data Input'!U169,'Data Input'!V169))","v":""},{"$f":"IF(I165=\"\",\"\",I165/COUNTIF('Data Input'!$C$8:$AQ$8,$I$2))","v":""},{"$f":"IF(ISBLANK('Data Input'!A169),\"\",SUM('Data Input'!D169))","v":""},{"$f":"IF(K165=\"\",\"\",K165/COUNTIF('Data Input'!$C$8:$AQ$8,$K$2))","v":""},{"$f":"IF(ISBLANK('Data Input'!A169),\"\",SUM('Data Input'!O169,'Data Input'!P169,'Data Input'!R169,'Data Input'!S169))","v":""},{"$f":"IF(M165=\"\",\"\",M165/COUNTIF('Data Input'!$C$8:$AQ$8,$M$2))","v":""},{"$f":"IF(ISBLANK('Data Input'!A169),\"\",SUM('Data Input'!C169,'Data Input'!E169,'Data Input'!F169,'Data Input'!G169,'Data Input'!Q169,'Data Input'!T169))","v":""},{"$f":"IF(O165=\"\",\"\",O165/COUNTIF('Data Input'!$C$8:$AQ$8,$O$2))","v":""},{"$f":"IF(ISBLANK('Data Input'!A169),\"\",SUM('Data Input'!L169))","v":""},{"$f":"IF(Q165=\"\",\"\",Q165/COUNTIF('Data Input'!$C$8:$AQ$8,$Q$2))","v":""},{"$f":"IF(ISBLANK('Data Input'!A169),\"\",SUM('Data Input'!X169:AQ169))","v":""},{"$f":"IF(S165=\"\",\"\",S165/COUNTIF('Data Input'!$C$8:$AQ$8,$S$2))","v":""}]
[{"$f":"IF('Data Input'!A170=0,\"\",'Data Input'!A170)","v":""},{"$f":"IF(ISBLANK('Data Input'!A170),\"\",COUNTIF('Data Input'!C170:AQ170,\"\")-1)","v":""},{"$f":"IF(ISBLANK('Data Input'!A170),\"\",COUNTIF('Data Input'!C170:AQ170,\"0\"))","v":""},{"$f":"IF(ISBLANK('Data Input'!A170),\"\",SUM(B166,C166))","v":""},{"$f":"IF(ISBLANK('Data Input'!A170),\"\",SUM('Data Input'!C170:AQ170))","v":""},{"$f":"IF(E166=\"\",\"\",E166/(COUNTA('Data Input'!$C$8:$AQ$8)-1))","v":""},{"$f":"IF(ISBLANK('Data Input'!A170),\"\",SUM('Data Input'!H170,'Data Input'!I170,'Data Input'!M170,'Data Input'!N170))","v":""},{"$f":"IF(G166=\"\",\"\",G166/COUNTIF('Data Input'!$C$8:$AQ$8,$G$2))","v":""},{"$f":"IF(ISBLANK('Data Input'!A170),\"\",SUM('Data Input'!J170,'Data Input'!K170,'Data Input'!U170,'Data Input'!V170))","v":""},{"$f":"IF(I166=\"\",\"\",I166/COUNTIF('Data Input'!$C$8:$AQ$8,$I$2))","v":""},{"$f":"IF(ISBLANK('Data Input'!A170),\"\",SUM('Data Input'!D170))","v":""},{"$f":"IF(K166=\"\",\"\",K166/COUNTIF('Data Input'!$C$8:$AQ$8,$K$2))","v":""},{"$f":"IF(ISBLANK('Data Input'!A170),\"\",SUM('Data Input'!O170,'Data Input'!P170,'Data Input'!R170,'Data Input'!S170))","v":""},{"$f":"IF(M166=\"\",\"\",M166/COUNTIF('Data Input'!$C$8:$AQ$8,$M$2))","v":""},{"$f":"IF(ISBLANK('Data Input'!A170),\"\",SUM('Data Input'!C170,'Data Input'!E170,'Data Input'!F170,'Data Input'!G170,'Data Input'!Q170,'Data Input'!T170))","v":""},{"$f":"IF(O166=\"\",\"\",O166/COUNTIF('Data Input'!$C$8:$AQ$8,$O$2))","v":""},{"$f":"IF(ISBLANK('Data Input'!A170),\"\",SUM('Data Input'!L170))","v":""},{"$f":"IF(Q166=\"\",\"\",Q166/COUNTIF('Data Input'!$C$8:$AQ$8,$Q$2))","v":""},{"$f":"IF(ISBLANK('Data Input'!A170),\"\",SUM('Data Input'!X170:AQ170))","v":""},{"$f":"IF(S166=\"\",\"\",S166/COUNTIF('Data Input'!$C$8:$AQ$8,$S$2))","v":""}]
[{"$f":"IF('Data Input'!A171=0,\"\",'Data Input'!A171)","v":""},{"$f":"IF(ISBLANK('Data Input'!A171),\"\",COUNTIF('Data Input'!C171:AQ171,\"\")-1)","v":""},{"$f":"IF(ISBLANK('Data Input'!A171),\"\",COUNTIF('Data Input'!C171:AQ171,\"0\"))","v":""},{"$f":"IF(ISBLANK('Data Input'!A171),\"\",SUM(B167,C167))","v":""},{"$f":"IF(ISBLANK('Data Input'!A171),\"\",SUM('Data Input'!C171:AQ171))","v":""},{"$f":"IF(E167=\"\",\"\",E167/(COUNTA('Data Input'!$C$8:$AQ$8)-1))","v":""},{"$f":"IF(ISBLANK('Data Input'!A171),\"\",SUM('Data Input'!H171,'Data Input'!I171,'Data Input'!M171,'Data Input'!N171))","v":""},{"$f":"IF(G167=\"\",\"\",G167/COUNTIF('Data Input'!$C$8:$AQ$8,$G$2))","v":""},{"$f":"IF(ISBLANK('Data Input'!A171),\"\",SUM('Data Input'!J171,'Data Input'!K171,'Data Input'!U171,'Data Input'!V171))","v":""},{"$f":"IF(I167=\"\",\"\",I167/COUNTIF('Data Input'!$C$8:$AQ$8,$I$2))","v":""},{"$f":"IF(ISBLANK('Data Input'!A171),\"\",SUM('Data Input'!D171))","v":""},{"$f":"IF(K167=\"\",\"\",K167/COUNTIF('Data Input'!$C$8:$AQ$8,$K$2))","v":""},{"$f":"IF(ISBLANK('Data Input'!A171),\"\",SUM('Data Input'!O171,'Data Input'!P171,'Data Input'!R171,'Data Input'!S171))","v":""},{"$f":"IF(M167=\"\",\"\",M167/COUNTIF('Data Input'!$C$8:$AQ$8,$M$2))","v":""},{"$f":"IF(ISBLANK('Data Input'!A171),\"\",SUM('Data Input'!C171,'Data Input'!E171,'Data Input'!F171,'Data Input'!G171,'Data Input'!Q171,'Data Input'!T171))","v":""},{"$f":"IF(O167=\"\",\"\",O167/COUNTIF('Data Input'!$C$8:$AQ$8,$O$2))","v":""},{"$f":"IF(ISBLANK('Data Input'!A171),\"\",SUM('Data Input'!L171))","v":""},{"$f":"IF(Q167=\"\",\"\",Q167/COUNTIF('Data Input'!$C$8:$AQ$8,$Q$2))","v":""},{"$f":"IF(ISBLANK('Data Input'!A171),\"\",SUM('Data Input'!X171:AQ171))","v":""},{"$f":"IF(S167=\"\",\"\",S167/COUNTIF('Data Input'!$C$8:$AQ$8,$S$2))","v":""}]
[{"$f":"IF('Data Input'!A172=0,\"\",'Data Input'!A172)","v":""},{"$f":"IF(ISBLANK('Data Input'!A172),\"\",COUNTIF('Data Input'!C172:AQ172,\"\")-1)","v":""},{"$f":"IF(ISBLANK('Data Input'!A172),\"\",COUNTIF('Data Input'!C172:AQ172,\"0\"))","v":""},{"$f":"IF(ISBLANK('Data Input'!A172),\"\",SUM(B168,C168))","v":""},{"$f":"IF(ISBLANK('Data Input'!A172),\"\",SUM('Data Input'!C172:AQ172))","v":""},{"$f":"IF(E168=\"\",\"\",E168/(COUNTA('Data Input'!$C$8:$AQ$8)-1))","v":""},{"$f":"IF(ISBLANK('Data Input'!A172),\"\",SUM('Data Input'!H172,'Data Input'!I172,'Data Input'!M172,'Data Input'!N172))","v":""},{"$f":"IF(G168=\"\",\"\",G168/COUNTIF('Data Input'!$C$8:$AQ$8,$G$2))","v":""},{"$f":"IF(ISBLANK('Data Input'!A172),\"\",SUM('Data Input'!J172,'Data Input'!K172,'Data Input'!U172,'Data Input'!V172))","v":""},{"$f":"IF(I168=\"\",\"\",I168/COUNTIF('Data Input'!$C$8:$AQ$8,$I$2))","v":""},{"$f":"IF(ISBLANK('Data Input'!A172),\"\",SUM('Data Input'!D172))","v":""},{"$f":"IF(K168=\"\",\"\",K168/COUNTIF('Data Input'!$C$8:$AQ$8,$K$2))","v":""},{"$f":"IF(ISBLANK('Data Input'!A172),\"\",SUM('Data Input'!O172,'Data Input'!P172,'Data Input'!R172,'Data Input'!S172))","v":""},{"$f":"IF(M168=\"\",\"\",M168/COUNTIF('Data Input'!$C$8:$AQ$8,$M$2))","v":""},{"$f":"IF(ISBLANK('Data Input'!A172),\"\",SUM('Data Input'!C172,'Data Input'!E172,'Data Input'!F172,'Data Input'!G172,'Data Input'!Q172,'Data Input'!T172))","v":""},{"$f":"IF(O168=\"\",\"\",O168/COUNTIF('Data Input'!$C$8:$AQ$8,$O$2))","v":""},{"$f":"IF(ISBLANK('Data Input'!A172),\"\",SUM('Data Input'!L172))","v":""},{"$f":"IF(Q168=\"\",\"\",Q168/COUNTIF('Data Input'!$C$8:$AQ$8,$Q$2))","v":""},{"$f":"IF(ISBLANK('Data Input'!A172),\"\",SUM('Data Input'!X172:AQ172))","v":""},{"$f":"IF(S168=\"\",\"\",S168/COUNTIF('Data Input'!$C$8:$AQ$8,$S$2))","v":""}]
[{"$f":"IF('Data Input'!A173=0,\"\",'Data Input'!A173)","v":""},{"$f":"IF(ISBLANK('Data Input'!A173),\"\",COUNTIF('Data Input'!C173:AQ173,\"\")-1)","v":""},{"$f":"IF(ISBLANK('Data Input'!A173),\"\",COUNTIF('Data Input'!C173:AQ173,\"0\"))","v":""},{"$f":"IF(ISBLANK('Data Input'!A173),\"\",SUM(B169,C169))","v":""},{"$f":"IF(ISBLANK('Data Input'!A173),\"\",SUM('Data Input'!C173:AQ173))","v":""},{"$f":"IF(E169=\"\",\"\",E169/(COUNTA('Data Input'!$C$8:$AQ$8)-1))","v":""},{"$f":"IF(ISBLANK('Data Input'!A173),\"\",SUM('Data Input'!H173,'Data Input'!I173,'Data Input'!M173,'Data Input'!N173))","v":""},{"$f":"IF(G169=\"\",\"\",G169/COUNTIF('Data Input'!$C$8:$AQ$8,$G$2))","v":""},{"$f":"IF(ISBLANK('Data Input'!A173),\"\",SUM('Data Input'!J173,'Data Input'!K173,'Data Input'!U173,'Data Input'!V173))","v":""},{"$f":"IF(I169=\"\",\"\",I169/COUNTIF('Data Input'!$C$8:$AQ$8,$I$2))","v":""},{"$f":"IF(ISBLANK('Data Input'!A173),\"\",SUM('Data Input'!D173))","v":""},{"$f":"IF(K169=\"\",\"\",K169/COUNTIF('Data Input'!$C$8:$AQ$8,$K$2))","v":""},{"$f":"IF(ISBLANK('Data Input'!A173),\"\",SUM('Data Input'!O173,'Data Input'!P173,'Data Input'!R173,'Data Input'!S173))","v":""},{"$f":"IF(M169=\"\",\"\",M169/COUNTIF('Data Input'!$C$8:$AQ$8,$M$2))","v":""},{"$f":"IF(ISBLANK('Data Input'!A173),\"\",SUM('Data Input'!C173,'Data Input'!E173,'Data Input'!F173,'Data Input'!G173,'Data Input'!Q173,'Data Input'!T173))","v":""},{"$f":"IF(O169=\"\",\"\",O169/COUNTIF('Data Input'!$C$8:$AQ$8,$O$2))","v":""},{"$f":"IF(ISBLANK('Data Input'!A173),\"\",SUM('Data Input'!L173))","v":""},{"$f":"IF(Q169=\"\",\"\",Q169/COUNTIF('Data Input'!$C$8:$AQ$8,$Q$2))","v":""},{"$f":"IF(ISBLANK('Data Input'!A173),\"\",SUM('Data Input'!X173:AQ173))","v":""},{"$f":"IF(S169=\"\",\"\",S169/COUNTIF('Data Input'!$C$8:$AQ$8,$S$2))","v":""}]
[{"$f":"IF('Data Input'!A174=0,\"\",'Data Input'!A174)","v":""},{"$f":"IF(ISBLANK('Data Input'!A174),\"\",COUNTIF('Data Input'!C174:AQ174,\"\")-1)","v":""},{"$f":"IF(ISBLANK('Data Input'!A174),\"\",COUNTIF('Data Input'!C174:AQ174,\"0\"))","v":""},{"$f":"IF(ISBLANK('Data Input'!A174),\"\",SUM(B170,C170))","v":""},{"$f":"IF(ISBLANK('Data Input'!A174),\"\",SUM('Data Input'!C174:AQ174))","v":""},{"$f":"IF(E170=\"\",\"\",E170/(COUNTA('Data Input'!$C$8:$AQ$8)-1))","v":""},{"$f":"IF(ISBLANK('Data Input'!A174),\"\",SUM('Data Input'!H174,'Data Input'!I174,'Data Input'!M174,'Data Input'!N174))","v":""},{"$f":"IF(G170=\"\",\"\",G170/COUNTIF('Data Input'!$C$8:$AQ$8,$G$2))","v":""},{"$f":"IF(ISBLANK('Data Input'!A174),\"\",SUM('Data Input'!J174,'Data Input'!K174,'Data Input'!U174,'Data Input'!V174))","v":""},{"$f":"IF(I170=\"\",\"\",I170/COUNTIF('Data Input'!$C$8:$AQ$8,$I$2))","v":""},{"$f":"IF(ISBLANK('Data Input'!A174),\"\",SUM('Data Input'!D174))","v":""},{"$f":"IF(K170=\"\",\"\",K170/COUNTIF('Data Input'!$C$8:$AQ$8,$K$2))","v":""},{"$f":"IF(ISBLANK('Data Input'!A174),\"\",SUM('Data Input'!O174,'Data Input'!P174,'Data Input'!R174,'Data Input'!S174))","v":""},{"$f":"IF(M170=\"\",\"\",M170/COUNTIF('Data Input'!$C$8:$AQ$8,$M$2))","v":""},{"$f":"IF(ISBLANK('Data Input'!A174),\"\",SUM('Data Input'!C174,'Data Input'!E174,'Data Input'!F174,'Data Input'!G174,'Data Input'!Q174,'Data Input'!T174))","v":""},{"$f":"IF(O170=\"\",\"\",O170/COUNTIF('Data Input'!$C$8:$AQ$8,$O$2))","v":""},{"$f":"IF(ISBLANK('Data Input'!A174),\"\",SUM('Data Input'!L174))","v":""},{"$f":"IF(Q170=\"\",\"\",Q170/COUNTIF('Data Input'!$C$8:$AQ$8,$Q$2))","v":""},{"$f":"IF(ISBLANK('Data Input'!A174),\"\",SUM('Data Input'!X174:AQ174))","v":""},{"$f":"IF(S170=\"\",\"\",S170/COUNTIF('Data Input'!$C$8:$AQ$8,$S$2))","v":""}]
[{"$f":"IF('Data Input'!A175=0,\"\",'Data Input'!A175)","v":""},{"$f":"IF(ISBLANK('Data Input'!A175),\"\",COUNTIF('Data Input'!C175:AQ175,\"\")-1)","v":""},{"$f":"IF(ISBLANK('Data Input'!A175),\"\",COUNTIF('Data Input'!C175:AQ175,\"0\"))","v":""},{"$f":"IF(ISBLANK('Data Input'!A175),\"\",SUM(B171,C171))","v":""},{"$f":"IF(ISBLANK('Data Input'!A175),\"\",SUM('Data Input'!C175:AQ175))","v":""},{"$f":"IF(E171=\"\",\"\",E171/(COUNTA('Data Input'!$C$8:$AQ$8)-1))","v":""},{"$f":"IF(ISBLANK('Data Input'!A175),\"\",SUM('Data Input'!H175,'Data Input'!I175,'Data Input'!M175,'Data Input'!N175))","v":""},{"$f":"IF(G171=\"\",\"\",G171/COUNTIF('Data Input'!$C$8:$AQ$8,$G$2))","v":""},{"$f":"IF(ISBLANK('Data Input'!A175),\"\",SUM('Data Input'!J175,'Data Input'!K175,'Data Input'!U175,'Data Input'!V175))","v":""},{"$f":"IF(I171=\"\",\"\",I171/COUNTIF('Data Input'!$C$8:$AQ$8,$I$2))","v":""},{"$f":"IF(ISBLANK('Data Input'!A175),\"\",SUM('Data Input'!D175))","v":""},{"$f":"IF(K171=\"\",\"\",K171/COUNTIF('Data Input'!$C$8:$AQ$8,$K$2))","v":""},{"$f":"IF(ISBLANK('Data Input'!A175),\"\",SUM('Data Input'!O175,'Data Input'!P175,'Data Input'!R175,'Data Input'!S175))","v":""},{"$f":"IF(M171=\"\",\"\",M171/COUNTIF('Data Input'!$C$8:$AQ$8,$M$2))","v":""},{"$f":"IF(ISBLANK('Data Input'!A175),\"\",SUM('Data Input'!C175,'Data Input'!E175,'Data Input'!F175,'Data Input'!G175,'Data Input'!Q175,'Data Input'!T175))","v":""},{"$f":"IF(O171=\"\",\"\",O171/COUNTIF('Data Input'!$C$8:$AQ$8,$O$2))","v":""},{"$f":"IF(ISBLANK('Data Input'!A175),\"\",SUM('Data Input'!L175))","v":""},{"$f":"IF(Q171=\"\",\"\",Q171/COUNTIF('Data Input'!$C$8:$AQ$8,$Q$2))","v":""},{"$f":"IF(ISBLANK('Data Input'!A175),\"\",SUM('Data Input'!X175:AQ175))","v":""},{"$f":"IF(S171=\"\",\"\",S171/COUNTIF('Data Input'!$C$8:$AQ$8,$S$2))","v":""}]
[{"$f":"IF('Data Input'!A176=0,\"\",'Data Input'!A176)","v":""},{"$f":"IF(ISBLANK('Data Input'!A176),\"\",COUNTIF('Data Input'!C176:AQ176,\"\")-1)","v":""},{"$f":"IF(ISBLANK('Data Input'!A176),\"\",COUNTIF('Data Input'!C176:AQ176,\"0\"))","v":""},{"$f":"IF(ISBLANK('Data Input'!A176),\"\",SUM(B172,C172))","v":""},{"$f":"IF(ISBLANK('Data Input'!A176),\"\",SUM('Data Input'!C176:AQ176))","v":""},{"$f":"IF(E172=\"\",\"\",E172/(COUNTA('Data Input'!$C$8:$AQ$8)-1))","v":""},{"$f":"IF(ISBLANK('Data Input'!A176),\"\",SUM('Data Input'!H176,'Data Input'!I176,'Data Input'!M176,'Data Input'!N176))","v":""},{"$f":"IF(G172=\"\",\"\",G172/COUNTIF('Data Input'!$C$8:$AQ$8,$G$2))","v":""},{"$f":"IF(ISBLANK('Data Input'!A176),\"\",SUM('Data Input'!J176,'Data Input'!K176,'Data Input'!U176,'Data Input'!V176))","v":""},{"$f":"IF(I172=\"\",\"\",I172/COUNTIF('Data Input'!$C$8:$AQ$8,$I$2))","v":""},{"$f":"IF(ISBLANK('Data Input'!A176),\"\",SUM('Data Input'!D176))","v":""},{"$f":"IF(K172=\"\",\"\",K172/COUNTIF('Data Input'!$C$8:$AQ$8,$K$2))","v":""},{"$f":"IF(ISBLANK('Data Input'!A176),\"\",SUM('Data Input'!O176,'Data Input'!P176,'Data Input'!R176,'Data Input'!S176))","v":""},{"$f":"IF(M172=\"\",\"\",M172/COUNTIF('Data Input'!$C$8:$AQ$8,$M$2))","v":""},{"$f":"IF(ISBLANK('Data Input'!A176),\"\",SUM('Data Input'!C176,'Data Input'!E176,'Data Input'!F176,'Data Input'!G176,'Data Input'!Q176,'Data Input'!T176))","v":""},{"$f":"IF(O172=\"\",\"\",O172/COUNTIF('Data Input'!$C$8:$AQ$8,$O$2))","v":""},{"$f":"IF(ISBLANK('Data Input'!A176),\"\",SUM('Data Input'!L176))","v":""},{"$f":"IF(Q172=\"\",\"\",Q172/COUNTIF('Data Input'!$C$8:$AQ$8,$Q$2))","v":""},{"$f":"IF(ISBLANK('Data Input'!A176),\"\",SUM('Data Input'!X176:AQ176))","v":""},{"$f":"IF(S172=\"\",\"\",S172/COUNTIF('Data Input'!$C$8:$AQ$8,$S$2))","v":""}]
[{"$f":"IF('Data Input'!A177=0,\"\",'Data Input'!A177)","v":""},{"$f":"IF(ISBLANK('Data Input'!A177),\"\",COUNTIF('Data Input'!C177:AQ177,\"\")-1)","v":""},{"$f":"IF(ISBLANK('Data Input'!A177),\"\",COUNTIF('Data Input'!C177:AQ177,\"0\"))","v":""},{"$f":"IF(ISBLANK('Data Input'!A177),\"\",SUM(B173,C173))","v":""},{"$f":"IF(ISBLANK('Data Input'!A177),\"\",SUM('Data Input'!C177:AQ177))","v":""},{"$f":"IF(E173=\"\",\"\",E173/(COUNTA('Data Input'!$C$8:$AQ$8)-1))","v":""},{"$f":"IF(ISBLANK('Data Input'!A177),\"\",SUM('Data Input'!H177,'Data Input'!I177,'Data Input'!M177,'Data Input'!N177))","v":""},{"$f":"IF(G173=\"\",\"\",G173/COUNTIF('Data Input'!$C$8:$AQ$8,$G$2))","v":""},{"$f":"IF(ISBLANK('Data Input'!A177),\"\",SUM('Data Input'!J177,'Data Input'!K177,'Data Input'!U177,'Data Input'!V177))","v":""},{"$f":"IF(I173=\"\",\"\",I173/COUNTIF('Data Input'!$C$8:$AQ$8,$I$2))","v":""},{"$f":"IF(ISBLANK('Data Input'!A177),\"\",SUM('Data Input'!D177))","v":""},{"$f":"IF(K173=\"\",\"\",K173/COUNTIF('Data Input'!$C$8:$AQ$8,$K$2))","v":""},{"$f":"IF(ISBLANK('Data Input'!A177),\"\",SUM('Data Input'!O177,'Data Input'!P177,'Data Input'!R177,'Data Input'!S177))","v":""},{"$f":"IF(M173=\"\",\"\",M173/COUNTIF('Data Input'!$C$8:$AQ$8,$M$2))","v":""},{"$f":"IF(ISBLANK('Data Input'!A177),\"\",SUM('Data Input'!C177,'Data Input'!E177,'Data Input'!F177,'Data Input'!G177,'Data Input'!Q177,'Data Input'!T177))","v":""},{"$f":"IF(O173=\"\",\"\",O173/COUNTIF('Data Input'!$C$8:$AQ$8,$O$2))","v":""},{"$f":"IF(ISBLANK('Data Input'!A177),\"\",SUM('Data Input'!L177))","v":""},{"$f":"IF(Q173=\"\",\"\",Q173/COUNTIF('Data Input'!$C$8:$AQ$8,$Q$2))","v":""},{"$f":"IF(ISBLANK('Data Input'!A177),\"\",SUM('Data Input'!X177:AQ177))","v":""},{"$f":"IF(S173=\"\",\"\",S173/COUNTIF('Data Input'!$C$8:$AQ$8,$S$2))","v":""}]
[{"$f":"IF('Data Input'!A178=0,\"\",'Data Input'!A178)","v":""},{"$f":"IF(ISBLANK('Data Input'!A178),\"\",COUNTIF('Data Input'!C178:AQ178,\"\")-1)","v":""},{"$f":"IF(ISBLANK('Data Input'!A178),\"\",COUNTIF('Data Input'!C178:AQ178,\"0\"))","v":""},{"$f":"IF(ISBLANK('Data Input'!A178),\"\",SUM(B174,C174))","v":""},{"$f":"IF(ISBLANK('Data Input'!A178),\"\",SUM('Data Input'!C178:AQ178))","v":""},{"$f":"IF(E174=\"\",\"\",E174/(COUNTA('Data Input'!$C$8:$AQ$8)-1))","v":""},{"$f":"IF(ISBLANK('Data Input'!A178),\"\",SUM('Data Input'!H178,'Data Input'!I178,'Data Input'!M178,'Data Input'!N178))","v":""},{"$f":"IF(G174=\"\",\"\",G174/COUNTIF('Data Input'!$C$8:$AQ$8,$G$2))","v":""},{"$f":"IF(ISBLANK('Data Input'!A178),\"\",SUM('Data Input'!J178,'Data Input'!K178,'Data Input'!U178,'Data Input'!V178))","v":""},{"$f":"IF(I174=\"\",\"\",I174/COUNTIF('Data Input'!$C$8:$AQ$8,$I$2))","v":""},{"$f":"IF(ISBLANK('Data Input'!A178),\"\",SUM('Data Input'!D178))","v":""},{"$f":"IF(K174=\"\",\"\",K174/COUNTIF('Data Input'!$C$8:$AQ$8,$K$2))","v":""},{"$f":"IF(ISBLANK('Data Input'!A178),\"\",SUM('Data Input'!O178,'Data Input'!P178,'Data Input'!R178,'Data Input'!S178))","v":""},{"$f":"IF(M174=\"\",\"\",M174/COUNTIF('Data Input'!$C$8:$AQ$8,$M$2))","v":""},{"$f":"IF(ISBLANK('Data Input'!A178),\"\",SUM('Data Input'!C178,'Data Input'!E178,'Data Input'!F178,'Data Input'!G178,'Data Input'!Q178,'Data Input'!T178))","v":""},{"$f":"IF(O174=\"\",\"\",O174/COUNTIF('Data Input'!$C$8:$AQ$8,$O$2))","v":""},{"$f":"IF(ISBLANK('Data Input'!A178),\"\",SUM('Data Input'!L178))","v":""},{"$f":"IF(Q174=\"\",\"\",Q174/COUNTIF('Data Input'!$C$8:$AQ$8,$Q$2))","v":""},{"$f":"IF(ISBLANK('Data Input'!A178),\"\",SUM('Data Input'!X178:AQ178))","v":""},{"$f":"IF(S174=\"\",\"\",S174/COUNTIF('Data Input'!$C$8:$AQ$8,$S$2))","v":""}]
[{"$f":"IF('Data Input'!A179=0,\"\",'Data Input'!A179)","v":""},{"$f":"IF(ISBLANK('Data Input'!A179),\"\",COUNTIF('Data Input'!C179:AQ179,\"\")-1)","v":""},{"$f":"IF(ISBLANK('Data Input'!A179),\"\",COUNTIF('Data Input'!C179:AQ179,\"0\"))","v":""},{"$f":"IF(ISBLANK('Data Input'!A179),\"\",SUM(B175,C175))","v":""},{"$f":"IF(ISBLANK('Data Input'!A179),\"\",SUM('Data Input'!C179:AQ179))","v":""},{"$f":"IF(E175=\"\",\"\",E175/(COUNTA('Data Input'!$C$8:$AQ$8)-1))","v":""},{"$f":"IF(ISBLANK('Data Input'!A179),\"\",SUM('Data Input'!H179,'Data Input'!I179,'Data Input'!M179,'Data Input'!N179))","v":""},{"$f":"IF(G175=\"\",\"\",G175/COUNTIF('Data Input'!$C$8:$AQ$8,$G$2))","v":""},{"$f":"IF(ISBLANK('Data Input'!A179),\"\",SUM('Data Input'!J179,'Data Input'!K179,'Data Input'!U179,'Data Input'!V179))","v":""},{"$f":"IF(I175=\"\",\"\",I175/COUNTIF('Data Input'!$C$8:$AQ$8,$I$2))","v":""},{"$f":"IF(ISBLANK('Data Input'!A179),\"\",SUM('Data Input'!D179))","v":""},{"$f":"IF(K175=\"\",\"\",K175/COUNTIF('Data Input'!$C$8:$AQ$8,$K$2))","v":""},{"$f":"IF(ISBLANK('Data Input'!A179),\"\",SUM('Data Input'!O179,'Data Input'!P179,'Data Input'!R179,'Data Input'!S179))","v":""},{"$f":"IF(M175=\"\",\"\",M175/COUNTIF('Data Input'!$C$8:$AQ$8,$M$2))","v":""},{"$f":"IF(ISBLANK('Data Input'!A179),\"\",SUM('Data Input'!C179,'Data Input'!E179,'Data Input'!F179,'Data Input'!G179,'Data Input'!Q179,'Data Input'!T179))","v":""},{"$f":"IF(O175=\"\",\"\",O175/COUNTIF('Data Input'!$C$8:$AQ$8,$O$2))","v":""},{"$f":"IF(ISBLANK('Data Input'!A179),\"\",SUM('Data Input'!L179))","v":""},{"$f":"IF(Q175=\"\",\"\",Q175/COUNTIF('Data Input'!$C$8:$AQ$8,$Q$2))","v":""},{"$f":"IF(ISBLANK('Data Input'!A179),\"\",SUM('Data Input'!X179:AQ179))","v":""},{"$f":"IF(S175=\"\",\"\",S175/COUNTIF('Data Input'!$C$8:$AQ$8,$S$2))","v":""}]
[{"$f":"IF('Data Input'!A180=0,\"\",'Data Input'!A180)","v":""},{"$f":"IF(ISBLANK('Data Input'!A180),\"\",COUNTIF('Data Input'!C180:AQ180,\"\")-1)","v":""},{"$f":"IF(ISBLANK('Data Input'!A180),\"\",COUNTIF('Data Input'!C180:AQ180,\"0\"))","v":""},{"$f":"IF(ISBLANK('Data Input'!A180),\"\",SUM(B176,C176))","v":""},{"$f":"IF(ISBLANK('Data Input'!A180),\"\",SUM('Data Input'!C180:AQ180))","v":""},{"$f":"IF(E176=\"\",\"\",E176/(COUNTA('Data Input'!$C$8:$AQ$8)-1))","v":""},{"$f":"IF(ISBLANK('Data Input'!A180),\"\",SUM('Data Input'!H180,'Data Input'!I180,'Data Input'!M180,'Data Input'!N180))","v":""},{"$f":"IF(G176=\"\",\"\",G176/COUNTIF('Data Input'!$C$8:$AQ$8,$G$2))","v":""},{"$f":"IF(ISBLANK('Data Input'!A180),\"\",SUM('Data Input'!J180,'Data Input'!K180,'Data Input'!U180,'Data Input'!V180))","v":""},{"$f":"IF(I176=\"\",\"\",I176/COUNTIF('Data Input'!$C$8:$AQ$8,$I$2))","v":""},{"$f":"IF(ISBLANK('Data Input'!A180),\"\",SUM('Data Input'!D180))","v":""},{"$f":"IF(K176=\"\",\"\",K176/COUNTIF('Data Input'!$C$8:$AQ$8,$K$2))","v":""},{"$f":"IF(ISBLANK('Data Input'!A180),\"\",SUM('Data Input'!O180,'Data Input'!P180,'Data Input'!R180,'Data Input'!S180))","v":""},{"$f":"IF(M176=\"\",\"\",M176/COUNTIF('Data Input'!$C$8:$AQ$8,$M$2))","v":""},{"$f":"IF(ISBLANK('Data Input'!A180),\"\",SUM('Data Input'!C180,'Data Input'!E180,'Data Input'!F180,'Data Input'!G180,'Data Input'!Q180,'Data Input'!T180))","v":""},{"$f":"IF(O176=\"\",\"\",O176/COUNTIF('Data Input'!$C$8:$AQ$8,$O$2))","v":""},{"$f":"IF(ISBLANK('Data Input'!A180),\"\",SUM('Data Input'!L180))","v":""},{"$f":"IF(Q176=\"\",\"\",Q176/COUNTIF('Data Input'!$C$8:$AQ$8,$Q$2))","v":""},{"$f":"IF(ISBLANK('Data Input'!A180),\"\",SUM('Data Input'!X180:AQ180))","v":""},{"$f":"IF(S176=\"\",\"\",S176/COUNTIF('Data Input'!$C$8:$AQ$8,$S$2))","v":""}]
[{"$f":"IF('Data Input'!A181=0,\"\",'Data Input'!A181)","v":""},{"$f":"IF(ISBLANK('Data Input'!A181),\"\",COUNTIF('Data Input'!C181:AQ181,\"\")-1)","v":""},{"$f":"IF(ISBLANK('Data Input'!A181),\"\",COUNTIF('Data Input'!C181:AQ181,\"0\"))","v":""},{"$f":"IF(ISBLANK('Data Input'!A181),\"\",SUM(B177,C177))","v":""},{"$f":"IF(ISBLANK('Data Input'!A181),\"\",SUM('Data Input'!C181:AQ181))","v":""},{"$f":"IF(E177=\"\",\"\",E177/(COUNTA('Data Input'!$C$8:$AQ$8)-1))","v":""},{"$f":"IF(ISBLANK('Data Input'!A181),\"\",SUM('Data Input'!H181,'Data Input'!I181,'Data Input'!M181,'Data Input'!N181))","v":""},{"$f":"IF(G177=\"\",\"\",G177/COUNTIF('Data Input'!$C$8:$AQ$8,$G$2))","v":""},{"$f":"IF(ISBLANK('Data Input'!A181),\"\",SUM('Data Input'!J181,'Data Input'!K181,'Data Input'!U181,'Data Input'!V181))","v":""},{"$f":"IF(I177=\"\",\"\",I177/COUNTIF('Data Input'!$C$8:$AQ$8,$I$2))","v":""},{"$f":"IF(ISBLANK('Data Input'!A181),\"\",SUM('Data Input'!D181))","v":""},{"$f":"IF(K177=\"\",\"\",K177/COUNTIF('Data Input'!$C$8:$AQ$8,$K$2))","v":""},{"$f":"IF(ISBLANK('Data Input'!A181),\"\",SUM('Data Input'!O181,'Data Input'!P181,'Data Input'!R181,'Data Input'!S181))","v":""},{"$f":"IF(M177=\"\",\"\",M177/COUNTIF('Data Input'!$C$8:$AQ$8,$M$2))","v":""},{"$f":"IF(ISBLANK('Data Input'!A181),\"\",SUM('Data Input'!C181,'Data Input'!E181,'Data Input'!F181,'Data Input'!G181,'Data Input'!Q181,'Data Input'!T181))","v":""},{"$f":"IF(O177=\"\",\"\",O177/COUNTIF('Data Input'!$C$8:$AQ$8,$O$2))","v":""},{"$f":"IF(ISBLANK('Data Input'!A181),\"\",SUM('Data Input'!L181))","v":""},{"$f":"IF(Q177=\"\",\"\",Q177/COUNTIF('Data Input'!$C$8:$AQ$8,$Q$2))","v":""},{"$f":"IF(ISBLANK('Data Input'!A181),\"\",SUM('Data Input'!X181:AQ181))","v":""},{"$f":"IF(S177=\"\",\"\",S177/COUNTIF('Data Input'!$C$8:$AQ$8,$S$2))","v":""}]
[{"$f":"IF('Data Input'!A182=0,\"\",'Data Input'!A182)","v":""},{"$f":"IF(ISBLANK('Data Input'!A182),\"\",COUNTIF('Data Input'!C182:AQ182,\"\")-1)","v":""},{"$f":"IF(ISBLANK('Data Input'!A182),\"\",COUNTIF('Data Input'!C182:AQ182,\"0\"))","v":""},{"$f":"IF(ISBLANK('Data Input'!A182),\"\",SUM(B178,C178))","v":""},{"$f":"IF(ISBLANK('Data Input'!A182),\"\",SUM('Data Input'!C182:AQ182))","v":""},{"$f":"IF(E178=\"\",\"\",E178/(COUNTA('Data Input'!$C$8:$AQ$8)-1))","v":""},{"$f":"IF(ISBLANK('Data Input'!A182),\"\",SUM('Data Input'!H182,'Data Input'!I182,'Data Input'!M182,'Data Input'!N182))","v":""},{"$f":"IF(G178=\"\",\"\",G178/COUNTIF('Data Input'!$C$8:$AQ$8,$G$2))","v":""},{"$f":"IF(ISBLANK('Data Input'!A182),\"\",SUM('Data Input'!J182,'Data Input'!K182,'Data Input'!U182,'Data Input'!V182))","v":""},{"$f":"IF(I178=\"\",\"\",I178/COUNTIF('Data Input'!$C$8:$AQ$8,$I$2))","v":""},{"$f":"IF(ISBLANK('Data Input'!A182),\"\",SUM('Data Input'!D182))","v":""},{"$f":"IF(K178=\"\",\"\",K178/COUNTIF('Data Input'!$C$8:$AQ$8,$K$2))","v":""},{"$f":"IF(ISBLANK('Data Input'!A182),\"\",SUM('Data Input'!O182,'Data Input'!P182,'Data Input'!R182,'Data Input'!S182))","v":""},{"$f":"IF(M178=\"\",\"\",M178/COUNTIF('Data Input'!$C$8:$AQ$8,$M$2))","v":""},{"$f":"IF(ISBLANK('Data Input'!A182),\"\",SUM('Data Input'!C182,'Data Input'!E182,'Data Input'!F182,'Data Input'!G182,'Data Input'!Q182,'Data Input'!T182))","v":""},{"$f":"IF(O178=\"\",\"\",O178/COUNTIF('Data Input'!$C$8:$AQ$8,$O$2))","v":""},{"$f":"IF(ISBLANK('Data Input'!A182),\"\",SUM('Data Input'!L182))","v":""},{"$f":"IF(Q178=\"\",\"\",Q178/COUNTIF('Data Input'!$C$8:$AQ$8,$Q$2))","v":""},{"$f":"IF(ISBLANK('Data Input'!A182),\"\",SUM('Data Input'!X182:AQ182))","v":""},{"$f":"IF(S178=\"\",\"\",S178/COUNTIF('Data Input'!$C$8:$AQ$8,$S$2))","v":""}]
[{"$f":"IF('Data Input'!A183=0,\"\",'Data Input'!A183)","v":""},{"$f":"IF(ISBLANK('Data Input'!A183),\"\",COUNTIF('Data Input'!C183:AQ183,\"\")-1)","v":""},{"$f":"IF(ISBLANK('Data Input'!A183),\"\",COUNTIF('Data Input'!C183:AQ183,\"0\"))","v":""},{"$f":"IF(ISBLANK('Data Input'!A183),\"\",SUM(B179,C179))","v":""},{"$f":"IF(ISBLANK('Data Input'!A183),\"\",SUM('Data Input'!C183:AQ183))","v":""},{"$f":"IF(E179=\"\",\"\",E179/(COUNTA('Data Input'!$C$8:$AQ$8)-1))","v":""},{"$f":"IF(ISBLANK('Data Input'!A183),\"\",SUM('Data Input'!H183,'Data Input'!I183,'Data Input'!M183,'Data Input'!N183))","v":""},{"$f":"IF(G179=\"\",\"\",G179/COUNTIF('Data Input'!$C$8:$AQ$8,$G$2))","v":""},{"$f":"IF(ISBLANK('Data Input'!A183),\"\",SUM('Data Input'!J183,'Data Input'!K183,'Data Input'!U183,'Data Input'!V183))","v":""},{"$f":"IF(I179=\"\",\"\",I179/COUNTIF('Data Input'!$C$8:$AQ$8,$I$2))","v":""},{"$f":"IF(ISBLANK('Data Input'!A183),\"\",SUM('Data Input'!D183))","v":""},{"$f":"IF(K179=\"\",\"\",K179/COUNTIF('Data Input'!$C$8:$AQ$8,$K$2))","v":""},{"$f":"IF(ISBLANK('Data Input'!A183),\"\",SUM('Data Input'!O183,'Data Input'!P183,'Data Input'!R183,'Data Input'!S183))","v":""},{"$f":"IF(M179=\"\",\"\",M179/COUNTIF('Data Input'!$C$8:$AQ$8,$M$2))","v":""},{"$f":"IF(ISBLANK('Data Input'!A183),\"\",SUM('Data Input'!C183,'Data Input'!E183,'Data Input'!F183,'Data Input'!G183,'Data Input'!Q183,'Data Input'!T183))","v":""},{"$f":"IF(O179=\"\",\"\",O179/COUNTIF('Data Input'!$C$8:$AQ$8,$O$2))","v":""},{"$f":"IF(ISBLANK('Data Input'!A183),\"\",SUM('Data Input'!L183))","v":""},{"$f":"IF(Q179=\"\",\"\",Q179/COUNTIF('Data Input'!$C$8:$AQ$8,$Q$2))","v":""},{"$f":"IF(ISBLANK('Data Input'!A183),\"\",SUM('Data Input'!X183:AQ183))","v":""},{"$f":"IF(S179=\"\",\"\",S179/COUNTIF('Data Input'!$C$8:$AQ$8,$S$2))","v":""}]
[{"$f":"IF('Data Input'!A184=0,\"\",'Data Input'!A184)","v":""},{"$f":"IF(ISBLANK('Data Input'!A184),\"\",COUNTIF('Data Input'!C184:AQ184,\"\")-1)","v":""},{"$f":"IF(ISBLANK('Data Input'!A184),\"\",COUNTIF('Data Input'!C184:AQ184,\"0\"))","v":""},{"$f":"IF(ISBLANK('Data Input'!A184),\"\",SUM(B180,C180))","v":""},{"$f":"IF(ISBLANK('Data Input'!A184),\"\",SUM('Data Input'!C184:AQ184))","v":""},{"$f":"IF(E180=\"\",\"\",E180/(COUNTA('Data Input'!$C$8:$AQ$8)-1))","v":""},{"$f":"IF(ISBLANK('Data Input'!A184),\"\",SUM('Data Input'!H184,'Data Input'!I184,'Data Input'!M184,'Data Input'!N184))","v":""},{"$f":"IF(G180=\"\",\"\",G180/COUNTIF('Data Input'!$C$8:$AQ$8,$G$2))","v":""},{"$f":"IF(ISBLANK('Data Input'!A184),\"\",SUM('Data Input'!J184,'Data Input'!K184,'Data Input'!U184,'Data Input'!V184))","v":""},{"$f":"IF(I180=\"\",\"\",I180/COUNTIF('Data Input'!$C$8:$AQ$8,$I$2))","v":""},{"$f":"IF(ISBLANK('Data Input'!A184),\"\",SUM('Data Input'!D184))","v":""},{"$f":"IF(K180=\"\",\"\",K180/COUNTIF('Data Input'!$C$8:$AQ$8,$K$2))","v":""},{"$f":"IF(ISBLANK('Data Input'!A184),\"\",SUM('Data Input'!O184,'Data Input'!P184,'Data Input'!R184,'Data Input'!S184))","v":""},{"$f":"IF(M180=\"\",\"\",M180/COUNTIF('Data Input'!$C$8:$AQ$8,$M$2))","v":""},{"$f":"IF(ISBLANK('Data Input'!A184),\"\",SUM('Data Input'!C184,'Data Input'!E184,'Data Input'!F184,'Data Input'!G184,'Data Input'!Q184,'Data Input'!T184))","v":""},{"$f":"IF(O180=\"\",\"\",O180/COUNTIF('Data Input'!$C$8:$AQ$8,$O$2))","v":""},{"$f":"IF(ISBLANK('Data Input'!A184),\"\",SUM('Data Input'!L184))","v":""},{"$f":"IF(Q180=\"\",\"\",Q180/COUNTIF('Data Input'!$C$8:$AQ$8,$Q$2))","v":""},{"$f":"IF(ISBLANK('Data Input'!A184),\"\",SUM('Data Input'!X184:AQ184))","v":""},{"$f":"IF(S180=\"\",\"\",S180/COUNTIF('Data Input'!$C$8:$AQ$8,$S$2))","v":""}]
[{"$f":"IF('Data Input'!A185=0,\"\",'Data Input'!A185)","v":""},{"$f":"IF(ISBLANK('Data Input'!A185),\"\",COUNTIF('Data Input'!C185:AQ185,\"\")-1)","v":""},{"$f":"IF(ISBLANK('Data Input'!A185),\"\",COUNTIF('Data Input'!C185:AQ185,\"0\"))","v":""},{"$f":"IF(ISBLANK('Data Input'!A185),\"\",SUM(B181,C181))","v":""},{"$f":"IF(ISBLANK('Data Input'!A185),\"\",SUM('Data Input'!C185:AQ185))","v":""},{"$f":"IF(E181=\"\",\"\",E181/(COUNTA('Data Input'!$C$8:$AQ$8)-1))","v":""},{"$f":"IF(ISBLANK('Data Input'!A185),\"\",SUM('Data Input'!H185,'Data Input'!I185,'Data Input'!M185,'Data Input'!N185))","v":""},{"$f":"IF(G181=\"\",\"\",G181/COUNTIF('Data Input'!$C$8:$AQ$8,$G$2))","v":""},{"$f":"IF(ISBLANK('Data Input'!A185),\"\",SUM('Data Input'!J185,'Data Input'!K185,'Data Input'!U185,'Data Input'!V185))","v":""},{"$f":"IF(I181=\"\",\"\",I181/COUNTIF('Data Input'!$C$8:$AQ$8,$I$2))","v":""},{"$f":"IF(ISBLANK('Data Input'!A185),\"\",SUM('Data Input'!D185))","v":""},{"$f":"IF(K181=\"\",\"\",K181/COUNTIF('Data Input'!$C$8:$AQ$8,$K$2))","v":""},{"$f":"IF(ISBLANK('Data Input'!A185),\"\",SUM('Data Input'!O185,'Data Input'!P185,'Data Input'!R185,'Data Input'!S185))","v":""},{"$f":"IF(M181=\"\",\"\",M181/COUNTIF('Data Input'!$C$8:$AQ$8,$M$2))","v":""},{"$f":"IF(ISBLANK('Data Input'!A185),\"\",SUM('Data Input'!C185,'Data Input'!E185,'Data Input'!F185,'Data Input'!G185,'Data Input'!Q185,'Data Input'!T185))","v":""},{"$f":"IF(O181=\"\",\"\",O181/COUNTIF('Data Input'!$C$8:$AQ$8,$O$2))","v":""},{"$f":"IF(ISBLANK('Data Input'!A185),\"\",SUM('Data Input'!L185))","v":""},{"$f":"IF(Q181=\"\",\"\",Q181/COUNTIF('Data Input'!$C$8:$AQ$8,$Q$2))","v":""},{"$f":"IF(ISBLANK('Data Input'!A185),\"\",SUM('Data Input'!X185:AQ185))","v":""},{"$f":"IF(S181=\"\",\"\",S181/COUNTIF('Data Input'!$C$8:$AQ$8,$S$2))","v":""}]
[{"$f":"IF('Data Input'!A186=0,\"\",'Data Input'!A186)","v":""},{"$f":"IF(ISBLANK('Data Input'!A186),\"\",COUNTIF('Data Input'!C186:AQ186,\"\")-1)","v":""},{"$f":"IF(ISBLANK('Data Input'!A186),\"\",COUNTIF('Data Input'!C186:AQ186,\"0\"))","v":""},{"$f":"IF(ISBLANK('Data Input'!A186),\"\",SUM(B182,C182))","v":""},{"$f":"IF(ISBLANK('Data Input'!A186),\"\",SUM('Data Input'!C186:AQ186))","v":""},{"$f":"IF(E182=\"\",\"\",E182/(COUNTA('Data Input'!$C$8:$AQ$8)-1))","v":""},{"$f":"IF(ISBLANK('Data Input'!A186),\"\",SUM('Data Input'!H186,'Data Input'!I186,'Data Input'!M186,'Data Input'!N186))","v":""},{"$f":"IF(G182=\"\",\"\",G182/COUNTIF('Data Input'!$C$8:$AQ$8,$G$2))","v":""},{"$f":"IF(ISBLANK('Data Input'!A186),\"\",SUM('Data Input'!J186,'Data Input'!K186,'Data Input'!U186,'Data Input'!V186))","v":""},{"$f":"IF(I182=\"\",\"\",I182/COUNTIF('Data Input'!$C$8:$AQ$8,$I$2))","v":""},{"$f":"IF(ISBLANK('Data Input'!A186),\"\",SUM('Data Input'!D186))","v":""},{"$f":"IF(K182=\"\",\"\",K182/COUNTIF('Data Input'!$C$8:$AQ$8,$K$2))","v":""},{"$f":"IF(ISBLANK('Data Input'!A186),\"\",SUM('Data Input'!O186,'Data Input'!P186,'Data Input'!R186,'Data Input'!S186))","v":""},{"$f":"IF(M182=\"\",\"\",M182/COUNTIF('Data Input'!$C$8:$AQ$8,$M$2))","v":""},{"$f":"IF(ISBLANK('Data Input'!A186),\"\",SUM('Data Input'!C186,'Data Input'!E186,'Data Input'!F186,'Data Input'!G186,'Data Input'!Q186,'Data Input'!T186))","v":""},{"$f":"IF(O182=\"\",\"\",O182/COUNTIF('Data Input'!$C$8:$AQ$8,$O$2))","v":""},{"$f":"IF(ISBLANK('Data Input'!A186),\"\",SUM('Data Input'!L186))","v":""},{"$f":"IF(Q182=\"\",\"\",Q182/COUNTIF('Data Input'!$C$8:$AQ$8,$Q$2))","v":""},{"$f":"IF(ISBLANK('Data Input'!A186),\"\",SUM('Data Input'!X186:AQ186))","v":""},{"$f":"IF(S182=\"\",\"\",S182/COUNTIF('Data Input'!$C$8:$AQ$8,$S$2))","v":""}]
[{"$f":"IF('Data Input'!A187=0,\"\",'Data Input'!A187)","v":""},{"$f":"IF(ISBLANK('Data Input'!A187),\"\",COUNTIF('Data Input'!C187:AQ187,\"\")-1)","v":""},{"$f":"IF(ISBLANK('Data Input'!A187),\"\",COUNTIF('Data Input'!C187:AQ187,\"0\"))","v":""},{"$f":"IF(ISBLANK('Data Input'!A187),\"\",SUM(B183,C183))","v":""},{"$f":"IF(ISBLANK('Data Input'!A187),\"\",SUM('Data Input'!C187:AQ187))","v":""},{"$f":"IF(E183=\"\",\"\",E183/(COUNTA('Data Input'!$C$8:$AQ$8)-1))","v":""},{"$f":"IF(ISBLANK('Data Input'!A187),\"\",SUM('Data Input'!H187,'Data Input'!I187,'Data Input'!M187,'Data Input'!N187))","v":""},{"$f":"IF(G183=\"\",\"\",G183/COUNTIF('Data Input'!$C$8:$AQ$8,$G$2))","v":""},{"$f":"IF(ISBLANK('Data Input'!A187),\"\",SUM('Data Input'!J187,'Data Input'!K187,'Data Input'!U187,'Data Input'!V187))","v":""},{"$f":"IF(I183=\"\",\"\",I183/COUNTIF('Data Input'!$C$8:$AQ$8,$I$2))","v":""},{"$f":"IF(ISBLANK('Data Input'!A187),\"\",SUM('Data Input'!D187))","v":""},{"$f":"IF(K183=\"\",\"\",K183/COUNTIF('Data Input'!$C$8:$AQ$8,$K$2))","v":""},{"$f":"IF(ISBLANK('Data Input'!A187),\"\",SUM('Data Input'!O187,'Data Input'!P187,'Data Input'!R187,'Data Input'!S187))","v":""},{"$f":"IF(M183=\"\",\"\",M183/COUNTIF('Data Input'!$C$8:$AQ$8,$M$2))","v":""},{"$f":"IF(ISBLANK('Data Input'!A187),\"\",SUM('Data Input'!C187,'Data Input'!E187,'Data Input'!F187,'Data Input'!G187,'Data Input'!Q187,'Data Input'!T187))","v":""},{"$f":"IF(O183=\"\",\"\",O183/COUNTIF('Data Input'!$C$8:$AQ$8,$O$2))","v":""},{"$f":"IF(ISBLANK('Data Input'!A187),\"\",SUM('Data Input'!L187))","v":""},{"$f":"IF(Q183=\"\",\"\",Q183/COUNTIF('Data Input'!$C$8:$AQ$8,$Q$2))","v":""},{"$f":"IF(ISBLANK('Data Input'!A187),\"\",SUM('Data Input'!X187:AQ187))","v":""},{"$f":"IF(S183=\"\",\"\",S183/COUNTIF('Data Input'!$C$8:$AQ$8,$S$2))","v":""}]
[{"$f":"IF('Data Input'!A188=0,\"\",'Data Input'!A188)","v":""},{"$f":"IF(ISBLANK('Data Input'!A188),\"\",COUNTIF('Data Input'!C188:AQ188,\"\")-1)","v":""},{"$f":"IF(ISBLANK('Data Input'!A188),\"\",COUNTIF('Data Input'!C188:AQ188,\"0\"))","v":""},{"$f":"IF(ISBLANK('Data Input'!A188),\"\",SUM(B184,C184))","v":""},{"$f":"IF(ISBLANK('Data Input'!A188),\"\",SUM('Data Input'!C188:AQ188))","v":""},{"$f":"IF(E184=\"\",\"\",E184/(COUNTA('Data Input'!$C$8:$AQ$8)-1))","v":""},{"$f":"IF(ISBLANK('Data Input'!A188),\"\",SUM('Data Input'!H188,'Data Input'!I188,'Data Input'!M188,'Data Input'!N188))","v":""},{"$f":"IF(G184=\"\",\"\",G184/COUNTIF('Data Input'!$C$8:$AQ$8,$G$2))","v":""},{"$f":"IF(ISBLANK('Data Input'!A188),\"\",SUM('Data Input'!J188,'Data Input'!K188,'Data Input'!U188,'Data Input'!V188))","v":""},{"$f":"IF(I184=\"\",\"\",I184/COUNTIF('Data Input'!$C$8:$AQ$8,$I$2))","v":""},{"$f":"IF(ISBLANK('Data Input'!A188),\"\",SUM('Data Input'!D188))","v":""},{"$f":"IF(K184=\"\",\"\",K184/COUNTIF('Data Input'!$C$8:$AQ$8,$K$2))","v":""},{"$f":"IF(ISBLANK('Data Input'!A188),\"\",SUM('Data Input'!O188,'Data Input'!P188,'Data Input'!R188,'Data Input'!S188))","v":""},{"$f":"IF(M184=\"\",\"\",M184/COUNTIF('Data Input'!$C$8:$AQ$8,$M$2))","v":""},{"$f":"IF(ISBLANK('Data Input'!A188),\"\",SUM('Data Input'!C188,'Data Input'!E188,'Data Input'!F188,'Data Input'!G188,'Data Input'!Q188,'Data Input'!T188))","v":""},{"$f":"IF(O184=\"\",\"\",O184/COUNTIF('Data Input'!$C$8:$AQ$8,$O$2))","v":""},{"$f":"IF(ISBLANK('Data Input'!A188),\"\",SUM('Data Input'!L188))","v":""},{"$f":"IF(Q184=\"\",\"\",Q184/COUNTIF('Data Input'!$C$8:$AQ$8,$Q$2))","v":""},{"$f":"IF(ISBLANK('Data Input'!A188),\"\",SUM('Data Input'!X188:AQ188))","v":""},{"$f":"IF(S184=\"\",\"\",S184/COUNTIF('Data Input'!$C$8:$AQ$8,$S$2))","v":""}]
[{"$f":"IF('Data Input'!A189=0,\"\",'Data Input'!A189)","v":""},{"$f":"IF(ISBLANK('Data Input'!A189),\"\",COUNTIF('Data Input'!C189:AQ189,\"\")-1)","v":""},{"$f":"IF(ISBLANK('Data Input'!A189),\"\",COUNTIF('Data Input'!C189:AQ189,\"0\"))","v":""},{"$f":"IF(ISBLANK('Data Input'!A189),\"\",SUM(B185,C185))","v":""},{"$f":"IF(ISBLANK('Data Input'!A189),\"\",SUM('Data Input'!C189:AQ189))","v":""},{"$f":"IF(E185=\"\",\"\",E185/(COUNTA('Data Input'!$C$8:$AQ$8)-1))","v":""},{"$f":"IF(ISBLANK('Data Input'!A189),\"\",SUM('Data Input'!H189,'Data Input'!I189,'Data Input'!M189,'Data Input'!N189))","v":""},{"$f":"IF(G185=\"\",\"\",G185/COUNTIF('Data Input'!$C$8:$AQ$8,$G$2))","v":""},{"$f":"IF(ISBLANK('Data Input'!A189),\"\",SUM('Data Input'!J189,'Data Input'!K189,'Data Input'!U189,'Data Input'!V189))","v":""},{"$f":"IF(I185=\"\",\"\",I185/COUNTIF('Data Input'!$C$8:$AQ$8,$I$2))","v":""},{"$f":"IF(ISBLANK('Data Input'!A189),\"\",SUM('Data Input'!D189))","v":""},{"$f":"IF(K185=\"\",\"\",K185/COUNTIF('Data Input'!$C$8:$AQ$8,$K$2))","v":""},{"$f":"IF(ISBLANK('Data Input'!A189),\"\",SUM('Data Input'!O189,'Data Input'!P189,'Data Input'!R189,'Data Input'!S189))","v":""},{"$f":"IF(M185=\"\",\"\",M185/COUNTIF('Data Input'!$C$8:$AQ$8,$M$2))","v":""},{"$f":"IF(ISBLANK('Data Input'!A189),\"\",SUM('Data Input'!C189,'Data Input'!E189,'Data Input'!F189,'Data Input'!G189,'Data Input'!Q189,'Data Input'!T189))","v":""},{"$f":"IF(O185=\"\",\"\",O185/COUNTIF('Data Input'!$C$8:$AQ$8,$O$2))","v":""},{"$f":"IF(ISBLANK('Data Input'!A189),\"\",SUM('Data Input'!L189))","v":""},{"$f":"IF(Q185=\"\",\"\",Q185/COUNTIF('Data Input'!$C$8:$AQ$8,$Q$2))","v":""},{"$f":"IF(ISBLANK('Data Input'!A189),\"\",SUM('Data Input'!X189:AQ189))","v":""},{"$f":"IF(S185=\"\",\"\",S185/COUNTIF('Data Input'!$C$8:$AQ$8,$S$2))","v":""}]
[{"$f":"IF('Data Input'!A190=0,\"\",'Data Input'!A190)","v":""},{"$f":"IF(ISBLANK('Data Input'!A190),\"\",COUNTIF('Data Input'!C190:AQ190,\"\")-1)","v":""},{"$f":"IF(ISBLANK('Data Input'!A190),\"\",COUNTIF('Data Input'!C190:AQ190,\"0\"))","v":""},{"$f":"IF(ISBLANK('Data Input'!A190),\"\",SUM(B186,C186))","v":""},{"$f":"IF(ISBLANK('Data Input'!A190),\"\",SUM('Data Input'!C190:AQ190))","v":""},{"$f":"IF(E186=\"\",\"\",E186/(COUNTA('Data Input'!$C$8:$AQ$8)-1))","v":""},{"$f":"IF(ISBLANK('Data Input'!A190),\"\",SUM('Data Input'!H190,'Data Input'!I190,'Data Input'!M190,'Data Input'!N190))","v":""},{"$f":"IF(G186=\"\",\"\",G186/COUNTIF('Data Input'!$C$8:$AQ$8,$G$2))","v":""},{"$f":"IF(ISBLANK('Data Input'!A190),\"\",SUM('Data Input'!J190,'Data Input'!K190,'Data Input'!U190,'Data Input'!V190))","v":""},{"$f":"IF(I186=\"\",\"\",I186/COUNTIF('Data Input'!$C$8:$AQ$8,$I$2))","v":""},{"$f":"IF(ISBLANK('Data Input'!A190),\"\",SUM('Data Input'!D190))","v":""},{"$f":"IF(K186=\"\",\"\",K186/COUNTIF('Data Input'!$C$8:$AQ$8,$K$2))","v":""},{"$f":"IF(ISBLANK('Data Input'!A190),\"\",SUM('Data Input'!O190,'Data Input'!P190,'Data Input'!R190,'Data Input'!S190))","v":""},{"$f":"IF(M186=\"\",\"\",M186/COUNTIF('Data Input'!$C$8:$AQ$8,$M$2))","v":""},{"$f":"IF(ISBLANK('Data Input'!A190),\"\",SUM('Data Input'!C190,'Data Input'!E190,'Data Input'!F190,'Data Input'!G190,'Data Input'!Q190,'Data Input'!T190))","v":""},{"$f":"IF(O186=\"\",\"\",O186/COUNTIF('Data Input'!$C$8:$AQ$8,$O$2))","v":""},{"$f":"IF(ISBLANK('Data Input'!A190),\"\",SUM('Data Input'!L190))","v":""},{"$f":"IF(Q186=\"\",\"\",Q186/COUNTIF('Data Input'!$C$8:$AQ$8,$Q$2))","v":""},{"$f":"IF(ISBLANK('Data Input'!A190),\"\",SUM('Data Input'!X190:AQ190))","v":""},{"$f":"IF(S186=\"\",\"\",S186/COUNTIF('Data Input'!$C$8:$AQ$8,$S$2))","v":""}]
[{"$f":"IF('Data Input'!A191=0,\"\",'Data Input'!A191)","v":""},{"$f":"IF(ISBLANK('Data Input'!A191),\"\",COUNTIF('Data Input'!C191:AQ191,\"\")-1)","v":""},{"$f":"IF(ISBLANK('Data Input'!A191),\"\",COUNTIF('Data Input'!C191:AQ191,\"0\"))","v":""},{"$f":"IF(ISBLANK('Data Input'!A191),\"\",SUM(B187,C187))","v":""},{"$f":"IF(ISBLANK('Data Input'!A191),\"\",SUM('Data Input'!C191:AQ191))","v":""},{"$f":"IF(E187=\"\",\"\",E187/(COUNTA('Data Input'!$C$8:$AQ$8)-1))","v":""},{"$f":"IF(ISBLANK('Data Input'!A191),\"\",SUM('Data Input'!H191,'Data Input'!I191,'Data Input'!M191,'Data Input'!N191))","v":""},{"$f":"IF(G187=\"\",\"\",G187/COUNTIF('Data Input'!$C$8:$AQ$8,$G$2))","v":""},{"$f":"IF(ISBLANK('Data Input'!A191),\"\",SUM('Data Input'!J191,'Data Input'!K191,'Data Input'!U191,'Data Input'!V191))","v":""},{"$f":"IF(I187=\"\",\"\",I187/COUNTIF('Data Input'!$C$8:$AQ$8,$I$2))","v":""},{"$f":"IF(ISBLANK('Data Input'!A191),\"\",SUM('Data Input'!D191))","v":""},{"$f":"IF(K187=\"\",\"\",K187/COUNTIF('Data Input'!$C$8:$AQ$8,$K$2))","v":""},{"$f":"IF(ISBLANK('Data Input'!A191),\"\",SUM('Data Input'!O191,'Data Input'!P191,'Data Input'!R191,'Data Input'!S191))","v":""},{"$f":"IF(M187=\"\",\"\",M187/COUNTIF('Data Input'!$C$8:$AQ$8,$M$2))","v":""},{"$f":"IF(ISBLANK('Data Input'!A191),\"\",SUM('Data Input'!C191,'Data Input'!E191,'Data Input'!F191,'Data Input'!G191,'Data Input'!Q191,'Data Input'!T191))","v":""},{"$f":"IF(O187=\"\",\"\",O187/COUNTIF('Data Input'!$C$8:$AQ$8,$O$2))","v":""},{"$f":"IF(ISBLANK('Data Input'!A191),\"\",SUM('Data Input'!L191))","v":""},{"$f":"IF(Q187=\"\",\"\",Q187/COUNTIF('Data Input'!$C$8:$AQ$8,$Q$2))","v":""},{"$f":"IF(ISBLANK('Data Input'!A191),\"\",SUM('Data Input'!X191:AQ191))","v":""},{"$f":"IF(S187=\"\",\"\",S187/COUNTIF('Data Input'!$C$8:$AQ$8,$S$2))","v":""}]
[{"$f":"IF('Data Input'!A192=0,\"\",'Data Input'!A192)","v":""},{"$f":"IF(ISBLANK('Data Input'!A192),\"\",COUNTIF('Data Input'!C192:AQ192,\"\")-1)","v":""},{"$f":"IF(ISBLANK('Data Input'!A192),\"\",COUNTIF('Data Input'!C192:AQ192,\"0\"))","v":""},{"$f":"IF(ISBLANK('Data Input'!A192),\"\",SUM(B188,C188))","v":""},{"$f":"IF(ISBLANK('Data Input'!A192),\"\",SUM('Data Input'!C192:AQ192))","v":""},{"$f":"IF(E188=\"\",\"\",E188/(COUNTA('Data Input'!$C$8:$AQ$8)-1))","v":""},{"$f":"IF(ISBLANK('Data Input'!A192),\"\",SUM('Data Input'!H192,'Data Input'!I192,'Data Input'!M192,'Data Input'!N192))","v":""},{"$f":"IF(G188=\"\",\"\",G188/COUNTIF('Data Input'!$C$8:$AQ$8,$G$2))","v":""},{"$f":"IF(ISBLANK('Data Input'!A192),\"\",SUM('Data Input'!J192,'Data Input'!K192,'Data Input'!U192,'Data Input'!V192))","v":""},{"$f":"IF(I188=\"\",\"\",I188/COUNTIF('Data Input'!$C$8:$AQ$8,$I$2))","v":""},{"$f":"IF(ISBLANK('Data Input'!A192),\"\",SUM('Data Input'!D192))","v":""},{"$f":"IF(K188=\"\",\"\",K188/COUNTIF('Data Input'!$C$8:$AQ$8,$K$2))","v":""},{"$f":"IF(ISBLANK('Data Input'!A192),\"\",SUM('Data Input'!O192,'Data Input'!P192,'Data Input'!R192,'Data Input'!S192))","v":""},{"$f":"IF(M188=\"\",\"\",M188/COUNTIF('Data Input'!$C$8:$AQ$8,$M$2))","v":""},{"$f":"IF(ISBLANK('Data Input'!A192),\"\",SUM('Data Input'!C192,'Data Input'!E192,'Data Input'!F192,'Data Input'!G192,'Data Input'!Q192,'Data Input'!T192))","v":""},{"$f":"IF(O188=\"\",\"\",O188/COUNTIF('Data Input'!$C$8:$AQ$8,$O$2))","v":""},{"$f":"IF(ISBLANK('Data Input'!A192),\"\",SUM('Data Input'!L192))","v":""},{"$f":"IF(Q188=\"\",\"\",Q188/COUNTIF('Data Input'!$C$8:$AQ$8,$Q$2))","v":""},{"$f":"IF(ISBLANK('Data Input'!A192),\"\",SUM('Data Input'!X192:AQ192))","v":""},{"$f":"IF(S188=\"\",\"\",S188/COUNTIF('Data Input'!$C$8:$AQ$8,$S$2))","v":""}]
[{"$f":"IF('Data Input'!A193=0,\"\",'Data Input'!A193)","v":""},{"$f":"IF(ISBLANK('Data Input'!A193),\"\",COUNTIF('Data Input'!C193:AQ193,\"\")-1)","v":""},{"$f":"IF(ISBLANK('Data Input'!A193),\"\",COUNTIF('Data Input'!C193:AQ193,\"0\"))","v":""},{"$f":"IF(ISBLANK('Data Input'!A193),\"\",SUM(B189,C189))","v":""},{"$f":"IF(ISBLANK('Data Input'!A193),\"\",SUM('Data Input'!C193:AQ193))","v":""},{"$f":"IF(E189=\"\",\"\",E189/(COUNTA('Data Input'!$C$8:$AQ$8)-1))","v":""},{"$f":"IF(ISBLANK('Data Input'!A193),\"\",SUM('Data Input'!H193,'Data Input'!I193,'Data Input'!M193,'Data Input'!N193))","v":""},{"$f":"IF(G189=\"\",\"\",G189/COUNTIF('Data Input'!$C$8:$AQ$8,$G$2))","v":""},{"$f":"IF(ISBLANK('Data Input'!A193),\"\",SUM('Data Input'!J193,'Data Input'!K193,'Data Input'!U193,'Data Input'!V193))","v":""},{"$f":"IF(I189=\"\",\"\",I189/COUNTIF('Data Input'!$C$8:$AQ$8,$I$2))","v":""},{"$f":"IF(ISBLANK('Data Input'!A193),\"\",SUM('Data Input'!D193))","v":""},{"$f":"IF(K189=\"\",\"\",K189/COUNTIF('Data Input'!$C$8:$AQ$8,$K$2))","v":""},{"$f":"IF(ISBLANK('Data Input'!A193),\"\",SUM('Data Input'!O193,'Data Input'!P193,'Data Input'!R193,'Data Input'!S193))","v":""},{"$f":"IF(M189=\"\",\"\",M189/COUNTIF('Data Input'!$C$8:$AQ$8,$M$2))","v":""},{"$f":"IF(ISBLANK('Data Input'!A193),\"\",SUM('Data Input'!C193,'Data Input'!E193,'Data Input'!F193,'Data Input'!G193,'Data Input'!Q193,'Data Input'!T193))","v":""},{"$f":"IF(O189=\"\",\"\",O189/COUNTIF('Data Input'!$C$8:$AQ$8,$O$2))","v":""},{"$f":"IF(ISBLANK('Data Input'!A193),\"\",SUM('Data Input'!L193))","v":""},{"$f":"IF(Q189=\"\",\"\",Q189/COUNTIF('Data Input'!$C$8:$AQ$8,$Q$2))","v":""},{"$f":"IF(ISBLANK('Data Input'!A193),\"\",SUM('Data Input'!X193:AQ193))","v":""},{"$f":"IF(S189=\"\",\"\",S189/COUNTIF('Data Input'!$C$8:$AQ$8,$S$2))","v":""}]
[{"$f":"IF('Data Input'!A194=0,\"\",'Data Input'!A194)","v":""},{"$f":"IF(ISBLANK('Data Input'!A194),\"\",COUNTIF('Data Input'!C194:AQ194,\"\")-1)","v":""},{"$f":"IF(ISBLANK('Data Input'!A194),\"\",COUNTIF('Data Input'!C194:AQ194,\"0\"))","v":""},{"$f":"IF(ISBLANK('Data Input'!A194),\"\",SUM(B190,C190))","v":""},{"$f":"IF(ISBLANK('Data Input'!A194),\"\",SUM('Data Input'!C194:AQ194))","v":""},{"$f":"IF(E190=\"\",\"\",E190/(COUNTA('Data Input'!$C$8:$AQ$8)-1))","v":""},{"$f":"IF(ISBLANK('Data Input'!A194),\"\",SUM('Data Input'!H194,'Data Input'!I194,'Data Input'!M194,'Data Input'!N194))","v":""},{"$f":"IF(G190=\"\",\"\",G190/COUNTIF('Data Input'!$C$8:$AQ$8,$G$2))","v":""},{"$f":"IF(ISBLANK('Data Input'!A194),\"\",SUM('Data Input'!J194,'Data Input'!K194,'Data Input'!U194,'Data Input'!V194))","v":""},{"$f":"IF(I190=\"\",\"\",I190/COUNTIF('Data Input'!$C$8:$AQ$8,$I$2))","v":""},{"$f":"IF(ISBLANK('Data Input'!A194),\"\",SUM('Data Input'!D194))","v":""},{"$f":"IF(K190=\"\",\"\",K190/COUNTIF('Data Input'!$C$8:$AQ$8,$K$2))","v":""},{"$f":"IF(ISBLANK('Data Input'!A194),\"\",SUM('Data Input'!O194,'Data Input'!P194,'Data Input'!R194,'Data Input'!S194))","v":""},{"$f":"IF(M190=\"\",\"\",M190/COUNTIF('Data Input'!$C$8:$AQ$8,$M$2))","v":""},{"$f":"IF(ISBLANK('Data Input'!A194),\"\",SUM('Data Input'!C194,'Data Input'!E194,'Data Input'!F194,'Data Input'!G194,'Data Input'!Q194,'Data Input'!T194))","v":""},{"$f":"IF(O190=\"\",\"\",O190/COUNTIF('Data Input'!$C$8:$AQ$8,$O$2))","v":""},{"$f":"IF(ISBLANK('Data Input'!A194),\"\",SUM('Data Input'!L194))","v":""},{"$f":"IF(Q190=\"\",\"\",Q190/COUNTIF('Data Input'!$C$8:$AQ$8,$Q$2))","v":""},{"$f":"IF(ISBLANK('Data Input'!A194),\"\",SUM('Data Input'!X194:AQ194))","v":""},{"$f":"IF(S190=\"\",\"\",S190/COUNTIF('Data Input'!$C$8:$AQ$8,$S$2))","v":""}]
[{"$f":"IF('Data Input'!A195=0,\"\",'Data Input'!A195)","v":""},{"$f":"IF(ISBLANK('Data Input'!A195),\"\",COUNTIF('Data Input'!C195:AQ195,\"\")-1)","v":""},{"$f":"IF(ISBLANK('Data Input'!A195),\"\",COUNTIF('Data Input'!C195:AQ195,\"0\"))","v":""},{"$f":"IF(ISBLANK('Data Input'!A195),\"\",SUM(B191,C191))","v":""},{"$f":"IF(ISBLANK('Data Input'!A195),\"\",SUM('Data Input'!C195:AQ195))","v":""},{"$f":"IF(E191=\"\",\"\",E191/(COUNTA('Data Input'!$C$8:$AQ$8)-1))","v":""},{"$f":"IF(ISBLANK('Data Input'!A195),\"\",SUM('Data Input'!H195,'Data Input'!I195,'Data Input'!M195,'Data Input'!N195))","v":""},{"$f":"IF(G191=\"\",\"\",G191/COUNTIF('Data Input'!$C$8:$AQ$8,$G$2))","v":""},{"$f":"IF(ISBLANK('Data Input'!A195),\"\",SUM('Data Input'!J195,'Data Input'!K195,'Data Input'!U195,'Data Input'!V195))","v":""},{"$f":"IF(I191=\"\",\"\",I191/COUNTIF('Data Input'!$C$8:$AQ$8,$I$2))","v":""},{"$f":"IF(ISBLANK('Data Input'!A195),\"\",SUM('Data Input'!D195))","v":""},{"$f":"IF(K191=\"\",\"\",K191/COUNTIF('Data Input'!$C$8:$AQ$8,$K$2))","v":""},{"$f":"IF(ISBLANK('Data Input'!A195),\"\",SUM('Data Input'!O195,'Data Input'!P195,'Data Input'!R195,'Data Input'!S195))","v":""},{"$f":"IF(M191=\"\",\"\",M191/COUNTIF('Data Input'!$C$8:$AQ$8,$M$2))","v":""},{"$f":"IF(ISBLANK('Data Input'!A195),\"\",SUM('Data Input'!C195,'Data Input'!E195,'Data Input'!F195,'Data Input'!G195,'Data Input'!Q195,'Data Input'!T195))","v":""},{"$f":"IF(O191=\"\",\"\",O191/COUNTIF('Data Input'!$C$8:$AQ$8,$O$2))","v":""},{"$f":"IF(ISBLANK('Data Input'!A195),\"\",SUM('Data Input'!L195))","v":""},{"$f":"IF(Q191=\"\",\"\",Q191/COUNTIF('Data Input'!$C$8:$AQ$8,$Q$2))","v":""},{"$f":"IF(ISBLANK('Data Input'!A195),\"\",SUM('Data Input'!X195:AQ195))","v":""},{"$f":"IF(S191=\"\",\"\",S191/COUNTIF('Data Input'!$C$8:$AQ$8,$S$2))","v":""}]
[{"$f":"IF('Data Input'!A196=0,\"\",'Data Input'!A196)","v":""},{"$f":"IF(ISBLANK('Data Input'!A196),\"\",COUNTIF('Data Input'!C196:AQ196,\"\")-1)","v":""},{"$f":"IF(ISBLANK('Data Input'!A196),\"\",COUNTIF('Data Input'!C196:AQ196,\"0\"))","v":""},{"$f":"IF(ISBLANK('Data Input'!A196),\"\",SUM(B192,C192))","v":""},{"$f":"IF(ISBLANK('Data Input'!A196),\"\",SUM('Data Input'!C196:AQ196))","v":""},{"$f":"IF(E192=\"\",\"\",E192/(COUNTA('Data Input'!$C$8:$AQ$8)-1))","v":""},{"$f":"IF(ISBLANK('Data Input'!A196),\"\",SUM('Data Input'!H196,'Data Input'!I196,'Data Input'!M196,'Data Input'!N196))","v":""},{"$f":"IF(G192=\"\",\"\",G192/COUNTIF('Data Input'!$C$8:$AQ$8,$G$2))","v":""},{"$f":"IF(ISBLANK('Data Input'!A196),\"\",SUM('Data Input'!J196,'Data Input'!K196,'Data Input'!U196,'Data Input'!V196))","v":""},{"$f":"IF(I192=\"\",\"\",I192/COUNTIF('Data Input'!$C$8:$AQ$8,$I$2))","v":""},{"$f":"IF(ISBLANK('Data Input'!A196),\"\",SUM('Data Input'!D196))","v":""},{"$f":"IF(K192=\"\",\"\",K192/COUNTIF('Data Input'!$C$8:$AQ$8,$K$2))","v":""},{"$f":"IF(ISBLANK('Data Input'!A196),\"\",SUM('Data Input'!O196,'Data Input'!P196,'Data Input'!R196,'Data Input'!S196))","v":""},{"$f":"IF(M192=\"\",\"\",M192/COUNTIF('Data Input'!$C$8:$AQ$8,$M$2))","v":""},{"$f":"IF(ISBLANK('Data Input'!A196),\"\",SUM('Data Input'!C196,'Data Input'!E196,'Data Input'!F196,'Data Input'!G196,'Data Input'!Q196,'Data Input'!T196))","v":""},{"$f":"IF(O192=\"\",\"\",O192/COUNTIF('Data Input'!$C$8:$AQ$8,$O$2))","v":""},{"$f":"IF(ISBLANK('Data Input'!A196),\"\",SUM('Data Input'!L196))","v":""},{"$f":"IF(Q192=\"\",\"\",Q192/COUNTIF('Data Input'!$C$8:$AQ$8,$Q$2))","v":""},{"$f":"IF(ISBLANK('Data Input'!A196),\"\",SUM('Data Input'!X196:AQ196))","v":""},{"$f":"IF(S192=\"\",\"\",S192/COUNTIF('Data Input'!$C$8:$AQ$8,$S$2))","v":""}]
[{"$f":"IF('Data Input'!A197=0,\"\",'Data Input'!A197)","v":""},{"$f":"IF(ISBLANK('Data Input'!A197),\"\",COUNTIF('Data Input'!C197:AQ197,\"\")-1)","v":""},{"$f":"IF(ISBLANK('Data Input'!A197),\"\",COUNTIF('Data Input'!C197:AQ197,\"0\"))","v":""},{"$f":"IF(ISBLANK('Data Input'!A197),\"\",SUM(B193,C193))","v":""},{"$f":"IF(ISBLANK('Data Input'!A197),\"\",SUM('Data Input'!C197:AQ197))","v":""},{"$f":"IF(E193=\"\",\"\",E193/(COUNTA('Data Input'!$C$8:$AQ$8)-1))","v":""},{"$f":"IF(ISBLANK('Data Input'!A197),\"\",SUM('Data Input'!H197,'Data Input'!I197,'Data Input'!M197,'Data Input'!N197))","v":""},{"$f":"IF(G193=\"\",\"\",G193/COUNTIF('Data Input'!$C$8:$AQ$8,$G$2))","v":""},{"$f":"IF(ISBLANK('Data Input'!A197),\"\",SUM('Data Input'!J197,'Data Input'!K197,'Data Input'!U197,'Data Input'!V197))","v":""},{"$f":"IF(I193=\"\",\"\",I193/COUNTIF('Data Input'!$C$8:$AQ$8,$I$2))","v":""},{"$f":"IF(ISBLANK('Data Input'!A197),\"\",SUM('Data Input'!D197))","v":""},{"$f":"IF(K193=\"\",\"\",K193/COUNTIF('Data Input'!$C$8:$AQ$8,$K$2))","v":""},{"$f":"IF(ISBLANK('Data Input'!A197),\"\",SUM('Data Input'!O197,'Data Input'!P197,'Data Input'!R197,'Data Input'!S197))","v":""},{"$f":"IF(M193=\"\",\"\",M193/COUNTIF('Data Input'!$C$8:$AQ$8,$M$2))","v":""},{"$f":"IF(ISBLANK('Data Input'!A197),\"\",SUM('Data Input'!C197,'Data Input'!E197,'Data Input'!F197,'Data Input'!G197,'Data Input'!Q197,'Data Input'!T197))","v":""},{"$f":"IF(O193=\"\",\"\",O193/COUNTIF('Data Input'!$C$8:$AQ$8,$O$2))","v":""},{"$f":"IF(ISBLANK('Data Input'!A197),\"\",SUM('Data Input'!L197))","v":""},{"$f":"IF(Q193=\"\",\"\",Q193/COUNTIF('Data Input'!$C$8:$AQ$8,$Q$2))","v":""},{"$f":"IF(ISBLANK('Data Input'!A197),\"\",SUM('Data Input'!X197:AQ197))","v":""},{"$f":"IF(S193=\"\",\"\",S193/COUNTIF('Data Input'!$C$8:$AQ$8,$S$2))","v":""}]
[{"$f":"IF('Data Input'!A198=0,\"\",'Data Input'!A198)","v":""},{"$f":"IF(ISBLANK('Data Input'!A198),\"\",COUNTIF('Data Input'!C198:AQ198,\"\")-1)","v":""},{"$f":"IF(ISBLANK('Data Input'!A198),\"\",COUNTIF('Data Input'!C198:AQ198,\"0\"))","v":""},{"$f":"IF(ISBLANK('Data Input'!A198),\"\",SUM(B194,C194))","v":""},{"$f":"IF(ISBLANK('Data Input'!A198),\"\",SUM('Data Input'!C198:AQ198))","v":""},{"$f":"IF(E194=\"\",\"\",E194/(COUNTA('Data Input'!$C$8:$AQ$8)-1))","v":""},{"$f":"IF(ISBLANK('Data Input'!A198),\"\",SUM('Data Input'!H198,'Data Input'!I198,'Data Input'!M198,'Data Input'!N198))","v":""},{"$f":"IF(G194=\"\",\"\",G194/COUNTIF('Data Input'!$C$8:$AQ$8,$G$2))","v":""},{"$f":"IF(ISBLANK('Data Input'!A198),\"\",SUM('Data Input'!J198,'Data Input'!K198,'Data Input'!U198,'Data Input'!V198))","v":""},{"$f":"IF(I194=\"\",\"\",I194/COUNTIF('Data Input'!$C$8:$AQ$8,$I$2))","v":""},{"$f":"IF(ISBLANK('Data Input'!A198),\"\",SUM('Data Input'!D198))","v":""},{"$f":"IF(K194=\"\",\"\",K194/COUNTIF('Data Input'!$C$8:$AQ$8,$K$2))","v":""},{"$f":"IF(ISBLANK('Data Input'!A198),\"\",SUM('Data Input'!O198,'Data Input'!P198,'Data Input'!R198,'Data Input'!S198))","v":""},{"$f":"IF(M194=\"\",\"\",M194/COUNTIF('Data Input'!$C$8:$AQ$8,$M$2))","v":""},{"$f":"IF(ISBLANK('Data Input'!A198),\"\",SUM('Data Input'!C198,'Data Input'!E198,'Data Input'!F198,'Data Input'!G198,'Data Input'!Q198,'Data Input'!T198))","v":""},{"$f":"IF(O194=\"\",\"\",O194/COUNTIF('Data Input'!$C$8:$AQ$8,$O$2))","v":""},{"$f":"IF(ISBLANK('Data Input'!A198),\"\",SUM('Data Input'!L198))","v":""},{"$f":"IF(Q194=\"\",\"\",Q194/COUNTIF('Data Input'!$C$8:$AQ$8,$Q$2))","v":""},{"$f":"IF(ISBLANK('Data Input'!A198),\"\",SUM('Data Input'!X198:AQ198))","v":""},{"$f":"IF(S194=\"\",\"\",S194/COUNTIF('Data Input'!$C$8:$AQ$8,$S$2))","v":""}]
[{"$f":"IF('Data Input'!A199=0,\"\",'Data Input'!A199)","v":""},{"$f":"IF(ISBLANK('Data Input'!A199),\"\",COUNTIF('Data Input'!C199:AQ199,\"\")-1)","v":""},{"$f":"IF(ISBLANK('Data Input'!A199),\"\",COUNTIF('Data Input'!C199:AQ199,\"0\"))","v":""},{"$f":"IF(ISBLANK('Data Input'!A199),\"\",SUM(B195,C195))","v":""},{"$f":"IF(ISBLANK('Data Input'!A199),\"\",SUM('Data Input'!C199:AQ199))","v":""},{"$f":"IF(E195=\"\",\"\",E195/(COUNTA('Data Input'!$C$8:$AQ$8)-1))","v":""},{"$f":"IF(ISBLANK('Data Input'!A199),\"\",SUM('Data Input'!H199,'Data Input'!I199,'Data Input'!M199,'Data Input'!N199))","v":""},{"$f":"IF(G195=\"\",\"\",G195/COUNTIF('Data Input'!$C$8:$AQ$8,$G$2))","v":""},{"$f":"IF(ISBLANK('Data Input'!A199),\"\",SUM('Data Input'!J199,'Data Input'!K199,'Data Input'!U199,'Data Input'!V199))","v":""},{"$f":"IF(I195=\"\",\"\",I195/COUNTIF('Data Input'!$C$8:$AQ$8,$I$2))","v":""},{"$f":"IF(ISBLANK('Data Input'!A199),\"\",SUM('Data Input'!D199))","v":""},{"$f":"IF(K195=\"\",\"\",K195/COUNTIF('Data Input'!$C$8:$AQ$8,$K$2))","v":""},{"$f":"IF(ISBLANK('Data Input'!A199),\"\",SUM('Data Input'!O199,'Data Input'!P199,'Data Input'!R199,'Data Input'!S199))","v":""},{"$f":"IF(M195=\"\",\"\",M195/COUNTIF('Data Input'!$C$8:$AQ$8,$M$2))","v":""},{"$f":"IF(ISBLANK('Data Input'!A199),\"\",SUM('Data Input'!C199,'Data Input'!E199,'Data Input'!F199,'Data Input'!G199,'Data Input'!Q199,'Data Input'!T199))","v":""},{"$f":"IF(O195=\"\",\"\",O195/COUNTIF('Data Input'!$C$8:$AQ$8,$O$2))","v":""},{"$f":"IF(ISBLANK('Data Input'!A199),\"\",SUM('Data Input'!L199))","v":""},{"$f":"IF(Q195=\"\",\"\",Q195/COUNTIF('Data Input'!$C$8:$AQ$8,$Q$2))","v":""},{"$f":"IF(ISBLANK('Data Input'!A199),\"\",SUM('Data Input'!X199:AQ199))","v":""},{"$f":"IF(S195=\"\",\"\",S195/COUNTIF('Data Input'!$C$8:$AQ$8,$S$2))","v":""}]
[{"$f":"IF('Data Input'!A200=0,\"\",'Data Input'!A200)","v":""},{"$f":"IF(ISBLANK('Data Input'!A200),\"\",COUNTIF('Data Input'!C200:AQ200,\"\")-1)","v":""},{"$f":"IF(ISBLANK('Data Input'!A200),\"\",COUNTIF('Data Input'!C200:AQ200,\"0\"))","v":""},{"$f":"IF(ISBLANK('Data Input'!A200),\"\",SUM(B196,C196))","v":""},{"$f":"IF(ISBLANK('Data Input'!A200),\"\",SUM('Data Input'!C200:AQ200))","v":""},{"$f":"IF(E196=\"\",\"\",E196/(COUNTA('Data Input'!$C$8:$AQ$8)-1))","v":""},{"$f":"IF(ISBLANK('Data Input'!A200),\"\",SUM('Data Input'!H200,'Data Input'!I200,'Data Input'!M200,'Data Input'!N200))","v":""},{"$f":"IF(G196=\"\",\"\",G196/COUNTIF('Data Input'!$C$8:$AQ$8,$G$2))","v":""},{"$f":"IF(ISBLANK('Data Input'!A200),\"\",SUM('Data Input'!J200,'Data Input'!K200,'Data Input'!U200,'Data Input'!V200))","v":""},{"$f":"IF(I196=\"\",\"\",I196/COUNTIF('Data Input'!$C$8:$AQ$8,$I$2))","v":""},{"$f":"IF(ISBLANK('Data Input'!A200),\"\",SUM('Data Input'!D200))","v":""},{"$f":"IF(K196=\"\",\"\",K196/COUNTIF('Data Input'!$C$8:$AQ$8,$K$2))","v":""},{"$f":"IF(ISBLANK('Data Input'!A200),\"\",SUM('Data Input'!O200,'Data Input'!P200,'Data Input'!R200,'Data Input'!S200))","v":""},{"$f":"IF(M196=\"\",\"\",M196/COUNTIF('Data Input'!$C$8:$AQ$8,$M$2))","v":""},{"$f":"IF(ISBLANK('Data Input'!A200),\"\",SUM('Data Input'!C200,'Data Input'!E200,'Data Input'!F200,'Data Input'!G200,'Data Input'!Q200,'Data Input'!T200))","v":""},{"$f":"IF(O196=\"\",\"\",O196/COUNTIF('Data Input'!$C$8:$AQ$8,$O$2))","v":""},{"$f":"IF(ISBLANK('Data Input'!A200),\"\",SUM('Data Input'!L200))","v":""},{"$f":"IF(Q196=\"\",\"\",Q196/COUNTIF('Data Input'!$C$8:$AQ$8,$Q$2))","v":""},{"$f":"IF(ISBLANK('Data Input'!A200),\"\",SUM('Data Input'!X200:AQ200))","v":""},{"$f":"IF(S196=\"\",\"\",S196/COUNTIF('Data Input'!$C$8:$AQ$8,$S$2))","v":""}]
[{"$f":"IF('Data Input'!A201=0,\"\",'Data Input'!A201)","v":""},{"$f":"IF(ISBLANK('Data Input'!A201),\"\",COUNTIF('Data Input'!C201:AQ201,\"\")-1)","v":""},{"$f":"IF(ISBLANK('Data Input'!A201),\"\",COUNTIF('Data Input'!C201:AQ201,\"0\"))","v":""},{"$f":"IF(ISBLANK('Data Input'!A201),\"\",SUM(B197,C197))","v":""},{"$f":"IF(ISBLANK('Data Input'!A201),\"\",SUM('Data Input'!C201:AQ201))","v":""},{"$f":"IF(E197=\"\",\"\",E197/(COUNTA('Data Input'!$C$8:$AQ$8)-1))","v":""},{"$f":"IF(ISBLANK('Data Input'!A201),\"\",SUM('Data Input'!H201,'Data Input'!I201,'Data Input'!M201,'Data Input'!N201))","v":""},{"$f":"IF(G197=\"\",\"\",G197/COUNTIF('Data Input'!$C$8:$AQ$8,$G$2))","v":""},{"$f":"IF(ISBLANK('Data Input'!A201),\"\",SUM('Data Input'!J201,'Data Input'!K201,'Data Input'!U201,'Data Input'!V201))","v":""},{"$f":"IF(I197=\"\",\"\",I197/COUNTIF('Data Input'!$C$8:$AQ$8,$I$2))","v":""},{"$f":"IF(ISBLANK('Data Input'!A201),\"\",SUM('Data Input'!D201))","v":""},{"$f":"IF(K197=\"\",\"\",K197/COUNTIF('Data Input'!$C$8:$AQ$8,$K$2))","v":""},{"$f":"IF(ISBLANK('Data Input'!A201),\"\",SUM('Data Input'!O201,'Data Input'!P201,'Data Input'!R201,'Data Input'!S201))","v":""},{"$f":"IF(M197=\"\",\"\",M197/COUNTIF('Data Input'!$C$8:$AQ$8,$M$2))","v":""},{"$f":"IF(ISBLANK('Data Input'!A201),\"\",SUM('Data Input'!C201,'Data Input'!E201,'Data Input'!F201,'Data Input'!G201,'Data Input'!Q201,'Data Input'!T201))","v":""},{"$f":"IF(O197=\"\",\"\",O197/COUNTIF('Data Input'!$C$8:$AQ$8,$O$2))","v":""},{"$f":"IF(ISBLANK('Data Input'!A201),\"\",SUM('Data Input'!L201))","v":""},{"$f":"IF(Q197=\"\",\"\",Q197/COUNTIF('Data Input'!$C$8:$AQ$8,$Q$2))","v":""},{"$f":"IF(ISBLANK('Data Input'!A201),\"\",SUM('Data Input'!X201:AQ201))","v":""},{"$f":"IF(S197=\"\",\"\",S197/COUNTIF('Data Input'!$C$8:$AQ$8,$S$2))","v":""}]
[{"$f":"IF('Data Input'!A202=0,\"\",'Data Input'!A202)","v":""},{"$f":"IF(ISBLANK('Data Input'!A202),\"\",COUNTIF('Data Input'!C202:AQ202,\"\")-1)","v":""},{"$f":"IF(ISBLANK('Data Input'!A202),\"\",COUNTIF('Data Input'!C202:AQ202,\"0\"))","v":""},{"$f":"IF(ISBLANK('Data Input'!A202),\"\",SUM(B198,C198))","v":""},{"$f":"IF(ISBLANK('Data Input'!A202),\"\",SUM('Data Input'!C202:AQ202))","v":""},{"$f":"IF(E198=\"\",\"\",E198/(COUNTA('Data Input'!$C$8:$AQ$8)-1))","v":""},{"$f":"IF(ISBLANK('Data Input'!A202),\"\",SUM('Data Input'!H202,'Data Input'!I202,'Data Input'!M202,'Data Input'!N202))","v":""},{"$f":"IF(G198=\"\",\"\",G198/COUNTIF('Data Input'!$C$8:$AQ$8,$G$2))","v":""},{"$f":"IF(ISBLANK('Data Input'!A202),\"\",SUM('Data Input'!J202,'Data Input'!K202,'Data Input'!U202,'Data Input'!V202))","v":""},{"$f":"IF(I198=\"\",\"\",I198/COUNTIF('Data Input'!$C$8:$AQ$8,$I$2))","v":""},{"$f":"IF(ISBLANK('Data Input'!A202),\"\",SUM('Data Input'!D202))","v":""},{"$f":"IF(K198=\"\",\"\",K198/COUNTIF('Data Input'!$C$8:$AQ$8,$K$2))","v":""},{"$f":"IF(ISBLANK('Data Input'!A202),\"\",SUM('Data Input'!O202,'Data Input'!P202,'Data Input'!R202,'Data Input'!S202))","v":""},{"$f":"IF(M198=\"\",\"\",M198/COUNTIF('Data Input'!$C$8:$AQ$8,$M$2))","v":""},{"$f":"IF(ISBLANK('Data Input'!A202),\"\",SUM('Data Input'!C202,'Data Input'!E202,'Data Input'!F202,'Data Input'!G202,'Data Input'!Q202,'Data Input'!T202))","v":""},{"$f":"IF(O198=\"\",\"\",O198/COUNTIF('Data Input'!$C$8:$AQ$8,$O$2))","v":""},{"$f":"IF(ISBLANK('Data Input'!A202),\"\",SUM('Data Input'!L202))","v":""},{"$f":"IF(Q198=\"\",\"\",Q198/COUNTIF('Data Input'!$C$8:$AQ$8,$Q$2))","v":""},{"$f":"IF(ISBLANK('Data Input'!A202),\"\",SUM('Data Input'!X202:AQ202))","v":""},{"$f":"IF(S198=\"\",\"\",S198/COUNTIF('Data Input'!$C$8:$AQ$8,$S$2))","v":""}]
[{"$f":"IF('Data Input'!A203=0,\"\",'Data Input'!A203)","v":""},{"$f":"IF(ISBLANK('Data Input'!A203),\"\",COUNTIF('Data Input'!C203:AQ203,\"\")-1)","v":""},{"$f":"IF(ISBLANK('Data Input'!A203),\"\",COUNTIF('Data Input'!C203:AQ203,\"0\"))","v":""},{"$f":"IF(ISBLANK('Data Input'!A203),\"\",SUM(B199,C199))","v":""},{"$f":"IF(ISBLANK('Data Input'!A203),\"\",SUM('Data Input'!C203:AQ203))","v":""},{"$f":"IF(E199=\"\",\"\",E199/(COUNTA('Data Input'!$C$8:$AQ$8)-1))","v":""},{"$f":"IF(ISBLANK('Data Input'!A203),\"\",SUM('Data Input'!H203,'Data Input'!I203,'Data Input'!M203,'Data Input'!N203))","v":""},{"$f":"IF(G199=\"\",\"\",G199/COUNTIF('Data Input'!$C$8:$AQ$8,$G$2))","v":""},{"$f":"IF(ISBLANK('Data Input'!A203),\"\",SUM('Data Input'!J203,'Data Input'!K203,'Data Input'!U203,'Data Input'!V203))","v":""},{"$f":"IF(I199=\"\",\"\",I199/COUNTIF('Data Input'!$C$8:$AQ$8,$I$2))","v":""},{"$f":"IF(ISBLANK('Data Input'!A203),\"\",SUM('Data Input'!D203))","v":""},{"$f":"IF(K199=\"\",\"\",K199/COUNTIF('Data Input'!$C$8:$AQ$8,$K$2))","v":""},{"$f":"IF(ISBLANK('Data Input'!A203),\"\",SUM('Data Input'!O203,'Data Input'!P203,'Data Input'!R203,'Data Input'!S203))","v":""},{"$f":"IF(M199=\"\",\"\",M199/COUNTIF('Data Input'!$C$8:$AQ$8,$M$2))","v":""},{"$f":"IF(ISBLANK('Data Input'!A203),\"\",SUM('Data Input'!C203,'Data Input'!E203,'Data Input'!F203,'Data Input'!G203,'Data Input'!Q203,'Data Input'!T203))","v":""},{"$f":"IF(O199=\"\",\"\",O199/COUNTIF('Data Input'!$C$8:$AQ$8,$O$2))","v":""},{"$f":"IF(ISBLANK('Data Input'!A203),\"\",SUM('Data Input'!L203))","v":""},{"$f":"IF(Q199=\"\",\"\",Q199/COUNTIF('Data Input'!$C$8:$AQ$8,$Q$2))","v":""},{"$f":"IF(ISBLANK('Data Input'!A203),\"\",SUM('Data Input'!X203:AQ203))","v":""},{"$f":"IF(S199=\"\",\"\",S199/COUNTIF('Data Input'!$C$8:$AQ$8,$S$2))","v":""}]
[{"$f":"IF('Data Input'!A204=0,\"\",'Data Input'!A204)","v":""},{"$f":"IF(ISBLANK('Data Input'!A204),\"\",COUNTIF('Data Input'!C204:AQ204,\"\")-1)","v":""},{"$f":"IF(ISBLANK('Data Input'!A204),\"\",COUNTIF('Data Input'!C204:AQ204,\"0\"))","v":""},{"$f":"IF(ISBLANK('Data Input'!A204),\"\",SUM(B200,C200))","v":""},{"$f":"IF(ISBLANK('Data Input'!A204),\"\",SUM('Data Input'!C204:AQ204))","v":""},{"$f":"IF(E200=\"\",\"\",E200/(COUNTA('Data Input'!$C$8:$AQ$8)-1))","v":""},{"$f":"IF(ISBLANK('Data Input'!A204),\"\",SUM('Data Input'!H204,'Data Input'!I204,'Data Input'!M204,'Data Input'!N204))","v":""},{"$f":"IF(G200=\"\",\"\",G200/COUNTIF('Data Input'!$C$8:$AQ$8,$G$2))","v":""},{"$f":"IF(ISBLANK('Data Input'!A204),\"\",SUM('Data Input'!J204,'Data Input'!K204,'Data Input'!U204,'Data Input'!V204))","v":""},{"$f":"IF(I200=\"\",\"\",I200/COUNTIF('Data Input'!$C$8:$AQ$8,$I$2))","v":""},{"$f":"IF(ISBLANK('Data Input'!A204),\"\",SUM('Data Input'!D204))","v":""},{"$f":"IF(K200=\"\",\"\",K200/COUNTIF('Data Input'!$C$8:$AQ$8,$K$2))","v":""},{"$f":"IF(ISBLANK('Data Input'!A204),\"\",SUM('Data Input'!O204,'Data Input'!P204,'Data Input'!R204,'Data Input'!S204))","v":""},{"$f":"IF(M200=\"\",\"\",M200/COUNTIF('Data Input'!$C$8:$AQ$8,$M$2))","v":""},{"$f":"IF(ISBLANK('Data Input'!A204),\"\",SUM('Data Input'!C204,'Data Input'!E204,'Data Input'!F204,'Data Input'!G204,'Data Input'!Q204,'Data Input'!T204))","v":""},{"$f":"IF(O200=\"\",\"\",O200/COUNTIF('Data Input'!$C$8:$AQ$8,$O$2))","v":""},{"$f":"IF(ISBLANK('Data Input'!A204),\"\",SUM('Data Input'!L204))","v":""},{"$f":"IF(Q200=\"\",\"\",Q200/COUNTIF('Data Input'!$C$8:$AQ$8,$Q$2))","v":""},{"$f":"IF(ISBLANK('Data Input'!A204),\"\",SUM('Data Input'!X204:AQ204))","v":""},{"$f":"IF(S200=\"\",\"\",S200/COUNTIF('Data Input'!$C$8:$AQ$8,$S$2))","v":""}]
[{"$f":"IF('Data Input'!A205=0,\"\",'Data Input'!A205)","v":""},{"$f":"IF(ISBLANK('Data Input'!A205),\"\",COUNTIF('Data Input'!C205:AQ205,\"\")-1)","v":""},{"$f":"IF(ISBLANK('Data Input'!A205),\"\",COUNTIF('Data Input'!C205:AQ205,\"0\"))","v":""},{"$f":"IF(ISBLANK('Data Input'!A205),\"\",SUM(B201,C201))","v":""},{"$f":"IF(ISBLANK('Data Input'!A205),\"\",SUM('Data Input'!C205:AQ205))","v":""},{"$f":"IF(E201=\"\",\"\",E201/(COUNTA('Data Input'!$C$8:$AQ$8)-1))","v":""},{"$f":"IF(ISBLANK('Data Input'!A205),\"\",SUM('Data Input'!H205,'Data Input'!I205,'Data Input'!M205,'Data Input'!N205))","v":""},{"$f":"IF(G201=\"\",\"\",G201/COUNTIF('Data Input'!$C$8:$AQ$8,$G$2))","v":""},{"$f":"IF(ISBLANK('Data Input'!A205),\"\",SUM('Data Input'!J205,'Data Input'!K205,'Data Input'!U205,'Data Input'!V205))","v":""},{"$f":"IF(I201=\"\",\"\",I201/COUNTIF('Data Input'!$C$8:$AQ$8,$I$2))","v":""},{"$f":"IF(ISBLANK('Data Input'!A205),\"\",SUM('Data Input'!D205))","v":""},{"$f":"IF(K201=\"\",\"\",K201/COUNTIF('Data Input'!$C$8:$AQ$8,$K$2))","v":""},{"$f":"IF(ISBLANK('Data Input'!A205),\"\",SUM('Data Input'!O205,'Data Input'!P205,'Data Input'!R205,'Data Input'!S205))","v":""},{"$f":"IF(M201=\"\",\"\",M201/COUNTIF('Data Input'!$C$8:$AQ$8,$M$2))","v":""},{"$f":"IF(ISBLANK('Data Input'!A205),\"\",SUM('Data Input'!C205,'Data Input'!E205,'Data Input'!F205,'Data Input'!G205,'Data Input'!Q205,'Data Input'!T205))","v":""},{"$f":"IF(O201=\"\",\"\",O201/COUNTIF('Data Input'!$C$8:$AQ$8,$O$2))","v":""},{"$f":"IF(ISBLANK('Data Input'!A205),\"\",SUM('Data Input'!L205))","v":""},{"$f":"IF(Q201=\"\",\"\",Q201/COUNTIF('Data Input'!$C$8:$AQ$8,$Q$2))","v":""},{"$f":"IF(ISBLANK('Data Input'!A205),\"\",SUM('Data Input'!X205:AQ205))","v":""},{"$f":"IF(S201=\"\",\"\",S201/COUNTIF('Data Input'!$C$8:$AQ$8,$S$2))","v":""}]
[{"$f":"IF('Data Input'!A206=0,\"\",'Data Input'!A206)","v":""},{"$f":"IF(ISBLANK('Data Input'!A206),\"\",COUNTIF('Data Input'!C206:AQ206,\"\")-1)","v":""},{"$f":"IF(ISBLANK('Data Input'!A206),\"\",COUNTIF('Data Input'!C206:AQ206,\"0\"))","v":""},{"$f":"IF(ISBLANK('Data Input'!A206),\"\",SUM(B202,C202))","v":""},{"$f":"IF(ISBLANK('Data Input'!A206),\"\",SUM('Data Input'!C206:AQ206))","v":""},{"$f":"IF(E202=\"\",\"\",E202/(COUNTA('Data Input'!$C$8:$AQ$8)-1))","v":""},{"$f":"IF(ISBLANK('Data Input'!A206),\"\",SUM('Data Input'!H206,'Data Input'!I206,'Data Input'!M206,'Data Input'!N206))","v":""},{"$f":"IF(G202=\"\",\"\",G202/COUNTIF('Data Input'!$C$8:$AQ$8,$G$2))","v":""},{"$f":"IF(ISBLANK('Data Input'!A206),\"\",SUM('Data Input'!J206,'Data Input'!K206,'Data Input'!U206,'Data Input'!V206))","v":""},{"$f":"IF(I202=\"\",\"\",I202/COUNTIF('Data Input'!$C$8:$AQ$8,$I$2))","v":""},{"$f":"IF(ISBLANK('Data Input'!A206),\"\",SUM('Data Input'!D206))","v":""},{"$f":"IF(K202=\"\",\"\",K202/COUNTIF('Data Input'!$C$8:$AQ$8,$K$2))","v":""},{"$f":"IF(ISBLANK('Data Input'!A206),\"\",SUM('Data Input'!O206,'Data Input'!P206,'Data Input'!R206,'Data Input'!S206))","v":""},{"$f":"IF(M202=\"\",\"\",M202/COUNTIF('Data Input'!$C$8:$AQ$8,$M$2))","v":""},{"$f":"IF(ISBLANK('Data Input'!A206),\"\",SUM('Data Input'!C206,'Data Input'!E206,'Data Input'!F206,'Data Input'!G206,'Data Input'!Q206,'Data Input'!T206))","v":""},{"$f":"IF(O202=\"\",\"\",O202/COUNTIF('Data Input'!$C$8:$AQ$8,$O$2))","v":""},{"$f":"IF(ISBLANK('Data Input'!A206),\"\",SUM('Data Input'!L206))","v":""},{"$f":"IF(Q202=\"\",\"\",Q202/COUNTIF('Data Input'!$C$8:$AQ$8,$Q$2))","v":""},{"$f":"IF(ISBLANK('Data Input'!A206),\"\",SUM('Data Input'!X206:AQ206))","v":""},{"$f":"IF(S202=\"\",\"\",S202/COUNTIF('Data Input'!$C$8:$AQ$8,$S$2))","v":""}]
[{"$f":"IF('Data Input'!A207=0,\"\",'Data Input'!A207)","v":""},{"$f":"IF(ISBLANK('Data Input'!A207),\"\",COUNTIF('Data Input'!C207:AQ207,\"\")-1)","v":""},{"$f":"IF(ISBLANK('Data Input'!A207),\"\",COUNTIF('Data Input'!C207:AQ207,\"0\"))","v":""},{"$f":"IF(ISBLANK('Data Input'!A207),\"\",SUM(B203,C203))","v":""},{"$f":"IF(ISBLANK('Data Input'!A207),\"\",SUM('Data Input'!C207:AQ207))","v":""},{"$f":"IF(E203=\"\",\"\",E203/(COUNTA('Data Input'!$C$8:$AQ$8)-1))","v":""},{"$f":"IF(ISBLANK('Data Input'!A207),\"\",SUM('Data Input'!H207,'Data Input'!I207,'Data Input'!M207,'Data Input'!N207))","v":""},{"$f":"IF(G203=\"\",\"\",G203/COUNTIF('Data Input'!$C$8:$AQ$8,$G$2))","v":""},{"$f":"IF(ISBLANK('Data Input'!A207),\"\",SUM('Data Input'!J207,'Data Input'!K207,'Data Input'!U207,'Data Input'!V207))","v":""},{"$f":"IF(I203=\"\",\"\",I203/COUNTIF('Data Input'!$C$8:$AQ$8,$I$2))","v":""},{"$f":"IF(ISBLANK('Data Input'!A207),\"\",SUM('Data Input'!D207))","v":""},{"$f":"IF(K203=\"\",\"\",K203/COUNTIF('Data Input'!$C$8:$AQ$8,$K$2))","v":""},{"$f":"IF(ISBLANK('Data Input'!A207),\"\",SUM('Data Input'!O207,'Data Input'!P207,'Data Input'!R207,'Data Input'!S207))","v":""},{"$f":"IF(M203=\"\",\"\",M203/COUNTIF('Data Input'!$C$8:$AQ$8,$M$2))","v":""},{"$f":"IF(ISBLANK('Data Input'!A207),\"\",SUM('Data Input'!C207,'Data Input'!E207,'Data Input'!F207,'Data Input'!G207,'Data Input'!Q207,'Data Input'!T207))","v":""},{"$f":"IF(O203=\"\",\"\",O203/COUNTIF('Data Input'!$C$8:$AQ$8,$O$2))","v":""},{"$f":"IF(ISBLANK('Data Input'!A207),\"\",SUM('Data Input'!L207))","v":""},{"$f":"IF(Q203=\"\",\"\",Q203/COUNTIF('Data Input'!$C$8:$AQ$8,$Q$2))","v":""},{"$f":"IF(ISBLANK('Data Input'!A207),\"\",SUM('Data Input'!X207:AQ207))","v":""},{"$f":"IF(S203=\"\",\"\",S203/COUNTIF('Data Input'!$C$8:$AQ$8,$S$2))","v":""}]
[{"$f":"IF('Data Input'!A208=0,\"\",'Data Input'!A208)","v":""},{"$f":"IF(ISBLANK('Data Input'!A208),\"\",COUNTIF('Data Input'!C208:AQ208,\"\")-1)","v":""},{"$f":"IF(ISBLANK('Data Input'!A208),\"\",COUNTIF('Data Input'!C208:AQ208,\"0\"))","v":""},{"$f":"IF(ISBLANK('Data Input'!A208),\"\",SUM(B204,C204))","v":""},{"$f":"IF(ISBLANK('Data Input'!A208),\"\",SUM('Data Input'!C208:AQ208))","v":""},{"$f":"IF(E204=\"\",\"\",E204/(COUNTA('Data Input'!$C$8:$AQ$8)-1))","v":""},{"$f":"IF(ISBLANK('Data Input'!A208),\"\",SUM('Data Input'!H208,'Data Input'!I208,'Data Input'!M208,'Data Input'!N208))","v":""},{"$f":"IF(G204=\"\",\"\",G204/COUNTIF('Data Input'!$C$8:$AQ$8,$G$2))","v":""},{"$f":"IF(ISBLANK('Data Input'!A208),\"\",SUM('Data Input'!J208,'Data Input'!K208,'Data Input'!U208,'Data Input'!V208))","v":""},{"$f":"IF(I204=\"\",\"\",I204/COUNTIF('Data Input'!$C$8:$AQ$8,$I$2))","v":""},{"$f":"IF(ISBLANK('Data Input'!A208),\"\",SUM('Data Input'!D208))","v":""},{"$f":"IF(K204=\"\",\"\",K204/COUNTIF('Data Input'!$C$8:$AQ$8,$K$2))","v":""},{"$f":"IF(ISBLANK('Data Input'!A208),\"\",SUM('Data Input'!O208,'Data Input'!P208,'Data Input'!R208,'Data Input'!S208))","v":""},{"$f":"IF(M204=\"\",\"\",M204/COUNTIF('Data Input'!$C$8:$AQ$8,$M$2))","v":""},{"$f":"IF(ISBLANK('Data Input'!A208),\"\",SUM('Data Input'!C208,'Data Input'!E208,'Data Input'!F208,'Data Input'!G208,'Data Input'!Q208,'Data Input'!T208))","v":""},{"$f":"IF(O204=\"\",\"\",O204/COUNTIF('Data Input'!$C$8:$AQ$8,$O$2))","v":""},{"$f":"IF(ISBLANK('Data Input'!A208),\"\",SUM('Data Input'!L208))","v":""},{"$f":"IF(Q204=\"\",\"\",Q204/COUNTIF('Data Input'!$C$8:$AQ$8,$Q$2))","v":""},{"$f":"IF(ISBLANK('Data Input'!A208),\"\",SUM('Data Input'!X208:AQ208))","v":""},{"$f":"IF(S204=\"\",\"\",S204/COUNTIF('Data Input'!$C$8:$AQ$8,$S$2))","v":""}]
[{"$f":"IF('Data Input'!A209=0,\"\",'Data Input'!A209)","v":""},{"$f":"IF(ISBLANK('Data Input'!A209),\"\",COUNTIF('Data Input'!C209:AQ209,\"\")-1)","v":""},{"$f":"IF(ISBLANK('Data Input'!A209),\"\",COUNTIF('Data Input'!C209:AQ209,\"0\"))","v":""},{"$f":"IF(ISBLANK('Data Input'!A209),\"\",SUM(B205,C205))","v":""},{"$f":"IF(ISBLANK('Data Input'!A209),\"\",SUM('Data Input'!C209:AQ209))","v":""},{"$f":"IF(E205=\"\",\"\",E205/(COUNTA('Data Input'!$C$8:$AQ$8)-1))","v":""},{"$f":"IF(ISBLANK('Data Input'!A209),\"\",SUM('Data Input'!H209,'Data Input'!I209,'Data Input'!M209,'Data Input'!N209))","v":""},{"$f":"IF(G205=\"\",\"\",G205/COUNTIF('Data Input'!$C$8:$AQ$8,$G$2))","v":""},{"$f":"IF(ISBLANK('Data Input'!A209),\"\",SUM('Data Input'!J209,'Data Input'!K209,'Data Input'!U209,'Data Input'!V209))","v":""},{"$f":"IF(I205=\"\",\"\",I205/COUNTIF('Data Input'!$C$8:$AQ$8,$I$2))","v":""},{"$f":"IF(ISBLANK('Data Input'!A209),\"\",SUM('Data Input'!D209))","v":""},{"$f":"IF(K205=\"\",\"\",K205/COUNTIF('Data Input'!$C$8:$AQ$8,$K$2))","v":""},{"$f":"IF(ISBLANK('Data Input'!A209),\"\",SUM('Data Input'!O209,'Data Input'!P209,'Data Input'!R209,'Data Input'!S209))","v":""},{"$f":"IF(M205=\"\",\"\",M205/COUNTIF('Data Input'!$C$8:$AQ$8,$M$2))","v":""},{"$f":"IF(ISBLANK('Data Input'!A209),\"\",SUM('Data Input'!C209,'Data Input'!E209,'Data Input'!F209,'Data Input'!G209,'Data Input'!Q209,'Data Input'!T209))","v":""},{"$f":"IF(O205=\"\",\"\",O205/COUNTIF('Data Input'!$C$8:$AQ$8,$O$2))","v":""},{"$f":"IF(ISBLANK('Data Input'!A209),\"\",SUM('Data Input'!L209))","v":""},{"$f":"IF(Q205=\"\",\"\",Q205/COUNTIF('Data Input'!$C$8:$AQ$8,$Q$2))","v":""},{"$f":"IF(ISBLANK('Data Input'!A209),\"\",SUM('Data Input'!X209:AQ209))","v":""},{"$f":"IF(S205=\"\",\"\",S205/COUNTIF('Data Input'!$C$8:$AQ$8,$S$2))","v":""}]
[{"$f":"IF('Data Input'!A210=0,\"\",'Data Input'!A210)","v":""},{"$f":"IF(ISBLANK('Data Input'!A210),\"\",COUNTIF('Data Input'!C210:AQ210,\"\")-1)","v":""},{"$f":"IF(ISBLANK('Data Input'!A210),\"\",COUNTIF('Data Input'!C210:AQ210,\"0\"))","v":""},{"$f":"IF(ISBLANK('Data Input'!A210),\"\",SUM(B206,C206))","v":""},{"$f":"IF(ISBLANK('Data Input'!A210),\"\",SUM('Data Input'!C210:AQ210))","v":""},{"$f":"IF(E206=\"\",\"\",E206/(COUNTA('Data Input'!$C$8:$AQ$8)-1))","v":""},{"$f":"IF(ISBLANK('Data Input'!A210),\"\",SUM('Data Input'!H210,'Data Input'!I210,'Data Input'!M210,'Data Input'!N210))","v":""},{"$f":"IF(G206=\"\",\"\",G206/COUNTIF('Data Input'!$C$8:$AQ$8,$G$2))","v":""},{"$f":"IF(ISBLANK('Data Input'!A210),\"\",SUM('Data Input'!J210,'Data Input'!K210,'Data Input'!U210,'Data Input'!V210))","v":""},{"$f":"IF(I206=\"\",\"\",I206/COUNTIF('Data Input'!$C$8:$AQ$8,$I$2))","v":""},{"$f":"IF(ISBLANK('Data Input'!A210),\"\",SUM('Data Input'!D210))","v":""},{"$f":"IF(K206=\"\",\"\",K206/COUNTIF('Data Input'!$C$8:$AQ$8,$K$2))","v":""},{"$f":"IF(ISBLANK('Data Input'!A210),\"\",SUM('Data Input'!O210,'Data Input'!P210,'Data Input'!R210,'Data Input'!S210))","v":""},{"$f":"IF(M206=\"\",\"\",M206/COUNTIF('Data Input'!$C$8:$AQ$8,$M$2))","v":""},{"$f":"IF(ISBLANK('Data Input'!A210),\"\",SUM('Data Input'!C210,'Data Input'!E210,'Data Input'!F210,'Data Input'!G210,'Data Input'!Q210,'Data Input'!T210))","v":""},{"$f":"IF(O206=\"\",\"\",O206/COUNTIF('Data Input'!$C$8:$AQ$8,$O$2))","v":""},{"$f":"IF(ISBLANK('Data Input'!A210),\"\",SUM('Data Input'!L210))","v":""},{"$f":"IF(Q206=\"\",\"\",Q206/COUNTIF('Data Input'!$C$8:$AQ$8,$Q$2))","v":""},{"$f":"IF(ISBLANK('Data Input'!A210),\"\",SUM('Data Input'!X210:AQ210))","v":""},{"$f":"IF(S206=\"\",\"\",S206/COUNTIF('Data Input'!$C$8:$AQ$8,$S$2))","v":""}]
[{"$f":"IF('Data Input'!A211=0,\"\",'Data Input'!A211)","v":""},{"$f":"IF(ISBLANK('Data Input'!A211),\"\",COUNTIF('Data Input'!C211:AQ211,\"\")-1)","v":""},{"$f":"IF(ISBLANK('Data Input'!A211),\"\",COUNTIF('Data Input'!C211:AQ211,\"0\"))","v":""},{"$f":"IF(ISBLANK('Data Input'!A211),\"\",SUM(B207,C207))","v":""},{"$f":"IF(ISBLANK('Data Input'!A211),\"\",SUM('Data Input'!C211:AQ211))","v":""},{"$f":"IF(E207=\"\",\"\",E207/(COUNTA('Data Input'!$C$8:$AQ$8)-1))","v":""},{"$f":"IF(ISBLANK('Data Input'!A211),\"\",SUM('Data Input'!H211,'Data Input'!I211,'Data Input'!M211,'Data Input'!N211))","v":""},{"$f":"IF(G207=\"\",\"\",G207/COUNTIF('Data Input'!$C$8:$AQ$8,$G$2))","v":""},{"$f":"IF(ISBLANK('Data Input'!A211),\"\",SUM('Data Input'!J211,'Data Input'!K211,'Data Input'!U211,'Data Input'!V211))","v":""},{"$f":"IF(I207=\"\",\"\",I207/COUNTIF('Data Input'!$C$8:$AQ$8,$I$2))","v":""},{"$f":"IF(ISBLANK('Data Input'!A211),\"\",SUM('Data Input'!D211))","v":""},{"$f":"IF(K207=\"\",\"\",K207/COUNTIF('Data Input'!$C$8:$AQ$8,$K$2))","v":""},{"$f":"IF(ISBLANK('Data Input'!A211),\"\",SUM('Data Input'!O211,'Data Input'!P211,'Data Input'!R211,'Data Input'!S211))","v":""},{"$f":"IF(M207=\"\",\"\",M207/COUNTIF('Data Input'!$C$8:$AQ$8,$M$2))","v":""},{"$f":"IF(ISBLANK('Data Input'!A211),\"\",SUM('Data Input'!C211,'Data Input'!E211,'Data Input'!F211,'Data Input'!G211,'Data Input'!Q211,'Data Input'!T211))","v":""},{"$f":"IF(O207=\"\",\"\",O207/COUNTIF('Data Input'!$C$8:$AQ$8,$O$2))","v":""},{"$f":"IF(ISBLANK('Data Input'!A211),\"\",SUM('Data Input'!L211))","v":""},{"$f":"IF(Q207=\"\",\"\",Q207/COUNTIF('Data Input'!$C$8:$AQ$8,$Q$2))","v":""},{"$f":"IF(ISBLANK('Data Input'!A211),\"\",SUM('Data Input'!X211:AQ211))","v":""},{"$f":"IF(S207=\"\",\"\",S207/COUNTIF('Data Input'!$C$8:$AQ$8,$S$2))","v":""}]
[{"$f":"IF('Data Input'!A212=0,\"\",'Data Input'!A212)","v":""},{"$f":"IF(ISBLANK('Data Input'!A212),\"\",COUNTIF('Data Input'!C212:AQ212,\"\")-1)","v":""},{"$f":"IF(ISBLANK('Data Input'!A212),\"\",COUNTIF('Data Input'!C212:AQ212,\"0\"))","v":""},{"$f":"IF(ISBLANK('Data Input'!A212),\"\",SUM(B208,C208))","v":""},{"$f":"IF(ISBLANK('Data Input'!A212),\"\",SUM('Data Input'!C212:AQ212))","v":""},{"$f":"IF(E208=\"\",\"\",E208/(COUNTA('Data Input'!$C$8:$AQ$8)-1))","v":""},{"$f":"IF(ISBLANK('Data Input'!A212),\"\",SUM('Data Input'!H212,'Data Input'!I212,'Data Input'!M212,'Data Input'!N212))","v":""},{"$f":"IF(G208=\"\",\"\",G208/COUNTIF('Data Input'!$C$8:$AQ$8,$G$2))","v":""},{"$f":"IF(ISBLANK('Data Input'!A212),\"\",SUM('Data Input'!J212,'Data Input'!K212,'Data Input'!U212,'Data Input'!V212))","v":""},{"$f":"IF(I208=\"\",\"\",I208/COUNTIF('Data Input'!$C$8:$AQ$8,$I$2))","v":""},{"$f":"IF(ISBLANK('Data Input'!A212),\"\",SUM('Data Input'!D212))","v":""},{"$f":"IF(K208=\"\",\"\",K208/COUNTIF('Data Input'!$C$8:$AQ$8,$K$2))","v":""},{"$f":"IF(ISBLANK('Data Input'!A212),\"\",SUM('Data Input'!O212,'Data Input'!P212,'Data Input'!R212,'Data Input'!S212))","v":""},{"$f":"IF(M208=\"\",\"\",M208/COUNTIF('Data Input'!$C$8:$AQ$8,$M$2))","v":""},{"$f":"IF(ISBLANK('Data Input'!A212),\"\",SUM('Data Input'!C212,'Data Input'!E212,'Data Input'!F212,'Data Input'!G212,'Data Input'!Q212,'Data Input'!T212))","v":""},{"$f":"IF(O208=\"\",\"\",O208/COUNTIF('Data Input'!$C$8:$AQ$8,$O$2))","v":""},{"$f":"IF(ISBLANK('Data Input'!A212),\"\",SUM('Data Input'!L212))","v":""},{"$f":"IF(Q208=\"\",\"\",Q208/COUNTIF('Data Input'!$C$8:$AQ$8,$Q$2))","v":""},{"$f":"IF(ISBLANK('Data Input'!A212),\"\",SUM('Data Input'!X212:AQ212))","v":""},{"$f":"IF(S208=\"\",\"\",S208/COUNTIF('Data Input'!$C$8:$AQ$8,$S$2))","v":""}]
[{"$f":"IF('Data Input'!A213=0,\"\",'Data Input'!A213)","v":""},{"$f":"IF(ISBLANK('Data Input'!A213),\"\",COUNTIF('Data Input'!C213:AQ213,\"\")-1)","v":""},{"$f":"IF(ISBLANK('Data Input'!A213),\"\",COUNTIF('Data Input'!C213:AQ213,\"0\"))","v":""},{"$f":"IF(ISBLANK('Data Input'!A213),\"\",SUM(B209,C209))","v":""},{"$f":"IF(ISBLANK('Data Input'!A213),\"\",SUM('Data Input'!C213:AQ213))","v":""},{"$f":"IF(E209=\"\",\"\",E209/(COUNTA('Data Input'!$C$8:$AQ$8)-1))","v":""},{"$f":"IF(ISBLANK('Data Input'!A213),\"\",SUM('Data Input'!H213,'Data Input'!I213,'Data Input'!M213,'Data Input'!N213))","v":""},{"$f":"IF(G209=\"\",\"\",G209/COUNTIF('Data Input'!$C$8:$AQ$8,$G$2))","v":""},{"$f":"IF(ISBLANK('Data Input'!A213),\"\",SUM('Data Input'!J213,'Data Input'!K213,'Data Input'!U213,'Data Input'!V213))","v":""},{"$f":"IF(I209=\"\",\"\",I209/COUNTIF('Data Input'!$C$8:$AQ$8,$I$2))","v":""},{"$f":"IF(ISBLANK('Data Input'!A213),\"\",SUM('Data Input'!D213))","v":""},{"$f":"IF(K209=\"\",\"\",K209/COUNTIF('Data Input'!$C$8:$AQ$8,$K$2))","v":""},{"$f":"IF(ISBLANK('Data Input'!A213),\"\",SUM('Data Input'!O213,'Data Input'!P213,'Data Input'!R213,'Data Input'!S213))","v":""},{"$f":"IF(M209=\"\",\"\",M209/COUNTIF('Data Input'!$C$8:$AQ$8,$M$2))","v":""},{"$f":"IF(ISBLANK('Data Input'!A213),\"\",SUM('Data Input'!C213,'Data Input'!E213,'Data Input'!F213,'Data Input'!G213,'Data Input'!Q213,'Data Input'!T213))","v":""},{"$f":"IF(O209=\"\",\"\",O209/COUNTIF('Data Input'!$C$8:$AQ$8,$O$2))","v":""},{"$f":"IF(ISBLANK('Data Input'!A213),\"\",SUM('Data Input'!L213))","v":""},{"$f":"IF(Q209=\"\",\"\",Q209/COUNTIF('Data Input'!$C$8:$AQ$8,$Q$2))","v":""},{"$f":"IF(ISBLANK('Data Input'!A213),\"\",SUM('Data Input'!X213:AQ213))","v":""},{"$f":"IF(S209=\"\",\"\",S209/COUNTIF('Data Input'!$C$8:$AQ$8,$S$2))","v":""}]
[{"$f":"IF('Data Input'!A214=0,\"\",'Data Input'!A214)","v":""},{"$f":"IF(ISBLANK('Data Input'!A214),\"\",COUNTIF('Data Input'!C214:AQ214,\"\")-1)","v":""},{"$f":"IF(ISBLANK('Data Input'!A214),\"\",COUNTIF('Data Input'!C214:AQ214,\"0\"))","v":""},{"$f":"IF(ISBLANK('Data Input'!A214),\"\",SUM(B210,C210))","v":""},{"$f":"IF(ISBLANK('Data Input'!A214),\"\",SUM('Data Input'!C214:AQ214))","v":""},{"$f":"IF(E210=\"\",\"\",E210/(COUNTA('Data Input'!$C$8:$AQ$8)-1))","v":""},{"$f":"IF(ISBLANK('Data Input'!A214),\"\",SUM('Data Input'!H214,'Data Input'!I214,'Data Input'!M214,'Data Input'!N214))","v":""},{"$f":"IF(G210=\"\",\"\",G210/COUNTIF('Data Input'!$C$8:$AQ$8,$G$2))","v":""},{"$f":"IF(ISBLANK('Data Input'!A214),\"\",SUM('Data Input'!J214,'Data Input'!K214,'Data Input'!U214,'Data Input'!V214))","v":""},{"$f":"IF(I210=\"\",\"\",I210/COUNTIF('Data Input'!$C$8:$AQ$8,$I$2))","v":""},{"$f":"IF(ISBLANK('Data Input'!A214),\"\",SUM('Data Input'!D214))","v":""},{"$f":"IF(K210=\"\",\"\",K210/COUNTIF('Data Input'!$C$8:$AQ$8,$K$2))","v":""},{"$f":"IF(ISBLANK('Data Input'!A214),\"\",SUM('Data Input'!O214,'Data Input'!P214,'Data Input'!R214,'Data Input'!S214))","v":""},{"$f":"IF(M210=\"\",\"\",M210/COUNTIF('Data Input'!$C$8:$AQ$8,$M$2))","v":""},{"$f":"IF(ISBLANK('Data Input'!A214),\"\",SUM('Data Input'!C214,'Data Input'!E214,'Data Input'!F214,'Data Input'!G214,'Data Input'!Q214,'Data Input'!T214))","v":""},{"$f":"IF(O210=\"\",\"\",O210/COUNTIF('Data Input'!$C$8:$AQ$8,$O$2))","v":""},{"$f":"IF(ISBLANK('Data Input'!A214),\"\",SUM('Data Input'!L214))","v":""},{"$f":"IF(Q210=\"\",\"\",Q210/COUNTIF('Data Input'!$C$8:$AQ$8,$Q$2))","v":""},{"$f":"IF(ISBLANK('Data Input'!A214),\"\",SUM('Data Input'!X214:AQ214))","v":""},{"$f":"IF(S210=\"\",\"\",S210/COUNTIF('Data Input'!$C$8:$AQ$8,$S$2))","v":""}]
[{"$f":"IF('Data Input'!A215=0,\"\",'Data Input'!A215)","v":""},{"$f":"IF(ISBLANK('Data Input'!A215),\"\",COUNTIF('Data Input'!C215:AQ215,\"\")-1)","v":""},{"$f":"IF(ISBLANK('Data Input'!A215),\"\",COUNTIF('Data Input'!C215:AQ215,\"0\"))","v":""},{"$f":"IF(ISBLANK('Data Input'!A215),\"\",SUM(B211,C211))","v":""},{"$f":"IF(ISBLANK('Data Input'!A215),\"\",SUM('Data Input'!C215:AQ215))","v":""},{"$f":"IF(E211=\"\",\"\",E211/(COUNTA('Data Input'!$C$8:$AQ$8)-1))","v":""},{"$f":"IF(ISBLANK('Data Input'!A215),\"\",SUM('Data Input'!H215,'Data Input'!I215,'Data Input'!M215,'Data Input'!N215))","v":""},{"$f":"IF(G211=\"\",\"\",G211/COUNTIF('Data Input'!$C$8:$AQ$8,$G$2))","v":""},{"$f":"IF(ISBLANK('Data Input'!A215),\"\",SUM('Data Input'!J215,'Data Input'!K215,'Data Input'!U215,'Data Input'!V215))","v":""},{"$f":"IF(I211=\"\",\"\",I211/COUNTIF('Data Input'!$C$8:$AQ$8,$I$2))","v":""},{"$f":"IF(ISBLANK('Data Input'!A215),\"\",SUM('Data Input'!D215))","v":""},{"$f":"IF(K211=\"\",\"\",K211/COUNTIF('Data Input'!$C$8:$AQ$8,$K$2))","v":""},{"$f":"IF(ISBLANK('Data Input'!A215),\"\",SUM('Data Input'!O215,'Data Input'!P215,'Data Input'!R215,'Data Input'!S215))","v":""},{"$f":"IF(M211=\"\",\"\",M211/COUNTIF('Data Input'!$C$8:$AQ$8,$M$2))","v":""},{"$f":"IF(ISBLANK('Data Input'!A215),\"\",SUM('Data Input'!C215,'Data Input'!E215,'Data Input'!F215,'Data Input'!G215,'Data Input'!Q215,'Data Input'!T215))","v":""},{"$f":"IF(O211=\"\",\"\",O211/COUNTIF('Data Input'!$C$8:$AQ$8,$O$2))","v":""},{"$f":"IF(ISBLANK('Data Input'!A215),\"\",SUM('Data Input'!L215))","v":""},{"$f":"IF(Q211=\"\",\"\",Q211/COUNTIF('Data Input'!$C$8:$AQ$8,$Q$2))","v":""},{"$f":"IF(ISBLANK('Data Input'!A215),\"\",SUM('Data Input'!X215:AQ215))","v":""},{"$f":"IF(S211=\"\",\"\",S211/COUNTIF('Data Input'!$C$8:$AQ$8,$S$2))","v":""}]
[{"$f":"IF('Data Input'!A216=0,\"\",'Data Input'!A216)","v":""},{"$f":"IF(ISBLANK('Data Input'!A216),\"\",COUNTIF('Data Input'!C216:AQ216,\"\")-1)","v":""},{"$f":"IF(ISBLANK('Data Input'!A216),\"\",COUNTIF('Data Input'!C216:AQ216,\"0\"))","v":""},{"$f":"IF(ISBLANK('Data Input'!A216),\"\",SUM(B212,C212))","v":""},{"$f":"IF(ISBLANK('Data Input'!A216),\"\",SUM('Data Input'!C216:AQ216))","v":""},{"$f":"IF(E212=\"\",\"\",E212/(COUNTA('Data Input'!$C$8:$AQ$8)-1))","v":""},{"$f":"IF(ISBLANK('Data Input'!A216),\"\",SUM('Data Input'!H216,'Data Input'!I216,'Data Input'!M216,'Data Input'!N216))","v":""},{"$f":"IF(G212=\"\",\"\",G212/COUNTIF('Data Input'!$C$8:$AQ$8,$G$2))","v":""},{"$f":"IF(ISBLANK('Data Input'!A216),\"\",SUM('Data Input'!J216,'Data Input'!K216,'Data Input'!U216,'Data Input'!V216))","v":""},{"$f":"IF(I212=\"\",\"\",I212/COUNTIF('Data Input'!$C$8:$AQ$8,$I$2))","v":""},{"$f":"IF(ISBLANK('Data Input'!A216),\"\",SUM('Data Input'!D216))","v":""},{"$f":"IF(K212=\"\",\"\",K212/COUNTIF('Data Input'!$C$8:$AQ$8,$K$2))","v":""},{"$f":"IF(ISBLANK('Data Input'!A216),\"\",SUM('Data Input'!O216,'Data Input'!P216,'Data Input'!R216,'Data Input'!S216))","v":""},{"$f":"IF(M212=\"\",\"\",M212/COUNTIF('Data Input'!$C$8:$AQ$8,$M$2))","v":""},{"$f":"IF(ISBLANK('Data Input'!A216),\"\",SUM('Data Input'!C216,'Data Input'!E216,'Data Input'!F216,'Data Input'!G216,'Data Input'!Q216,'Data Input'!T216))","v":""},{"$f":"IF(O212=\"\",\"\",O212/COUNTIF('Data Input'!$C$8:$AQ$8,$O$2))","v":""},{"$f":"IF(ISBLANK('Data Input'!A216),\"\",SUM('Data Input'!L216))","v":""},{"$f":"IF(Q212=\"\",\"\",Q212/COUNTIF('Data Input'!$C$8:$AQ$8,$Q$2))","v":""},{"$f":"IF(ISBLANK('Data Input'!A216),\"\",SUM('Data Input'!X216:AQ216))","v":""},{"$f":"IF(S212=\"\",\"\",S212/COUNTIF('Data Input'!$C$8:$AQ$8,$S$2))","v":""}]
[{"$f":"IF('Data Input'!A217=0,\"\",'Data Input'!A217)","v":""},{"$f":"IF(ISBLANK('Data Input'!A217),\"\",COUNTIF('Data Input'!C217:AQ217,\"\")-1)","v":""},{"$f":"IF(ISBLANK('Data Input'!A217),\"\",COUNTIF('Data Input'!C217:AQ217,\"0\"))","v":""},{"$f":"IF(ISBLANK('Data Input'!A217),\"\",SUM(B213,C213))","v":""},{"$f":"IF(ISBLANK('Data Input'!A217),\"\",SUM('Data Input'!C217:AQ217))","v":""},{"$f":"IF(E213=\"\",\"\",E213/(COUNTA('Data Input'!$C$8:$AQ$8)-1))","v":""},{"$f":"IF(ISBLANK('Data Input'!A217),\"\",SUM('Data Input'!H217,'Data Input'!I217,'Data Input'!M217,'Data Input'!N217))","v":""},{"$f":"IF(G213=\"\",\"\",G213/COUNTIF('Data Input'!$C$8:$AQ$8,$G$2))","v":""},{"$f":"IF(ISBLANK('Data Input'!A217),\"\",SUM('Data Input'!J217,'Data Input'!K217,'Data Input'!U217,'Data Input'!V217))","v":""},{"$f":"IF(I213=\"\",\"\",I213/COUNTIF('Data Input'!$C$8:$AQ$8,$I$2))","v":""},{"$f":"IF(ISBLANK('Data Input'!A217),\"\",SUM('Data Input'!D217))","v":""},{"$f":"IF(K213=\"\",\"\",K213/COUNTIF('Data Input'!$C$8:$AQ$8,$K$2))","v":""},{"$f":"IF(ISBLANK('Data Input'!A217),\"\",SUM('Data Input'!O217,'Data Input'!P217,'Data Input'!R217,'Data Input'!S217))","v":""},{"$f":"IF(M213=\"\",\"\",M213/COUNTIF('Data Input'!$C$8:$AQ$8,$M$2))","v":""},{"$f":"IF(ISBLANK('Data Input'!A217),\"\",SUM('Data Input'!C217,'Data Input'!E217,'Data Input'!F217,'Data Input'!G217,'Data Input'!Q217,'Data Input'!T217))","v":""},{"$f":"IF(O213=\"\",\"\",O213/COUNTIF('Data Input'!$C$8:$AQ$8,$O$2))","v":""},{"$f":"IF(ISBLANK('Data Input'!A217),\"\",SUM('Data Input'!L217))","v":""},{"$f":"IF(Q213=\"\",\"\",Q213/COUNTIF('Data Input'!$C$8:$AQ$8,$Q$2))","v":""},{"$f":"IF(ISBLANK('Data Input'!A217),\"\",SUM('Data Input'!X217:AQ217))","v":""},{"$f":"IF(S213=\"\",\"\",S213/COUNTIF('Data Input'!$C$8:$AQ$8,$S$2))","v":""}]
[{"$f":"IF('Data Input'!A218=0,\"\",'Data Input'!A218)","v":""},{"$f":"IF(ISBLANK('Data Input'!A218),\"\",COUNTIF('Data Input'!C218:AQ218,\"\")-1)","v":""},{"$f":"IF(ISBLANK('Data Input'!A218),\"\",COUNTIF('Data Input'!C218:AQ218,\"0\"))","v":""},{"$f":"IF(ISBLANK('Data Input'!A218),\"\",SUM(B214,C214))","v":""},{"$f":"IF(ISBLANK('Data Input'!A218),\"\",SUM('Data Input'!C218:AQ218))","v":""},{"$f":"IF(E214=\"\",\"\",E214/(COUNTA('Data Input'!$C$8:$AQ$8)-1))","v":""},{"$f":"IF(ISBLANK('Data Input'!A218),\"\",SUM('Data Input'!H218,'Data Input'!I218,'Data Input'!M218,'Data Input'!N218))","v":""},{"$f":"IF(G214=\"\",\"\",G214/COUNTIF('Data Input'!$C$8:$AQ$8,$G$2))","v":""},{"$f":"IF(ISBLANK('Data Input'!A218),\"\",SUM('Data Input'!J218,'Data Input'!K218,'Data Input'!U218,'Data Input'!V218))","v":""},{"$f":"IF(I214=\"\",\"\",I214/COUNTIF('Data Input'!$C$8:$AQ$8,$I$2))","v":""},{"$f":"IF(ISBLANK('Data Input'!A218),\"\",SUM('Data Input'!D218))","v":""},{"$f":"IF(K214=\"\",\"\",K214/COUNTIF('Data Input'!$C$8:$AQ$8,$K$2))","v":""},{"$f":"IF(ISBLANK('Data Input'!A218),\"\",SUM('Data Input'!O218,'Data Input'!P218,'Data Input'!R218,'Data Input'!S218))","v":""},{"$f":"IF(M214=\"\",\"\",M214/COUNTIF('Data Input'!$C$8:$AQ$8,$M$2))","v":""},{"$f":"IF(ISBLANK('Data Input'!A218),\"\",SUM('Data Input'!C218,'Data Input'!E218,'Data Input'!F218,'Data Input'!G218,'Data Input'!Q218,'Data Input'!T218))","v":""},{"$f":"IF(O214=\"\",\"\",O214/COUNTIF('Data Input'!$C$8:$AQ$8,$O$2))","v":""},{"$f":"IF(ISBLANK('Data Input'!A218),\"\",SUM('Data Input'!L218))","v":""},{"$f":"IF(Q214=\"\",\"\",Q214/COUNTIF('Data Input'!$C$8:$AQ$8,$Q$2))","v":""},{"$f":"IF(ISBLANK('Data Input'!A218),\"\",SUM('Data Input'!X218:AQ218))","v":""},{"$f":"IF(S214=\"\",\"\",S214/COUNTIF('Data Input'!$C$8:$AQ$8,$S$2))","v":""}]
[{"$f":"IF('Data Input'!A219=0,\"\",'Data Input'!A219)","v":""},{"$f":"IF(ISBLANK('Data Input'!A219),\"\",COUNTIF('Data Input'!C219:AQ219,\"\")-1)","v":""},{"$f":"IF(ISBLANK('Data Input'!A219),\"\",COUNTIF('Data Input'!C219:AQ219,\"0\"))","v":""},{"$f":"IF(ISBLANK('Data Input'!A219),\"\",SUM(B215,C215))","v":""},{"$f":"IF(ISBLANK('Data Input'!A219),\"\",SUM('Data Input'!C219:AQ219))","v":""},{"$f":"IF(E215=\"\",\"\",E215/(COUNTA('Data Input'!$C$8:$AQ$8)-1))","v":""},{"$f":"IF(ISBLANK('Data Input'!A219),\"\",SUM('Data Input'!H219,'Data Input'!I219,'Data Input'!M219,'Data Input'!N219))","v":""},{"$f":"IF(G215=\"\",\"\",G215/COUNTIF('Data Input'!$C$8:$AQ$8,$G$2))","v":""},{"$f":"IF(ISBLANK('Data Input'!A219),\"\",SUM('Data Input'!J219,'Data Input'!K219,'Data Input'!U219,'Data Input'!V219))","v":""},{"$f":"IF(I215=\"\",\"\",I215/COUNTIF('Data Input'!$C$8:$AQ$8,$I$2))","v":""},{"$f":"IF(ISBLANK('Data Input'!A219),\"\",SUM('Data Input'!D219))","v":""},{"$f":"IF(K215=\"\",\"\",K215/COUNTIF('Data Input'!$C$8:$AQ$8,$K$2))","v":""},{"$f":"IF(ISBLANK('Data Input'!A219),\"\",SUM('Data Input'!O219,'Data Input'!P219,'Data Input'!R219,'Data Input'!S219))","v":""},{"$f":"IF(M215=\"\",\"\",M215/COUNTIF('Data Input'!$C$8:$AQ$8,$M$2))","v":""},{"$f":"IF(ISBLANK('Data Input'!A219),\"\",SUM('Data Input'!C219,'Data Input'!E219,'Data Input'!F219,'Data Input'!G219,'Data Input'!Q219,'Data Input'!T219))","v":""},{"$f":"IF(O215=\"\",\"\",O215/COUNTIF('Data Input'!$C$8:$AQ$8,$O$2))","v":""},{"$f":"IF(ISBLANK('Data Input'!A219),\"\",SUM('Data Input'!L219))","v":""},{"$f":"IF(Q215=\"\",\"\",Q215/COUNTIF('Data Input'!$C$8:$AQ$8,$Q$2))","v":""},{"$f":"IF(ISBLANK('Data Input'!A219),\"\",SUM('Data Input'!X219:AQ219))","v":""},{"$f":"IF(S215=\"\",\"\",S215/COUNTIF('Data Input'!$C$8:$AQ$8,$S$2))","v":""}]
[{"$f":"IF('Data Input'!A220=0,\"\",'Data Input'!A220)","v":""},{"$f":"IF(ISBLANK('Data Input'!A220),\"\",COUNTIF('Data Input'!C220:AQ220,\"\")-1)","v":""},{"$f":"IF(ISBLANK('Data Input'!A220),\"\",COUNTIF('Data Input'!C220:AQ220,\"0\"))","v":""},{"$f":"IF(ISBLANK('Data Input'!A220),\"\",SUM(B216,C216))","v":""},{"$f":"IF(ISBLANK('Data Input'!A220),\"\",SUM('Data Input'!C220:AQ220))","v":""},{"$f":"IF(E216=\"\",\"\",E216/(COUNTA('Data Input'!$C$8:$AQ$8)-1))","v":""},{"$f":"IF(ISBLANK('Data Input'!A220),\"\",SUM('Data Input'!H220,'Data Input'!I220,'Data Input'!M220,'Data Input'!N220))","v":""},{"$f":"IF(G216=\"\",\"\",G216/COUNTIF('Data Input'!$C$8:$AQ$8,$G$2))","v":""},{"$f":"IF(ISBLANK('Data Input'!A220),\"\",SUM('Data Input'!J220,'Data Input'!K220,'Data Input'!U220,'Data Input'!V220))","v":""},{"$f":"IF(I216=\"\",\"\",I216/COUNTIF('Data Input'!$C$8:$AQ$8,$I$2))","v":""},{"$f":"IF(ISBLANK('Data Input'!A220),\"\",SUM('Data Input'!D220))","v":""},{"$f":"IF(K216=\"\",\"\",K216/COUNTIF('Data Input'!$C$8:$AQ$8,$K$2))","v":""},{"$f":"IF(ISBLANK('Data Input'!A220),\"\",SUM('Data Input'!O220,'Data Input'!P220,'Data Input'!R220,'Data Input'!S220))","v":""},{"$f":"IF(M216=\"\",\"\",M216/COUNTIF('Data Input'!$C$8:$AQ$8,$M$2))","v":""},{"$f":"IF(ISBLANK('Data Input'!A220),\"\",SUM('Data Input'!C220,'Data Input'!E220,'Data Input'!F220,'Data Input'!G220,'Data Input'!Q220,'Data Input'!T220))","v":""},{"$f":"IF(O216=\"\",\"\",O216/COUNTIF('Data Input'!$C$8:$AQ$8,$O$2))","v":""},{"$f":"IF(ISBLANK('Data Input'!A220),\"\",SUM('Data Input'!L220))","v":""},{"$f":"IF(Q216=\"\",\"\",Q216/COUNTIF('Data Input'!$C$8:$AQ$8,$Q$2))","v":""},{"$f":"IF(ISBLANK('Data Input'!A220),\"\",SUM('Data Input'!X220:AQ220))","v":""},{"$f":"IF(S216=\"\",\"\",S216/COUNTIF('Data Input'!$C$8:$AQ$8,$S$2))","v":""}]
[{"$f":"IF('Data Input'!A221=0,\"\",'Data Input'!A221)","v":""},{"$f":"IF(ISBLANK('Data Input'!A221),\"\",COUNTIF('Data Input'!C221:AQ221,\"\")-1)","v":""},{"$f":"IF(ISBLANK('Data Input'!A221),\"\",COUNTIF('Data Input'!C221:AQ221,\"0\"))","v":""},{"$f":"IF(ISBLANK('Data Input'!A221),\"\",SUM(B217,C217))","v":""},{"$f":"IF(ISBLANK('Data Input'!A221),\"\",SUM('Data Input'!C221:AQ221))","v":""},{"$f":"IF(E217=\"\",\"\",E217/(COUNTA('Data Input'!$C$8:$AQ$8)-1))","v":""},{"$f":"IF(ISBLANK('Data Input'!A221),\"\",SUM('Data Input'!H221,'Data Input'!I221,'Data Input'!M221,'Data Input'!N221))","v":""},{"$f":"IF(G217=\"\",\"\",G217/COUNTIF('Data Input'!$C$8:$AQ$8,$G$2))","v":""},{"$f":"IF(ISBLANK('Data Input'!A221),\"\",SUM('Data Input'!J221,'Data Input'!K221,'Data Input'!U221,'Data Input'!V221))","v":""},{"$f":"IF(I217=\"\",\"\",I217/COUNTIF('Data Input'!$C$8:$AQ$8,$I$2))","v":""},{"$f":"IF(ISBLANK('Data Input'!A221),\"\",SUM('Data Input'!D221))","v":""},{"$f":"IF(K217=\"\",\"\",K217/COUNTIF('Data Input'!$C$8:$AQ$8,$K$2))","v":""},{"$f":"IF(ISBLANK('Data Input'!A221),\"\",SUM('Data Input'!O221,'Data Input'!P221,'Data Input'!R221,'Data Input'!S221))","v":""},{"$f":"IF(M217=\"\",\"\",M217/COUNTIF('Data Input'!$C$8:$AQ$8,$M$2))","v":""},{"$f":"IF(ISBLANK('Data Input'!A221),\"\",SUM('Data Input'!C221,'Data Input'!E221,'Data Input'!F221,'Data Input'!G221,'Data Input'!Q221,'Data Input'!T221))","v":""},{"$f":"IF(O217=\"\",\"\",O217/COUNTIF('Data Input'!$C$8:$AQ$8,$O$2))","v":""},{"$f":"IF(ISBLANK('Data Input'!A221),\"\",SUM('Data Input'!L221))","v":""},{"$f":"IF(Q217=\"\",\"\",Q217/COUNTIF('Data Input'!$C$8:$AQ$8,$Q$2))","v":""},{"$f":"IF(ISBLANK('Data Input'!A221),\"\",SUM('Data Input'!X221:AQ221))","v":""},{"$f":"IF(S217=\"\",\"\",S217/COUNTIF('Data Input'!$C$8:$AQ$8,$S$2))","v":""}]
[{"$f":"IF('Data Input'!A222=0,\"\",'Data Input'!A222)","v":""},{"$f":"IF(ISBLANK('Data Input'!A222),\"\",COUNTIF('Data Input'!C222:AQ222,\"\")-1)","v":""},{"$f":"IF(ISBLANK('Data Input'!A222),\"\",COUNTIF('Data Input'!C222:AQ222,\"0\"))","v":""},{"$f":"IF(ISBLANK('Data Input'!A222),\"\",SUM(B218,C218))","v":""},{"$f":"IF(ISBLANK('Data Input'!A222),\"\",SUM('Data Input'!C222:AQ222))","v":""},{"$f":"IF(E218=\"\",\"\",E218/(COUNTA('Data Input'!$C$8:$AQ$8)-1))","v":""},{"$f":"IF(ISBLANK('Data Input'!A222),\"\",SUM('Data Input'!H222,'Data Input'!I222,'Data Input'!M222,'Data Input'!N222))","v":""},{"$f":"IF(G218=\"\",\"\",G218/COUNTIF('Data Input'!$C$8:$AQ$8,$G$2))","v":""},{"$f":"IF(ISBLANK('Data Input'!A222),\"\",SUM('Data Input'!J222,'Data Input'!K222,'Data Input'!U222,'Data Input'!V222))","v":""},{"$f":"IF(I218=\"\",\"\",I218/COUNTIF('Data Input'!$C$8:$AQ$8,$I$2))","v":""},{"$f":"IF(ISBLANK('Data Input'!A222),\"\",SUM('Data Input'!D222))","v":""},{"$f":"IF(K218=\"\",\"\",K218/COUNTIF('Data Input'!$C$8:$AQ$8,$K$2))","v":""},{"$f":"IF(ISBLANK('Data Input'!A222),\"\",SUM('Data Input'!O222,'Data Input'!P222,'Data Input'!R222,'Data Input'!S222))","v":""},{"$f":"IF(M218=\"\",\"\",M218/COUNTIF('Data Input'!$C$8:$AQ$8,$M$2))","v":""},{"$f":"IF(ISBLANK('Data Input'!A222),\"\",SUM('Data Input'!C222,'Data Input'!E222,'Data Input'!F222,'Data Input'!G222,'Data Input'!Q222,'Data Input'!T222))","v":""},{"$f":"IF(O218=\"\",\"\",O218/COUNTIF('Data Input'!$C$8:$AQ$8,$O$2))","v":""},{"$f":"IF(ISBLANK('Data Input'!A222),\"\",SUM('Data Input'!L222))","v":""},{"$f":"IF(Q218=\"\",\"\",Q218/COUNTIF('Data Input'!$C$8:$AQ$8,$Q$2))","v":""},{"$f":"IF(ISBLANK('Data Input'!A222),\"\",SUM('Data Input'!X222:AQ222))","v":""},{"$f":"IF(S218=\"\",\"\",S218/COUNTIF('Data Input'!$C$8:$AQ$8,$S$2))","v":""}]
[{"$f":"IF('Data Input'!A223=0,\"\",'Data Input'!A223)","v":""},{"$f":"IF(ISBLANK('Data Input'!A223),\"\",COUNTIF('Data Input'!C223:AQ223,\"\")-1)","v":""},{"$f":"IF(ISBLANK('Data Input'!A223),\"\",COUNTIF('Data Input'!C223:AQ223,\"0\"))","v":""},{"$f":"IF(ISBLANK('Data Input'!A223),\"\",SUM(B219,C219))","v":""},{"$f":"IF(ISBLANK('Data Input'!A223),\"\",SUM('Data Input'!C223:AQ223))","v":""},{"$f":"IF(E219=\"\",\"\",E219/(COUNTA('Data Input'!$C$8:$AQ$8)-1))","v":""},{"$f":"IF(ISBLANK('Data Input'!A223),\"\",SUM('Data Input'!H223,'Data Input'!I223,'Data Input'!M223,'Data Input'!N223))","v":""},{"$f":"IF(G219=\"\",\"\",G219/COUNTIF('Data Input'!$C$8:$AQ$8,$G$2))","v":""},{"$f":"IF(ISBLANK('Data Input'!A223),\"\",SUM('Data Input'!J223,'Data Input'!K223,'Data Input'!U223,'Data Input'!V223))","v":""},{"$f":"IF(I219=\"\",\"\",I219/COUNTIF('Data Input'!$C$8:$AQ$8,$I$2))","v":""},{"$f":"IF(ISBLANK('Data Input'!A223),\"\",SUM('Data Input'!D223))","v":""},{"$f":"IF(K219=\"\",\"\",K219/COUNTIF('Data Input'!$C$8:$AQ$8,$K$2))","v":""},{"$f":"IF(ISBLANK('Data Input'!A223),\"\",SUM('Data Input'!O223,'Data Input'!P223,'Data Input'!R223,'Data Input'!S223))","v":""},{"$f":"IF(M219=\"\",\"\",M219/COUNTIF('Data Input'!$C$8:$AQ$8,$M$2))","v":""},{"$f":"IF(ISBLANK('Data Input'!A223),\"\",SUM('Data Input'!C223,'Data Input'!E223,'Data Input'!F223,'Data Input'!G223,'Data Input'!Q223,'Data Input'!T223))","v":""},{"$f":"IF(O219=\"\",\"\",O219/COUNTIF('Data Input'!$C$8:$AQ$8,$O$2))","v":""},{"$f":"IF(ISBLANK('Data Input'!A223),\"\",SUM('Data Input'!L223))","v":""},{"$f":"IF(Q219=\"\",\"\",Q219/COUNTIF('Data Input'!$C$8:$AQ$8,$Q$2))","v":""},{"$f":"IF(ISBLANK('Data Input'!A223),\"\",SUM('Data Input'!X223:AQ223))","v":""},{"$f":"IF(S219=\"\",\"\",S219/COUNTIF('Data Input'!$C$8:$AQ$8,$S$2))","v":""}]
[{"$f":"IF('Data Input'!A224=0,\"\",'Data Input'!A224)","v":""},{"$f":"IF(ISBLANK('Data Input'!A224),\"\",COUNTIF('Data Input'!C224:AQ224,\"\")-1)","v":""},{"$f":"IF(ISBLANK('Data Input'!A224),\"\",COUNTIF('Data Input'!C224:AQ224,\"0\"))","v":""},{"$f":"IF(ISBLANK('Data Input'!A224),\"\",SUM(B220,C220))","v":""},{"$f":"IF(ISBLANK('Data Input'!A224),\"\",SUM('Data Input'!C224:AQ224))","v":""},{"$f":"IF(E220=\"\",\"\",E220/(COUNTA('Data Input'!$C$8:$AQ$8)-1))","v":""},{"$f":"IF(ISBLANK('Data Input'!A224),\"\",SUM('Data Input'!H224,'Data Input'!I224,'Data Input'!M224,'Data Input'!N224))","v":""},{"$f":"IF(G220=\"\",\"\",G220/COUNTIF('Data Input'!$C$8:$AQ$8,$G$2))","v":""},{"$f":"IF(ISBLANK('Data Input'!A224),\"\",SUM('Data Input'!J224,'Data Input'!K224,'Data Input'!U224,'Data Input'!V224))","v":""},{"$f":"IF(I220=\"\",\"\",I220/COUNTIF('Data Input'!$C$8:$AQ$8,$I$2))","v":""},{"$f":"IF(ISBLANK('Data Input'!A224),\"\",SUM('Data Input'!D224))","v":""},{"$f":"IF(K220=\"\",\"\",K220/COUNTIF('Data Input'!$C$8:$AQ$8,$K$2))","v":""},{"$f":"IF(ISBLANK('Data Input'!A224),\"\",SUM('Data Input'!O224,'Data Input'!P224,'Data Input'!R224,'Data Input'!S224))","v":""},{"$f":"IF(M220=\"\",\"\",M220/COUNTIF('Data Input'!$C$8:$AQ$8,$M$2))","v":""},{"$f":"IF(ISBLANK('Data Input'!A224),\"\",SUM('Data Input'!C224,'Data Input'!E224,'Data Input'!F224,'Data Input'!G224,'Data Input'!Q224,'Data Input'!T224))","v":""},{"$f":"IF(O220=\"\",\"\",O220/COUNTIF('Data Input'!$C$8:$AQ$8,$O$2))","v":""},{"$f":"IF(ISBLANK('Data Input'!A224),\"\",SUM('Data Input'!L224))","v":""},{"$f":"IF(Q220=\"\",\"\",Q220/COUNTIF('Data Input'!$C$8:$AQ$8,$Q$2))","v":""},{"$f":"IF(ISBLANK('Data Input'!A224),\"\",SUM('Data Input'!X224:AQ224))","v":""},{"$f":"IF(S220=\"\",\"\",S220/COUNTIF('Data Input'!$C$8:$AQ$8,$S$2))","v":""}]
[{"$f":"IF('Data Input'!A225=0,\"\",'Data Input'!A225)","v":""},{"$f":"IF(ISBLANK('Data Input'!A225),\"\",COUNTIF('Data Input'!C225:AQ225,\"\")-1)","v":""},{"$f":"IF(ISBLANK('Data Input'!A225),\"\",COUNTIF('Data Input'!C225:AQ225,\"0\"))","v":""},{"$f":"IF(ISBLANK('Data Input'!A225),\"\",SUM(B221,C221))","v":""},{"$f":"IF(ISBLANK('Data Input'!A225),\"\",SUM('Data Input'!C225:AQ225))","v":""},{"$f":"IF(E221=\"\",\"\",E221/(COUNTA('Data Input'!$C$8:$AQ$8)-1))","v":""},{"$f":"IF(ISBLANK('Data Input'!A225),\"\",SUM('Data Input'!H225,'Data Input'!I225,'Data Input'!M225,'Data Input'!N225))","v":""},{"$f":"IF(G221=\"\",\"\",G221/COUNTIF('Data Input'!$C$8:$AQ$8,$G$2))","v":""},{"$f":"IF(ISBLANK('Data Input'!A225),\"\",SUM('Data Input'!J225,'Data Input'!K225,'Data Input'!U225,'Data Input'!V225))","v":""},{"$f":"IF(I221=\"\",\"\",I221/COUNTIF('Data Input'!$C$8:$AQ$8,$I$2))","v":""},{"$f":"IF(ISBLANK('Data Input'!A225),\"\",SUM('Data Input'!D225))","v":""},{"$f":"IF(K221=\"\",\"\",K221/COUNTIF('Data Input'!$C$8:$AQ$8,$K$2))","v":""},{"$f":"IF(ISBLANK('Data Input'!A225),\"\",SUM('Data Input'!O225,'Data Input'!P225,'Data Input'!R225,'Data Input'!S225))","v":""},{"$f":"IF(M221=\"\",\"\",M221/COUNTIF('Data Input'!$C$8:$AQ$8,$M$2))","v":""},{"$f":"IF(ISBLANK('Data Input'!A225),\"\",SUM('Data Input'!C225,'Data Input'!E225,'Data Input'!F225,'Data Input'!G225,'Data Input'!Q225,'Data Input'!T225))","v":""},{"$f":"IF(O221=\"\",\"\",O221/COUNTIF('Data Input'!$C$8:$AQ$8,$O$2))","v":""},{"$f":"IF(ISBLANK('Data Input'!A225),\"\",SUM('Data Input'!L225))","v":""},{"$f":"IF(Q221=\"\",\"\",Q221/COUNTIF('Data Input'!$C$8:$AQ$8,$Q$2))","v":""},{"$f":"IF(ISBLANK('Data Input'!A225),\"\",SUM('Data Input'!X225:AQ225))","v":""},{"$f":"IF(S221=\"\",\"\",S221/COUNTIF('Data Input'!$C$8:$AQ$8,$S$2))","v":""}]
[{"$f":"IF('Data Input'!A226=0,\"\",'Data Input'!A226)","v":""},{"$f":"IF(ISBLANK('Data Input'!A226),\"\",COUNTIF('Data Input'!C226:AQ226,\"\")-1)","v":""},{"$f":"IF(ISBLANK('Data Input'!A226),\"\",COUNTIF('Data Input'!C226:AQ226,\"0\"))","v":""},{"$f":"IF(ISBLANK('Data Input'!A226),\"\",SUM(B222,C222))","v":""},{"$f":"IF(ISBLANK('Data Input'!A226),\"\",SUM('Data Input'!C226:AQ226))","v":""},{"$f":"IF(E222=\"\",\"\",E222/(COUNTA('Data Input'!$C$8:$AQ$8)-1))","v":""},{"$f":"IF(ISBLANK('Data Input'!A226),\"\",SUM('Data Input'!H226,'Data Input'!I226,'Data Input'!M226,'Data Input'!N226))","v":""},{"$f":"IF(G222=\"\",\"\",G222/COUNTIF('Data Input'!$C$8:$AQ$8,$G$2))","v":""},{"$f":"IF(ISBLANK('Data Input'!A226),\"\",SUM('Data Input'!J226,'Data Input'!K226,'Data Input'!U226,'Data Input'!V226))","v":""},{"$f":"IF(I222=\"\",\"\",I222/COUNTIF('Data Input'!$C$8:$AQ$8,$I$2))","v":""},{"$f":"IF(ISBLANK('Data Input'!A226),\"\",SUM('Data Input'!D226))","v":""},{"$f":"IF(K222=\"\",\"\",K222/COUNTIF('Data Input'!$C$8:$AQ$8,$K$2))","v":""},{"$f":"IF(ISBLANK('Data Input'!A226),\"\",SUM('Data Input'!O226,'Data Input'!P226,'Data Input'!R226,'Data Input'!S226))","v":""},{"$f":"IF(M222=\"\",\"\",M222/COUNTIF('Data Input'!$C$8:$AQ$8,$M$2))","v":""},{"$f":"IF(ISBLANK('Data Input'!A226),\"\",SUM('Data Input'!C226,'Data Input'!E226,'Data Input'!F226,'Data Input'!G226,'Data Input'!Q226,'Data Input'!T226))","v":""},{"$f":"IF(O222=\"\",\"\",O222/COUNTIF('Data Input'!$C$8:$AQ$8,$O$2))","v":""},{"$f":"IF(ISBLANK('Data Input'!A226),\"\",SUM('Data Input'!L226))","v":""},{"$f":"IF(Q222=\"\",\"\",Q222/COUNTIF('Data Input'!$C$8:$AQ$8,$Q$2))","v":""},{"$f":"IF(ISBLANK('Data Input'!A226),\"\",SUM('Data Input'!X226:AQ226))","v":""},{"$f":"IF(S222=\"\",\"\",S222/COUNTIF('Data Input'!$C$8:$AQ$8,$S$2))","v":""}]
[{"$f":"IF('Data Input'!A227=0,\"\",'Data Input'!A227)","v":""},{"$f":"IF(ISBLANK('Data Input'!A227),\"\",COUNTIF('Data Input'!C227:AQ227,\"\")-1)","v":""},{"$f":"IF(ISBLANK('Data Input'!A227),\"\",COUNTIF('Data Input'!C227:AQ227,\"0\"))","v":""},{"$f":"IF(ISBLANK('Data Input'!A227),\"\",SUM(B223,C223))","v":""},{"$f":"IF(ISBLANK('Data Input'!A227),\"\",SUM('Data Input'!C227:AQ227))","v":""},{"$f":"IF(E223=\"\",\"\",E223/(COUNTA('Data Input'!$C$8:$AQ$8)-1))","v":""},{"$f":"IF(ISBLANK('Data Input'!A227),\"\",SUM('Data Input'!H227,'Data Input'!I227,'Data Input'!M227,'Data Input'!N227))","v":""},{"$f":"IF(G223=\"\",\"\",G223/COUNTIF('Data Input'!$C$8:$AQ$8,$G$2))","v":""},{"$f":"IF(ISBLANK('Data Input'!A227),\"\",SUM('Data Input'!J227,'Data Input'!K227,'Data Input'!U227,'Data Input'!V227))","v":""},{"$f":"IF(I223=\"\",\"\",I223/COUNTIF('Data Input'!$C$8:$AQ$8,$I$2))","v":""},{"$f":"IF(ISBLANK('Data Input'!A227),\"\",SUM('Data Input'!D227))","v":""},{"$f":"IF(K223=\"\",\"\",K223/COUNTIF('Data Input'!$C$8:$AQ$8,$K$2))","v":""},{"$f":"IF(ISBLANK('Data Input'!A227),\"\",SUM('Data Input'!O227,'Data Input'!P227,'Data Input'!R227,'Data Input'!S227))","v":""},{"$f":"IF(M223=\"\",\"\",M223/COUNTIF('Data Input'!$C$8:$AQ$8,$M$2))","v":""},{"$f":"IF(ISBLANK('Data Input'!A227),\"\",SUM('Data Input'!C227,'Data Input'!E227,'Data Input'!F227,'Data Input'!G227,'Data Input'!Q227,'Data Input'!T227))","v":""},{"$f":"IF(O223=\"\",\"\",O223/COUNTIF('Data Input'!$C$8:$AQ$8,$O$2))","v":""},{"$f":"IF(ISBLANK('Data Input'!A227),\"\",SUM('Data Input'!L227))","v":""},{"$f":"IF(Q223=\"\",\"\",Q223/COUNTIF('Data Input'!$C$8:$AQ$8,$Q$2))","v":""},{"$f":"IF(ISBLANK('Data Input'!A227),\"\",SUM('Data Input'!X227:AQ227))","v":""},{"$f":"IF(S223=\"\",\"\",S223/COUNTIF('Data Input'!$C$8:$AQ$8,$S$2))","v":""}]
[{"$f":"IF('Data Input'!A228=0,\"\",'Data Input'!A228)","v":""},{"$f":"IF(ISBLANK('Data Input'!A228),\"\",COUNTIF('Data Input'!C228:AQ228,\"\")-1)","v":""},{"$f":"IF(ISBLANK('Data Input'!A228),\"\",COUNTIF('Data Input'!C228:AQ228,\"0\"))","v":""},{"$f":"IF(ISBLANK('Data Input'!A228),\"\",SUM(B224,C224))","v":""},{"$f":"IF(ISBLANK('Data Input'!A228),\"\",SUM('Data Input'!C228:AQ228))","v":""},{"$f":"IF(E224=\"\",\"\",E224/(COUNTA('Data Input'!$C$8:$AQ$8)-1))","v":""},{"$f":"IF(ISBLANK('Data Input'!A228),\"\",SUM('Data Input'!H228,'Data Input'!I228,'Data Input'!M228,'Data Input'!N228))","v":""},{"$f":"IF(G224=\"\",\"\",G224/COUNTIF('Data Input'!$C$8:$AQ$8,$G$2))","v":""},{"$f":"IF(ISBLANK('Data Input'!A228),\"\",SUM('Data Input'!J228,'Data Input'!K228,'Data Input'!U228,'Data Input'!V228))","v":""},{"$f":"IF(I224=\"\",\"\",I224/COUNTIF('Data Input'!$C$8:$AQ$8,$I$2))","v":""},{"$f":"IF(ISBLANK('Data Input'!A228),\"\",SUM('Data Input'!D228))","v":""},{"$f":"IF(K224=\"\",\"\",K224/COUNTIF('Data Input'!$C$8:$AQ$8,$K$2))","v":""},{"$f":"IF(ISBLANK('Data Input'!A228),\"\",SUM('Data Input'!O228,'Data Input'!P228,'Data Input'!R228,'Data Input'!S228))","v":""},{"$f":"IF(M224=\"\",\"\",M224/COUNTIF('Data Input'!$C$8:$AQ$8,$M$2))","v":""},{"$f":"IF(ISBLANK('Data Input'!A228),\"\",SUM('Data Input'!C228,'Data Input'!E228,'Data Input'!F228,'Data Input'!G228,'Data Input'!Q228,'Data Input'!T228))","v":""},{"$f":"IF(O224=\"\",\"\",O224/COUNTIF('Data Input'!$C$8:$AQ$8,$O$2))","v":""},{"$f":"IF(ISBLANK('Data Input'!A228),\"\",SUM('Data Input'!L228))","v":""},{"$f":"IF(Q224=\"\",\"\",Q224/COUNTIF('Data Input'!$C$8:$AQ$8,$Q$2))","v":""},{"$f":"IF(ISBLANK('Data Input'!A228),\"\",SUM('Data Input'!X228:AQ228))","v":""},{"$f":"IF(S224=\"\",\"\",S224/COUNTIF('Data Input'!$C$8:$AQ$8,$S$2))","v":""}]
[{"$f":"IF('Data Input'!A229=0,\"\",'Data Input'!A229)","v":""},{"$f":"IF(ISBLANK('Data Input'!A229),\"\",COUNTIF('Data Input'!C229:AQ229,\"\")-1)","v":""},{"$f":"IF(ISBLANK('Data Input'!A229),\"\",COUNTIF('Data Input'!C229:AQ229,\"0\"))","v":""},{"$f":"IF(ISBLANK('Data Input'!A229),\"\",SUM(B225,C225))","v":""},{"$f":"IF(ISBLANK('Data Input'!A229),\"\",SUM('Data Input'!C229:AQ229))","v":""},{"$f":"IF(E225=\"\",\"\",E225/(COUNTA('Data Input'!$C$8:$AQ$8)-1))","v":""},{"$f":"IF(ISBLANK('Data Input'!A229),\"\",SUM('Data Input'!H229,'Data Input'!I229,'Data Input'!M229,'Data Input'!N229))","v":""},{"$f":"IF(G225=\"\",\"\",G225/COUNTIF('Data Input'!$C$8:$AQ$8,$G$2))","v":""},{"$f":"IF(ISBLANK('Data Input'!A229),\"\",SUM('Data Input'!J229,'Data Input'!K229,'Data Input'!U229,'Data Input'!V229))","v":""},{"$f":"IF(I225=\"\",\"\",I225/COUNTIF('Data Input'!$C$8:$AQ$8,$I$2))","v":""},{"$f":"IF(ISBLANK('Data Input'!A229),\"\",SUM('Data Input'!D229))","v":""},{"$f":"IF(K225=\"\",\"\",K225/COUNTIF('Data Input'!$C$8:$AQ$8,$K$2))","v":""},{"$f":"IF(ISBLANK('Data Input'!A229),\"\",SUM('Data Input'!O229,'Data Input'!P229,'Data Input'!R229,'Data Input'!S229))","v":""},{"$f":"IF(M225=\"\",\"\",M225/COUNTIF('Data Input'!$C$8:$AQ$8,$M$2))","v":""},{"$f":"IF(ISBLANK('Data Input'!A229),\"\",SUM('Data Input'!C229,'Data Input'!E229,'Data Input'!F229,'Data Input'!G229,'Data Input'!Q229,'Data Input'!T229))","v":""},{"$f":"IF(O225=\"\",\"\",O225/COUNTIF('Data Input'!$C$8:$AQ$8,$O$2))","v":""},{"$f":"IF(ISBLANK('Data Input'!A229),\"\",SUM('Data Input'!L229))","v":""},{"$f":"IF(Q225=\"\",\"\",Q225/COUNTIF('Data Input'!$C$8:$AQ$8,$Q$2))","v":""},{"$f":"IF(ISBLANK('Data Input'!A229),\"\",SUM('Data Input'!X229:AQ229))","v":""},{"$f":"IF(S225=\"\",\"\",S225/COUNTIF('Data Input'!$C$8:$AQ$8,$S$2))","v":""}]
[{"$f":"IF('Data Input'!A230=0,\"\",'Data Input'!A230)","v":""},{"$f":"IF(ISBLANK('Data Input'!A230),\"\",COUNTIF('Data Input'!C230:AQ230,\"\")-1)","v":""},{"$f":"IF(ISBLANK('Data Input'!A230),\"\",COUNTIF('Data Input'!C230:AQ230,\"0\"))","v":""},{"$f":"IF(ISBLANK('Data Input'!A230),\"\",SUM(B226,C226))","v":""},{"$f":"IF(ISBLANK('Data Input'!A230),\"\",SUM('Data Input'!C230:AQ230))","v":""},{"$f":"IF(E226=\"\",\"\",E226/(COUNTA('Data Input'!$C$8:$AQ$8)-1))","v":""},{"$f":"IF(ISBLANK('Data Input'!A230),\"\",SUM('Data Input'!H230,'Data Input'!I230,'Data Input'!M230,'Data Input'!N230))","v":""},{"$f":"IF(G226=\"\",\"\",G226/COUNTIF('Data Input'!$C$8:$AQ$8,$G$2))","v":""},{"$f":"IF(ISBLANK('Data Input'!A230),\"\",SUM('Data Input'!J230,'Data Input'!K230,'Data Input'!U230,'Data Input'!V230))","v":""},{"$f":"IF(I226=\"\",\"\",I226/COUNTIF('Data Input'!$C$8:$AQ$8,$I$2))","v":""},{"$f":"IF(ISBLANK('Data Input'!A230),\"\",SUM('Data Input'!D230))","v":""},{"$f":"IF(K226=\"\",\"\",K226/COUNTIF('Data Input'!$C$8:$AQ$8,$K$2))","v":""},{"$f":"IF(ISBLANK('Data Input'!A230),\"\",SUM('Data Input'!O230,'Data Input'!P230,'Data Input'!R230,'Data Input'!S230))","v":""},{"$f":"IF(M226=\"\",\"\",M226/COUNTIF('Data Input'!$C$8:$AQ$8,$M$2))","v":""},{"$f":"IF(ISBLANK('Data Input'!A230),\"\",SUM('Data Input'!C230,'Data Input'!E230,'Data Input'!F230,'Data Input'!G230,'Data Input'!Q230,'Data Input'!T230))","v":""},{"$f":"IF(O226=\"\",\"\",O226/COUNTIF('Data Input'!$C$8:$AQ$8,$O$2))","v":""},{"$f":"IF(ISBLANK('Data Input'!A230),\"\",SUM('Data Input'!L230))","v":""},{"$f":"IF(Q226=\"\",\"\",Q226/COUNTIF('Data Input'!$C$8:$AQ$8,$Q$2))","v":""},{"$f":"IF(ISBLANK('Data Input'!A230),\"\",SUM('Data Input'!X230:AQ230))","v":""},{"$f":"IF(S226=\"\",\"\",S226/COUNTIF('Data Input'!$C$8:$AQ$8,$S$2))","v":""}]
[{"$f":"IF('Data Input'!A231=0,\"\",'Data Input'!A231)","v":""},{"$f":"IF(ISBLANK('Data Input'!A231),\"\",COUNTIF('Data Input'!C231:AQ231,\"\")-1)","v":""},{"$f":"IF(ISBLANK('Data Input'!A231),\"\",COUNTIF('Data Input'!C231:AQ231,\"0\"))","v":""},{"$f":"IF(ISBLANK('Data Input'!A231),\"\",SUM(B227,C227))","v":""},{"$f":"IF(ISBLANK('Data Input'!A231),\"\",SUM('Data Input'!C231:AQ231))","v":""},{"$f":"IF(E227=\"\",\"\",E227/(COUNTA('Data Input'!$C$8:$AQ$8)-1))","v":""},{"$f":"IF(ISBLANK('Data Input'!A231),\"\",SUM('Data Input'!H231,'Data Input'!I231,'Data Input'!M231,'Data Input'!N231))","v":""},{"$f":"IF(G227=\"\",\"\",G227/COUNTIF('Data Input'!$C$8:$AQ$8,$G$2))","v":""},{"$f":"IF(ISBLANK('Data Input'!A231),\"\",SUM('Data Input'!J231,'Data Input'!K231,'Data Input'!U231,'Data Input'!V231))","v":""},{"$f":"IF(I227=\"\",\"\",I227/COUNTIF('Data Input'!$C$8:$AQ$8,$I$2))","v":""},{"$f":"IF(ISBLANK('Data Input'!A231),\"\",SUM('Data Input'!D231))","v":""},{"$f":"IF(K227=\"\",\"\",K227/COUNTIF('Data Input'!$C$8:$AQ$8,$K$2))","v":""},{"$f":"IF(ISBLANK('Data Input'!A231),\"\",SUM('Data Input'!O231,'Data Input'!P231,'Data Input'!R231,'Data Input'!S231))","v":""},{"$f":"IF(M227=\"\",\"\",M227/COUNTIF('Data Input'!$C$8:$AQ$8,$M$2))","v":""},{"$f":"IF(ISBLANK('Data Input'!A231),\"\",SUM('Data Input'!C231,'Data Input'!E231,'Data Input'!F231,'Data Input'!G231,'Data Input'!Q231,'Data Input'!T231))","v":""},{"$f":"IF(O227=\"\",\"\",O227/COUNTIF('Data Input'!$C$8:$AQ$8,$O$2))","v":""},{"$f":"IF(ISBLANK('Data Input'!A231),\"\",SUM('Data Input'!L231))","v":""},{"$f":"IF(Q227=\"\",\"\",Q227/COUNTIF('Data Input'!$C$8:$AQ$8,$Q$2))","v":""},{"$f":"IF(ISBLANK('Data Input'!A231),\"\",SUM('Data Input'!X231:AQ231))","v":""},{"$f":"IF(S227=\"\",\"\",S227/COUNTIF('Data Input'!$C$8:$AQ$8,$S$2))","v":""}]
[{"$f":"IF('Data Input'!A232=0,\"\",'Data Input'!A232)","v":""},{"$f":"IF(ISBLANK('Data Input'!A232),\"\",COUNTIF('Data Input'!C232:AQ232,\"\")-1)","v":""},{"$f":"IF(ISBLANK('Data Input'!A232),\"\",COUNTIF('Data Input'!C232:AQ232,\"0\"))","v":""},{"$f":"IF(ISBLANK('Data Input'!A232),\"\",SUM(B228,C228))","v":""},{"$f":"IF(ISBLANK('Data Input'!A232),\"\",SUM('Data Input'!C232:AQ232))","v":""},{"$f":"IF(E228=\"\",\"\",E228/(COUNTA('Data Input'!$C$8:$AQ$8)-1))","v":""},{"$f":"IF(ISBLANK('Data Input'!A232),\"\",SUM('Data Input'!H232,'Data Input'!I232,'Data Input'!M232,'Data Input'!N232))","v":""},{"$f":"IF(G228=\"\",\"\",G228/COUNTIF('Data Input'!$C$8:$AQ$8,$G$2))","v":""},{"$f":"IF(ISBLANK('Data Input'!A232),\"\",SUM('Data Input'!J232,'Data Input'!K232,'Data Input'!U232,'Data Input'!V232))","v":""},{"$f":"IF(I228=\"\",\"\",I228/COUNTIF('Data Input'!$C$8:$AQ$8,$I$2))","v":""},{"$f":"IF(ISBLANK('Data Input'!A232),\"\",SUM('Data Input'!D232))","v":""},{"$f":"IF(K228=\"\",\"\",K228/COUNTIF('Data Input'!$C$8:$AQ$8,$K$2))","v":""},{"$f":"IF(ISBLANK('Data Input'!A232),\"\",SUM('Data Input'!O232,'Data Input'!P232,'Data Input'!R232,'Data Input'!S232))","v":""},{"$f":"IF(M228=\"\",\"\",M228/COUNTIF('Data Input'!$C$8:$AQ$8,$M$2))","v":""},{"$f":"IF(ISBLANK('Data Input'!A232),\"\",SUM('Data Input'!C232,'Data Input'!E232,'Data Input'!F232,'Data Input'!G232,'Data Input'!Q232,'Data Input'!T232))","v":""},{"$f":"IF(O228=\"\",\"\",O228/COUNTIF('Data Input'!$C$8:$AQ$8,$O$2))","v":""},{"$f":"IF(ISBLANK('Data Input'!A232),\"\",SUM('Data Input'!L232))","v":""},{"$f":"IF(Q228=\"\",\"\",Q228/COUNTIF('Data Input'!$C$8:$AQ$8,$Q$2))","v":""},{"$f":"IF(ISBLANK('Data Input'!A232),\"\",SUM('Data Input'!X232:AQ232))","v":""},{"$f":"IF(S228=\"\",\"\",S228/COUNTIF('Data Input'!$C$8:$AQ$8,$S$2))","v":""}]
[{"$f":"IF('Data Input'!A233=0,\"\",'Data Input'!A233)","v":""},{"$f":"IF(ISBLANK('Data Input'!A233),\"\",COUNTIF('Data Input'!C233:AQ233,\"\")-1)","v":""},{"$f":"IF(ISBLANK('Data Input'!A233),\"\",COUNTIF('Data Input'!C233:AQ233,\"0\"))","v":""},{"$f":"IF(ISBLANK('Data Input'!A233),\"\",SUM(B229,C229))","v":""},{"$f":"IF(ISBLANK('Data Input'!A233),\"\",SUM('Data Input'!C233:AQ233))","v":""},{"$f":"IF(E229=\"\",\"\",E229/(COUNTA('Data Input'!$C$8:$AQ$8)-1))","v":""},{"$f":"IF(ISBLANK('Data Input'!A233),\"\",SUM('Data Input'!H233,'Data Input'!I233,'Data Input'!M233,'Data Input'!N233))","v":""},{"$f":"IF(G229=\"\",\"\",G229/COUNTIF('Data Input'!$C$8:$AQ$8,$G$2))","v":""},{"$f":"IF(ISBLANK('Data Input'!A233),\"\",SUM('Data Input'!J233,'Data Input'!K233,'Data Input'!U233,'Data Input'!V233))","v":""},{"$f":"IF(I229=\"\",\"\",I229/COUNTIF('Data Input'!$C$8:$AQ$8,$I$2))","v":""},{"$f":"IF(ISBLANK('Data Input'!A233),\"\",SUM('Data Input'!D233))","v":""},{"$f":"IF(K229=\"\",\"\",K229/COUNTIF('Data Input'!$C$8:$AQ$8,$K$2))","v":""},{"$f":"IF(ISBLANK('Data Input'!A233),\"\",SUM('Data Input'!O233,'Data Input'!P233,'Data Input'!R233,'Data Input'!S233))","v":""},{"$f":"IF(M229=\"\",\"\",M229/COUNTIF('Data Input'!$C$8:$AQ$8,$M$2))","v":""},{"$f":"IF(ISBLANK('Data Input'!A233),\"\",SUM('Data Input'!C233,'Data Input'!E233,'Data Input'!F233,'Data Input'!G233,'Data Input'!Q233,'Data Input'!T233))","v":""},{"$f":"IF(O229=\"\",\"\",O229/COUNTIF('Data Input'!$C$8:$AQ$8,$O$2))","v":""},{"$f":"IF(ISBLANK('Data Input'!A233),\"\",SUM('Data Input'!L233))","v":""},{"$f":"IF(Q229=\"\",\"\",Q229/COUNTIF('Data Input'!$C$8:$AQ$8,$Q$2))","v":""},{"$f":"IF(ISBLANK('Data Input'!A233),\"\",SUM('Data Input'!X233:AQ233))","v":""},{"$f":"IF(S229=\"\",\"\",S229/COUNTIF('Data Input'!$C$8:$AQ$8,$S$2))","v":""}]
[{"$f":"IF('Data Input'!A234=0,\"\",'Data Input'!A234)","v":""},{"$f":"IF(ISBLANK('Data Input'!A234),\"\",COUNTIF('Data Input'!C234:AQ234,\"\")-1)","v":""},{"$f":"IF(ISBLANK('Data Input'!A234),\"\",COUNTIF('Data Input'!C234:AQ234,\"0\"))","v":""},{"$f":"IF(ISBLANK('Data Input'!A234),\"\",SUM(B230,C230))","v":""},{"$f":"IF(ISBLANK('Data Input'!A234),\"\",SUM('Data Input'!C234:AQ234))","v":""},{"$f":"IF(E230=\"\",\"\",E230/(COUNTA('Data Input'!$C$8:$AQ$8)-1))","v":""},{"$f":"IF(ISBLANK('Data Input'!A234),\"\",SUM('Data Input'!H234,'Data Input'!I234,'Data Input'!M234,'Data Input'!N234))","v":""},{"$f":"IF(G230=\"\",\"\",G230/COUNTIF('Data Input'!$C$8:$AQ$8,$G$2))","v":""},{"$f":"IF(ISBLANK('Data Input'!A234),\"\",SUM('Data Input'!J234,'Data Input'!K234,'Data Input'!U234,'Data Input'!V234))","v":""},{"$f":"IF(I230=\"\",\"\",I230/COUNTIF('Data Input'!$C$8:$AQ$8,$I$2))","v":""},{"$f":"IF(ISBLANK('Data Input'!A234),\"\",SUM('Data Input'!D234))","v":""},{"$f":"IF(K230=\"\",\"\",K230/COUNTIF('Data Input'!$C$8:$AQ$8,$K$2))","v":""},{"$f":"IF(ISBLANK('Data Input'!A234),\"\",SUM('Data Input'!O234,'Data Input'!P234,'Data Input'!R234,'Data Input'!S234))","v":""},{"$f":"IF(M230=\"\",\"\",M230/COUNTIF('Data Input'!$C$8:$AQ$8,$M$2))","v":""},{"$f":"IF(ISBLANK('Data Input'!A234),\"\",SUM('Data Input'!C234,'Data Input'!E234,'Data Input'!F234,'Data Input'!G234,'Data Input'!Q234,'Data Input'!T234))","v":""},{"$f":"IF(O230=\"\",\"\",O230/COUNTIF('Data Input'!$C$8:$AQ$8,$O$2))","v":""},{"$f":"IF(ISBLANK('Data Input'!A234),\"\",SUM('Data Input'!L234))","v":""},{"$f":"IF(Q230=\"\",\"\",Q230/COUNTIF('Data Input'!$C$8:$AQ$8,$Q$2))","v":""},{"$f":"IF(ISBLANK('Data Input'!A234),\"\",SUM('Data Input'!X234:AQ234))","v":""},{"$f":"IF(S230=\"\",\"\",S230/COUNTIF('Data Input'!$C$8:$AQ$8,$S$2))","v":""}]
[{"$f":"IF('Data Input'!A235=0,\"\",'Data Input'!A235)","v":""},{"$f":"IF(ISBLANK('Data Input'!A235),\"\",COUNTIF('Data Input'!C235:AQ235,\"\")-1)","v":""},{"$f":"IF(ISBLANK('Data Input'!A235),\"\",COUNTIF('Data Input'!C235:AQ235,\"0\"))","v":""},{"$f":"IF(ISBLANK('Data Input'!A235),\"\",SUM(B231,C231))","v":""},{"$f":"IF(ISBLANK('Data Input'!A235),\"\",SUM('Data Input'!C235:AQ235))","v":""},{"$f":"IF(E231=\"\",\"\",E231/(COUNTA('Data Input'!$C$8:$AQ$8)-1))","v":""},{"$f":"IF(ISBLANK('Data Input'!A235),\"\",SUM('Data Input'!H235,'Data Input'!I235,'Data Input'!M235,'Data Input'!N235))","v":""},{"$f":"IF(G231=\"\",\"\",G231/COUNTIF('Data Input'!$C$8:$AQ$8,$G$2))","v":""},{"$f":"IF(ISBLANK('Data Input'!A235),\"\",SUM('Data Input'!J235,'Data Input'!K235,'Data Input'!U235,'Data Input'!V235))","v":""},{"$f":"IF(I231=\"\",\"\",I231/COUNTIF('Data Input'!$C$8:$AQ$8,$I$2))","v":""},{"$f":"IF(ISBLANK('Data Input'!A235),\"\",SUM('Data Input'!D235))","v":""},{"$f":"IF(K231=\"\",\"\",K231/COUNTIF('Data Input'!$C$8:$AQ$8,$K$2))","v":""},{"$f":"IF(ISBLANK('Data Input'!A235),\"\",SUM('Data Input'!O235,'Data Input'!P235,'Data Input'!R235,'Data Input'!S235))","v":""},{"$f":"IF(M231=\"\",\"\",M231/COUNTIF('Data Input'!$C$8:$AQ$8,$M$2))","v":""},{"$f":"IF(ISBLANK('Data Input'!A235),\"\",SUM('Data Input'!C235,'Data Input'!E235,'Data Input'!F235,'Data Input'!G235,'Data Input'!Q235,'Data Input'!T235))","v":""},{"$f":"IF(O231=\"\",\"\",O231/COUNTIF('Data Input'!$C$8:$AQ$8,$O$2))","v":""},{"$f":"IF(ISBLANK('Data Input'!A235),\"\",SUM('Data Input'!L235))","v":""},{"$f":"IF(Q231=\"\",\"\",Q231/COUNTIF('Data Input'!$C$8:$AQ$8,$Q$2))","v":""},{"$f":"IF(ISBLANK('Data Input'!A235),\"\",SUM('Data Input'!X235:AQ235))","v":""},{"$f":"IF(S231=\"\",\"\",S231/COUNTIF('Data Input'!$C$8:$AQ$8,$S$2))","v":""}]
[{"$f":"IF('Data Input'!A236=0,\"\",'Data Input'!A236)","v":""},{"$f":"IF(ISBLANK('Data Input'!A236),\"\",COUNTIF('Data Input'!C236:AQ236,\"\")-1)","v":""},{"$f":"IF(ISBLANK('Data Input'!A236),\"\",COUNTIF('Data Input'!C236:AQ236,\"0\"))","v":""},{"$f":"IF(ISBLANK('Data Input'!A236),\"\",SUM(B232,C232))","v":""},{"$f":"IF(ISBLANK('Data Input'!A236),\"\",SUM('Data Input'!C236:AQ236))","v":""},{"$f":"IF(E232=\"\",\"\",E232/(COUNTA('Data Input'!$C$8:$AQ$8)-1))","v":""},{"$f":"IF(ISBLANK('Data Input'!A236),\"\",SUM('Data Input'!H236,'Data Input'!I236,'Data Input'!M236,'Data Input'!N236))","v":""},{"$f":"IF(G232=\"\",\"\",G232/COUNTIF('Data Input'!$C$8:$AQ$8,$G$2))","v":""},{"$f":"IF(ISBLANK('Data Input'!A236),\"\",SUM('Data Input'!J236,'Data Input'!K236,'Data Input'!U236,'Data Input'!V236))","v":""},{"$f":"IF(I232=\"\",\"\",I232/COUNTIF('Data Input'!$C$8:$AQ$8,$I$2))","v":""},{"$f":"IF(ISBLANK('Data Input'!A236),\"\",SUM('Data Input'!D236))","v":""},{"$f":"IF(K232=\"\",\"\",K232/COUNTIF('Data Input'!$C$8:$AQ$8,$K$2))","v":""},{"$f":"IF(ISBLANK('Data Input'!A236),\"\",SUM('Data Input'!O236,'Data Input'!P236,'Data Input'!R236,'Data Input'!S236))","v":""},{"$f":"IF(M232=\"\",\"\",M232/COUNTIF('Data Input'!$C$8:$AQ$8,$M$2))","v":""},{"$f":"IF(ISBLANK('Data Input'!A236),\"\",SUM('Data Input'!C236,'Data Input'!E236,'Data Input'!F236,'Data Input'!G236,'Data Input'!Q236,'Data Input'!T236))","v":""},{"$f":"IF(O232=\"\",\"\",O232/COUNTIF('Data Input'!$C$8:$AQ$8,$O$2))","v":""},{"$f":"IF(ISBLANK('Data Input'!A236),\"\",SUM('Data Input'!L236))","v":""},{"$f":"IF(Q232=\"\",\"\",Q232/COUNTIF('Data Input'!$C$8:$AQ$8,$Q$2))","v":""},{"$f":"IF(ISBLANK('Data Input'!A236),\"\",SUM('Data Input'!X236:AQ236))","v":""},{"$f":"IF(S232=\"\",\"\",S232/COUNTIF('Data Input'!$C$8:$AQ$8,$S$2))","v":""}]
[{"$f":"IF('Data Input'!A237=0,\"\",'Data Input'!A237)","v":""},{"$f":"IF(ISBLANK('Data Input'!A237),\"\",COUNTIF('Data Input'!C237:AQ237,\"\")-1)","v":""},{"$f":"IF(ISBLANK('Data Input'!A237),\"\",COUNTIF('Data Input'!C237:AQ237,\"0\"))","v":""},{"$f":"IF(ISBLANK('Data Input'!A237),\"\",SUM(B233,C233))","v":""},{"$f":"IF(ISBLANK('Data Input'!A237),\"\",SUM('Data Input'!C237:AQ237))","v":""},{"$f":"IF(E233=\"\",\"\",E233/(COUNTA('Data Input'!$C$8:$AQ$8)-1))","v":""},{"$f":"IF(ISBLANK('Data Input'!A237),\"\",SUM('Data Input'!H237,'Data Input'!I237,'Data Input'!M237,'Data Input'!N237))","v":""},{"$f":"IF(G233=\"\",\"\",G233/COUNTIF('Data Input'!$C$8:$AQ$8,$G$2))","v":""},{"$f":"IF(ISBLANK('Data Input'!A237),\"\",SUM('Data Input'!J237,'Data Input'!K237,'Data Input'!U237,'Data Input'!V237))","v":""},{"$f":"IF(I233=\"\",\"\",I233/COUNTIF('Data Input'!$C$8:$AQ$8,$I$2))","v":""},{"$f":"IF(ISBLANK('Data Input'!A237),\"\",SUM('Data Input'!D237))","v":""},{"$f":"IF(K233=\"\",\"\",K233/COUNTIF('Data Input'!$C$8:$AQ$8,$K$2))","v":""},{"$f":"IF(ISBLANK('Data Input'!A237),\"\",SUM('Data Input'!O237,'Data Input'!P237,'Data Input'!R237,'Data Input'!S237))","v":""},{"$f":"IF(M233=\"\",\"\",M233/COUNTIF('Data Input'!$C$8:$AQ$8,$M$2))","v":""},{"$f":"IF(ISBLANK('Data Input'!A237),\"\",SUM('Data Input'!C237,'Data Input'!E237,'Data Input'!F237,'Data Input'!G237,'Data Input'!Q237,'Data Input'!T237))","v":""},{"$f":"IF(O233=\"\",\"\",O233/COUNTIF('Data Input'!$C$8:$AQ$8,$O$2))","v":""},{"$f":"IF(ISBLANK('Data Input'!A237),\"\",SUM('Data Input'!L237))","v":""},{"$f":"IF(Q233=\"\",\"\",Q233/COUNTIF('Data Input'!$C$8:$AQ$8,$Q$2))","v":""},{"$f":"IF(ISBLANK('Data Input'!A237),\"\",SUM('Data Input'!X237:AQ237))","v":""},{"$f":"IF(S233=\"\",\"\",S233/COUNTIF('Data Input'!$C$8:$AQ$8,$S$2))","v":""}]
[{"$f":"IF('Data Input'!A238=0,\"\",'Data Input'!A238)","v":""},{"$f":"IF(ISBLANK('Data Input'!A238),\"\",COUNTIF('Data Input'!C238:AQ238,\"\")-1)","v":""},{"$f":"IF(ISBLANK('Data Input'!A238),\"\",COUNTIF('Data Input'!C238:AQ238,\"0\"))","v":""},{"$f":"IF(ISBLANK('Data Input'!A238),\"\",SUM(B234,C234))","v":""},{"$f":"IF(ISBLANK('Data Input'!A238),\"\",SUM('Data Input'!C238:AQ238))","v":""},{"$f":"IF(E234=\"\",\"\",E234/(COUNTA('Data Input'!$C$8:$AQ$8)-1))","v":""},{"$f":"IF(ISBLANK('Data Input'!A238),\"\",SUM('Data Input'!H238,'Data Input'!I238,'Data Input'!M238,'Data Input'!N238))","v":""},{"$f":"IF(G234=\"\",\"\",G234/COUNTIF('Data Input'!$C$8:$AQ$8,$G$2))","v":""},{"$f":"IF(ISBLANK('Data Input'!A238),\"\",SUM('Data Input'!J238,'Data Input'!K238,'Data Input'!U238,'Data Input'!V238))","v":""},{"$f":"IF(I234=\"\",\"\",I234/COUNTIF('Data Input'!$C$8:$AQ$8,$I$2))","v":""},{"$f":"IF(ISBLANK('Data Input'!A238),\"\",SUM('Data Input'!D238))","v":""},{"$f":"IF(K234=\"\",\"\",K234/COUNTIF('Data Input'!$C$8:$AQ$8,$K$2))","v":""},{"$f":"IF(ISBLANK('Data Input'!A238),\"\",SUM('Data Input'!O238,'Data Input'!P238,'Data Input'!R238,'Data Input'!S238))","v":""},{"$f":"IF(M234=\"\",\"\",M234/COUNTIF('Data Input'!$C$8:$AQ$8,$M$2))","v":""},{"$f":"IF(ISBLANK('Data Input'!A238),\"\",SUM('Data Input'!C238,'Data Input'!E238,'Data Input'!F238,'Data Input'!G238,'Data Input'!Q238,'Data Input'!T238))","v":""},{"$f":"IF(O234=\"\",\"\",O234/COUNTIF('Data Input'!$C$8:$AQ$8,$O$2))","v":""},{"$f":"IF(ISBLANK('Data Input'!A238),\"\",SUM('Data Input'!L238))","v":""},{"$f":"IF(Q234=\"\",\"\",Q234/COUNTIF('Data Input'!$C$8:$AQ$8,$Q$2))","v":""},{"$f":"IF(ISBLANK('Data Input'!A238),\"\",SUM('Data Input'!X238:AQ238))","v":""},{"$f":"IF(S234=\"\",\"\",S234/COUNTIF('Data Input'!$C$8:$AQ$8,$S$2))","v":""}]
[{"$f":"IF('Data Input'!A239=0,\"\",'Data Input'!A239)","v":""},{"$f":"IF(ISBLANK('Data Input'!A239),\"\",COUNTIF('Data Input'!C239:AQ239,\"\")-1)","v":""},{"$f":"IF(ISBLANK('Data Input'!A239),\"\",COUNTIF('Data Input'!C239:AQ239,\"0\"))","v":""},{"$f":"IF(ISBLANK('Data Input'!A239),\"\",SUM(B235,C235))","v":""},{"$f":"IF(ISBLANK('Data Input'!A239),\"\",SUM('Data Input'!C239:AQ239))","v":""},{"$f":"IF(E235=\"\",\"\",E235/(COUNTA('Data Input'!$C$8:$AQ$8)-1))","v":""},{"$f":"IF(ISBLANK('Data Input'!A239),\"\",SUM('Data Input'!H239,'Data Input'!I239,'Data Input'!M239,'Data Input'!N239))","v":""},{"$f":"IF(G235=\"\",\"\",G235/COUNTIF('Data Input'!$C$8:$AQ$8,$G$2))","v":""},{"$f":"IF(ISBLANK('Data Input'!A239),\"\",SUM('Data Input'!J239,'Data Input'!K239,'Data Input'!U239,'Data Input'!V239))","v":""},{"$f":"IF(I235=\"\",\"\",I235/COUNTIF('Data Input'!$C$8:$AQ$8,$I$2))","v":""},{"$f":"IF(ISBLANK('Data Input'!A239),\"\",SUM('Data Input'!D239))","v":""},{"$f":"IF(K235=\"\",\"\",K235/COUNTIF('Data Input'!$C$8:$AQ$8,$K$2))","v":""},{"$f":"IF(ISBLANK('Data Input'!A239),\"\",SUM('Data Input'!O239,'Data Input'!P239,'Data Input'!R239,'Data Input'!S239))","v":""},{"$f":"IF(M235=\"\",\"\",M235/COUNTIF('Data Input'!$C$8:$AQ$8,$M$2))","v":""},{"$f":"IF(ISBLANK('Data Input'!A239),\"\",SUM('Data Input'!C239,'Data Input'!E239,'Data Input'!F239,'Data Input'!G239,'Data Input'!Q239,'Data Input'!T239))","v":""},{"$f":"IF(O235=\"\",\"\",O235/COUNTIF('Data Input'!$C$8:$AQ$8,$O$2))","v":""},{"$f":"IF(ISBLANK('Data Input'!A239),\"\",SUM('Data Input'!L239))","v":""},{"$f":"IF(Q235=\"\",\"\",Q235/COUNTIF('Data Input'!$C$8:$AQ$8,$Q$2))","v":""},{"$f":"IF(ISBLANK('Data Input'!A239),\"\",SUM('Data Input'!X239:AQ239))","v":""},{"$f":"IF(S235=\"\",\"\",S235/COUNTIF('Data Input'!$C$8:$AQ$8,$S$2))","v":""}]
[{"$f":"IF('Data Input'!A240=0,\"\",'Data Input'!A240)","v":""},{"$f":"IF(ISBLANK('Data Input'!A240),\"\",COUNTIF('Data Input'!C240:AQ240,\"\")-1)","v":""},{"$f":"IF(ISBLANK('Data Input'!A240),\"\",COUNTIF('Data Input'!C240:AQ240,\"0\"))","v":""},{"$f":"IF(ISBLANK('Data Input'!A240),\"\",SUM(B236,C236))","v":""},{"$f":"IF(ISBLANK('Data Input'!A240),\"\",SUM('Data Input'!C240:AQ240))","v":""},{"$f":"IF(E236=\"\",\"\",E236/(COUNTA('Data Input'!$C$8:$AQ$8)-1))","v":""},{"$f":"IF(ISBLANK('Data Input'!A240),\"\",SUM('Data Input'!H240,'Data Input'!I240,'Data Input'!M240,'Data Input'!N240))","v":""},{"$f":"IF(G236=\"\",\"\",G236/COUNTIF('Data Input'!$C$8:$AQ$8,$G$2))","v":""},{"$f":"IF(ISBLANK('Data Input'!A240),\"\",SUM('Data Input'!J240,'Data Input'!K240,'Data Input'!U240,'Data Input'!V240))","v":""},{"$f":"IF(I236=\"\",\"\",I236/COUNTIF('Data Input'!$C$8:$AQ$8,$I$2))","v":""},{"$f":"IF(ISBLANK('Data Input'!A240),\"\",SUM('Data Input'!D240))","v":""},{"$f":"IF(K236=\"\",\"\",K236/COUNTIF('Data Input'!$C$8:$AQ$8,$K$2))","v":""},{"$f":"IF(ISBLANK('Data Input'!A240),\"\",SUM('Data Input'!O240,'Data Input'!P240,'Data Input'!R240,'Data Input'!S240))","v":""},{"$f":"IF(M236=\"\",\"\",M236/COUNTIF('Data Input'!$C$8:$AQ$8,$M$2))","v":""},{"$f":"IF(ISBLANK('Data Input'!A240),\"\",SUM('Data Input'!C240,'Data Input'!E240,'Data Input'!F240,'Data Input'!G240,'Data Input'!Q240,'Data Input'!T240))","v":""},{"$f":"IF(O236=\"\",\"\",O236/COUNTIF('Data Input'!$C$8:$AQ$8,$O$2))","v":""},{"$f":"IF(ISBLANK('Data Input'!A240),\"\",SUM('Data Input'!L240))","v":""},{"$f":"IF(Q236=\"\",\"\",Q236/COUNTIF('Data Input'!$C$8:$AQ$8,$Q$2))","v":""},{"$f":"IF(ISBLANK('Data Input'!A240),\"\",SUM('Data Input'!X240:AQ240))","v":""},{"$f":"IF(S236=\"\",\"\",S236/COUNTIF('Data Input'!$C$8:$AQ$8,$S$2))","v":""}]
[{"$f":"IF('Data Input'!A241=0,\"\",'Data Input'!A241)","v":""},{"$f":"IF(ISBLANK('Data Input'!A241),\"\",COUNTIF('Data Input'!C241:AQ241,\"\")-1)","v":""},{"$f":"IF(ISBLANK('Data Input'!A241),\"\",COUNTIF('Data Input'!C241:AQ241,\"0\"))","v":""},{"$f":"IF(ISBLANK('Data Input'!A241),\"\",SUM(B237,C237))","v":""},{"$f":"IF(ISBLANK('Data Input'!A241),\"\",SUM('Data Input'!C241:AQ241))","v":""},{"$f":"IF(E237=\"\",\"\",E237/(COUNTA('Data Input'!$C$8:$AQ$8)-1))","v":""},{"$f":"IF(ISBLANK('Data Input'!A241),\"\",SUM('Data Input'!H241,'Data Input'!I241,'Data Input'!M241,'Data Input'!N241))","v":""},{"$f":"IF(G237=\"\",\"\",G237/COUNTIF('Data Input'!$C$8:$AQ$8,$G$2))","v":""},{"$f":"IF(ISBLANK('Data Input'!A241),\"\",SUM('Data Input'!J241,'Data Input'!K241,'Data Input'!U241,'Data Input'!V241))","v":""},{"$f":"IF(I237=\"\",\"\",I237/COUNTIF('Data Input'!$C$8:$AQ$8,$I$2))","v":""},{"$f":"IF(ISBLANK('Data Input'!A241),\"\",SUM('Data Input'!D241))","v":""},{"$f":"IF(K237=\"\",\"\",K237/COUNTIF('Data Input'!$C$8:$AQ$8,$K$2))","v":""},{"$f":"IF(ISBLANK('Data Input'!A241),\"\",SUM('Data Input'!O241,'Data Input'!P241,'Data Input'!R241,'Data Input'!S241))","v":""},{"$f":"IF(M237=\"\",\"\",M237/COUNTIF('Data Input'!$C$8:$AQ$8,$M$2))","v":""},{"$f":"IF(ISBLANK('Data Input'!A241),\"\",SUM('Data Input'!C241,'Data Input'!E241,'Data Input'!F241,'Data Input'!G241,'Data Input'!Q241,'Data Input'!T241))","v":""},{"$f":"IF(O237=\"\",\"\",O237/COUNTIF('Data Input'!$C$8:$AQ$8,$O$2))","v":""},{"$f":"IF(ISBLANK('Data Input'!A241),\"\",SUM('Data Input'!L241))","v":""},{"$f":"IF(Q237=\"\",\"\",Q237/COUNTIF('Data Input'!$C$8:$AQ$8,$Q$2))","v":""},{"$f":"IF(ISBLANK('Data Input'!A241),\"\",SUM('Data Input'!X241:AQ241))","v":""},{"$f":"IF(S237=\"\",\"\",S237/COUNTIF('Data Input'!$C$8:$AQ$8,$S$2))","v":""}]
[{"$f":"IF('Data Input'!A242=0,\"\",'Data Input'!A242)","v":""},{"$f":"IF(ISBLANK('Data Input'!A242),\"\",COUNTIF('Data Input'!C242:AQ242,\"\")-1)","v":""},{"$f":"IF(ISBLANK('Data Input'!A242),\"\",COUNTIF('Data Input'!C242:AQ242,\"0\"))","v":""},{"$f":"IF(ISBLANK('Data Input'!A242),\"\",SUM(B238,C238))","v":""},{"$f":"IF(ISBLANK('Data Input'!A242),\"\",SUM('Data Input'!C242:AQ242))","v":""},{"$f":"IF(E238=\"\",\"\",E238/(COUNTA('Data Input'!$C$8:$AQ$8)-1))","v":""},{"$f":"IF(ISBLANK('Data Input'!A242),\"\",SUM('Data Input'!H242,'Data Input'!I242,'Data Input'!M242,'Data Input'!N242))","v":""},{"$f":"IF(G238=\"\",\"\",G238/COUNTIF('Data Input'!$C$8:$AQ$8,$G$2))","v":""},{"$f":"IF(ISBLANK('Data Input'!A242),\"\",SUM('Data Input'!J242,'Data Input'!K242,'Data Input'!U242,'Data Input'!V242))","v":""},{"$f":"IF(I238=\"\",\"\",I238/COUNTIF('Data Input'!$C$8:$AQ$8,$I$2))","v":""},{"$f":"IF(ISBLANK('Data Input'!A242),\"\",SUM('Data Input'!D242))","v":""},{"$f":"IF(K238=\"\",\"\",K238/COUNTIF('Data Input'!$C$8:$AQ$8,$K$2))","v":""},{"$f":"IF(ISBLANK('Data Input'!A242),\"\",SUM('Data Input'!O242,'Data Input'!P242,'Data Input'!R242,'Data Input'!S242))","v":""},{"$f":"IF(M238=\"\",\"\",M238/COUNTIF('Data Input'!$C$8:$AQ$8,$M$2))","v":""},{"$f":"IF(ISBLANK('Data Input'!A242),\"\",SUM('Data Input'!C242,'Data Input'!E242,'Data Input'!F242,'Data Input'!G242,'Data Input'!Q242,'Data Input'!T242))","v":""},{"$f":"IF(O238=\"\",\"\",O238/COUNTIF('Data Input'!$C$8:$AQ$8,$O$2))","v":""},{"$f":"IF(ISBLANK('Data Input'!A242),\"\",SUM('Data Input'!L242))","v":""},{"$f":"IF(Q238=\"\",\"\",Q238/COUNTIF('Data Input'!$C$8:$AQ$8,$Q$2))","v":""},{"$f":"IF(ISBLANK('Data Input'!A242),\"\",SUM('Data Input'!X242:AQ242))","v":""},{"$f":"IF(S238=\"\",\"\",S238/COUNTIF('Data Input'!$C$8:$AQ$8,$S$2))","v":""}]
[{"$f":"IF('Data Input'!A243=0,\"\",'Data Input'!A243)","v":""},{"$f":"IF(ISBLANK('Data Input'!A243),\"\",COUNTIF('Data Input'!C243:AQ243,\"\")-1)","v":""},{"$f":"IF(ISBLANK('Data Input'!A243),\"\",COUNTIF('Data Input'!C243:AQ243,\"0\"))","v":""},{"$f":"IF(ISBLANK('Data Input'!A243),\"\",SUM(B239,C239))","v":""},{"$f":"IF(ISBLANK('Data Input'!A243),\"\",SUM('Data Input'!C243:AQ243))","v":""},{"$f":"IF(E239=\"\",\"\",E239/(COUNTA('Data Input'!$C$8:$AQ$8)-1))","v":""},{"$f":"IF(ISBLANK('Data Input'!A243),\"\",SUM('Data Input'!H243,'Data Input'!I243,'Data Input'!M243,'Data Input'!N243))","v":""},{"$f":"IF(G239=\"\",\"\",G239/COUNTIF('Data Input'!$C$8:$AQ$8,$G$2))","v":""},{"$f":"IF(ISBLANK('Data Input'!A243),\"\",SUM('Data Input'!J243,'Data Input'!K243,'Data Input'!U243,'Data Input'!V243))","v":""},{"$f":"IF(I239=\"\",\"\",I239/COUNTIF('Data Input'!$C$8:$AQ$8,$I$2))","v":""},{"$f":"IF(ISBLANK('Data Input'!A243),\"\",SUM('Data Input'!D243))","v":""},{"$f":"IF(K239=\"\",\"\",K239/COUNTIF('Data Input'!$C$8:$AQ$8,$K$2))","v":""},{"$f":"IF(ISBLANK('Data Input'!A243),\"\",SUM('Data Input'!O243,'Data Input'!P243,'Data Input'!R243,'Data Input'!S243))","v":""},{"$f":"IF(M239=\"\",\"\",M239/COUNTIF('Data Input'!$C$8:$AQ$8,$M$2))","v":""},{"$f":"IF(ISBLANK('Data Input'!A243),\"\",SUM('Data Input'!C243,'Data Input'!E243,'Data Input'!F243,'Data Input'!G243,'Data Input'!Q243,'Data Input'!T243))","v":""},{"$f":"IF(O239=\"\",\"\",O239/COUNTIF('Data Input'!$C$8:$AQ$8,$O$2))","v":""},{"$f":"IF(ISBLANK('Data Input'!A243),\"\",SUM('Data Input'!L243))","v":""},{"$f":"IF(Q239=\"\",\"\",Q239/COUNTIF('Data Input'!$C$8:$AQ$8,$Q$2))","v":""},{"$f":"IF(ISBLANK('Data Input'!A243),\"\",SUM('Data Input'!X243:AQ243))","v":""},{"$f":"IF(S239=\"\",\"\",S239/COUNTIF('Data Input'!$C$8:$AQ$8,$S$2))","v":""}]
[{"$f":"IF('Data Input'!A244=0,\"\",'Data Input'!A244)","v":""},{"$f":"IF(ISBLANK('Data Input'!A244),\"\",COUNTIF('Data Input'!C244:AQ244,\"\")-1)","v":""},{"$f":"IF(ISBLANK('Data Input'!A244),\"\",COUNTIF('Data Input'!C244:AQ244,\"0\"))","v":""},{"$f":"IF(ISBLANK('Data Input'!A244),\"\",SUM(B240,C240))","v":""},{"$f":"IF(ISBLANK('Data Input'!A244),\"\",SUM('Data Input'!C244:AQ244))","v":""},{"$f":"IF(E240=\"\",\"\",E240/(COUNTA('Data Input'!$C$8:$AQ$8)-1))","v":""},{"$f":"IF(ISBLANK('Data Input'!A244),\"\",SUM('Data Input'!H244,'Data Input'!I244,'Data Input'!M244,'Data Input'!N244))","v":""},{"$f":"IF(G240=\"\",\"\",G240/COUNTIF('Data Input'!$C$8:$AQ$8,$G$2))","v":""},{"$f":"IF(ISBLANK('Data Input'!A244),\"\",SUM('Data Input'!J244,'Data Input'!K244,'Data Input'!U244,'Data Input'!V244))","v":""},{"$f":"IF(I240=\"\",\"\",I240/COUNTIF('Data Input'!$C$8:$AQ$8,$I$2))","v":""},{"$f":"IF(ISBLANK('Data Input'!A244),\"\",SUM('Data Input'!D244))","v":""},{"$f":"IF(K240=\"\",\"\",K240/COUNTIF('Data Input'!$C$8:$AQ$8,$K$2))","v":""},{"$f":"IF(ISBLANK('Data Input'!A244),\"\",SUM('Data Input'!O244,'Data Input'!P244,'Data Input'!R244,'Data Input'!S244))","v":""},{"$f":"IF(M240=\"\",\"\",M240/COUNTIF('Data Input'!$C$8:$AQ$8,$M$2))","v":""},{"$f":"IF(ISBLANK('Data Input'!A244),\"\",SUM('Data Input'!C244,'Data Input'!E244,'Data Input'!F244,'Data Input'!G244,'Data Input'!Q244,'Data Input'!T244))","v":""},{"$f":"IF(O240=\"\",\"\",O240/COUNTIF('Data Input'!$C$8:$AQ$8,$O$2))","v":""},{"$f":"IF(ISBLANK('Data Input'!A244),\"\",SUM('Data Input'!L244))","v":""},{"$f":"IF(Q240=\"\",\"\",Q240/COUNTIF('Data Input'!$C$8:$AQ$8,$Q$2))","v":""},{"$f":"IF(ISBLANK('Data Input'!A244),\"\",SUM('Data Input'!X244:AQ244))","v":""},{"$f":"IF(S240=\"\",\"\",S240/COUNTIF('Data Input'!$C$8:$AQ$8,$S$2))","v":""}]
[{"$f":"IF('Data Input'!A245=0,\"\",'Data Input'!A245)","v":""},{"$f":"IF(ISBLANK('Data Input'!A245),\"\",COUNTIF('Data Input'!C245:AQ245,\"\")-1)","v":""},{"$f":"IF(ISBLANK('Data Input'!A245),\"\",COUNTIF('Data Input'!C245:AQ245,\"0\"))","v":""},{"$f":"IF(ISBLANK('Data Input'!A245),\"\",SUM(B241,C241))","v":""},{"$f":"IF(ISBLANK('Data Input'!A245),\"\",SUM('Data Input'!C245:AQ245))","v":""},{"$f":"IF(E241=\"\",\"\",E241/(COUNTA('Data Input'!$C$8:$AQ$8)-1))","v":""},{"$f":"IF(ISBLANK('Data Input'!A245),\"\",SUM('Data Input'!H245,'Data Input'!I245,'Data Input'!M245,'Data Input'!N245))","v":""},{"$f":"IF(G241=\"\",\"\",G241/COUNTIF('Data Input'!$C$8:$AQ$8,$G$2))","v":""},{"$f":"IF(ISBLANK('Data Input'!A245),\"\",SUM('Data Input'!J245,'Data Input'!K245,'Data Input'!U245,'Data Input'!V245))","v":""},{"$f":"IF(I241=\"\",\"\",I241/COUNTIF('Data Input'!$C$8:$AQ$8,$I$2))","v":""},{"$f":"IF(ISBLANK('Data Input'!A245),\"\",SUM('Data Input'!D245))","v":""},{"$f":"IF(K241=\"\",\"\",K241/COUNTIF('Data Input'!$C$8:$AQ$8,$K$2))","v":""},{"$f":"IF(ISBLANK('Data Input'!A245),\"\",SUM('Data Input'!O245,'Data Input'!P245,'Data Input'!R245,'Data Input'!S245))","v":""},{"$f":"IF(M241=\"\",\"\",M241/COUNTIF('Data Input'!$C$8:$AQ$8,$M$2))","v":""},{"$f":"IF(ISBLANK('Data Input'!A245),\"\",SUM('Data Input'!C245,'Data Input'!E245,'Data Input'!F245,'Data Input'!G245,'Data Input'!Q245,'Data Input'!T245))","v":""},{"$f":"IF(O241=\"\",\"\",O241/COUNTIF('Data Input'!$C$8:$AQ$8,$O$2))","v":""},{"$f":"IF(ISBLANK('Data Input'!A245),\"\",SUM('Data Input'!L245))","v":""},{"$f":"IF(Q241=\"\",\"\",Q241/COUNTIF('Data Input'!$C$8:$AQ$8,$Q$2))","v":""},{"$f":"IF(ISBLANK('Data Input'!A245),\"\",SUM('Data Input'!X245:AQ245))","v":""},{"$f":"IF(S241=\"\",\"\",S241/COUNTIF('Data Input'!$C$8:$AQ$8,$S$2))","v":""}]
[{"$f":"IF('Data Input'!A246=0,\"\",'Data Input'!A246)","v":""},{"$f":"IF(ISBLANK('Data Input'!A246),\"\",COUNTIF('Data Input'!C246:AQ246,\"\")-1)","v":""},{"$f":"IF(ISBLANK('Data Input'!A246),\"\",COUNTIF('Data Input'!C246:AQ246,\"0\"))","v":""},{"$f":"IF(ISBLANK('Data Input'!A246),\"\",SUM(B242,C242))","v":""},{"$f":"IF(ISBLANK('Data Input'!A246),\"\",SUM('Data Input'!C246:AQ246))","v":""},{"$f":"IF(E242=\"\",\"\",E242/(COUNTA('Data Input'!$C$8:$AQ$8)-1))","v":""},{"$f":"IF(ISBLANK('Data Input'!A246),\"\",SUM('Data Input'!H246,'Data Input'!I246,'Data Input'!M246,'Data Input'!N246))","v":""},{"$f":"IF(G242=\"\",\"\",G242/COUNTIF('Data Input'!$C$8:$AQ$8,$G$2))","v":""},{"$f":"IF(ISBLANK('Data Input'!A246),\"\",SUM('Data Input'!J246,'Data Input'!K246,'Data Input'!U246,'Data Input'!V246))","v":""},{"$f":"IF(I242=\"\",\"\",I242/COUNTIF('Data Input'!$C$8:$AQ$8,$I$2))","v":""},{"$f":"IF(ISBLANK('Data Input'!A246),\"\",SUM('Data Input'!D246))","v":""},{"$f":"IF(K242=\"\",\"\",K242/COUNTIF('Data Input'!$C$8:$AQ$8,$K$2))","v":""},{"$f":"IF(ISBLANK('Data Input'!A246),\"\",SUM('Data Input'!O246,'Data Input'!P246,'Data Input'!R246,'Data Input'!S246))","v":""},{"$f":"IF(M242=\"\",\"\",M242/COUNTIF('Data Input'!$C$8:$AQ$8,$M$2))","v":""},{"$f":"IF(ISBLANK('Data Input'!A246),\"\",SUM('Data Input'!C246,'Data Input'!E246,'Data Input'!F246,'Data Input'!G246,'Data Input'!Q246,'Data Input'!T246))","v":""},{"$f":"IF(O242=\"\",\"\",O242/COUNTIF('Data Input'!$C$8:$AQ$8,$O$2))","v":""},{"$f":"IF(ISBLANK('Data Input'!A246),\"\",SUM('Data Input'!L246))","v":""},{"$f":"IF(Q242=\"\",\"\",Q242/COUNTIF('Data Input'!$C$8:$AQ$8,$Q$2))","v":""},{"$f":"IF(ISBLANK('Data Input'!A246),\"\",SUM('Data Input'!X246:AQ246))","v":""},{"$f":"IF(S242=\"\",\"\",S242/COUNTIF('Data Input'!$C$8:$AQ$8,$S$2))","v":""}]
[{"$f":"IF('Data Input'!A247=0,\"\",'Data Input'!A247)","v":""},{"$f":"IF(ISBLANK('Data Input'!A247),\"\",COUNTIF('Data Input'!C247:AQ247,\"\")-1)","v":""},{"$f":"IF(ISBLANK('Data Input'!A247),\"\",COUNTIF('Data Input'!C247:AQ247,\"0\"))","v":""},{"$f":"IF(ISBLANK('Data Input'!A247),\"\",SUM(B243,C243))","v":""},{"$f":"IF(ISBLANK('Data Input'!A247),\"\",SUM('Data Input'!C247:AQ247))","v":""},{"$f":"IF(E243=\"\",\"\",E243/(COUNTA('Data Input'!$C$8:$AQ$8)-1))","v":""},{"$f":"IF(ISBLANK('Data Input'!A247),\"\",SUM('Data Input'!H247,'Data Input'!I247,'Data Input'!M247,'Data Input'!N247))","v":""},{"$f":"IF(G243=\"\",\"\",G243/COUNTIF('Data Input'!$C$8:$AQ$8,$G$2))","v":""},{"$f":"IF(ISBLANK('Data Input'!A247),\"\",SUM('Data Input'!J247,'Data Input'!K247,'Data Input'!U247,'Data Input'!V247))","v":""},{"$f":"IF(I243=\"\",\"\",I243/COUNTIF('Data Input'!$C$8:$AQ$8,$I$2))","v":""},{"$f":"IF(ISBLANK('Data Input'!A247),\"\",SUM('Data Input'!D247))","v":""},{"$f":"IF(K243=\"\",\"\",K243/COUNTIF('Data Input'!$C$8:$AQ$8,$K$2))","v":""},{"$f":"IF(ISBLANK('Data Input'!A247),\"\",SUM('Data Input'!O247,'Data Input'!P247,'Data Input'!R247,'Data Input'!S247))","v":""},{"$f":"IF(M243=\"\",\"\",M243/COUNTIF('Data Input'!$C$8:$AQ$8,$M$2))","v":""},{"$f":"IF(ISBLANK('Data Input'!A247),\"\",SUM('Data Input'!C247,'Data Input'!E247,'Data Input'!F247,'Data Input'!G247,'Data Input'!Q247,'Data Input'!T247))","v":""},{"$f":"IF(O243=\"\",\"\",O243/COUNTIF('Data Input'!$C$8:$AQ$8,$O$2))","v":""},{"$f":"IF(ISBLANK('Data Input'!A247),\"\",SUM('Data Input'!L247))","v":""},{"$f":"IF(Q243=\"\",\"\",Q243/COUNTIF('Data Input'!$C$8:$AQ$8,$Q$2))","v":""},{"$f":"IF(ISBLANK('Data Input'!A247),\"\",SUM('Data Input'!X247:AQ247))","v":""},{"$f":"IF(S243=\"\",\"\",S243/COUNTIF('Data Input'!$C$8:$AQ$8,$S$2))","v":""}]
[{"$f":"IF('Data Input'!A248=0,\"\",'Data Input'!A248)","v":""},{"$f":"IF(ISBLANK('Data Input'!A248),\"\",COUNTIF('Data Input'!C248:AQ248,\"\")-1)","v":""},{"$f":"IF(ISBLANK('Data Input'!A248),\"\",COUNTIF('Data Input'!C248:AQ248,\"0\"))","v":""},{"$f":"IF(ISBLANK('Data Input'!A248),\"\",SUM(B244,C244))","v":""},{"$f":"IF(ISBLANK('Data Input'!A248),\"\",SUM('Data Input'!C248:AQ248))","v":""},{"$f":"IF(E244=\"\",\"\",E244/(COUNTA('Data Input'!$C$8:$AQ$8)-1))","v":""},{"$f":"IF(ISBLANK('Data Input'!A248),\"\",SUM('Data Input'!H248,'Data Input'!I248,'Data Input'!M248,'Data Input'!N248))","v":""},{"$f":"IF(G244=\"\",\"\",G244/COUNTIF('Data Input'!$C$8:$AQ$8,$G$2))","v":""},{"$f":"IF(ISBLANK('Data Input'!A248),\"\",SUM('Data Input'!J248,'Data Input'!K248,'Data Input'!U248,'Data Input'!V248))","v":""},{"$f":"IF(I244=\"\",\"\",I244/COUNTIF('Data Input'!$C$8:$AQ$8,$I$2))","v":""},{"$f":"IF(ISBLANK('Data Input'!A248),\"\",SUM('Data Input'!D248))","v":""},{"$f":"IF(K244=\"\",\"\",K244/COUNTIF('Data Input'!$C$8:$AQ$8,$K$2))","v":""},{"$f":"IF(ISBLANK('Data Input'!A248),\"\",SUM('Data Input'!O248,'Data Input'!P248,'Data Input'!R248,'Data Input'!S248))","v":""},{"$f":"IF(M244=\"\",\"\",M244/COUNTIF('Data Input'!$C$8:$AQ$8,$M$2))","v":""},{"$f":"IF(ISBLANK('Data Input'!A248),\"\",SUM('Data Input'!C248,'Data Input'!E248,'Data Input'!F248,'Data Input'!G248,'Data Input'!Q248,'Data Input'!T248))","v":""},{"$f":"IF(O244=\"\",\"\",O244/COUNTIF('Data Input'!$C$8:$AQ$8,$O$2))","v":""},{"$f":"IF(ISBLANK('Data Input'!A248),\"\",SUM('Data Input'!L248))","v":""},{"$f":"IF(Q244=\"\",\"\",Q244/COUNTIF('Data Input'!$C$8:$AQ$8,$Q$2))","v":""},{"$f":"IF(ISBLANK('Data Input'!A248),\"\",SUM('Data Input'!X248:AQ248))","v":""},{"$f":"IF(S244=\"\",\"\",S244/COUNTIF('Data Input'!$C$8:$AQ$8,$S$2))","v":""}]
[{"$f":"IF('Data Input'!A249=0,\"\",'Data Input'!A249)","v":""},{"$f":"IF(ISBLANK('Data Input'!A249),\"\",COUNTIF('Data Input'!C249:AQ249,\"\")-1)","v":""},{"$f":"IF(ISBLANK('Data Input'!A249),\"\",COUNTIF('Data Input'!C249:AQ249,\"0\"))","v":""},{"$f":"IF(ISBLANK('Data Input'!A249),\"\",SUM(B245,C245))","v":""},{"$f":"IF(ISBLANK('Data Input'!A249),\"\",SUM('Data Input'!C249:AQ249))","v":""},{"$f":"IF(E245=\"\",\"\",E245/(COUNTA('Data Input'!$C$8:$AQ$8)-1))","v":""},{"$f":"IF(ISBLANK('Data Input'!A249),\"\",SUM('Data Input'!H249,'Data Input'!I249,'Data Input'!M249,'Data Input'!N249))","v":""},{"$f":"IF(G245=\"\",\"\",G245/COUNTIF('Data Input'!$C$8:$AQ$8,$G$2))","v":""},{"$f":"IF(ISBLANK('Data Input'!A249),\"\",SUM('Data Input'!J249,'Data Input'!K249,'Data Input'!U249,'Data Input'!V249))","v":""},{"$f":"IF(I245=\"\",\"\",I245/COUNTIF('Data Input'!$C$8:$AQ$8,$I$2))","v":""},{"$f":"IF(ISBLANK('Data Input'!A249),\"\",SUM('Data Input'!D249))","v":""},{"$f":"IF(K245=\"\",\"\",K245/COUNTIF('Data Input'!$C$8:$AQ$8,$K$2))","v":""},{"$f":"IF(ISBLANK('Data Input'!A249),\"\",SUM('Data Input'!O249,'Data Input'!P249,'Data Input'!R249,'Data Input'!S249))","v":""},{"$f":"IF(M245=\"\",\"\",M245/COUNTIF('Data Input'!$C$8:$AQ$8,$M$2))","v":""},{"$f":"IF(ISBLANK('Data Input'!A249),\"\",SUM('Data Input'!C249,'Data Input'!E249,'Data Input'!F249,'Data Input'!G249,'Data Input'!Q249,'Data Input'!T249))","v":""},{"$f":"IF(O245=\"\",\"\",O245/COUNTIF('Data Input'!$C$8:$AQ$8,$O$2))","v":""},{"$f":"IF(ISBLANK('Data Input'!A249),\"\",SUM('Data Input'!L249))","v":""},{"$f":"IF(Q245=\"\",\"\",Q245/COUNTIF('Data Input'!$C$8:$AQ$8,$Q$2))","v":""},{"$f":"IF(ISBLANK('Data Input'!A249),\"\",SUM('Data Input'!X249:AQ249))","v":""},{"$f":"IF(S245=\"\",\"\",S245/COUNTIF('Data Input'!$C$8:$AQ$8,$S$2))","v":""}]
[{"$f":"IF('Data Input'!A250=0,\"\",'Data Input'!A250)","v":""},{"$f":"IF(ISBLANK('Data Input'!A250),\"\",COUNTIF('Data Input'!C250:AQ250,\"\")-1)","v":""},{"$f":"IF(ISBLANK('Data Input'!A250),\"\",COUNTIF('Data Input'!C250:AQ250,\"0\"))","v":""},{"$f":"IF(ISBLANK('Data Input'!A250),\"\",SUM(B246,C246))","v":""},{"$f":"IF(ISBLANK('Data Input'!A250),\"\",SUM('Data Input'!C250:AQ250))","v":""},{"$f":"IF(E246=\"\",\"\",E246/(COUNTA('Data Input'!$C$8:$AQ$8)-1))","v":""},{"$f":"IF(ISBLANK('Data Input'!A250),\"\",SUM('Data Input'!H250,'Data Input'!I250,'Data Input'!M250,'Data Input'!N250))","v":""},{"$f":"IF(G246=\"\",\"\",G246/COUNTIF('Data Input'!$C$8:$AQ$8,$G$2))","v":""},{"$f":"IF(ISBLANK('Data Input'!A250),\"\",SUM('Data Input'!J250,'Data Input'!K250,'Data Input'!U250,'Data Input'!V250))","v":""},{"$f":"IF(I246=\"\",\"\",I246/COUNTIF('Data Input'!$C$8:$AQ$8,$I$2))","v":""},{"$f":"IF(ISBLANK('Data Input'!A250),\"\",SUM('Data Input'!D250))","v":""},{"$f":"IF(K246=\"\",\"\",K246/COUNTIF('Data Input'!$C$8:$AQ$8,$K$2))","v":""},{"$f":"IF(ISBLANK('Data Input'!A250),\"\",SUM('Data Input'!O250,'Data Input'!P250,'Data Input'!R250,'Data Input'!S250))","v":""},{"$f":"IF(M246=\"\",\"\",M246/COUNTIF('Data Input'!$C$8:$AQ$8,$M$2))","v":""},{"$f":"IF(ISBLANK('Data Input'!A250),\"\",SUM('Data Input'!C250,'Data Input'!E250,'Data Input'!F250,'Data Input'!G250,'Data Input'!Q250,'Data Input'!T250))","v":""},{"$f":"IF(O246=\"\",\"\",O246/COUNTIF('Data Input'!$C$8:$AQ$8,$O$2))","v":""},{"$f":"IF(ISBLANK('Data Input'!A250),\"\",SUM('Data Input'!L250))","v":""},{"$f":"IF(Q246=\"\",\"\",Q246/COUNTIF('Data Input'!$C$8:$AQ$8,$Q$2))","v":""},{"$f":"IF(ISBLANK('Data Input'!A250),\"\",SUM('Data Input'!X250:AQ250))","v":""},{"$f":"IF(S246=\"\",\"\",S246/COUNTIF('Data Input'!$C$8:$AQ$8,$S$2))","v":""}]
[{"$f":"IF('Data Input'!A251=0,\"\",'Data Input'!A251)","v":""},{"$f":"IF(ISBLANK('Data Input'!A251),\"\",COUNTIF('Data Input'!C251:AQ251,\"\")-1)","v":""},{"$f":"IF(ISBLANK('Data Input'!A251),\"\",COUNTIF('Data Input'!C251:AQ251,\"0\"))","v":""},{"$f":"IF(ISBLANK('Data Input'!A251),\"\",SUM(B247,C247))","v":""},{"$f":"IF(ISBLANK('Data Input'!A251),\"\",SUM('Data Input'!C251:AQ251))","v":""},{"$f":"IF(E247=\"\",\"\",E247/(COUNTA('Data Input'!$C$8:$AQ$8)-1))","v":""},{"$f":"IF(ISBLANK('Data Input'!A251),\"\",SUM('Data Input'!H251,'Data Input'!I251,'Data Input'!M251,'Data Input'!N251))","v":""},{"$f":"IF(G247=\"\",\"\",G247/COUNTIF('Data Input'!$C$8:$AQ$8,$G$2))","v":""},{"$f":"IF(ISBLANK('Data Input'!A251),\"\",SUM('Data Input'!J251,'Data Input'!K251,'Data Input'!U251,'Data Input'!V251))","v":""},{"$f":"IF(I247=\"\",\"\",I247/COUNTIF('Data Input'!$C$8:$AQ$8,$I$2))","v":""},{"$f":"IF(ISBLANK('Data Input'!A251),\"\",SUM('Data Input'!D251))","v":""},{"$f":"IF(K247=\"\",\"\",K247/COUNTIF('Data Input'!$C$8:$AQ$8,$K$2))","v":""},{"$f":"IF(ISBLANK('Data Input'!A251),\"\",SUM('Data Input'!O251,'Data Input'!P251,'Data Input'!R251,'Data Input'!S251))","v":""},{"$f":"IF(M247=\"\",\"\",M247/COUNTIF('Data Input'!$C$8:$AQ$8,$M$2))","v":""},{"$f":"IF(ISBLANK('Data Input'!A251),\"\",SUM('Data Input'!C251,'Data Input'!E251,'Data Input'!F251,'Data Input'!G251,'Data Input'!Q251,'Data Input'!T251))","v":""},{"$f":"IF(O247=\"\",\"\",O247/COUNTIF('Data Input'!$C$8:$AQ$8,$O$2))","v":""},{"$f":"IF(ISBLANK('Data Input'!A251),\"\",SUM('Data Input'!L251))","v":""},{"$f":"IF(Q247=\"\",\"\",Q247/COUNTIF('Data Input'!$C$8:$AQ$8,$Q$2))","v":""},{"$f":"IF(ISBLANK('Data Input'!A251),\"\",SUM('Data Input'!X251:AQ251))","v":""},{"$f":"IF(S247=\"\",\"\",S247/COUNTIF('Data Input'!$C$8:$AQ$8,$S$2))","v":""}]
[{"$f":"IF('Data Input'!A252=0,\"\",'Data Input'!A252)","v":""},{"$f":"IF(ISBLANK('Data Input'!A252),\"\",COUNTIF('Data Input'!C252:AQ252,\"\")-1)","v":""},{"$f":"IF(ISBLANK('Data Input'!A252),\"\",COUNTIF('Data Input'!C252:AQ252,\"0\"))","v":""},{"$f":"IF(ISBLANK('Data Input'!A252),\"\",SUM(B248,C248))","v":""},{"$f":"IF(ISBLANK('Data Input'!A252),\"\",SUM('Data Input'!C252:AQ252))","v":""},{"$f":"IF(E248=\"\",\"\",E248/(COUNTA('Data Input'!$C$8:$AQ$8)-1))","v":""},{"$f":"IF(ISBLANK('Data Input'!A252),\"\",SUM('Data Input'!H252,'Data Input'!I252,'Data Input'!M252,'Data Input'!N252))","v":""},{"$f":"IF(G248=\"\",\"\",G248/COUNTIF('Data Input'!$C$8:$AQ$8,$G$2))","v":""},{"$f":"IF(ISBLANK('Data Input'!A252),\"\",SUM('Data Input'!J252,'Data Input'!K252,'Data Input'!U252,'Data Input'!V252))","v":""},{"$f":"IF(I248=\"\",\"\",I248/COUNTIF('Data Input'!$C$8:$AQ$8,$I$2))","v":""},{"$f":"IF(ISBLANK('Data Input'!A252),\"\",SUM('Data Input'!D252))","v":""},{"$f":"IF(K248=\"\",\"\",K248/COUNTIF('Data Input'!$C$8:$AQ$8,$K$2))","v":""},{"$f":"IF(ISBLANK('Data Input'!A252),\"\",SUM('Data Input'!O252,'Data Input'!P252,'Data Input'!R252,'Data Input'!S252))","v":""},{"$f":"IF(M248=\"\",\"\",M248/COUNTIF('Data Input'!$C$8:$AQ$8,$M$2))","v":""},{"$f":"IF(ISBLANK('Data Input'!A252),\"\",SUM('Data Input'!C252,'Data Input'!E252,'Data Input'!F252,'Data Input'!G252,'Data Input'!Q252,'Data Input'!T252))","v":""},{"$f":"IF(O248=\"\",\"\",O248/COUNTIF('Data Input'!$C$8:$AQ$8,$O$2))","v":""},{"$f":"IF(ISBLANK('Data Input'!A252),\"\",SUM('Data Input'!L252))","v":""},{"$f":"IF(Q248=\"\",\"\",Q248/COUNTIF('Data Input'!$C$8:$AQ$8,$Q$2))","v":""},{"$f":"IF(ISBLANK('Data Input'!A252),\"\",SUM('Data Input'!X252:AQ252))","v":""},{"$f":"IF(S248=\"\",\"\",S248/COUNTIF('Data Input'!$C$8:$AQ$8,$S$2))","v":""}]
[{"$f":"IF('Data Input'!A253=0,\"\",'Data Input'!A253)","v":""},{"$f":"IF(ISBLANK('Data Input'!A253),\"\",COUNTIF('Data Input'!C253:AQ253,\"\")-1)","v":""},{"$f":"IF(ISBLANK('Data Input'!A253),\"\",COUNTIF('Data Input'!C253:AQ253,\"0\"))","v":""},{"$f":"IF(ISBLANK('Data Input'!A253),\"\",SUM(B249,C249))","v":""},{"$f":"IF(ISBLANK('Data Input'!A253),\"\",SUM('Data Input'!C253:AQ253))","v":""},{"$f":"IF(E249=\"\",\"\",E249/(COUNTA('Data Input'!$C$8:$AQ$8)-1))","v":""},{"$f":"IF(ISBLANK('Data Input'!A253),\"\",SUM('Data Input'!H253,'Data Input'!I253,'Data Input'!M253,'Data Input'!N253))","v":""},{"$f":"IF(G249=\"\",\"\",G249/COUNTIF('Data Input'!$C$8:$AQ$8,$G$2))","v":""},{"$f":"IF(ISBLANK('Data Input'!A253),\"\",SUM('Data Input'!J253,'Data Input'!K253,'Data Input'!U253,'Data Input'!V253))","v":""},{"$f":"IF(I249=\"\",\"\",I249/COUNTIF('Data Input'!$C$8:$AQ$8,$I$2))","v":""},{"$f":"IF(ISBLANK('Data Input'!A253),\"\",SUM('Data Input'!D253))","v":""},{"$f":"IF(K249=\"\",\"\",K249/COUNTIF('Data Input'!$C$8:$AQ$8,$K$2))","v":""},{"$f":"IF(ISBLANK('Data Input'!A253),\"\",SUM('Data Input'!O253,'Data Input'!P253,'Data Input'!R253,'Data Input'!S253))","v":""},{"$f":"IF(M249=\"\",\"\",M249/COUNTIF('Data Input'!$C$8:$AQ$8,$M$2))","v":""},{"$f":"IF(ISBLANK('Data Input'!A253),\"\",SUM('Data Input'!C253,'Data Input'!E253,'Data Input'!F253,'Data Input'!G253,'Data Input'!Q253,'Data Input'!T253))","v":""},{"$f":"IF(O249=\"\",\"\",O249/COUNTIF('Data Input'!$C$8:$AQ$8,$O$2))","v":""},{"$f":"IF(ISBLANK('Data Input'!A253),\"\",SUM('Data Input'!L253))","v":""},{"$f":"IF(Q249=\"\",\"\",Q249/COUNTIF('Data Input'!$C$8:$AQ$8,$Q$2))","v":""},{"$f":"IF(ISBLANK('Data Input'!A253),\"\",SUM('Data Input'!X253:AQ253))","v":""},{"$f":"IF(S249=\"\",\"\",S249/COUNTIF('Data Input'!$C$8:$AQ$8,$S$2))","v":""}]
[{"$f":"IF('Data Input'!A254=0,\"\",'Data Input'!A254)","v":""},{"$f":"IF(ISBLANK('Data Input'!A254),\"\",COUNTIF('Data Input'!C254:AQ254,\"\")-1)","v":""},{"$f":"IF(ISBLANK('Data Input'!A254),\"\",COUNTIF('Data Input'!C254:AQ254,\"0\"))","v":""},{"$f":"IF(ISBLANK('Data Input'!A254),\"\",SUM(B250,C250))","v":""},{"$f":"IF(ISBLANK('Data Input'!A254),\"\",SUM('Data Input'!C254:AQ254))","v":""},{"$f":"IF(E250=\"\",\"\",E250/(COUNTA('Data Input'!$C$8:$AQ$8)-1))","v":""},{"$f":"IF(ISBLANK('Data Input'!A254),\"\",SUM('Data Input'!H254,'Data Input'!I254,'Data Input'!M254,'Data Input'!N254))","v":""},{"$f":"IF(G250=\"\",\"\",G250/COUNTIF('Data Input'!$C$8:$AQ$8,$G$2))","v":""},{"$f":"IF(ISBLANK('Data Input'!A254),\"\",SUM('Data Input'!J254,'Data Input'!K254,'Data Input'!U254,'Data Input'!V254))","v":""},{"$f":"IF(I250=\"\",\"\",I250/COUNTIF('Data Input'!$C$8:$AQ$8,$I$2))","v":""},{"$f":"IF(ISBLANK('Data Input'!A254),\"\",SUM('Data Input'!D254))","v":""},{"$f":"IF(K250=\"\",\"\",K250/COUNTIF('Data Input'!$C$8:$AQ$8,$K$2))","v":""},{"$f":"IF(ISBLANK('Data Input'!A254),\"\",SUM('Data Input'!O254,'Data Input'!P254,'Data Input'!R254,'Data Input'!S254))","v":""},{"$f":"IF(M250=\"\",\"\",M250/COUNTIF('Data Input'!$C$8:$AQ$8,$M$2))","v":""},{"$f":"IF(ISBLANK('Data Input'!A254),\"\",SUM('Data Input'!C254,'Data Input'!E254,'Data Input'!F254,'Data Input'!G254,'Data Input'!Q254,'Data Input'!T254))","v":""},{"$f":"IF(O250=\"\",\"\",O250/COUNTIF('Data Input'!$C$8:$AQ$8,$O$2))","v":""},{"$f":"IF(ISBLANK('Data Input'!A254),\"\",SUM('Data Input'!L254))","v":""},{"$f":"IF(Q250=\"\",\"\",Q250/COUNTIF('Data Input'!$C$8:$AQ$8,$Q$2))","v":""},{"$f":"IF(ISBLANK('Data Input'!A254),\"\",SUM('Data Input'!X254:AQ254))","v":""},{"$f":"IF(S250=\"\",\"\",S250/COUNTIF('Data Input'!$C$8:$AQ$8,$S$2))","v":""}]
[{"$f":"IF('Data Input'!A255=0,\"\",'Data Input'!A255)","v":""},{"$f":"IF(ISBLANK('Data Input'!A255),\"\",COUNTIF('Data Input'!C255:AQ255,\"\")-1)","v":""},{"$f":"IF(ISBLANK('Data Input'!A255),\"\",COUNTIF('Data Input'!C255:AQ255,\"0\"))","v":""},{"$f":"IF(ISBLANK('Data Input'!A255),\"\",SUM(B251,C251))","v":""},{"$f":"IF(ISBLANK('Data Input'!A255),\"\",SUM('Data Input'!C255:AQ255))","v":""},{"$f":"IF(E251=\"\",\"\",E251/(COUNTA('Data Input'!$C$8:$AQ$8)-1))","v":""},{"$f":"IF(ISBLANK('Data Input'!A255),\"\",SUM('Data Input'!H255,'Data Input'!I255,'Data Input'!M255,'Data Input'!N255))","v":""},{"$f":"IF(G251=\"\",\"\",G251/COUNTIF('Data Input'!$C$8:$AQ$8,$G$2))","v":""},{"$f":"IF(ISBLANK('Data Input'!A255),\"\",SUM('Data Input'!J255,'Data Input'!K255,'Data Input'!U255,'Data Input'!V255))","v":""},{"$f":"IF(I251=\"\",\"\",I251/COUNTIF('Data Input'!$C$8:$AQ$8,$I$2))","v":""},{"$f":"IF(ISBLANK('Data Input'!A255),\"\",SUM('Data Input'!D255))","v":""},{"$f":"IF(K251=\"\",\"\",K251/COUNTIF('Data Input'!$C$8:$AQ$8,$K$2))","v":""},{"$f":"IF(ISBLANK('Data Input'!A255),\"\",SUM('Data Input'!O255,'Data Input'!P255,'Data Input'!R255,'Data Input'!S255))","v":""},{"$f":"IF(M251=\"\",\"\",M251/COUNTIF('Data Input'!$C$8:$AQ$8,$M$2))","v":""},{"$f":"IF(ISBLANK('Data Input'!A255),\"\",SUM('Data Input'!C255,'Data Input'!E255,'Data Input'!F255,'Data Input'!G255,'Data Input'!Q255,'Data Input'!T255))","v":""},{"$f":"IF(O251=\"\",\"\",O251/COUNTIF('Data Input'!$C$8:$AQ$8,$O$2))","v":""},{"$f":"IF(ISBLANK('Data Input'!A255),\"\",SUM('Data Input'!L255))","v":""},{"$f":"IF(Q251=\"\",\"\",Q251/COUNTIF('Data Input'!$C$8:$AQ$8,$Q$2))","v":""},{"$f":"IF(ISBLANK('Data Input'!A255),\"\",SUM('Data Input'!X255:AQ255))","v":""},{"$f":"IF(S251=\"\",\"\",S251/COUNTIF('Data Input'!$C$8:$AQ$8,$S$2))","v":""}]
[{"$f":"IF('Data Input'!A256=0,\"\",'Data Input'!A256)","v":""},{"$f":"IF(ISBLANK('Data Input'!A256),\"\",COUNTIF('Data Input'!C256:AQ256,\"\")-1)","v":""},{"$f":"IF(ISBLANK('Data Input'!A256),\"\",COUNTIF('Data Input'!C256:AQ256,\"0\"))","v":""},{"$f":"IF(ISBLANK('Data Input'!A256),\"\",SUM(B252,C252))","v":""},{"$f":"IF(ISBLANK('Data Input'!A256),\"\",SUM('Data Input'!C256:AQ256))","v":""},{"$f":"IF(E252=\"\",\"\",E252/(COUNTA('Data Input'!$C$8:$AQ$8)-1))","v":""},{"$f":"IF(ISBLANK('Data Input'!A256),\"\",SUM('Data Input'!H256,'Data Input'!I256,'Data Input'!M256,'Data Input'!N256))","v":""},{"$f":"IF(G252=\"\",\"\",G252/COUNTIF('Data Input'!$C$8:$AQ$8,$G$2))","v":""},{"$f":"IF(ISBLANK('Data Input'!A256),\"\",SUM('Data Input'!J256,'Data Input'!K256,'Data Input'!U256,'Data Input'!V256))","v":""},{"$f":"IF(I252=\"\",\"\",I252/COUNTIF('Data Input'!$C$8:$AQ$8,$I$2))","v":""},{"$f":"IF(ISBLANK('Data Input'!A256),\"\",SUM('Data Input'!D256))","v":""},{"$f":"IF(K252=\"\",\"\",K252/COUNTIF('Data Input'!$C$8:$AQ$8,$K$2))","v":""},{"$f":"IF(ISBLANK('Data Input'!A256),\"\",SUM('Data Input'!O256,'Data Input'!P256,'Data Input'!R256,'Data Input'!S256))","v":""},{"$f":"IF(M252=\"\",\"\",M252/COUNTIF('Data Input'!$C$8:$AQ$8,$M$2))","v":""},{"$f":"IF(ISBLANK('Data Input'!A256),\"\",SUM('Data Input'!C256,'Data Input'!E256,'Data Input'!F256,'Data Input'!G256,'Data Input'!Q256,'Data Input'!T256))","v":""},{"$f":"IF(O252=\"\",\"\",O252/COUNTIF('Data Input'!$C$8:$AQ$8,$O$2))","v":""},{"$f":"IF(ISBLANK('Data Input'!A256),\"\",SUM('Data Input'!L256))","v":""},{"$f":"IF(Q252=\"\",\"\",Q252/COUNTIF('Data Input'!$C$8:$AQ$8,$Q$2))","v":""},{"$f":"IF(ISBLANK('Data Input'!A256),\"\",SUM('Data Input'!X256:AQ256))","v":""},{"$f":"IF(S252=\"\",\"\",S252/COUNTIF('Data Input'!$C$8:$AQ$8,$S$2))","v":""}]
[{"$f":"IF('Data Input'!A257=0,\"\",'Data Input'!A257)","v":""},{"$f":"IF(ISBLANK('Data Input'!A257),\"\",COUNTIF('Data Input'!C257:AQ257,\"\")-1)","v":""},{"$f":"IF(ISBLANK('Data Input'!A257),\"\",COUNTIF('Data Input'!C257:AQ257,\"0\"))","v":""},{"$f":"IF(ISBLANK('Data Input'!A257),\"\",SUM(B253,C253))","v":""},{"$f":"IF(ISBLANK('Data Input'!A257),\"\",SUM('Data Input'!C257:AQ257))","v":""},{"$f":"IF(E253=\"\",\"\",E253/(COUNTA('Data Input'!$C$8:$AQ$8)-1))","v":""},{"$f":"IF(ISBLANK('Data Input'!A257),\"\",SUM('Data Input'!H257,'Data Input'!I257,'Data Input'!M257,'Data Input'!N257))","v":""},{"$f":"IF(G253=\"\",\"\",G253/COUNTIF('Data Input'!$C$8:$AQ$8,$G$2))","v":""},{"$f":"IF(ISBLANK('Data Input'!A257),\"\",SUM('Data Input'!J257,'Data Input'!K257,'Data Input'!U257,'Data Input'!V257))","v":""},{"$f":"IF(I253=\"\",\"\",I253/COUNTIF('Data Input'!$C$8:$AQ$8,$I$2))","v":""},{"$f":"IF(ISBLANK('Data Input'!A257),\"\",SUM('Data Input'!D257))","v":""},{"$f":"IF(K253=\"\",\"\",K253/COUNTIF('Data Input'!$C$8:$AQ$8,$K$2))","v":""},{"$f":"IF(ISBLANK('Data Input'!A257),\"\",SUM('Data Input'!O257,'Data Input'!P257,'Data Input'!R257,'Data Input'!S257))","v":""},{"$f":"IF(M253=\"\",\"\",M253/COUNTIF('Data Input'!$C$8:$AQ$8,$M$2))","v":""},{"$f":"IF(ISBLANK('Data Input'!A257),\"\",SUM('Data Input'!C257,'Data Input'!E257,'Data Input'!F257,'Data Input'!G257,'Data Input'!Q257,'Data Input'!T257))","v":""},{"$f":"IF(O253=\"\",\"\",O253/COUNTIF('Data Input'!$C$8:$AQ$8,$O$2))","v":""},{"$f":"IF(ISBLANK('Data Input'!A257),\"\",SUM('Data Input'!L257))","v":""},{"$f":"IF(Q253=\"\",\"\",Q253/COUNTIF('Data Input'!$C$8:$AQ$8,$Q$2))","v":""},{"$f":"IF(ISBLANK('Data Input'!A257),\"\",SUM('Data Input'!X257:AQ257))","v":""},{"$f":"IF(S253=\"\",\"\",S253/COUNTIF('Data Input'!$C$8:$AQ$8,$S$2))","v":""}]
[{"$f":"IF('Data Input'!A258=0,\"\",'Data Input'!A258)","v":""},{"$f":"IF(ISBLANK('Data Input'!A258),\"\",COUNTIF('Data Input'!C258:AQ258,\"\")-1)","v":""},{"$f":"IF(ISBLANK('Data Input'!A258),\"\",COUNTIF('Data Input'!C258:AQ258,\"0\"))","v":""},{"$f":"IF(ISBLANK('Data Input'!A258),\"\",SUM(B254,C254))","v":""},{"$f":"IF(ISBLANK('Data Input'!A258),\"\",SUM('Data Input'!C258:AQ258))","v":""},{"$f":"IF(E254=\"\",\"\",E254/(COUNTA('Data Input'!$C$8:$AQ$8)-1))","v":""},{"$f":"IF(ISBLANK('Data Input'!A258),\"\",SUM('Data Input'!H258,'Data Input'!I258,'Data Input'!M258,'Data Input'!N258))","v":""},{"$f":"IF(G254=\"\",\"\",G254/COUNTIF('Data Input'!$C$8:$AQ$8,$G$2))","v":""},{"$f":"IF(ISBLANK('Data Input'!A258),\"\",SUM('Data Input'!J258,'Data Input'!K258,'Data Input'!U258,'Data Input'!V258))","v":""},{"$f":"IF(I254=\"\",\"\",I254/COUNTIF('Data Input'!$C$8:$AQ$8,$I$2))","v":""},{"$f":"IF(ISBLANK('Data Input'!A258),\"\",SUM('Data Input'!D258))","v":""},{"$f":"IF(K254=\"\",\"\",K254/COUNTIF('Data Input'!$C$8:$AQ$8,$K$2))","v":""},{"$f":"IF(ISBLANK('Data Input'!A258),\"\",SUM('Data Input'!O258,'Data Input'!P258,'Data Input'!R258,'Data Input'!S258))","v":""},{"$f":"IF(M254=\"\",\"\",M254/COUNTIF('Data Input'!$C$8:$AQ$8,$M$2))","v":""},{"$f":"IF(ISBLANK('Data Input'!A258),\"\",SUM('Data Input'!C258,'Data Input'!E258,'Data Input'!F258,'Data Input'!G258,'Data Input'!Q258,'Data Input'!T258))","v":""},{"$f":"IF(O254=\"\",\"\",O254/COUNTIF('Data Input'!$C$8:$AQ$8,$O$2))","v":""},{"$f":"IF(ISBLANK('Data Input'!A258),\"\",SUM('Data Input'!L258))","v":""},{"$f":"IF(Q254=\"\",\"\",Q254/COUNTIF('Data Input'!$C$8:$AQ$8,$Q$2))","v":""},{"$f":"IF(ISBLANK('Data Input'!A258),\"\",SUM('Data Input'!X258:AQ258))","v":""},{"$f":"IF(S254=\"\",\"\",S254/COUNTIF('Data Input'!$C$8:$AQ$8,$S$2))","v":""}]
[{"$f":"IF('Data Input'!A259=0,\"\",'Data Input'!A259)","v":""},{"$f":"IF(ISBLANK('Data Input'!A259),\"\",COUNTIF('Data Input'!C259:AQ259,\"\")-1)","v":""},{"$f":"IF(ISBLANK('Data Input'!A259),\"\",COUNTIF('Data Input'!C259:AQ259,\"0\"))","v":""},{"$f":"IF(ISBLANK('Data Input'!A259),\"\",SUM(B255,C255))","v":""},{"$f":"IF(ISBLANK('Data Input'!A259),\"\",SUM('Data Input'!C259:AQ259))","v":""},{"$f":"IF(E255=\"\",\"\",E255/(COUNTA('Data Input'!$C$8:$AQ$8)-1))","v":""},{"$f":"IF(ISBLANK('Data Input'!A259),\"\",SUM('Data Input'!H259,'Data Input'!I259,'Data Input'!M259,'Data Input'!N259))","v":""},{"$f":"IF(G255=\"\",\"\",G255/COUNTIF('Data Input'!$C$8:$AQ$8,$G$2))","v":""},{"$f":"IF(ISBLANK('Data Input'!A259),\"\",SUM('Data Input'!J259,'Data Input'!K259,'Data Input'!U259,'Data Input'!V259))","v":""},{"$f":"IF(I255=\"\",\"\",I255/COUNTIF('Data Input'!$C$8:$AQ$8,$I$2))","v":""},{"$f":"IF(ISBLANK('Data Input'!A259),\"\",SUM('Data Input'!D259))","v":""},{"$f":"IF(K255=\"\",\"\",K255/COUNTIF('Data Input'!$C$8:$AQ$8,$K$2))","v":""},{"$f":"IF(ISBLANK('Data Input'!A259),\"\",SUM('Data Input'!O259,'Data Input'!P259,'Data Input'!R259,'Data Input'!S259))","v":""},{"$f":"IF(M255=\"\",\"\",M255/COUNTIF('Data Input'!$C$8:$AQ$8,$M$2))","v":""},{"$f":"IF(ISBLANK('Data Input'!A259),\"\",SUM('Data Input'!C259,'Data Input'!E259,'Data Input'!F259,'Data Input'!G259,'Data Input'!Q259,'Data Input'!T259))","v":""},{"$f":"IF(O255=\"\",\"\",O255/COUNTIF('Data Input'!$C$8:$AQ$8,$O$2))","v":""},{"$f":"IF(ISBLANK('Data Input'!A259),\"\",SUM('Data Input'!L259))","v":""},{"$f":"IF(Q255=\"\",\"\",Q255/COUNTIF('Data Input'!$C$8:$AQ$8,$Q$2))","v":""},{"$f":"IF(ISBLANK('Data Input'!A259),\"\",SUM('Data Input'!X259:AQ259))","v":""},{"$f":"IF(S255=\"\",\"\",S255/COUNTIF('Data Input'!$C$8:$AQ$8,$S$2))","v":""}]
[{"$f":"IF('Data Input'!A260=0,\"\",'Data Input'!A260)","v":""},{"$f":"IF(ISBLANK('Data Input'!A260),\"\",COUNTIF('Data Input'!C260:AQ260,\"\")-1)","v":""},{"$f":"IF(ISBLANK('Data Input'!A260),\"\",COUNTIF('Data Input'!C260:AQ260,\"0\"))","v":""},{"$f":"IF(ISBLANK('Data Input'!A260),\"\",SUM(B256,C256))","v":""},{"$f":"IF(ISBLANK('Data Input'!A260),\"\",SUM('Data Input'!C260:AQ260))","v":""},{"$f":"IF(E256=\"\",\"\",E256/(COUNTA('Data Input'!$C$8:$AQ$8)-1))","v":""},{"$f":"IF(ISBLANK('Data Input'!A260),\"\",SUM('Data Input'!H260,'Data Input'!I260,'Data Input'!M260,'Data Input'!N260))","v":""},{"$f":"IF(G256=\"\",\"\",G256/COUNTIF('Data Input'!$C$8:$AQ$8,$G$2))","v":""},{"$f":"IF(ISBLANK('Data Input'!A260),\"\",SUM('Data Input'!J260,'Data Input'!K260,'Data Input'!U260,'Data Input'!V260))","v":""},{"$f":"IF(I256=\"\",\"\",I256/COUNTIF('Data Input'!$C$8:$AQ$8,$I$2))","v":""},{"$f":"IF(ISBLANK('Data Input'!A260),\"\",SUM('Data Input'!D260))","v":""},{"$f":"IF(K256=\"\",\"\",K256/COUNTIF('Data Input'!$C$8:$AQ$8,$K$2))","v":""},{"$f":"IF(ISBLANK('Data Input'!A260),\"\",SUM('Data Input'!O260,'Data Input'!P260,'Data Input'!R260,'Data Input'!S260))","v":""},{"$f":"IF(M256=\"\",\"\",M256/COUNTIF('Data Input'!$C$8:$AQ$8,$M$2))","v":""},{"$f":"IF(ISBLANK('Data Input'!A260),\"\",SUM('Data Input'!C260,'Data Input'!E260,'Data Input'!F260,'Data Input'!G260,'Data Input'!Q260,'Data Input'!T260))","v":""},{"$f":"IF(O256=\"\",\"\",O256/COUNTIF('Data Input'!$C$8:$AQ$8,$O$2))","v":""},{"$f":"IF(ISBLANK('Data Input'!A260),\"\",SUM('Data Input'!L260))","v":""},{"$f":"IF(Q256=\"\",\"\",Q256/COUNTIF('Data Input'!$C$8:$AQ$8,$Q$2))","v":""},{"$f":"IF(ISBLANK('Data Input'!A260),\"\",SUM('Data Input'!X260:AQ260))","v":""},{"$f":"IF(S256=\"\",\"\",S256/COUNTIF('Data Input'!$C$8:$AQ$8,$S$2))","v":""}]
[{"$f":"IF('Data Input'!A261=0,\"\",'Data Input'!A261)","v":""},{"$f":"IF(ISBLANK('Data Input'!A261),\"\",COUNTIF('Data Input'!C261:AQ261,\"\")-1)","v":""},{"$f":"IF(ISBLANK('Data Input'!A261),\"\",COUNTIF('Data Input'!C261:AQ261,\"0\"))","v":""},{"$f":"IF(ISBLANK('Data Input'!A261),\"\",SUM(B257,C257))","v":""},{"$f":"IF(ISBLANK('Data Input'!A261),\"\",SUM('Data Input'!C261:AQ261))","v":""},{"$f":"IF(E257=\"\",\"\",E257/(COUNTA('Data Input'!$C$8:$AQ$8)-1))","v":""},{"$f":"IF(ISBLANK('Data Input'!A261),\"\",SUM('Data Input'!H261,'Data Input'!I261,'Data Input'!M261,'Data Input'!N261))","v":""},{"$f":"IF(G257=\"\",\"\",G257/COUNTIF('Data Input'!$C$8:$AQ$8,$G$2))","v":""},{"$f":"IF(ISBLANK('Data Input'!A261),\"\",SUM('Data Input'!J261,'Data Input'!K261,'Data Input'!U261,'Data Input'!V261))","v":""},{"$f":"IF(I257=\"\",\"\",I257/COUNTIF('Data Input'!$C$8:$AQ$8,$I$2))","v":""},{"$f":"IF(ISBLANK('Data Input'!A261),\"\",SUM('Data Input'!D261))","v":""},{"$f":"IF(K257=\"\",\"\",K257/COUNTIF('Data Input'!$C$8:$AQ$8,$K$2))","v":""},{"$f":"IF(ISBLANK('Data Input'!A261),\"\",SUM('Data Input'!O261,'Data Input'!P261,'Data Input'!R261,'Data Input'!S261))","v":""},{"$f":"IF(M257=\"\",\"\",M257/COUNTIF('Data Input'!$C$8:$AQ$8,$M$2))","v":""},{"$f":"IF(ISBLANK('Data Input'!A261),\"\",SUM('Data Input'!C261,'Data Input'!E261,'Data Input'!F261,'Data Input'!G261,'Data Input'!Q261,'Data Input'!T261))","v":""},{"$f":"IF(O257=\"\",\"\",O257/COUNTIF('Data Input'!$C$8:$AQ$8,$O$2))","v":""},{"$f":"IF(ISBLANK('Data Input'!A261),\"\",SUM('Data Input'!L261))","v":""},{"$f":"IF(Q257=\"\",\"\",Q257/COUNTIF('Data Input'!$C$8:$AQ$8,$Q$2))","v":""},{"$f":"IF(ISBLANK('Data Input'!A261),\"\",SUM('Data Input'!X261:AQ261))","v":""},{"$f":"IF(S257=\"\",\"\",S257/COUNTIF('Data Input'!$C$8:$AQ$8,$S$2))","v":""}]
[{"$f":"IF('Data Input'!A262=0,\"\",'Data Input'!A262)","v":""},{"$f":"IF(ISBLANK('Data Input'!A262),\"\",COUNTIF('Data Input'!C262:AQ262,\"\")-1)","v":""},{"$f":"IF(ISBLANK('Data Input'!A262),\"\",COUNTIF('Data Input'!C262:AQ262,\"0\"))","v":""},{"$f":"IF(ISBLANK('Data Input'!A262),\"\",SUM(B258,C258))","v":""},{"$f":"IF(ISBLANK('Data Input'!A262),\"\",SUM('Data Input'!C262:AQ262))","v":""},{"$f":"IF(E258=\"\",\"\",E258/(COUNTA('Data Input'!$C$8:$AQ$8)-1))","v":""},{"$f":"IF(ISBLANK('Data Input'!A262),\"\",SUM('Data Input'!H262,'Data Input'!I262,'Data Input'!M262,'Data Input'!N262))","v":""},{"$f":"IF(G258=\"\",\"\",G258/COUNTIF('Data Input'!$C$8:$AQ$8,$G$2))","v":""},{"$f":"IF(ISBLANK('Data Input'!A262),\"\",SUM('Data Input'!J262,'Data Input'!K262,'Data Input'!U262,'Data Input'!V262))","v":""},{"$f":"IF(I258=\"\",\"\",I258/COUNTIF('Data Input'!$C$8:$AQ$8,$I$2))","v":""},{"$f":"IF(ISBLANK('Data Input'!A262),\"\",SUM('Data Input'!D262))","v":""},{"$f":"IF(K258=\"\",\"\",K258/COUNTIF('Data Input'!$C$8:$AQ$8,$K$2))","v":""},{"$f":"IF(ISBLANK('Data Input'!A262),\"\",SUM('Data Input'!O262,'Data Input'!P262,'Data Input'!R262,'Data Input'!S262))","v":""},{"$f":"IF(M258=\"\",\"\",M258/COUNTIF('Data Input'!$C$8:$AQ$8,$M$2))","v":""},{"$f":"IF(ISBLANK('Data Input'!A262),\"\",SUM('Data Input'!C262,'Data Input'!E262,'Data Input'!F262,'Data Input'!G262,'Data Input'!Q262,'Data Input'!T262))","v":""},{"$f":"IF(O258=\"\",\"\",O258/COUNTIF('Data Input'!$C$8:$AQ$8,$O$2))","v":""},{"$f":"IF(ISBLANK('Data Input'!A262),\"\",SUM('Data Input'!L262))","v":""},{"$f":"IF(Q258=\"\",\"\",Q258/COUNTIF('Data Input'!$C$8:$AQ$8,$Q$2))","v":""},{"$f":"IF(ISBLANK('Data Input'!A262),\"\",SUM('Data Input'!X262:AQ262))","v":""},{"$f":"IF(S258=\"\",\"\",S258/COUNTIF('Data Input'!$C$8:$AQ$8,$S$2))","v":""}]
[{"$f":"IF('Data Input'!A263=0,\"\",'Data Input'!A263)","v":""},{"$f":"IF(ISBLANK('Data Input'!A263),\"\",COUNTIF('Data Input'!C263:AQ263,\"\")-1)","v":""},{"$f":"IF(ISBLANK('Data Input'!A263),\"\",COUNTIF('Data Input'!C263:AQ263,\"0\"))","v":""},{"$f":"IF(ISBLANK('Data Input'!A263),\"\",SUM(B259,C259))","v":""},{"$f":"IF(ISBLANK('Data Input'!A263),\"\",SUM('Data Input'!C263:AQ263))","v":""},{"$f":"IF(E259=\"\",\"\",E259/(COUNTA('Data Input'!$C$8:$AQ$8)-1))","v":""},{"$f":"IF(ISBLANK('Data Input'!A263),\"\",SUM('Data Input'!H263,'Data Input'!I263,'Data Input'!M263,'Data Input'!N263))","v":""},{"$f":"IF(G259=\"\",\"\",G259/COUNTIF('Data Input'!$C$8:$AQ$8,$G$2))","v":""},{"$f":"IF(ISBLANK('Data Input'!A263),\"\",SUM('Data Input'!J263,'Data Input'!K263,'Data Input'!U263,'Data Input'!V263))","v":""},{"$f":"IF(I259=\"\",\"\",I259/COUNTIF('Data Input'!$C$8:$AQ$8,$I$2))","v":""},{"$f":"IF(ISBLANK('Data Input'!A263),\"\",SUM('Data Input'!D263))","v":""},{"$f":"IF(K259=\"\",\"\",K259/COUNTIF('Data Input'!$C$8:$AQ$8,$K$2))","v":""},{"$f":"IF(ISBLANK('Data Input'!A263),\"\",SUM('Data Input'!O263,'Data Input'!P263,'Data Input'!R263,'Data Input'!S263))","v":""},{"$f":"IF(M259=\"\",\"\",M259/COUNTIF('Data Input'!$C$8:$AQ$8,$M$2))","v":""},{"$f":"IF(ISBLANK('Data Input'!A263),\"\",SUM('Data Input'!C263,'Data Input'!E263,'Data Input'!F263,'Data Input'!G263,'Data Input'!Q263,'Data Input'!T263))","v":""},{"$f":"IF(O259=\"\",\"\",O259/COUNTIF('Data Input'!$C$8:$AQ$8,$O$2))","v":""},{"$f":"IF(ISBLANK('Data Input'!A263),\"\",SUM('Data Input'!L263))","v":""},{"$f":"IF(Q259=\"\",\"\",Q259/COUNTIF('Data Input'!$C$8:$AQ$8,$Q$2))","v":""},{"$f":"IF(ISBLANK('Data Input'!A263),\"\",SUM('Data Input'!X263:AQ263))","v":""},{"$f":"IF(S259=\"\",\"\",S259/COUNTIF('Data Input'!$C$8:$AQ$8,$S$2))","v":""}]
[{"$f":"IF('Data Input'!A264=0,\"\",'Data Input'!A264)","v":""},{"$f":"IF(ISBLANK('Data Input'!A264),\"\",COUNTIF('Data Input'!C264:AQ264,\"\")-1)","v":""},{"$f":"IF(ISBLANK('Data Input'!A264),\"\",COUNTIF('Data Input'!C264:AQ264,\"0\"))","v":""},{"$f":"IF(ISBLANK('Data Input'!A264),\"\",SUM(B260,C260))","v":""},{"$f":"IF(ISBLANK('Data Input'!A264),\"\",SUM('Data Input'!C264:AQ264))","v":""},{"$f":"IF(E260=\"\",\"\",E260/(COUNTA('Data Input'!$C$8:$AQ$8)-1))","v":""},{"$f":"IF(ISBLANK('Data Input'!A264),\"\",SUM('Data Input'!H264,'Data Input'!I264,'Data Input'!M264,'Data Input'!N264))","v":""},{"$f":"IF(G260=\"\",\"\",G260/COUNTIF('Data Input'!$C$8:$AQ$8,$G$2))","v":""},{"$f":"IF(ISBLANK('Data Input'!A264),\"\",SUM('Data Input'!J264,'Data Input'!K264,'Data Input'!U264,'Data Input'!V264))","v":""},{"$f":"IF(I260=\"\",\"\",I260/COUNTIF('Data Input'!$C$8:$AQ$8,$I$2))","v":""},{"$f":"IF(ISBLANK('Data Input'!A264),\"\",SUM('Data Input'!D264))","v":""},{"$f":"IF(K260=\"\",\"\",K260/COUNTIF('Data Input'!$C$8:$AQ$8,$K$2))","v":""},{"$f":"IF(ISBLANK('Data Input'!A264),\"\",SUM('Data Input'!O264,'Data Input'!P264,'Data Input'!R264,'Data Input'!S264))","v":""},{"$f":"IF(M260=\"\",\"\",M260/COUNTIF('Data Input'!$C$8:$AQ$8,$M$2))","v":""},{"$f":"IF(ISBLANK('Data Input'!A264),\"\",SUM('Data Input'!C264,'Data Input'!E264,'Data Input'!F264,'Data Input'!G264,'Data Input'!Q264,'Data Input'!T264))","v":""},{"$f":"IF(O260=\"\",\"\",O260/COUNTIF('Data Input'!$C$8:$AQ$8,$O$2))","v":""},{"$f":"IF(ISBLANK('Data Input'!A264),\"\",SUM('Data Input'!L264))","v":""},{"$f":"IF(Q260=\"\",\"\",Q260/COUNTIF('Data Input'!$C$8:$AQ$8,$Q$2))","v":""},{"$f":"IF(ISBLANK('Data Input'!A264),\"\",SUM('Data Input'!X264:AQ264))","v":""},{"$f":"IF(S260=\"\",\"\",S260/COUNTIF('Data Input'!$C$8:$AQ$8,$S$2))","v":""}]
[{"$f":"IF('Data Input'!A265=0,\"\",'Data Input'!A265)","v":""},{"$f":"IF(ISBLANK('Data Input'!A265),\"\",COUNTIF('Data Input'!C265:AQ265,\"\")-1)","v":""},{"$f":"IF(ISBLANK('Data Input'!A265),\"\",COUNTIF('Data Input'!C265:AQ265,\"0\"))","v":""},{"$f":"IF(ISBLANK('Data Input'!A265),\"\",SUM(B261,C261))","v":""},{"$f":"IF(ISBLANK('Data Input'!A265),\"\",SUM('Data Input'!C265:AQ265))","v":""},{"$f":"IF(E261=\"\",\"\",E261/(COUNTA('Data Input'!$C$8:$AQ$8)-1))","v":""},{"$f":"IF(ISBLANK('Data Input'!A265),\"\",SUM('Data Input'!H265,'Data Input'!I265,'Data Input'!M265,'Data Input'!N265))","v":""},{"$f":"IF(G261=\"\",\"\",G261/COUNTIF('Data Input'!$C$8:$AQ$8,$G$2))","v":""},{"$f":"IF(ISBLANK('Data Input'!A265),\"\",SUM('Data Input'!J265,'Data Input'!K265,'Data Input'!U265,'Data Input'!V265))","v":""},{"$f":"IF(I261=\"\",\"\",I261/COUNTIF('Data Input'!$C$8:$AQ$8,$I$2))","v":""},{"$f":"IF(ISBLANK('Data Input'!A265),\"\",SUM('Data Input'!D265))","v":""},{"$f":"IF(K261=\"\",\"\",K261/COUNTIF('Data Input'!$C$8:$AQ$8,$K$2))","v":""},{"$f":"IF(ISBLANK('Data Input'!A265),\"\",SUM('Data Input'!O265,'Data Input'!P265,'Data Input'!R265,'Data Input'!S265))","v":""},{"$f":"IF(M261=\"\",\"\",M261/COUNTIF('Data Input'!$C$8:$AQ$8,$M$2))","v":""},{"$f":"IF(ISBLANK('Data Input'!A265),\"\",SUM('Data Input'!C265,'Data Input'!E265,'Data Input'!F265,'Data Input'!G265,'Data Input'!Q265,'Data Input'!T265))","v":""},{"$f":"IF(O261=\"\",\"\",O261/COUNTIF('Data Input'!$C$8:$AQ$8,$O$2))","v":""},{"$f":"IF(ISBLANK('Data Input'!A265),\"\",SUM('Data Input'!L265))","v":""},{"$f":"IF(Q261=\"\",\"\",Q261/COUNTIF('Data Input'!$C$8:$AQ$8,$Q$2))","v":""},{"$f":"IF(ISBLANK('Data Input'!A265),\"\",SUM('Data Input'!X265:AQ265))","v":""},{"$f":"IF(S261=\"\",\"\",S261/COUNTIF('Data Input'!$C$8:$AQ$8,$S$2))","v":""}]
[{"$f":"IF('Data Input'!A266=0,\"\",'Data Input'!A266)","v":""},{"$f":"IF(ISBLANK('Data Input'!A266),\"\",COUNTIF('Data Input'!C266:AQ266,\"\")-1)","v":""},{"$f":"IF(ISBLANK('Data Input'!A266),\"\",COUNTIF('Data Input'!C266:AQ266,\"0\"))","v":""},{"$f":"IF(ISBLANK('Data Input'!A266),\"\",SUM(B262,C262))","v":""},{"$f":"IF(ISBLANK('Data Input'!A266),\"\",SUM('Data Input'!C266:AQ266))","v":""},{"$f":"IF(E262=\"\",\"\",E262/(COUNTA('Data Input'!$C$8:$AQ$8)-1))","v":""},{"$f":"IF(ISBLANK('Data Input'!A266),\"\",SUM('Data Input'!H266,'Data Input'!I266,'Data Input'!M266,'Data Input'!N266))","v":""},{"$f":"IF(G262=\"\",\"\",G262/COUNTIF('Data Input'!$C$8:$AQ$8,$G$2))","v":""},{"$f":"IF(ISBLANK('Data Input'!A266),\"\",SUM('Data Input'!J266,'Data Input'!K266,'Data Input'!U266,'Data Input'!V266))","v":""},{"$f":"IF(I262=\"\",\"\",I262/COUNTIF('Data Input'!$C$8:$AQ$8,$I$2))","v":""},{"$f":"IF(ISBLANK('Data Input'!A266),\"\",SUM('Data Input'!D266))","v":""},{"$f":"IF(K262=\"\",\"\",K262/COUNTIF('Data Input'!$C$8:$AQ$8,$K$2))","v":""},{"$f":"IF(ISBLANK('Data Input'!A266),\"\",SUM('Data Input'!O266,'Data Input'!P266,'Data Input'!R266,'Data Input'!S266))","v":""},{"$f":"IF(M262=\"\",\"\",M262/COUNTIF('Data Input'!$C$8:$AQ$8,$M$2))","v":""},{"$f":"IF(ISBLANK('Data Input'!A266),\"\",SUM('Data Input'!C266,'Data Input'!E266,'Data Input'!F266,'Data Input'!G266,'Data Input'!Q266,'Data Input'!T266))","v":""},{"$f":"IF(O262=\"\",\"\",O262/COUNTIF('Data Input'!$C$8:$AQ$8,$O$2))","v":""},{"$f":"IF(ISBLANK('Data Input'!A266),\"\",SUM('Data Input'!L266))","v":""},{"$f":"IF(Q262=\"\",\"\",Q262/COUNTIF('Data Input'!$C$8:$AQ$8,$Q$2))","v":""},{"$f":"IF(ISBLANK('Data Input'!A266),\"\",SUM('Data Input'!X266:AQ266))","v":""},{"$f":"IF(S262=\"\",\"\",S262/COUNTIF('Data Input'!$C$8:$AQ$8,$S$2))","v":""}]
[{"$f":"IF('Data Input'!A267=0,\"\",'Data Input'!A267)","v":""},{"$f":"IF(ISBLANK('Data Input'!A267),\"\",COUNTIF('Data Input'!C267:AQ267,\"\")-1)","v":""},{"$f":"IF(ISBLANK('Data Input'!A267),\"\",COUNTIF('Data Input'!C267:AQ267,\"0\"))","v":""},{"$f":"IF(ISBLANK('Data Input'!A267),\"\",SUM(B263,C263))","v":""},{"$f":"IF(ISBLANK('Data Input'!A267),\"\",SUM('Data Input'!C267:AQ267))","v":""},{"$f":"IF(E263=\"\",\"\",E263/(COUNTA('Data Input'!$C$8:$AQ$8)-1))","v":""},{"$f":"IF(ISBLANK('Data Input'!A267),\"\",SUM('Data Input'!H267,'Data Input'!I267,'Data Input'!M267,'Data Input'!N267))","v":""},{"$f":"IF(G263=\"\",\"\",G263/COUNTIF('Data Input'!$C$8:$AQ$8,$G$2))","v":""},{"$f":"IF(ISBLANK('Data Input'!A267),\"\",SUM('Data Input'!J267,'Data Input'!K267,'Data Input'!U267,'Data Input'!V267))","v":""},{"$f":"IF(I263=\"\",\"\",I263/COUNTIF('Data Input'!$C$8:$AQ$8,$I$2))","v":""},{"$f":"IF(ISBLANK('Data Input'!A267),\"\",SUM('Data Input'!D267))","v":""},{"$f":"IF(K263=\"\",\"\",K263/COUNTIF('Data Input'!$C$8:$AQ$8,$K$2))","v":""},{"$f":"IF(ISBLANK('Data Input'!A267),\"\",SUM('Data Input'!O267,'Data Input'!P267,'Data Input'!R267,'Data Input'!S267))","v":""},{"$f":"IF(M263=\"\",\"\",M263/COUNTIF('Data Input'!$C$8:$AQ$8,$M$2))","v":""},{"$f":"IF(ISBLANK('Data Input'!A267),\"\",SUM('Data Input'!C267,'Data Input'!E267,'Data Input'!F267,'Data Input'!G267,'Data Input'!Q267,'Data Input'!T267))","v":""},{"$f":"IF(O263=\"\",\"\",O263/COUNTIF('Data Input'!$C$8:$AQ$8,$O$2))","v":""},{"$f":"IF(ISBLANK('Data Input'!A267),\"\",SUM('Data Input'!L267))","v":""},{"$f":"IF(Q263=\"\",\"\",Q263/COUNTIF('Data Input'!$C$8:$AQ$8,$Q$2))","v":""},{"$f":"IF(ISBLANK('Data Input'!A267),\"\",SUM('Data Input'!X267:AQ267))","v":""},{"$f":"IF(S263=\"\",\"\",S263/COUNTIF('Data Input'!$C$8:$AQ$8,$S$2))","v":""}]
[{"$f":"IF('Data Input'!A268=0,\"\",'Data Input'!A268)","v":""},{"$f":"IF(ISBLANK('Data Input'!A268),\"\",COUNTIF('Data Input'!C268:AQ268,\"\")-1)","v":""},{"$f":"IF(ISBLANK('Data Input'!A268),\"\",COUNTIF('Data Input'!C268:AQ268,\"0\"))","v":""},{"$f":"IF(ISBLANK('Data Input'!A268),\"\",SUM(B264,C264))","v":""},{"$f":"IF(ISBLANK('Data Input'!A268),\"\",SUM('Data Input'!C268:AQ268))","v":""},{"$f":"IF(E264=\"\",\"\",E264/(COUNTA('Data Input'!$C$8:$AQ$8)-1))","v":""},{"$f":"IF(ISBLANK('Data Input'!A268),\"\",SUM('Data Input'!H268,'Data Input'!I268,'Data Input'!M268,'Data Input'!N268))","v":""},{"$f":"IF(G264=\"\",\"\",G264/COUNTIF('Data Input'!$C$8:$AQ$8,$G$2))","v":""},{"$f":"IF(ISBLANK('Data Input'!A268),\"\",SUM('Data Input'!J268,'Data Input'!K268,'Data Input'!U268,'Data Input'!V268))","v":""},{"$f":"IF(I264=\"\",\"\",I264/COUNTIF('Data Input'!$C$8:$AQ$8,$I$2))","v":""},{"$f":"IF(ISBLANK('Data Input'!A268),\"\",SUM('Data Input'!D268))","v":""},{"$f":"IF(K264=\"\",\"\",K264/COUNTIF('Data Input'!$C$8:$AQ$8,$K$2))","v":""},{"$f":"IF(ISBLANK('Data Input'!A268),\"\",SUM('Data Input'!O268,'Data Input'!P268,'Data Input'!R268,'Data Input'!S268))","v":""},{"$f":"IF(M264=\"\",\"\",M264/COUNTIF('Data Input'!$C$8:$AQ$8,$M$2))","v":""},{"$f":"IF(ISBLANK('Data Input'!A268),\"\",SUM('Data Input'!C268,'Data Input'!E268,'Data Input'!F268,'Data Input'!G268,'Data Input'!Q268,'Data Input'!T268))","v":""},{"$f":"IF(O264=\"\",\"\",O264/COUNTIF('Data Input'!$C$8:$AQ$8,$O$2))","v":""},{"$f":"IF(ISBLANK('Data Input'!A268),\"\",SUM('Data Input'!L268))","v":""},{"$f":"IF(Q264=\"\",\"\",Q264/COUNTIF('Data Input'!$C$8:$AQ$8,$Q$2))","v":""},{"$f":"IF(ISBLANK('Data Input'!A268),\"\",SUM('Data Input'!X268:AQ268))","v":""},{"$f":"IF(S264=\"\",\"\",S264/COUNTIF('Data Input'!$C$8:$AQ$8,$S$2))","v":""}]
[{"$f":"IF('Data Input'!A269=0,\"\",'Data Input'!A269)","v":""},{"$f":"IF(ISBLANK('Data Input'!A269),\"\",COUNTIF('Data Input'!C269:AQ269,\"\")-1)","v":""},{"$f":"IF(ISBLANK('Data Input'!A269),\"\",COUNTIF('Data Input'!C269:AQ269,\"0\"))","v":""},{"$f":"IF(ISBLANK('Data Input'!A269),\"\",SUM(B265,C265))","v":""},{"$f":"IF(ISBLANK('Data Input'!A269),\"\",SUM('Data Input'!C269:AQ269))","v":""},{"$f":"IF(E265=\"\",\"\",E265/(COUNTA('Data Input'!$C$8:$AQ$8)-1))","v":""},{"$f":"IF(ISBLANK('Data Input'!A269),\"\",SUM('Data Input'!H269,'Data Input'!I269,'Data Input'!M269,'Data Input'!N269))","v":""},{"$f":"IF(G265=\"\",\"\",G265/COUNTIF('Data Input'!$C$8:$AQ$8,$G$2))","v":""},{"$f":"IF(ISBLANK('Data Input'!A269),\"\",SUM('Data Input'!J269,'Data Input'!K269,'Data Input'!U269,'Data Input'!V269))","v":""},{"$f":"IF(I265=\"\",\"\",I265/COUNTIF('Data Input'!$C$8:$AQ$8,$I$2))","v":""},{"$f":"IF(ISBLANK('Data Input'!A269),\"\",SUM('Data Input'!D269))","v":""},{"$f":"IF(K265=\"\",\"\",K265/COUNTIF('Data Input'!$C$8:$AQ$8,$K$2))","v":""},{"$f":"IF(ISBLANK('Data Input'!A269),\"\",SUM('Data Input'!O269,'Data Input'!P269,'Data Input'!R269,'Data Input'!S269))","v":""},{"$f":"IF(M265=\"\",\"\",M265/COUNTIF('Data Input'!$C$8:$AQ$8,$M$2))","v":""},{"$f":"IF(ISBLANK('Data Input'!A269),\"\",SUM('Data Input'!C269,'Data Input'!E269,'Data Input'!F269,'Data Input'!G269,'Data Input'!Q269,'Data Input'!T269))","v":""},{"$f":"IF(O265=\"\",\"\",O265/COUNTIF('Data Input'!$C$8:$AQ$8,$O$2))","v":""},{"$f":"IF(ISBLANK('Data Input'!A269),\"\",SUM('Data Input'!L269))","v":""},{"$f":"IF(Q265=\"\",\"\",Q265/COUNTIF('Data Input'!$C$8:$AQ$8,$Q$2))","v":""},{"$f":"IF(ISBLANK('Data Input'!A269),\"\",SUM('Data Input'!X269:AQ269))","v":""},{"$f":"IF(S265=\"\",\"\",S265/COUNTIF('Data Input'!$C$8:$AQ$8,$S$2))","v":""}]
[{"$f":"IF('Data Input'!A270=0,\"\",'Data Input'!A270)","v":""},{"$f":"IF(ISBLANK('Data Input'!A270),\"\",COUNTIF('Data Input'!C270:AQ270,\"\")-1)","v":""},{"$f":"IF(ISBLANK('Data Input'!A270),\"\",COUNTIF('Data Input'!C270:AQ270,\"0\"))","v":""},{"$f":"IF(ISBLANK('Data Input'!A270),\"\",SUM(B266,C266))","v":""},{"$f":"IF(ISBLANK('Data Input'!A270),\"\",SUM('Data Input'!C270:AQ270))","v":""},{"$f":"IF(E266=\"\",\"\",E266/(COUNTA('Data Input'!$C$8:$AQ$8)-1))","v":""},{"$f":"IF(ISBLANK('Data Input'!A270),\"\",SUM('Data Input'!H270,'Data Input'!I270,'Data Input'!M270,'Data Input'!N270))","v":""},{"$f":"IF(G266=\"\",\"\",G266/COUNTIF('Data Input'!$C$8:$AQ$8,$G$2))","v":""},{"$f":"IF(ISBLANK('Data Input'!A270),\"\",SUM('Data Input'!J270,'Data Input'!K270,'Data Input'!U270,'Data Input'!V270))","v":""},{"$f":"IF(I266=\"\",\"\",I266/COUNTIF('Data Input'!$C$8:$AQ$8,$I$2))","v":""},{"$f":"IF(ISBLANK('Data Input'!A270),\"\",SUM('Data Input'!D270))","v":""},{"$f":"IF(K266=\"\",\"\",K266/COUNTIF('Data Input'!$C$8:$AQ$8,$K$2))","v":""},{"$f":"IF(ISBLANK('Data Input'!A270),\"\",SUM('Data Input'!O270,'Data Input'!P270,'Data Input'!R270,'Data Input'!S270))","v":""},{"$f":"IF(M266=\"\",\"\",M266/COUNTIF('Data Input'!$C$8:$AQ$8,$M$2))","v":""},{"$f":"IF(ISBLANK('Data Input'!A270),\"\",SUM('Data Input'!C270,'Data Input'!E270,'Data Input'!F270,'Data Input'!G270,'Data Input'!Q270,'Data Input'!T270))","v":""},{"$f":"IF(O266=\"\",\"\",O266/COUNTIF('Data Input'!$C$8:$AQ$8,$O$2))","v":""},{"$f":"IF(ISBLANK('Data Input'!A270),\"\",SUM('Data Input'!L270))","v":""},{"$f":"IF(Q266=\"\",\"\",Q266/COUNTIF('Data Input'!$C$8:$AQ$8,$Q$2))","v":""},{"$f":"IF(ISBLANK('Data Input'!A270),\"\",SUM('Data Input'!X270:AQ270))","v":""},{"$f":"IF(S266=\"\",\"\",S266/COUNTIF('Data Input'!$C$8:$AQ$8,$S$2))","v":""}]
[{"$f":"IF('Data Input'!A271=0,\"\",'Data Input'!A271)","v":""},{"$f":"IF(ISBLANK('Data Input'!A271),\"\",COUNTIF('Data Input'!C271:AQ271,\"\")-1)","v":""},{"$f":"IF(ISBLANK('Data Input'!A271),\"\",COUNTIF('Data Input'!C271:AQ271,\"0\"))","v":""},{"$f":"IF(ISBLANK('Data Input'!A271),\"\",SUM(B267,C267))","v":""},{"$f":"IF(ISBLANK('Data Input'!A271),\"\",SUM('Data Input'!C271:AQ271))","v":""},{"$f":"IF(E267=\"\",\"\",E267/(COUNTA('Data Input'!$C$8:$AQ$8)-1))","v":""},{"$f":"IF(ISBLANK('Data Input'!A271),\"\",SUM('Data Input'!H271,'Data Input'!I271,'Data Input'!M271,'Data Input'!N271))","v":""},{"$f":"IF(G267=\"\",\"\",G267/COUNTIF('Data Input'!$C$8:$AQ$8,$G$2))","v":""},{"$f":"IF(ISBLANK('Data Input'!A271),\"\",SUM('Data Input'!J271,'Data Input'!K271,'Data Input'!U271,'Data Input'!V271))","v":""},{"$f":"IF(I267=\"\",\"\",I267/COUNTIF('Data Input'!$C$8:$AQ$8,$I$2))","v":""},{"$f":"IF(ISBLANK('Data Input'!A271),\"\",SUM('Data Input'!D271))","v":""},{"$f":"IF(K267=\"\",\"\",K267/COUNTIF('Data Input'!$C$8:$AQ$8,$K$2))","v":""},{"$f":"IF(ISBLANK('Data Input'!A271),\"\",SUM('Data Input'!O271,'Data Input'!P271,'Data Input'!R271,'Data Input'!S271))","v":""},{"$f":"IF(M267=\"\",\"\",M267/COUNTIF('Data Input'!$C$8:$AQ$8,$M$2))","v":""},{"$f":"IF(ISBLANK('Data Input'!A271),\"\",SUM('Data Input'!C271,'Data Input'!E271,'Data Input'!F271,'Data Input'!G271,'Data Input'!Q271,'Data Input'!T271))","v":""},{"$f":"IF(O267=\"\",\"\",O267/COUNTIF('Data Input'!$C$8:$AQ$8,$O$2))","v":""},{"$f":"IF(ISBLANK('Data Input'!A271),\"\",SUM('Data Input'!L271))","v":""},{"$f":"IF(Q267=\"\",\"\",Q267/COUNTIF('Data Input'!$C$8:$AQ$8,$Q$2))","v":""},{"$f":"IF(ISBLANK('Data Input'!A271),\"\",SUM('Data Input'!X271:AQ271))","v":""},{"$f":"IF(S267=\"\",\"\",S267/COUNTIF('Data Input'!$C$8:$AQ$8,$S$2))","v":""}]
[{"$f":"IF('Data Input'!A272=0,\"\",'Data Input'!A272)","v":""},{"$f":"IF(ISBLANK('Data Input'!A272),\"\",COUNTIF('Data Input'!C272:AQ272,\"\")-1)","v":""},{"$f":"IF(ISBLANK('Data Input'!A272),\"\",COUNTIF('Data Input'!C272:AQ272,\"0\"))","v":""},{"$f":"IF(ISBLANK('Data Input'!A272),\"\",SUM(B268,C268))","v":""},{"$f":"IF(ISBLANK('Data Input'!A272),\"\",SUM('Data Input'!C272:AQ272))","v":""},{"$f":"IF(E268=\"\",\"\",E268/(COUNTA('Data Input'!$C$8:$AQ$8)-1))","v":""},{"$f":"IF(ISBLANK('Data Input'!A272),\"\",SUM('Data Input'!H272,'Data Input'!I272,'Data Input'!M272,'Data Input'!N272))","v":""},{"$f":"IF(G268=\"\",\"\",G268/COUNTIF('Data Input'!$C$8:$AQ$8,$G$2))","v":""},{"$f":"IF(ISBLANK('Data Input'!A272),\"\",SUM('Data Input'!J272,'Data Input'!K272,'Data Input'!U272,'Data Input'!V272))","v":""},{"$f":"IF(I268=\"\",\"\",I268/COUNTIF('Data Input'!$C$8:$AQ$8,$I$2))","v":""},{"$f":"IF(ISBLANK('Data Input'!A272),\"\",SUM('Data Input'!D272))","v":""},{"$f":"IF(K268=\"\",\"\",K268/COUNTIF('Data Input'!$C$8:$AQ$8,$K$2))","v":""},{"$f":"IF(ISBLANK('Data Input'!A272),\"\",SUM('Data Input'!O272,'Data Input'!P272,'Data Input'!R272,'Data Input'!S272))","v":""},{"$f":"IF(M268=\"\",\"\",M268/COUNTIF('Data Input'!$C$8:$AQ$8,$M$2))","v":""},{"$f":"IF(ISBLANK('Data Input'!A272),\"\",SUM('Data Input'!C272,'Data Input'!E272,'Data Input'!F272,'Data Input'!G272,'Data Input'!Q272,'Data Input'!T272))","v":""},{"$f":"IF(O268=\"\",\"\",O268/COUNTIF('Data Input'!$C$8:$AQ$8,$O$2))","v":""},{"$f":"IF(ISBLANK('Data Input'!A272),\"\",SUM('Data Input'!L272))","v":""},{"$f":"IF(Q268=\"\",\"\",Q268/COUNTIF('Data Input'!$C$8:$AQ$8,$Q$2))","v":""},{"$f":"IF(ISBLANK('Data Input'!A272),\"\",SUM('Data Input'!X272:AQ272))","v":""},{"$f":"IF(S268=\"\",\"\",S268/COUNTIF('Data Input'!$C$8:$AQ$8,$S$2))","v":""}]
[{"$f":"IF('Data Input'!A273=0,\"\",'Data Input'!A273)","v":""},{"$f":"IF(ISBLANK('Data Input'!A273),\"\",COUNTIF('Data Input'!C273:AQ273,\"\")-1)","v":""},{"$f":"IF(ISBLANK('Data Input'!A273),\"\",COUNTIF('Data Input'!C273:AQ273,\"0\"))","v":""},{"$f":"IF(ISBLANK('Data Input'!A273),\"\",SUM(B269,C269))","v":""},{"$f":"IF(ISBLANK('Data Input'!A273),\"\",SUM('Data Input'!C273:AQ273))","v":""},{"$f":"IF(E269=\"\",\"\",E269/(COUNTA('Data Input'!$C$8:$AQ$8)-1))","v":""},{"$f":"IF(ISBLANK('Data Input'!A273),\"\",SUM('Data Input'!H273,'Data Input'!I273,'Data Input'!M273,'Data Input'!N273))","v":""},{"$f":"IF(G269=\"\",\"\",G269/COUNTIF('Data Input'!$C$8:$AQ$8,$G$2))","v":""},{"$f":"IF(ISBLANK('Data Input'!A273),\"\",SUM('Data Input'!J273,'Data Input'!K273,'Data Input'!U273,'Data Input'!V273))","v":""},{"$f":"IF(I269=\"\",\"\",I269/COUNTIF('Data Input'!$C$8:$AQ$8,$I$2))","v":""},{"$f":"IF(ISBLANK('Data Input'!A273),\"\",SUM('Data Input'!D273))","v":""},{"$f":"IF(K269=\"\",\"\",K269/COUNTIF('Data Input'!$C$8:$AQ$8,$K$2))","v":""},{"$f":"IF(ISBLANK('Data Input'!A273),\"\",SUM('Data Input'!O273,'Data Input'!P273,'Data Input'!R273,'Data Input'!S273))","v":""},{"$f":"IF(M269=\"\",\"\",M269/COUNTIF('Data Input'!$C$8:$AQ$8,$M$2))","v":""},{"$f":"IF(ISBLANK('Data Input'!A273),\"\",SUM('Data Input'!C273,'Data Input'!E273,'Data Input'!F273,'Data Input'!G273,'Data Input'!Q273,'Data Input'!T273))","v":""},{"$f":"IF(O269=\"\",\"\",O269/COUNTIF('Data Input'!$C$8:$AQ$8,$O$2))","v":""},{"$f":"IF(ISBLANK('Data Input'!A273),\"\",SUM('Data Input'!L273))","v":""},{"$f":"IF(Q269=\"\",\"\",Q269/COUNTIF('Data Input'!$C$8:$AQ$8,$Q$2))","v":""},{"$f":"IF(ISBLANK('Data Input'!A273),\"\",SUM('Data Input'!X273:AQ273))","v":""},{"$f":"IF(S269=\"\",\"\",S269/COUNTIF('Data Input'!$C$8:$AQ$8,$S$2))","v":""}]
[{"$f":"IF('Data Input'!A274=0,\"\",'Data Input'!A274)","v":""},{"$f":"IF(ISBLANK('Data Input'!A274),\"\",COUNTIF('Data Input'!C274:AQ274,\"\")-1)","v":""},{"$f":"IF(ISBLANK('Data Input'!A274),\"\",COUNTIF('Data Input'!C274:AQ274,\"0\"))","v":""},{"$f":"IF(ISBLANK('Data Input'!A274),\"\",SUM(B270,C270))","v":""},{"$f":"IF(ISBLANK('Data Input'!A274),\"\",SUM('Data Input'!C274:AQ274))","v":""},{"$f":"IF(E270=\"\",\"\",E270/(COUNTA('Data Input'!$C$8:$AQ$8)-1))","v":""},{"$f":"IF(ISBLANK('Data Input'!A274),\"\",SUM('Data Input'!H274,'Data Input'!I274,'Data Input'!M274,'Data Input'!N274))","v":""},{"$f":"IF(G270=\"\",\"\",G270/COUNTIF('Data Input'!$C$8:$AQ$8,$G$2))","v":""},{"$f":"IF(ISBLANK('Data Input'!A274),\"\",SUM('Data Input'!J274,'Data Input'!K274,'Data Input'!U274,'Data Input'!V274))","v":""},{"$f":"IF(I270=\"\",\"\",I270/COUNTIF('Data Input'!$C$8:$AQ$8,$I$2))","v":""},{"$f":"IF(ISBLANK('Data Input'!A274),\"\",SUM('Data Input'!D274))","v":""},{"$f":"IF(K270=\"\",\"\",K270/COUNTIF('Data Input'!$C$8:$AQ$8,$K$2))","v":""},{"$f":"IF(ISBLANK('Data Input'!A274),\"\",SUM('Data Input'!O274,'Data Input'!P274,'Data Input'!R274,'Data Input'!S274))","v":""},{"$f":"IF(M270=\"\",\"\",M270/COUNTIF('Data Input'!$C$8:$AQ$8,$M$2))","v":""},{"$f":"IF(ISBLANK('Data Input'!A274),\"\",SUM('Data Input'!C274,'Data Input'!E274,'Data Input'!F274,'Data Input'!G274,'Data Input'!Q274,'Data Input'!T274))","v":""},{"$f":"IF(O270=\"\",\"\",O270/COUNTIF('Data Input'!$C$8:$AQ$8,$O$2))","v":""},{"$f":"IF(ISBLANK('Data Input'!A274),\"\",SUM('Data Input'!L274))","v":""},{"$f":"IF(Q270=\"\",\"\",Q270/COUNTIF('Data Input'!$C$8:$AQ$8,$Q$2))","v":""},{"$f":"IF(ISBLANK('Data Input'!A274),\"\",SUM('Data Input'!X274:AQ274))","v":""},{"$f":"IF(S270=\"\",\"\",S270/COUNTIF('Data Input'!$C$8:$AQ$8,$S$2))","v":""}]
[{"$f":"IF('Data Input'!A275=0,\"\",'Data Input'!A275)","v":""},{"$f":"IF(ISBLANK('Data Input'!A275),\"\",COUNTIF('Data Input'!C275:AQ275,\"\")-1)","v":""},{"$f":"IF(ISBLANK('Data Input'!A275),\"\",COUNTIF('Data Input'!C275:AQ275,\"0\"))","v":""},{"$f":"IF(ISBLANK('Data Input'!A275),\"\",SUM(B271,C271))","v":""},{"$f":"IF(ISBLANK('Data Input'!A275),\"\",SUM('Data Input'!C275:AQ275))","v":""},{"$f":"IF(E271=\"\",\"\",E271/(COUNTA('Data Input'!$C$8:$AQ$8)-1))","v":""},{"$f":"IF(ISBLANK('Data Input'!A275),\"\",SUM('Data Input'!H275,'Data Input'!I275,'Data Input'!M275,'Data Input'!N275))","v":""},{"$f":"IF(G271=\"\",\"\",G271/COUNTIF('Data Input'!$C$8:$AQ$8,$G$2))","v":""},{"$f":"IF(ISBLANK('Data Input'!A275),\"\",SUM('Data Input'!J275,'Data Input'!K275,'Data Input'!U275,'Data Input'!V275))","v":""},{"$f":"IF(I271=\"\",\"\",I271/COUNTIF('Data Input'!$C$8:$AQ$8,$I$2))","v":""},{"$f":"IF(ISBLANK('Data Input'!A275),\"\",SUM('Data Input'!D275))","v":""},{"$f":"IF(K271=\"\",\"\",K271/COUNTIF('Data Input'!$C$8:$AQ$8,$K$2))","v":""},{"$f":"IF(ISBLANK('Data Input'!A275),\"\",SUM('Data Input'!O275,'Data Input'!P275,'Data Input'!R275,'Data Input'!S275))","v":""},{"$f":"IF(M271=\"\",\"\",M271/COUNTIF('Data Input'!$C$8:$AQ$8,$M$2))","v":""},{"$f":"IF(ISBLANK('Data Input'!A275),\"\",SUM('Data Input'!C275,'Data Input'!E275,'Data Input'!F275,'Data Input'!G275,'Data Input'!Q275,'Data Input'!T275))","v":""},{"$f":"IF(O271=\"\",\"\",O271/COUNTIF('Data Input'!$C$8:$AQ$8,$O$2))","v":""},{"$f":"IF(ISBLANK('Data Input'!A275),\"\",SUM('Data Input'!L275))","v":""},{"$f":"IF(Q271=\"\",\"\",Q271/COUNTIF('Data Input'!$C$8:$AQ$8,$Q$2))","v":""},{"$f":"IF(ISBLANK('Data Input'!A275),\"\",SUM('Data Input'!X275:AQ275))","v":""},{"$f":"IF(S271=\"\",\"\",S271/COUNTIF('Data Input'!$C$8:$AQ$8,$S$2))","v":""}]
[{"$f":"IF('Data Input'!A276=0,\"\",'Data Input'!A276)","v":""},{"$f":"IF(ISBLANK('Data Input'!A276),\"\",COUNTIF('Data Input'!C276:AQ276,\"\")-1)","v":""},{"$f":"IF(ISBLANK('Data Input'!A276),\"\",COUNTIF('Data Input'!C276:AQ276,\"0\"))","v":""},{"$f":"IF(ISBLANK('Data Input'!A276),\"\",SUM(B272,C272))","v":""},{"$f":"IF(ISBLANK('Data Input'!A276),\"\",SUM('Data Input'!C276:AQ276))","v":""},{"$f":"IF(E272=\"\",\"\",E272/(COUNTA('Data Input'!$C$8:$AQ$8)-1))","v":""},{"$f":"IF(ISBLANK('Data Input'!A276),\"\",SUM('Data Input'!H276,'Data Input'!I276,'Data Input'!M276,'Data Input'!N276))","v":""},{"$f":"IF(G272=\"\",\"\",G272/COUNTIF('Data Input'!$C$8:$AQ$8,$G$2))","v":""},{"$f":"IF(ISBLANK('Data Input'!A276),\"\",SUM('Data Input'!J276,'Data Input'!K276,'Data Input'!U276,'Data Input'!V276))","v":""},{"$f":"IF(I272=\"\",\"\",I272/COUNTIF('Data Input'!$C$8:$AQ$8,$I$2))","v":""},{"$f":"IF(ISBLANK('Data Input'!A276),\"\",SUM('Data Input'!D276))","v":""},{"$f":"IF(K272=\"\",\"\",K272/COUNTIF('Data Input'!$C$8:$AQ$8,$K$2))","v":""},{"$f":"IF(ISBLANK('Data Input'!A276),\"\",SUM('Data Input'!O276,'Data Input'!P276,'Data Input'!R276,'Data Input'!S276))","v":""},{"$f":"IF(M272=\"\",\"\",M272/COUNTIF('Data Input'!$C$8:$AQ$8,$M$2))","v":""},{"$f":"IF(ISBLANK('Data Input'!A276),\"\",SUM('Data Input'!C276,'Data Input'!E276,'Data Input'!F276,'Data Input'!G276,'Data Input'!Q276,'Data Input'!T276))","v":""},{"$f":"IF(O272=\"\",\"\",O272/COUNTIF('Data Input'!$C$8:$AQ$8,$O$2))","v":""},{"$f":"IF(ISBLANK('Data Input'!A276),\"\",SUM('Data Input'!L276))","v":""},{"$f":"IF(Q272=\"\",\"\",Q272/COUNTIF('Data Input'!$C$8:$AQ$8,$Q$2))","v":""},{"$f":"IF(ISBLANK('Data Input'!A276),\"\",SUM('Data Input'!X276:AQ276))","v":""},{"$f":"IF(S272=\"\",\"\",S272/COUNTIF('Data Input'!$C$8:$AQ$8,$S$2))","v":""}]
[{"$f":"IF('Data Input'!A277=0,\"\",'Data Input'!A277)","v":""},{"$f":"IF(ISBLANK('Data Input'!A277),\"\",COUNTIF('Data Input'!C277:AQ277,\"\")-1)","v":""},{"$f":"IF(ISBLANK('Data Input'!A277),\"\",COUNTIF('Data Input'!C277:AQ277,\"0\"))","v":""},{"$f":"IF(ISBLANK('Data Input'!A277),\"\",SUM(B273,C273))","v":""},{"$f":"IF(ISBLANK('Data Input'!A277),\"\",SUM('Data Input'!C277:AQ277))","v":""},{"$f":"IF(E273=\"\",\"\",E273/(COUNTA('Data Input'!$C$8:$AQ$8)-1))","v":""},{"$f":"IF(ISBLANK('Data Input'!A277),\"\",SUM('Data Input'!H277,'Data Input'!I277,'Data Input'!M277,'Data Input'!N277))","v":""},{"$f":"IF(G273=\"\",\"\",G273/COUNTIF('Data Input'!$C$8:$AQ$8,$G$2))","v":""},{"$f":"IF(ISBLANK('Data Input'!A277),\"\",SUM('Data Input'!J277,'Data Input'!K277,'Data Input'!U277,'Data Input'!V277))","v":""},{"$f":"IF(I273=\"\",\"\",I273/COUNTIF('Data Input'!$C$8:$AQ$8,$I$2))","v":""},{"$f":"IF(ISBLANK('Data Input'!A277),\"\",SUM('Data Input'!D277))","v":""},{"$f":"IF(K273=\"\",\"\",K273/COUNTIF('Data Input'!$C$8:$AQ$8,$K$2))","v":""},{"$f":"IF(ISBLANK('Data Input'!A277),\"\",SUM('Data Input'!O277,'Data Input'!P277,'Data Input'!R277,'Data Input'!S277))","v":""},{"$f":"IF(M273=\"\",\"\",M273/COUNTIF('Data Input'!$C$8:$AQ$8,$M$2))","v":""},{"$f":"IF(ISBLANK('Data Input'!A277),\"\",SUM('Data Input'!C277,'Data Input'!E277,'Data Input'!F277,'Data Input'!G277,'Data Input'!Q277,'Data Input'!T277))","v":""},{"$f":"IF(O273=\"\",\"\",O273/COUNTIF('Data Input'!$C$8:$AQ$8,$O$2))","v":""},{"$f":"IF(ISBLANK('Data Input'!A277),\"\",SUM('Data Input'!L277))","v":""},{"$f":"IF(Q273=\"\",\"\",Q273/COUNTIF('Data Input'!$C$8:$AQ$8,$Q$2))","v":""},{"$f":"IF(ISBLANK('Data Input'!A277),\"\",SUM('Data Input'!X277:AQ277))","v":""},{"$f":"IF(S273=\"\",\"\",S273/COUNTIF('Data Input'!$C$8:$AQ$8,$S$2))","v":""}]
[{"$f":"IF('Data Input'!A278=0,\"\",'Data Input'!A278)","v":""},{"$f":"IF(ISBLANK('Data Input'!A278),\"\",COUNTIF('Data Input'!C278:AQ278,\"\")-1)","v":""},{"$f":"IF(ISBLANK('Data Input'!A278),\"\",COUNTIF('Data Input'!C278:AQ278,\"0\"))","v":""},{"$f":"IF(ISBLANK('Data Input'!A278),\"\",SUM(B274,C274))","v":""},{"$f":"IF(ISBLANK('Data Input'!A278),\"\",SUM('Data Input'!C278:AQ278))","v":""},{"$f":"IF(E274=\"\",\"\",E274/(COUNTA('Data Input'!$C$8:$AQ$8)-1))","v":""},{"$f":"IF(ISBLANK('Data Input'!A278),\"\",SUM('Data Input'!H278,'Data Input'!I278,'Data Input'!M278,'Data Input'!N278))","v":""},{"$f":"IF(G274=\"\",\"\",G274/COUNTIF('Data Input'!$C$8:$AQ$8,$G$2))","v":""},{"$f":"IF(ISBLANK('Data Input'!A278),\"\",SUM('Data Input'!J278,'Data Input'!K278,'Data Input'!U278,'Data Input'!V278))","v":""},{"$f":"IF(I274=\"\",\"\",I274/COUNTIF('Data Input'!$C$8:$AQ$8,$I$2))","v":""},{"$f":"IF(ISBLANK('Data Input'!A278),\"\",SUM('Data Input'!D278))","v":""},{"$f":"IF(K274=\"\",\"\",K274/COUNTIF('Data Input'!$C$8:$AQ$8,$K$2))","v":""},{"$f":"IF(ISBLANK('Data Input'!A278),\"\",SUM('Data Input'!O278,'Data Input'!P278,'Data Input'!R278,'Data Input'!S278))","v":""},{"$f":"IF(M274=\"\",\"\",M274/COUNTIF('Data Input'!$C$8:$AQ$8,$M$2))","v":""},{"$f":"IF(ISBLANK('Data Input'!A278),\"\",SUM('Data Input'!C278,'Data Input'!E278,'Data Input'!F278,'Data Input'!G278,'Data Input'!Q278,'Data Input'!T278))","v":""},{"$f":"IF(O274=\"\",\"\",O274/COUNTIF('Data Input'!$C$8:$AQ$8,$O$2))","v":""},{"$f":"IF(ISBLANK('Data Input'!A278),\"\",SUM('Data Input'!L278))","v":""},{"$f":"IF(Q274=\"\",\"\",Q274/COUNTIF('Data Input'!$C$8:$AQ$8,$Q$2))","v":""},{"$f":"IF(ISBLANK('Data Input'!A278),\"\",SUM('Data Input'!X278:AQ278))","v":""},{"$f":"IF(S274=\"\",\"\",S274/COUNTIF('Data Input'!$C$8:$AQ$8,$S$2))","v":""}]
[{"$f":"IF('Data Input'!A279=0,\"\",'Data Input'!A279)","v":""},{"$f":"IF(ISBLANK('Data Input'!A279),\"\",COUNTIF('Data Input'!C279:AQ279,\"\")-1)","v":""},{"$f":"IF(ISBLANK('Data Input'!A279),\"\",COUNTIF('Data Input'!C279:AQ279,\"0\"))","v":""},{"$f":"IF(ISBLANK('Data Input'!A279),\"\",SUM(B275,C275))","v":""},{"$f":"IF(ISBLANK('Data Input'!A279),\"\",SUM('Data Input'!C279:AQ279))","v":""},{"$f":"IF(E275=\"\",\"\",E275/(COUNTA('Data Input'!$C$8:$AQ$8)-1))","v":""},{"$f":"IF(ISBLANK('Data Input'!A279),\"\",SUM('Data Input'!H279,'Data Input'!I279,'Data Input'!M279,'Data Input'!N279))","v":""},{"$f":"IF(G275=\"\",\"\",G275/COUNTIF('Data Input'!$C$8:$AQ$8,$G$2))","v":""},{"$f":"IF(ISBLANK('Data Input'!A279),\"\",SUM('Data Input'!J279,'Data Input'!K279,'Data Input'!U279,'Data Input'!V279))","v":""},{"$f":"IF(I275=\"\",\"\",I275/COUNTIF('Data Input'!$C$8:$AQ$8,$I$2))","v":""},{"$f":"IF(ISBLANK('Data Input'!A279),\"\",SUM('Data Input'!D279))","v":""},{"$f":"IF(K275=\"\",\"\",K275/COUNTIF('Data Input'!$C$8:$AQ$8,$K$2))","v":""},{"$f":"IF(ISBLANK('Data Input'!A279),\"\",SUM('Data Input'!O279,'Data Input'!P279,'Data Input'!R279,'Data Input'!S279))","v":""},{"$f":"IF(M275=\"\",\"\",M275/COUNTIF('Data Input'!$C$8:$AQ$8,$M$2))","v":""},{"$f":"IF(ISBLANK('Data Input'!A279),\"\",SUM('Data Input'!C279,'Data Input'!E279,'Data Input'!F279,'Data Input'!G279,'Data Input'!Q279,'Data Input'!T279))","v":""},{"$f":"IF(O275=\"\",\"\",O275/COUNTIF('Data Input'!$C$8:$AQ$8,$O$2))","v":""},{"$f":"IF(ISBLANK('Data Input'!A279),\"\",SUM('Data Input'!L279))","v":""},{"$f":"IF(Q275=\"\",\"\",Q275/COUNTIF('Data Input'!$C$8:$AQ$8,$Q$2))","v":""},{"$f":"IF(ISBLANK('Data Input'!A279),\"\",SUM('Data Input'!X279:AQ279))","v":""},{"$f":"IF(S275=\"\",\"\",S275/COUNTIF('Data Input'!$C$8:$AQ$8,$S$2))","v":""}]
[{"$f":"IF('Data Input'!A280=0,\"\",'Data Input'!A280)","v":""},{"$f":"IF(ISBLANK('Data Input'!A280),\"\",COUNTIF('Data Input'!C280:AQ280,\"\")-1)","v":""},{"$f":"IF(ISBLANK('Data Input'!A280),\"\",COUNTIF('Data Input'!C280:AQ280,\"0\"))","v":""},{"$f":"IF(ISBLANK('Data Input'!A280),\"\",SUM(B276,C276))","v":""},{"$f":"IF(ISBLANK('Data Input'!A280),\"\",SUM('Data Input'!C280:AQ280))","v":""},{"$f":"IF(E276=\"\",\"\",E276/(COUNTA('Data Input'!$C$8:$AQ$8)-1))","v":""},{"$f":"IF(ISBLANK('Data Input'!A280),\"\",SUM('Data Input'!H280,'Data Input'!I280,'Data Input'!M280,'Data Input'!N280))","v":""},{"$f":"IF(G276=\"\",\"\",G276/COUNTIF('Data Input'!$C$8:$AQ$8,$G$2))","v":""},{"$f":"IF(ISBLANK('Data Input'!A280),\"\",SUM('Data Input'!J280,'Data Input'!K280,'Data Input'!U280,'Data Input'!V280))","v":""},{"$f":"IF(I276=\"\",\"\",I276/COUNTIF('Data Input'!$C$8:$AQ$8,$I$2))","v":""},{"$f":"IF(ISBLANK('Data Input'!A280),\"\",SUM('Data Input'!D280))","v":""},{"$f":"IF(K276=\"\",\"\",K276/COUNTIF('Data Input'!$C$8:$AQ$8,$K$2))","v":""},{"$f":"IF(ISBLANK('Data Input'!A280),\"\",SUM('Data Input'!O280,'Data Input'!P280,'Data Input'!R280,'Data Input'!S280))","v":""},{"$f":"IF(M276=\"\",\"\",M276/COUNTIF('Data Input'!$C$8:$AQ$8,$M$2))","v":""},{"$f":"IF(ISBLANK('Data Input'!A280),\"\",SUM('Data Input'!C280,'Data Input'!E280,'Data Input'!F280,'Data Input'!G280,'Data Input'!Q280,'Data Input'!T280))","v":""},{"$f":"IF(O276=\"\",\"\",O276/COUNTIF('Data Input'!$C$8:$AQ$8,$O$2))","v":""},{"$f":"IF(ISBLANK('Data Input'!A280),\"\",SUM('Data Input'!L280))","v":""},{"$f":"IF(Q276=\"\",\"\",Q276/COUNTIF('Data Input'!$C$8:$AQ$8,$Q$2))","v":""},{"$f":"IF(ISBLANK('Data Input'!A280),\"\",SUM('Data Input'!X280:AQ280))","v":""},{"$f":"IF(S276=\"\",\"\",S276/COUNTIF('Data Input'!$C$8:$AQ$8,$S$2))","v":""}]
[{"$f":"IF('Data Input'!A281=0,\"\",'Data Input'!A281)","v":""},{"$f":"IF(ISBLANK('Data Input'!A281),\"\",COUNTIF('Data Input'!C281:AQ281,\"\")-1)","v":""},{"$f":"IF(ISBLANK('Data Input'!A281),\"\",COUNTIF('Data Input'!C281:AQ281,\"0\"))","v":""},{"$f":"IF(ISBLANK('Data Input'!A281),\"\",SUM(B277,C277))","v":""},{"$f":"IF(ISBLANK('Data Input'!A281),\"\",SUM('Data Input'!C281:AQ281))","v":""},{"$f":"IF(E277=\"\",\"\",E277/(COUNTA('Data Input'!$C$8:$AQ$8)-1))","v":""},{"$f":"IF(ISBLANK('Data Input'!A281),\"\",SUM('Data Input'!H281,'Data Input'!I281,'Data Input'!M281,'Data Input'!N281))","v":""},{"$f":"IF(G277=\"\",\"\",G277/COUNTIF('Data Input'!$C$8:$AQ$8,$G$2))","v":""},{"$f":"IF(ISBLANK('Data Input'!A281),\"\",SUM('Data Input'!J281,'Data Input'!K281,'Data Input'!U281,'Data Input'!V281))","v":""},{"$f":"IF(I277=\"\",\"\",I277/COUNTIF('Data Input'!$C$8:$AQ$8,$I$2))","v":""},{"$f":"IF(ISBLANK('Data Input'!A281),\"\",SUM('Data Input'!D281))","v":""},{"$f":"IF(K277=\"\",\"\",K277/COUNTIF('Data Input'!$C$8:$AQ$8,$K$2))","v":""},{"$f":"IF(ISBLANK('Data Input'!A281),\"\",SUM('Data Input'!O281,'Data Input'!P281,'Data Input'!R281,'Data Input'!S281))","v":""},{"$f":"IF(M277=\"\",\"\",M277/COUNTIF('Data Input'!$C$8:$AQ$8,$M$2))","v":""},{"$f":"IF(ISBLANK('Data Input'!A281),\"\",SUM('Data Input'!C281,'Data Input'!E281,'Data Input'!F281,'Data Input'!G281,'Data Input'!Q281,'Data Input'!T281))","v":""},{"$f":"IF(O277=\"\",\"\",O277/COUNTIF('Data Input'!$C$8:$AQ$8,$O$2))","v":""},{"$f":"IF(ISBLANK('Data Input'!A281),\"\",SUM('Data Input'!L281))","v":""},{"$f":"IF(Q277=\"\",\"\",Q277/COUNTIF('Data Input'!$C$8:$AQ$8,$Q$2))","v":""},{"$f":"IF(ISBLANK('Data Input'!A281),\"\",SUM('Data Input'!X281:AQ281))","v":""},{"$f":"IF(S277=\"\",\"\",S277/COUNTIF('Data Input'!$C$8:$AQ$8,$S$2))","v":""}]
[{"$f":"IF('Data Input'!A282=0,\"\",'Data Input'!A282)","v":""},{"$f":"IF(ISBLANK('Data Input'!A282),\"\",COUNTIF('Data Input'!C282:AQ282,\"\")-1)","v":""},{"$f":"IF(ISBLANK('Data Input'!A282),\"\",COUNTIF('Data Input'!C282:AQ282,\"0\"))","v":""},{"$f":"IF(ISBLANK('Data Input'!A282),\"\",SUM(B278,C278))","v":""},{"$f":"IF(ISBLANK('Data Input'!A282),\"\",SUM('Data Input'!C282:AQ282))","v":""},{"$f":"IF(E278=\"\",\"\",E278/(COUNTA('Data Input'!$C$8:$AQ$8)-1))","v":""},{"$f":"IF(ISBLANK('Data Input'!A282),\"\",SUM('Data Input'!H282,'Data Input'!I282,'Data Input'!M282,'Data Input'!N282))","v":""},{"$f":"IF(G278=\"\",\"\",G278/COUNTIF('Data Input'!$C$8:$AQ$8,$G$2))","v":""},{"$f":"IF(ISBLANK('Data Input'!A282),\"\",SUM('Data Input'!J282,'Data Input'!K282,'Data Input'!U282,'Data Input'!V282))","v":""},{"$f":"IF(I278=\"\",\"\",I278/COUNTIF('Data Input'!$C$8:$AQ$8,$I$2))","v":""},{"$f":"IF(ISBLANK('Data Input'!A282),\"\",SUM('Data Input'!D282))","v":""},{"$f":"IF(K278=\"\",\"\",K278/COUNTIF('Data Input'!$C$8:$AQ$8,$K$2))","v":""},{"$f":"IF(ISBLANK('Data Input'!A282),\"\",SUM('Data Input'!O282,'Data Input'!P282,'Data Input'!R282,'Data Input'!S282))","v":""},{"$f":"IF(M278=\"\",\"\",M278/COUNTIF('Data Input'!$C$8:$AQ$8,$M$2))","v":""},{"$f":"IF(ISBLANK('Data Input'!A282),\"\",SUM('Data Input'!C282,'Data Input'!E282,'Data Input'!F282,'Data Input'!G282,'Data Input'!Q282,'Data Input'!T282))","v":""},{"$f":"IF(O278=\"\",\"\",O278/COUNTIF('Data Input'!$C$8:$AQ$8,$O$2))","v":""},{"$f":"IF(ISBLANK('Data Input'!A282),\"\",SUM('Data Input'!L282))","v":""},{"$f":"IF(Q278=\"\",\"\",Q278/COUNTIF('Data Input'!$C$8:$AQ$8,$Q$2))","v":""},{"$f":"IF(ISBLANK('Data Input'!A282),\"\",SUM('Data Input'!X282:AQ282))","v":""},{"$f":"IF(S278=\"\",\"\",S278/COUNTIF('Data Input'!$C$8:$AQ$8,$S$2))","v":""}]
[{"$f":"IF('Data Input'!A283=0,\"\",'Data Input'!A283)","v":""},{"$f":"IF(ISBLANK('Data Input'!A283),\"\",COUNTIF('Data Input'!C283:AQ283,\"\")-1)","v":""},{"$f":"IF(ISBLANK('Data Input'!A283),\"\",COUNTIF('Data Input'!C283:AQ283,\"0\"))","v":""},{"$f":"IF(ISBLANK('Data Input'!A283),\"\",SUM(B279,C279))","v":""},{"$f":"IF(ISBLANK('Data Input'!A283),\"\",SUM('Data Input'!C283:AQ283))","v":""},{"$f":"IF(E279=\"\",\"\",E279/(COUNTA('Data Input'!$C$8:$AQ$8)-1))","v":""},{"$f":"IF(ISBLANK('Data Input'!A283),\"\",SUM('Data Input'!H283,'Data Input'!I283,'Data Input'!M283,'Data Input'!N283))","v":""},{"$f":"IF(G279=\"\",\"\",G279/COUNTIF('Data Input'!$C$8:$AQ$8,$G$2))","v":""},{"$f":"IF(ISBLANK('Data Input'!A283),\"\",SUM('Data Input'!J283,'Data Input'!K283,'Data Input'!U283,'Data Input'!V283))","v":""},{"$f":"IF(I279=\"\",\"\",I279/COUNTIF('Data Input'!$C$8:$AQ$8,$I$2))","v":""},{"$f":"IF(ISBLANK('Data Input'!A283),\"\",SUM('Data Input'!D283))","v":""},{"$f":"IF(K279=\"\",\"\",K279/COUNTIF('Data Input'!$C$8:$AQ$8,$K$2))","v":""},{"$f":"IF(ISBLANK('Data Input'!A283),\"\",SUM('Data Input'!O283,'Data Input'!P283,'Data Input'!R283,'Data Input'!S283))","v":""},{"$f":"IF(M279=\"\",\"\",M279/COUNTIF('Data Input'!$C$8:$AQ$8,$M$2))","v":""},{"$f":"IF(ISBLANK('Data Input'!A283),\"\",SUM('Data Input'!C283,'Data Input'!E283,'Data Input'!F283,'Data Input'!G283,'Data Input'!Q283,'Data Input'!T283))","v":""},{"$f":"IF(O279=\"\",\"\",O279/COUNTIF('Data Input'!$C$8:$AQ$8,$O$2))","v":""},{"$f":"IF(ISBLANK('Data Input'!A283),\"\",SUM('Data Input'!L283))","v":""},{"$f":"IF(Q279=\"\",\"\",Q279/COUNTIF('Data Input'!$C$8:$AQ$8,$Q$2))","v":""},{"$f":"IF(ISBLANK('Data Input'!A283),\"\",SUM('Data Input'!X283:AQ283))","v":""},{"$f":"IF(S279=\"\",\"\",S279/COUNTIF('Data Input'!$C$8:$AQ$8,$S$2))","v":""}]
[{"$f":"IF('Data Input'!A284=0,\"\",'Data Input'!A284)","v":""},{"$f":"IF(ISBLANK('Data Input'!A284),\"\",COUNTIF('Data Input'!C284:AQ284,\"\")-1)","v":""},{"$f":"IF(ISBLANK('Data Input'!A284),\"\",COUNTIF('Data Input'!C284:AQ284,\"0\"))","v":""},{"$f":"IF(ISBLANK('Data Input'!A284),\"\",SUM(B280,C280))","v":""},{"$f":"IF(ISBLANK('Data Input'!A284),\"\",SUM('Data Input'!C284:AQ284))","v":""},{"$f":"IF(E280=\"\",\"\",E280/(COUNTA('Data Input'!$C$8:$AQ$8)-1))","v":""},{"$f":"IF(ISBLANK('Data Input'!A284),\"\",SUM('Data Input'!H284,'Data Input'!I284,'Data Input'!M284,'Data Input'!N284))","v":""},{"$f":"IF(G280=\"\",\"\",G280/COUNTIF('Data Input'!$C$8:$AQ$8,$G$2))","v":""},{"$f":"IF(ISBLANK('Data Input'!A284),\"\",SUM('Data Input'!J284,'Data Input'!K284,'Data Input'!U284,'Data Input'!V284))","v":""},{"$f":"IF(I280=\"\",\"\",I280/COUNTIF('Data Input'!$C$8:$AQ$8,$I$2))","v":""},{"$f":"IF(ISBLANK('Data Input'!A284),\"\",SUM('Data Input'!D284))","v":""},{"$f":"IF(K280=\"\",\"\",K280/COUNTIF('Data Input'!$C$8:$AQ$8,$K$2))","v":""},{"$f":"IF(ISBLANK('Data Input'!A284),\"\",SUM('Data Input'!O284,'Data Input'!P284,'Data Input'!R284,'Data Input'!S284))","v":""},{"$f":"IF(M280=\"\",\"\",M280/COUNTIF('Data Input'!$C$8:$AQ$8,$M$2))","v":""},{"$f":"IF(ISBLANK('Data Input'!A284),\"\",SUM('Data Input'!C284,'Data Input'!E284,'Data Input'!F284,'Data Input'!G284,'Data Input'!Q284,'Data Input'!T284))","v":""},{"$f":"IF(O280=\"\",\"\",O280/COUNTIF('Data Input'!$C$8:$AQ$8,$O$2))","v":""},{"$f":"IF(ISBLANK('Data Input'!A284),\"\",SUM('Data Input'!L284))","v":""},{"$f":"IF(Q280=\"\",\"\",Q280/COUNTIF('Data Input'!$C$8:$AQ$8,$Q$2))","v":""},{"$f":"IF(ISBLANK('Data Input'!A284),\"\",SUM('Data Input'!X284:AQ284))","v":""},{"$f":"IF(S280=\"\",\"\",S280/COUNTIF('Data Input'!$C$8:$AQ$8,$S$2))","v":""}]
[{"$f":"IF('Data Input'!A285=0,\"\",'Data Input'!A285)","v":""},{"$f":"IF(ISBLANK('Data Input'!A285),\"\",COUNTIF('Data Input'!C285:AQ285,\"\")-1)","v":""},{"$f":"IF(ISBLANK('Data Input'!A285),\"\",COUNTIF('Data Input'!C285:AQ285,\"0\"))","v":""},{"$f":"IF(ISBLANK('Data Input'!A285),\"\",SUM(B281,C281))","v":""},{"$f":"IF(ISBLANK('Data Input'!A285),\"\",SUM('Data Input'!C285:AQ285))","v":""},{"$f":"IF(E281=\"\",\"\",E281/(COUNTA('Data Input'!$C$8:$AQ$8)-1))","v":""},{"$f":"IF(ISBLANK('Data Input'!A285),\"\",SUM('Data Input'!H285,'Data Input'!I285,'Data Input'!M285,'Data Input'!N285))","v":""},{"$f":"IF(G281=\"\",\"\",G281/COUNTIF('Data Input'!$C$8:$AQ$8,$G$2))","v":""},{"$f":"IF(ISBLANK('Data Input'!A285),\"\",SUM('Data Input'!J285,'Data Input'!K285,'Data Input'!U285,'Data Input'!V285))","v":""},{"$f":"IF(I281=\"\",\"\",I281/COUNTIF('Data Input'!$C$8:$AQ$8,$I$2))","v":""},{"$f":"IF(ISBLANK('Data Input'!A285),\"\",SUM('Data Input'!D285))","v":""},{"$f":"IF(K281=\"\",\"\",K281/COUNTIF('Data Input'!$C$8:$AQ$8,$K$2))","v":""},{"$f":"IF(ISBLANK('Data Input'!A285),\"\",SUM('Data Input'!O285,'Data Input'!P285,'Data Input'!R285,'Data Input'!S285))","v":""},{"$f":"IF(M281=\"\",\"\",M281/COUNTIF('Data Input'!$C$8:$AQ$8,$M$2))","v":""},{"$f":"IF(ISBLANK('Data Input'!A285),\"\",SUM('Data Input'!C285,'Data Input'!E285,'Data Input'!F285,'Data Input'!G285,'Data Input'!Q285,'Data Input'!T285))","v":""},{"$f":"IF(O281=\"\",\"\",O281/COUNTIF('Data Input'!$C$8:$AQ$8,$O$2))","v":""},{"$f":"IF(ISBLANK('Data Input'!A285),\"\",SUM('Data Input'!L285))","v":""},{"$f":"IF(Q281=\"\",\"\",Q281/COUNTIF('Data Input'!$C$8:$AQ$8,$Q$2))","v":""},{"$f":"IF(ISBLANK('Data Input'!A285),\"\",SUM('Data Input'!X285:AQ285))","v":""},{"$f":"IF(S281=\"\",\"\",S281/COUNTIF('Data Input'!$C$8:$AQ$8,$S$2))","v":""}]
[{"$f":"IF('Data Input'!A286=0,\"\",'Data Input'!A286)","v":""},{"$f":"IF(ISBLANK('Data Input'!A286),\"\",COUNTIF('Data Input'!C286:AQ286,\"\")-1)","v":""},{"$f":"IF(ISBLANK('Data Input'!A286),\"\",COUNTIF('Data Input'!C286:AQ286,\"0\"))","v":""},{"$f":"IF(ISBLANK('Data Input'!A286),\"\",SUM(B282,C282))","v":""},{"$f":"IF(ISBLANK('Data Input'!A286),\"\",SUM('Data Input'!C286:AQ286))","v":""},{"$f":"IF(E282=\"\",\"\",E282/(COUNTA('Data Input'!$C$8:$AQ$8)-1))","v":""},{"$f":"IF(ISBLANK('Data Input'!A286),\"\",SUM('Data Input'!H286,'Data Input'!I286,'Data Input'!M286,'Data Input'!N286))","v":""},{"$f":"IF(G282=\"\",\"\",G282/COUNTIF('Data Input'!$C$8:$AQ$8,$G$2))","v":""},{"$f":"IF(ISBLANK('Data Input'!A286),\"\",SUM('Data Input'!J286,'Data Input'!K286,'Data Input'!U286,'Data Input'!V286))","v":""},{"$f":"IF(I282=\"\",\"\",I282/COUNTIF('Data Input'!$C$8:$AQ$8,$I$2))","v":""},{"$f":"IF(ISBLANK('Data Input'!A286),\"\",SUM('Data Input'!D286))","v":""},{"$f":"IF(K282=\"\",\"\",K282/COUNTIF('Data Input'!$C$8:$AQ$8,$K$2))","v":""},{"$f":"IF(ISBLANK('Data Input'!A286),\"\",SUM('Data Input'!O286,'Data Input'!P286,'Data Input'!R286,'Data Input'!S286))","v":""},{"$f":"IF(M282=\"\",\"\",M282/COUNTIF('Data Input'!$C$8:$AQ$8,$M$2))","v":""},{"$f":"IF(ISBLANK('Data Input'!A286),\"\",SUM('Data Input'!C286,'Data Input'!E286,'Data Input'!F286,'Data Input'!G286,'Data Input'!Q286,'Data Input'!T286))","v":""},{"$f":"IF(O282=\"\",\"\",O282/COUNTIF('Data Input'!$C$8:$AQ$8,$O$2))","v":""},{"$f":"IF(ISBLANK('Data Input'!A286),\"\",SUM('Data Input'!L286))","v":""},{"$f":"IF(Q282=\"\",\"\",Q282/COUNTIF('Data Input'!$C$8:$AQ$8,$Q$2))","v":""},{"$f":"IF(ISBLANK('Data Input'!A286),\"\",SUM('Data Input'!X286:AQ286))","v":""},{"$f":"IF(S282=\"\",\"\",S282/COUNTIF('Data Input'!$C$8:$AQ$8,$S$2))","v":""}]
[{"$f":"IF('Data Input'!A287=0,\"\",'Data Input'!A287)","v":""},{"$f":"IF(ISBLANK('Data Input'!A287),\"\",COUNTIF('Data Input'!C287:AQ287,\"\")-1)","v":""},{"$f":"IF(ISBLANK('Data Input'!A287),\"\",COUNTIF('Data Input'!C287:AQ287,\"0\"))","v":""},{"$f":"IF(ISBLANK('Data Input'!A287),\"\",SUM(B283,C283))","v":""},{"$f":"IF(ISBLANK('Data Input'!A287),\"\",SUM('Data Input'!C287:AQ287))","v":""},{"$f":"IF(E283=\"\",\"\",E283/(COUNTA('Data Input'!$C$8:$AQ$8)-1))","v":""},{"$f":"IF(ISBLANK('Data Input'!A287),\"\",SUM('Data Input'!H287,'Data Input'!I287,'Data Input'!M287,'Data Input'!N287))","v":""},{"$f":"IF(G283=\"\",\"\",G283/COUNTIF('Data Input'!$C$8:$AQ$8,$G$2))","v":""},{"$f":"IF(ISBLANK('Data Input'!A287),\"\",SUM('Data Input'!J287,'Data Input'!K287,'Data Input'!U287,'Data Input'!V287))","v":""},{"$f":"IF(I283=\"\",\"\",I283/COUNTIF('Data Input'!$C$8:$AQ$8,$I$2))","v":""},{"$f":"IF(ISBLANK('Data Input'!A287),\"\",SUM('Data Input'!D287))","v":""},{"$f":"IF(K283=\"\",\"\",K283/COUNTIF('Data Input'!$C$8:$AQ$8,$K$2))","v":""},{"$f":"IF(ISBLANK('Data Input'!A287),\"\",SUM('Data Input'!O287,'Data Input'!P287,'Data Input'!R287,'Data Input'!S287))","v":""},{"$f":"IF(M283=\"\",\"\",M283/COUNTIF('Data Input'!$C$8:$AQ$8,$M$2))","v":""},{"$f":"IF(ISBLANK('Data Input'!A287),\"\",SUM('Data Input'!C287,'Data Input'!E287,'Data Input'!F287,'Data Input'!G287,'Data Input'!Q287,'Data Input'!T287))","v":""},{"$f":"IF(O283=\"\",\"\",O283/COUNTIF('Data Input'!$C$8:$AQ$8,$O$2))","v":""},{"$f":"IF(ISBLANK('Data Input'!A287),\"\",SUM('Data Input'!L287))","v":""},{"$f":"IF(Q283=\"\",\"\",Q283/COUNTIF('Data Input'!$C$8:$AQ$8,$Q$2))","v":""},{"$f":"IF(ISBLANK('Data Input'!A287),\"\",SUM('Data Input'!X287:AQ287))","v":""},{"$f":"IF(S283=\"\",\"\",S283/COUNTIF('Data Input'!$C$8:$AQ$8,$S$2))","v":""}]
[{"$f":"IF('Data Input'!A288=0,\"\",'Data Input'!A288)","v":""},{"$f":"IF(ISBLANK('Data Input'!A288),\"\",COUNTIF('Data Input'!C288:AQ288,\"\")-1)","v":""},{"$f":"IF(ISBLANK('Data Input'!A288),\"\",COUNTIF('Data Input'!C288:AQ288,\"0\"))","v":""},{"$f":"IF(ISBLANK('Data Input'!A288),\"\",SUM(B284,C284))","v":""},{"$f":"IF(ISBLANK('Data Input'!A288),\"\",SUM('Data Input'!C288:AQ288))","v":""},{"$f":"IF(E284=\"\",\"\",E284/(COUNTA('Data Input'!$C$8:$AQ$8)-1))","v":""},{"$f":"IF(ISBLANK('Data Input'!A288),\"\",SUM('Data Input'!H288,'Data Input'!I288,'Data Input'!M288,'Data Input'!N288))","v":""},{"$f":"IF(G284=\"\",\"\",G284/COUNTIF('Data Input'!$C$8:$AQ$8,$G$2))","v":""},{"$f":"IF(ISBLANK('Data Input'!A288),\"\",SUM('Data Input'!J288,'Data Input'!K288,'Data Input'!U288,'Data Input'!V288))","v":""},{"$f":"IF(I284=\"\",\"\",I284/COUNTIF('Data Input'!$C$8:$AQ$8,$I$2))","v":""},{"$f":"IF(ISBLANK('Data Input'!A288),\"\",SUM('Data Input'!D288))","v":""},{"$f":"IF(K284=\"\",\"\",K284/COUNTIF('Data Input'!$C$8:$AQ$8,$K$2))","v":""},{"$f":"IF(ISBLANK('Data Input'!A288),\"\",SUM('Data Input'!O288,'Data Input'!P288,'Data Input'!R288,'Data Input'!S288))","v":""},{"$f":"IF(M284=\"\",\"\",M284/COUNTIF('Data Input'!$C$8:$AQ$8,$M$2))","v":""},{"$f":"IF(ISBLANK('Data Input'!A288),\"\",SUM('Data Input'!C288,'Data Input'!E288,'Data Input'!F288,'Data Input'!G288,'Data Input'!Q288,'Data Input'!T288))","v":""},{"$f":"IF(O284=\"\",\"\",O284/COUNTIF('Data Input'!$C$8:$AQ$8,$O$2))","v":""},{"$f":"IF(ISBLANK('Data Input'!A288),\"\",SUM('Data Input'!L288))","v":""},{"$f":"IF(Q284=\"\",\"\",Q284/COUNTIF('Data Input'!$C$8:$AQ$8,$Q$2))","v":""},{"$f":"IF(ISBLANK('Data Input'!A288),\"\",SUM('Data Input'!X288:AQ288))","v":""},{"$f":"IF(S284=\"\",\"\",S284/COUNTIF('Data Input'!$C$8:$AQ$8,$S$2))","v":""}]
[{"$f":"IF('Data Input'!A289=0,\"\",'Data Input'!A289)","v":""},{"$f":"IF(ISBLANK('Data Input'!A289),\"\",COUNTIF('Data Input'!C289:AQ289,\"\")-1)","v":""},{"$f":"IF(ISBLANK('Data Input'!A289),\"\",COUNTIF('Data Input'!C289:AQ289,\"0\"))","v":""},{"$f":"IF(ISBLANK('Data Input'!A289),\"\",SUM(B285,C285))","v":""},{"$f":"IF(ISBLANK('Data Input'!A289),\"\",SUM('Data Input'!C289:AQ289))","v":""},{"$f":"IF(E285=\"\",\"\",E285/(COUNTA('Data Input'!$C$8:$AQ$8)-1))","v":""},{"$f":"IF(ISBLANK('Data Input'!A289),\"\",SUM('Data Input'!H289,'Data Input'!I289,'Data Input'!M289,'Data Input'!N289))","v":""},{"$f":"IF(G285=\"\",\"\",G285/COUNTIF('Data Input'!$C$8:$AQ$8,$G$2))","v":""},{"$f":"IF(ISBLANK('Data Input'!A289),\"\",SUM('Data Input'!J289,'Data Input'!K289,'Data Input'!U289,'Data Input'!V289))","v":""},{"$f":"IF(I285=\"\",\"\",I285/COUNTIF('Data Input'!$C$8:$AQ$8,$I$2))","v":""},{"$f":"IF(ISBLANK('Data Input'!A289),\"\",SUM('Data Input'!D289))","v":""},{"$f":"IF(K285=\"\",\"\",K285/COUNTIF('Data Input'!$C$8:$AQ$8,$K$2))","v":""},{"$f":"IF(ISBLANK('Data Input'!A289),\"\",SUM('Data Input'!O289,'Data Input'!P289,'Data Input'!R289,'Data Input'!S289))","v":""},{"$f":"IF(M285=\"\",\"\",M285/COUNTIF('Data Input'!$C$8:$AQ$8,$M$2))","v":""},{"$f":"IF(ISBLANK('Data Input'!A289),\"\",SUM('Data Input'!C289,'Data Input'!E289,'Data Input'!F289,'Data Input'!G289,'Data Input'!Q289,'Data Input'!T289))","v":""},{"$f":"IF(O285=\"\",\"\",O285/COUNTIF('Data Input'!$C$8:$AQ$8,$O$2))","v":""},{"$f":"IF(ISBLANK('Data Input'!A289),\"\",SUM('Data Input'!L289))","v":""},{"$f":"IF(Q285=\"\",\"\",Q285/COUNTIF('Data Input'!$C$8:$AQ$8,$Q$2))","v":""},{"$f":"IF(ISBLANK('Data Input'!A289),\"\",SUM('Data Input'!X289:AQ289))","v":""},{"$f":"IF(S285=\"\",\"\",S285/COUNTIF('Data Input'!$C$8:$AQ$8,$S$2))","v":""}]
[{"$f":"IF('Data Input'!A290=0,\"\",'Data Input'!A290)","v":""},{"$f":"IF(ISBLANK('Data Input'!A290),\"\",COUNTIF('Data Input'!C290:AQ290,\"\")-1)","v":""},{"$f":"IF(ISBLANK('Data Input'!A290),\"\",COUNTIF('Data Input'!C290:AQ290,\"0\"))","v":""},{"$f":"IF(ISBLANK('Data Input'!A290),\"\",SUM(B286,C286))","v":""},{"$f":"IF(ISBLANK('Data Input'!A290),\"\",SUM('Data Input'!C290:AQ290))","v":""},{"$f":"IF(E286=\"\",\"\",E286/(COUNTA('Data Input'!$C$8:$AQ$8)-1))","v":""},{"$f":"IF(ISBLANK('Data Input'!A290),\"\",SUM('Data Input'!H290,'Data Input'!I290,'Data Input'!M290,'Data Input'!N290))","v":""},{"$f":"IF(G286=\"\",\"\",G286/COUNTIF('Data Input'!$C$8:$AQ$8,$G$2))","v":""},{"$f":"IF(ISBLANK('Data Input'!A290),\"\",SUM('Data Input'!J290,'Data Input'!K290,'Data Input'!U290,'Data Input'!V290))","v":""},{"$f":"IF(I286=\"\",\"\",I286/COUNTIF('Data Input'!$C$8:$AQ$8,$I$2))","v":""},{"$f":"IF(ISBLANK('Data Input'!A290),\"\",SUM('Data Input'!D290))","v":""},{"$f":"IF(K286=\"\",\"\",K286/COUNTIF('Data Input'!$C$8:$AQ$8,$K$2))","v":""},{"$f":"IF(ISBLANK('Data Input'!A290),\"\",SUM('Data Input'!O290,'Data Input'!P290,'Data Input'!R290,'Data Input'!S290))","v":""},{"$f":"IF(M286=\"\",\"\",M286/COUNTIF('Data Input'!$C$8:$AQ$8,$M$2))","v":""},{"$f":"IF(ISBLANK('Data Input'!A290),\"\",SUM('Data Input'!C290,'Data Input'!E290,'Data Input'!F290,'Data Input'!G290,'Data Input'!Q290,'Data Input'!T290))","v":""},{"$f":"IF(O286=\"\",\"\",O286/COUNTIF('Data Input'!$C$8:$AQ$8,$O$2))","v":""},{"$f":"IF(ISBLANK('Data Input'!A290),\"\",SUM('Data Input'!L290))","v":""},{"$f":"IF(Q286=\"\",\"\",Q286/COUNTIF('Data Input'!$C$8:$AQ$8,$Q$2))","v":""},{"$f":"IF(ISBLANK('Data Input'!A290),\"\",SUM('Data Input'!X290:AQ290))","v":""},{"$f":"IF(S286=\"\",\"\",S286/COUNTIF('Data Input'!$C$8:$AQ$8,$S$2))","v":""}]
[{"$f":"IF('Data Input'!A291=0,\"\",'Data Input'!A291)","v":""},{"$f":"IF(ISBLANK('Data Input'!A291),\"\",COUNTIF('Data Input'!C291:AQ291,\"\")-1)","v":""},{"$f":"IF(ISBLANK('Data Input'!A291),\"\",COUNTIF('Data Input'!C291:AQ291,\"0\"))","v":""},{"$f":"IF(ISBLANK('Data Input'!A291),\"\",SUM(B287,C287))","v":""},{"$f":"IF(ISBLANK('Data Input'!A291),\"\",SUM('Data Input'!C291:AQ291))","v":""},{"$f":"IF(E287=\"\",\"\",E287/(COUNTA('Data Input'!$C$8:$AQ$8)-1))","v":""},{"$f":"IF(ISBLANK('Data Input'!A291),\"\",SUM('Data Input'!H291,'Data Input'!I291,'Data Input'!M291,'Data Input'!N291))","v":""},{"$f":"IF(G287=\"\",\"\",G287/COUNTIF('Data Input'!$C$8:$AQ$8,$G$2))","v":""},{"$f":"IF(ISBLANK('Data Input'!A291),\"\",SUM('Data Input'!J291,'Data Input'!K291,'Data Input'!U291,'Data Input'!V291))","v":""},{"$f":"IF(I287=\"\",\"\",I287/COUNTIF('Data Input'!$C$8:$AQ$8,$I$2))","v":""},{"$f":"IF(ISBLANK('Data Input'!A291),\"\",SUM('Data Input'!D291))","v":""},{"$f":"IF(K287=\"\",\"\",K287/COUNTIF('Data Input'!$C$8:$AQ$8,$K$2))","v":""},{"$f":"IF(ISBLANK('Data Input'!A291),\"\",SUM('Data Input'!O291,'Data Input'!P291,'Data Input'!R291,'Data Input'!S291))","v":""},{"$f":"IF(M287=\"\",\"\",M287/COUNTIF('Data Input'!$C$8:$AQ$8,$M$2))","v":""},{"$f":"IF(ISBLANK('Data Input'!A291),\"\",SUM('Data Input'!C291,'Data Input'!E291,'Data Input'!F291,'Data Input'!G291,'Data Input'!Q291,'Data Input'!T291))","v":""},{"$f":"IF(O287=\"\",\"\",O287/COUNTIF('Data Input'!$C$8:$AQ$8,$O$2))","v":""},{"$f":"IF(ISBLANK('Data Input'!A291),\"\",SUM('Data Input'!L291))","v":""},{"$f":"IF(Q287=\"\",\"\",Q287/COUNTIF('Data Input'!$C$8:$AQ$8,$Q$2))","v":""},{"$f":"IF(ISBLANK('Data Input'!A291),\"\",SUM('Data Input'!X291:AQ291))","v":""},{"$f":"IF(S287=\"\",\"\",S287/COUNTIF('Data Input'!$C$8:$AQ$8,$S$2))","v":""}]
[{"$f":"IF('Data Input'!A292=0,\"\",'Data Input'!A292)","v":""},{"$f":"IF(ISBLANK('Data Input'!A292),\"\",COUNTIF('Data Input'!C292:AQ292,\"\")-1)","v":""},{"$f":"IF(ISBLANK('Data Input'!A292),\"\",COUNTIF('Data Input'!C292:AQ292,\"0\"))","v":""},{"$f":"IF(ISBLANK('Data Input'!A292),\"\",SUM(B288,C288))","v":""},{"$f":"IF(ISBLANK('Data Input'!A292),\"\",SUM('Data Input'!C292:AQ292))","v":""},{"$f":"IF(E288=\"\",\"\",E288/(COUNTA('Data Input'!$C$8:$AQ$8)-1))","v":""},{"$f":"IF(ISBLANK('Data Input'!A292),\"\",SUM('Data Input'!H292,'Data Input'!I292,'Data Input'!M292,'Data Input'!N292))","v":""},{"$f":"IF(G288=\"\",\"\",G288/COUNTIF('Data Input'!$C$8:$AQ$8,$G$2))","v":""},{"$f":"IF(ISBLANK('Data Input'!A292),\"\",SUM('Data Input'!J292,'Data Input'!K292,'Data Input'!U292,'Data Input'!V292))","v":""},{"$f":"IF(I288=\"\",\"\",I288/COUNTIF('Data Input'!$C$8:$AQ$8,$I$2))","v":""},{"$f":"IF(ISBLANK('Data Input'!A292),\"\",SUM('Data Input'!D292))","v":""},{"$f":"IF(K288=\"\",\"\",K288/COUNTIF('Data Input'!$C$8:$AQ$8,$K$2))","v":""},{"$f":"IF(ISBLANK('Data Input'!A292),\"\",SUM('Data Input'!O292,'Data Input'!P292,'Data Input'!R292,'Data Input'!S292))","v":""},{"$f":"IF(M288=\"\",\"\",M288/COUNTIF('Data Input'!$C$8:$AQ$8,$M$2))","v":""},{"$f":"IF(ISBLANK('Data Input'!A292),\"\",SUM('Data Input'!C292,'Data Input'!E292,'Data Input'!F292,'Data Input'!G292,'Data Input'!Q292,'Data Input'!T292))","v":""},{"$f":"IF(O288=\"\",\"\",O288/COUNTIF('Data Input'!$C$8:$AQ$8,$O$2))","v":""},{"$f":"IF(ISBLANK('Data Input'!A292),\"\",SUM('Data Input'!L292))","v":""},{"$f":"IF(Q288=\"\",\"\",Q288/COUNTIF('Data Input'!$C$8:$AQ$8,$Q$2))","v":""},{"$f":"IF(ISBLANK('Data Input'!A292),\"\",SUM('Data Input'!X292:AQ292))","v":""},{"$f":"IF(S288=\"\",\"\",S288/COUNTIF('Data Input'!$C$8:$AQ$8,$S$2))","v":""}]
[{"$f":"IF('Data Input'!A293=0,\"\",'Data Input'!A293)","v":""},{"$f":"IF(ISBLANK('Data Input'!A293),\"\",COUNTIF('Data Input'!C293:AQ293,\"\")-1)","v":""},{"$f":"IF(ISBLANK('Data Input'!A293),\"\",COUNTIF('Data Input'!C293:AQ293,\"0\"))","v":""},{"$f":"IF(ISBLANK('Data Input'!A293),\"\",SUM(B289,C289))","v":""},{"$f":"IF(ISBLANK('Data Input'!A293),\"\",SUM('Data Input'!C293:AQ293))","v":""},{"$f":"IF(E289=\"\",\"\",E289/(COUNTA('Data Input'!$C$8:$AQ$8)-1))","v":""},{"$f":"IF(ISBLANK('Data Input'!A293),\"\",SUM('Data Input'!H293,'Data Input'!I293,'Data Input'!M293,'Data Input'!N293))","v":""},{"$f":"IF(G289=\"\",\"\",G289/COUNTIF('Data Input'!$C$8:$AQ$8,$G$2))","v":""},{"$f":"IF(ISBLANK('Data Input'!A293),\"\",SUM('Data Input'!J293,'Data Input'!K293,'Data Input'!U293,'Data Input'!V293))","v":""},{"$f":"IF(I289=\"\",\"\",I289/COUNTIF('Data Input'!$C$8:$AQ$8,$I$2))","v":""},{"$f":"IF(ISBLANK('Data Input'!A293),\"\",SUM('Data Input'!D293))","v":""},{"$f":"IF(K289=\"\",\"\",K289/COUNTIF('Data Input'!$C$8:$AQ$8,$K$2))","v":""},{"$f":"IF(ISBLANK('Data Input'!A293),\"\",SUM('Data Input'!O293,'Data Input'!P293,'Data Input'!R293,'Data Input'!S293))","v":""},{"$f":"IF(M289=\"\",\"\",M289/COUNTIF('Data Input'!$C$8:$AQ$8,$M$2))","v":""},{"$f":"IF(ISBLANK('Data Input'!A293),\"\",SUM('Data Input'!C293,'Data Input'!E293,'Data Input'!F293,'Data Input'!G293,'Data Input'!Q293,'Data Input'!T293))","v":""},{"$f":"IF(O289=\"\",\"\",O289/COUNTIF('Data Input'!$C$8:$AQ$8,$O$2))","v":""},{"$f":"IF(ISBLANK('Data Input'!A293),\"\",SUM('Data Input'!L293))","v":""},{"$f":"IF(Q289=\"\",\"\",Q289/COUNTIF('Data Input'!$C$8:$AQ$8,$Q$2))","v":""},{"$f":"IF(ISBLANK('Data Input'!A293),\"\",SUM('Data Input'!X293:AQ293))","v":""},{"$f":"IF(S289=\"\",\"\",S289/COUNTIF('Data Input'!$C$8:$AQ$8,$S$2))","v":""}]
[{"$f":"IF('Data Input'!A294=0,\"\",'Data Input'!A294)","v":""},{"$f":"IF(ISBLANK('Data Input'!A294),\"\",COUNTIF('Data Input'!C294:AQ294,\"\")-1)","v":""},{"$f":"IF(ISBLANK('Data Input'!A294),\"\",COUNTIF('Data Input'!C294:AQ294,\"0\"))","v":""},{"$f":"IF(ISBLANK('Data Input'!A294),\"\",SUM(B290,C290))","v":""},{"$f":"IF(ISBLANK('Data Input'!A294),\"\",SUM('Data Input'!C294:AQ294))","v":""},{"$f":"IF(E290=\"\",\"\",E290/(COUNTA('Data Input'!$C$8:$AQ$8)-1))","v":""},{"$f":"IF(ISBLANK('Data Input'!A294),\"\",SUM('Data Input'!H294,'Data Input'!I294,'Data Input'!M294,'Data Input'!N294))","v":""},{"$f":"IF(G290=\"\",\"\",G290/COUNTIF('Data Input'!$C$8:$AQ$8,$G$2))","v":""},{"$f":"IF(ISBLANK('Data Input'!A294),\"\",SUM('Data Input'!J294,'Data Input'!K294,'Data Input'!U294,'Data Input'!V294))","v":""},{"$f":"IF(I290=\"\",\"\",I290/COUNTIF('Data Input'!$C$8:$AQ$8,$I$2))","v":""},{"$f":"IF(ISBLANK('Data Input'!A294),\"\",SUM('Data Input'!D294))","v":""},{"$f":"IF(K290=\"\",\"\",K290/COUNTIF('Data Input'!$C$8:$AQ$8,$K$2))","v":""},{"$f":"IF(ISBLANK('Data Input'!A294),\"\",SUM('Data Input'!O294,'Data Input'!P294,'Data Input'!R294,'Data Input'!S294))","v":""},{"$f":"IF(M290=\"\",\"\",M290/COUNTIF('Data Input'!$C$8:$AQ$8,$M$2))","v":""},{"$f":"IF(ISBLANK('Data Input'!A294),\"\",SUM('Data Input'!C294,'Data Input'!E294,'Data Input'!F294,'Data Input'!G294,'Data Input'!Q294,'Data Input'!T294))","v":""},{"$f":"IF(O290=\"\",\"\",O290/COUNTIF('Data Input'!$C$8:$AQ$8,$O$2))","v":""},{"$f":"IF(ISBLANK('Data Input'!A294),\"\",SUM('Data Input'!L294))","v":""},{"$f":"IF(Q290=\"\",\"\",Q290/COUNTIF('Data Input'!$C$8:$AQ$8,$Q$2))","v":""},{"$f":"IF(ISBLANK('Data Input'!A294),\"\",SUM('Data Input'!X294:AQ294))","v":""},{"$f":"IF(S290=\"\",\"\",S290/COUNTIF('Data Input'!$C$8:$AQ$8,$S$2))","v":""}]
[{"$f":"IF('Data Input'!A295=0,\"\",'Data Input'!A295)","v":""},{"$f":"IF(ISBLANK('Data Input'!A295),\"\",COUNTIF('Data Input'!C295:AQ295,\"\")-1)","v":""},{"$f":"IF(ISBLANK('Data Input'!A295),\"\",COUNTIF('Data Input'!C295:AQ295,\"0\"))","v":""},{"$f":"IF(ISBLANK('Data Input'!A295),\"\",SUM(B291,C291))","v":""},{"$f":"IF(ISBLANK('Data Input'!A295),\"\",SUM('Data Input'!C295:AQ295))","v":""},{"$f":"IF(E291=\"\",\"\",E291/(COUNTA('Data Input'!$C$8:$AQ$8)-1))","v":""},{"$f":"IF(ISBLANK('Data Input'!A295),\"\",SUM('Data Input'!H295,'Data Input'!I295,'Data Input'!M295,'Data Input'!N295))","v":""},{"$f":"IF(G291=\"\",\"\",G291/COUNTIF('Data Input'!$C$8:$AQ$8,$G$2))","v":""},{"$f":"IF(ISBLANK('Data Input'!A295),\"\",SUM('Data Input'!J295,'Data Input'!K295,'Data Input'!U295,'Data Input'!V295))","v":""},{"$f":"IF(I291=\"\",\"\",I291/COUNTIF('Data Input'!$C$8:$AQ$8,$I$2))","v":""},{"$f":"IF(ISBLANK('Data Input'!A295),\"\",SUM('Data Input'!D295))","v":""},{"$f":"IF(K291=\"\",\"\",K291/COUNTIF('Data Input'!$C$8:$AQ$8,$K$2))","v":""},{"$f":"IF(ISBLANK('Data Input'!A295),\"\",SUM('Data Input'!O295,'Data Input'!P295,'Data Input'!R295,'Data Input'!S295))","v":""},{"$f":"IF(M291=\"\",\"\",M291/COUNTIF('Data Input'!$C$8:$AQ$8,$M$2))","v":""},{"$f":"IF(ISBLANK('Data Input'!A295),\"\",SUM('Data Input'!C295,'Data Input'!E295,'Data Input'!F295,'Data Input'!G295,'Data Input'!Q295,'Data Input'!T295))","v":""},{"$f":"IF(O291=\"\",\"\",O291/COUNTIF('Data Input'!$C$8:$AQ$8,$O$2))","v":""},{"$f":"IF(ISBLANK('Data Input'!A295),\"\",SUM('Data Input'!L295))","v":""},{"$f":"IF(Q291=\"\",\"\",Q291/COUNTIF('Data Input'!$C$8:$AQ$8,$Q$2))","v":""},{"$f":"IF(ISBLANK('Data Input'!A295),\"\",SUM('Data Input'!X295:AQ295))","v":""},{"$f":"IF(S291=\"\",\"\",S291/COUNTIF('Data Input'!$C$8:$AQ$8,$S$2))","v":""}]
[{"$f":"IF('Data Input'!A296=0,\"\",'Data Input'!A296)","v":""},{"$f":"IF(ISBLANK('Data Input'!A296),\"\",COUNTIF('Data Input'!C296:AQ296,\"\")-1)","v":""},{"$f":"IF(ISBLANK('Data Input'!A296),\"\",COUNTIF('Data Input'!C296:AQ296,\"0\"))","v":""},{"$f":"IF(ISBLANK('Data Input'!A296),\"\",SUM(B292,C292))","v":""},{"$f":"IF(ISBLANK('Data Input'!A296),\"\",SUM('Data Input'!C296:AQ296))","v":""},{"$f":"IF(E292=\"\",\"\",E292/(COUNTA('Data Input'!$C$8:$AQ$8)-1))","v":""},{"$f":"IF(ISBLANK('Data Input'!A296),\"\",SUM('Data Input'!H296,'Data Input'!I296,'Data Input'!M296,'Data Input'!N296))","v":""},{"$f":"IF(G292=\"\",\"\",G292/COUNTIF('Data Input'!$C$8:$AQ$8,$G$2))","v":""},{"$f":"IF(ISBLANK('Data Input'!A296),\"\",SUM('Data Input'!J296,'Data Input'!K296,'Data Input'!U296,'Data Input'!V296))","v":""},{"$f":"IF(I292=\"\",\"\",I292/COUNTIF('Data Input'!$C$8:$AQ$8,$I$2))","v":""},{"$f":"IF(ISBLANK('Data Input'!A296),\"\",SUM('Data Input'!D296))","v":""},{"$f":"IF(K292=\"\",\"\",K292/COUNTIF('Data Input'!$C$8:$AQ$8,$K$2))","v":""},{"$f":"IF(ISBLANK('Data Input'!A296),\"\",SUM('Data Input'!O296,'Data Input'!P296,'Data Input'!R296,'Data Input'!S296))","v":""},{"$f":"IF(M292=\"\",\"\",M292/COUNTIF('Data Input'!$C$8:$AQ$8,$M$2))","v":""},{"$f":"IF(ISBLANK('Data Input'!A296),\"\",SUM('Data Input'!C296,'Data Input'!E296,'Data Input'!F296,'Data Input'!G296,'Data Input'!Q296,'Data Input'!T296))","v":""},{"$f":"IF(O292=\"\",\"\",O292/COUNTIF('Data Input'!$C$8:$AQ$8,$O$2))","v":""},{"$f":"IF(ISBLANK('Data Input'!A296),\"\",SUM('Data Input'!L296))","v":""},{"$f":"IF(Q292=\"\",\"\",Q292/COUNTIF('Data Input'!$C$8:$AQ$8,$Q$2))","v":""},{"$f":"IF(ISBLANK('Data Input'!A296),\"\",SUM('Data Input'!X296:AQ296))","v":""},{"$f":"IF(S292=\"\",\"\",S292/COUNTIF('Data Input'!$C$8:$AQ$8,$S$2))","v":""}]
[{"$f":"IF('Data Input'!A297=0,\"\",'Data Input'!A297)","v":""},{"$f":"IF(ISBLANK('Data Input'!A297),\"\",COUNTIF('Data Input'!C297:AQ297,\"\")-1)","v":""},{"$f":"IF(ISBLANK('Data Input'!A297),\"\",COUNTIF('Data Input'!C297:AQ297,\"0\"))","v":""},{"$f":"IF(ISBLANK('Data Input'!A297),\"\",SUM(B293,C293))","v":""},{"$f":"IF(ISBLANK('Data Input'!A297),\"\",SUM('Data Input'!C297:AQ297))","v":""},{"$f":"IF(E293=\"\",\"\",E293/(COUNTA('Data Input'!$C$8:$AQ$8)-1))","v":""},{"$f":"IF(ISBLANK('Data Input'!A297),\"\",SUM('Data Input'!H297,'Data Input'!I297,'Data Input'!M297,'Data Input'!N297))","v":""},{"$f":"IF(G293=\"\",\"\",G293/COUNTIF('Data Input'!$C$8:$AQ$8,$G$2))","v":""},{"$f":"IF(ISBLANK('Data Input'!A297),\"\",SUM('Data Input'!J297,'Data Input'!K297,'Data Input'!U297,'Data Input'!V297))","v":""},{"$f":"IF(I293=\"\",\"\",I293/COUNTIF('Data Input'!$C$8:$AQ$8,$I$2))","v":""},{"$f":"IF(ISBLANK('Data Input'!A297),\"\",SUM('Data Input'!D297))","v":""},{"$f":"IF(K293=\"\",\"\",K293/COUNTIF('Data Input'!$C$8:$AQ$8,$K$2))","v":""},{"$f":"IF(ISBLANK('Data Input'!A297),\"\",SUM('Data Input'!O297,'Data Input'!P297,'Data Input'!R297,'Data Input'!S297))","v":""},{"$f":"IF(M293=\"\",\"\",M293/COUNTIF('Data Input'!$C$8:$AQ$8,$M$2))","v":""},{"$f":"IF(ISBLANK('Data Input'!A297),\"\",SUM('Data Input'!C297,'Data Input'!E297,'Data Input'!F297,'Data Input'!G297,'Data Input'!Q297,'Data Input'!T297))","v":""},{"$f":"IF(O293=\"\",\"\",O293/COUNTIF('Data Input'!$C$8:$AQ$8,$O$2))","v":""},{"$f":"IF(ISBLANK('Data Input'!A297),\"\",SUM('Data Input'!L297))","v":""},{"$f":"IF(Q293=\"\",\"\",Q293/COUNTIF('Data Input'!$C$8:$AQ$8,$Q$2))","v":""},{"$f":"IF(ISBLANK('Data Input'!A297),\"\",SUM('Data Input'!X297:AQ297))","v":""},{"$f":"IF(S293=\"\",\"\",S293/COUNTIF('Data Input'!$C$8:$AQ$8,$S$2))","v":""}]
[{"$f":"IF('Data Input'!A298=0,\"\",'Data Input'!A298)","v":""},{"$f":"IF(ISBLANK('Data Input'!A298),\"\",COUNTIF('Data Input'!C298:AQ298,\"\")-1)","v":""},{"$f":"IF(ISBLANK('Data Input'!A298),\"\",COUNTIF('Data Input'!C298:AQ298,\"0\"))","v":""},{"$f":"IF(ISBLANK('Data Input'!A298),\"\",SUM(B294,C294))","v":""},{"$f":"IF(ISBLANK('Data Input'!A298),\"\",SUM('Data Input'!C298:AQ298))","v":""},{"$f":"IF(E294=\"\",\"\",E294/(COUNTA('Data Input'!$C$8:$AQ$8)-1))","v":""},{"$f":"IF(ISBLANK('Data Input'!A298),\"\",SUM('Data Input'!H298,'Data Input'!I298,'Data Input'!M298,'Data Input'!N298))","v":""},{"$f":"IF(G294=\"\",\"\",G294/COUNTIF('Data Input'!$C$8:$AQ$8,$G$2))","v":""},{"$f":"IF(ISBLANK('Data Input'!A298),\"\",SUM('Data Input'!J298,'Data Input'!K298,'Data Input'!U298,'Data Input'!V298))","v":""},{"$f":"IF(I294=\"\",\"\",I294/COUNTIF('Data Input'!$C$8:$AQ$8,$I$2))","v":""},{"$f":"IF(ISBLANK('Data Input'!A298),\"\",SUM('Data Input'!D298))","v":""},{"$f":"IF(K294=\"\",\"\",K294/COUNTIF('Data Input'!$C$8:$AQ$8,$K$2))","v":""},{"$f":"IF(ISBLANK('Data Input'!A298),\"\",SUM('Data Input'!O298,'Data Input'!P298,'Data Input'!R298,'Data Input'!S298))","v":""},{"$f":"IF(M294=\"\",\"\",M294/COUNTIF('Data Input'!$C$8:$AQ$8,$M$2))","v":""},{"$f":"IF(ISBLANK('Data Input'!A298),\"\",SUM('Data Input'!C298,'Data Input'!E298,'Data Input'!F298,'Data Input'!G298,'Data Input'!Q298,'Data Input'!T298))","v":""},{"$f":"IF(O294=\"\",\"\",O294/COUNTIF('Data Input'!$C$8:$AQ$8,$O$2))","v":""},{"$f":"IF(ISBLANK('Data Input'!A298),\"\",SUM('Data Input'!L298))","v":""},{"$f":"IF(Q294=\"\",\"\",Q294/COUNTIF('Data Input'!$C$8:$AQ$8,$Q$2))","v":""},{"$f":"IF(ISBLANK('Data Input'!A298),\"\",SUM('Data Input'!X298:AQ298))","v":""},{"$f":"IF(S294=\"\",\"\",S294/COUNTIF('Data Input'!$C$8:$AQ$8,$S$2))","v":""}]
[{"$f":"IF('Data Input'!A299=0,\"\",'Data Input'!A299)","v":""},{"$f":"IF(ISBLANK('Data Input'!A299),\"\",COUNTIF('Data Input'!C299:AQ299,\"\")-1)","v":""},{"$f":"IF(ISBLANK('Data Input'!A299),\"\",COUNTIF('Data Input'!C299:AQ299,\"0\"))","v":""},{"$f":"IF(ISBLANK('Data Input'!A299),\"\",SUM(B295,C295))","v":""},{"$f":"IF(ISBLANK('Data Input'!A299),\"\",SUM('Data Input'!C299:AQ299))","v":""},{"$f":"IF(E295=\"\",\"\",E295/(COUNTA('Data Input'!$C$8:$AQ$8)-1))","v":""},{"$f":"IF(ISBLANK('Data Input'!A299),\"\",SUM('Data Input'!H299,'Data Input'!I299,'Data Input'!M299,'Data Input'!N299))","v":""},{"$f":"IF(G295=\"\",\"\",G295/COUNTIF('Data Input'!$C$8:$AQ$8,$G$2))","v":""},{"$f":"IF(ISBLANK('Data Input'!A299),\"\",SUM('Data Input'!J299,'Data Input'!K299,'Data Input'!U299,'Data Input'!V299))","v":""},{"$f":"IF(I295=\"\",\"\",I295/COUNTIF('Data Input'!$C$8:$AQ$8,$I$2))","v":""},{"$f":"IF(ISBLANK('Data Input'!A299),\"\",SUM('Data Input'!D299))","v":""},{"$f":"IF(K295=\"\",\"\",K295/COUNTIF('Data Input'!$C$8:$AQ$8,$K$2))","v":""},{"$f":"IF(ISBLANK('Data Input'!A299),\"\",SUM('Data Input'!O299,'Data Input'!P299,'Data Input'!R299,'Data Input'!S299))","v":""},{"$f":"IF(M295=\"\",\"\",M295/COUNTIF('Data Input'!$C$8:$AQ$8,$M$2))","v":""},{"$f":"IF(ISBLANK('Data Input'!A299),\"\",SUM('Data Input'!C299,'Data Input'!E299,'Data Input'!F299,'Data Input'!G299,'Data Input'!Q299,'Data Input'!T299))","v":""},{"$f":"IF(O295=\"\",\"\",O295/COUNTIF('Data Input'!$C$8:$AQ$8,$O$2))","v":""},{"$f":"IF(ISBLANK('Data Input'!A299),\"\",SUM('Data Input'!L299))","v":""},{"$f":"IF(Q295=\"\",\"\",Q295/COUNTIF('Data Input'!$C$8:$AQ$8,$Q$2))","v":""},{"$f":"IF(ISBLANK('Data Input'!A299),\"\",SUM('Data Input'!X299:AQ299))","v":""},{"$f":"IF(S295=\"\",\"\",S295/COUNTIF('Data Input'!$C$8:$AQ$8,$S$2))","v":""}]
[{"$f":"IF('Data Input'!A300=0,\"\",'Data Input'!A300)","v":""},{"$f":"IF(ISBLANK('Data Input'!A300),\"\",COUNTIF('Data Input'!C300:AQ300,\"\")-1)","v":""},{"$f":"IF(ISBLANK('Data Input'!A300),\"\",COUNTIF('Data Input'!C300:AQ300,\"0\"))","v":""},{"$f":"IF(ISBLANK('Data Input'!A300),\"\",SUM(B296,C296))","v":""},{"$f":"IF(ISBLANK('Data Input'!A300),\"\",SUM('Data Input'!C300:AQ300))","v":""},{"$f":"IF(E296=\"\",\"\",E296/(COUNTA('Data Input'!$C$8:$AQ$8)-1))","v":""},{"$f":"IF(ISBLANK('Data Input'!A300),\"\",SUM('Data Input'!H300,'Data Input'!I300,'Data Input'!M300,'Data Input'!N300))","v":""},{"$f":"IF(G296=\"\",\"\",G296/COUNTIF('Data Input'!$C$8:$AQ$8,$G$2))","v":""},{"$f":"IF(ISBLANK('Data Input'!A300),\"\",SUM('Data Input'!J300,'Data Input'!K300,'Data Input'!U300,'Data Input'!V300))","v":""},{"$f":"IF(I296=\"\",\"\",I296/COUNTIF('Data Input'!$C$8:$AQ$8,$I$2))","v":""},{"$f":"IF(ISBLANK('Data Input'!A300),\"\",SUM('Data Input'!D300))","v":""},{"$f":"IF(K296=\"\",\"\",K296/COUNTIF('Data Input'!$C$8:$AQ$8,$K$2))","v":""},{"$f":"IF(ISBLANK('Data Input'!A300),\"\",SUM('Data Input'!O300,'Data Input'!P300,'Data Input'!R300,'Data Input'!S300))","v":""},{"$f":"IF(M296=\"\",\"\",M296/COUNTIF('Data Input'!$C$8:$AQ$8,$M$2))","v":""},{"$f":"IF(ISBLANK('Data Input'!A300),\"\",SUM('Data Input'!C300,'Data Input'!E300,'Data Input'!F300,'Data Input'!G300,'Data Input'!Q300,'Data Input'!T300))","v":""},{"$f":"IF(O296=\"\",\"\",O296/COUNTIF('Data Input'!$C$8:$AQ$8,$O$2))","v":""},{"$f":"IF(ISBLANK('Data Input'!A300),\"\",SUM('Data Input'!L300))","v":""},{"$f":"IF(Q296=\"\",\"\",Q296/COUNTIF('Data Input'!$C$8:$AQ$8,$Q$2))","v":""},{"$f":"IF(ISBLANK('Data Input'!A300),\"\",SUM('Data Input'!X300:AQ300))","v":""},{"$f":"IF(S296=\"\",\"\",S296/COUNTIF('Data Input'!$C$8:$AQ$8,$S$2))","v":""}]
[{"$f":"IF('Data Input'!A301=0,\"\",'Data Input'!A301)","v":""},{"$f":"IF(ISBLANK('Data Input'!A301),\"\",COUNTIF('Data Input'!C301:AQ301,\"\")-1)","v":""},{"$f":"IF(ISBLANK('Data Input'!A301),\"\",COUNTIF('Data Input'!C301:AQ301,\"0\"))","v":""},{"$f":"IF(ISBLANK('Data Input'!A301),\"\",SUM(B297,C297))","v":""},{"$f":"IF(ISBLANK('Data Input'!A301),\"\",SUM('Data Input'!C301:AQ301))","v":""},{"$f":"IF(E297=\"\",\"\",E297/(COUNTA('Data Input'!$C$8:$AQ$8)-1))","v":""},{"$f":"IF(ISBLANK('Data Input'!A301),\"\",SUM('Data Input'!H301,'Data Input'!I301,'Data Input'!M301,'Data Input'!N301))","v":""},{"$f":"IF(G297=\"\",\"\",G297/COUNTIF('Data Input'!$C$8:$AQ$8,$G$2))","v":""},{"$f":"IF(ISBLANK('Data Input'!A301),\"\",SUM('Data Input'!J301,'Data Input'!K301,'Data Input'!U301,'Data Input'!V301))","v":""},{"$f":"IF(I297=\"\",\"\",I297/COUNTIF('Data Input'!$C$8:$AQ$8,$I$2))","v":""},{"$f":"IF(ISBLANK('Data Input'!A301),\"\",SUM('Data Input'!D301))","v":""},{"$f":"IF(K297=\"\",\"\",K297/COUNTIF('Data Input'!$C$8:$AQ$8,$K$2))","v":""},{"$f":"IF(ISBLANK('Data Input'!A301),\"\",SUM('Data Input'!O301,'Data Input'!P301,'Data Input'!R301,'Data Input'!S301))","v":""},{"$f":"IF(M297=\"\",\"\",M297/COUNTIF('Data Input'!$C$8:$AQ$8,$M$2))","v":""},{"$f":"IF(ISBLANK('Data Input'!A301),\"\",SUM('Data Input'!C301,'Data Input'!E301,'Data Input'!F301,'Data Input'!G301,'Data Input'!Q301,'Data Input'!T301))","v":""},{"$f":"IF(O297=\"\",\"\",O297/COUNTIF('Data Input'!$C$8:$AQ$8,$O$2))","v":""},{"$f":"IF(ISBLANK('Data Input'!A301),\"\",SUM('Data Input'!L301))","v":""},{"$f":"IF(Q297=\"\",\"\",Q297/COUNTIF('Data Input'!$C$8:$AQ$8,$Q$2))","v":""},{"$f":"IF(ISBLANK('Data Input'!A301),\"\",SUM('Data Input'!X301:AQ301))","v":""},{"$f":"IF(S297=\"\",\"\",S297/COUNTIF('Data Input'!$C$8:$AQ$8,$S$2))","v":""}]
[{"$f":"IF('Data Input'!A302=0,\"\",'Data Input'!A302)","v":""},{"$f":"IF(ISBLANK('Data Input'!A302),\"\",COUNTIF('Data Input'!C302:AQ302,\"\")-1)","v":""},{"$f":"IF(ISBLANK('Data Input'!A302),\"\",COUNTIF('Data Input'!C302:AQ302,\"0\"))","v":""},{"$f":"IF(ISBLANK('Data Input'!A302),\"\",SUM(B298,C298))","v":""},{"$f":"IF(ISBLANK('Data Input'!A302),\"\",SUM('Data Input'!C302:AQ302))","v":""},{"$f":"IF(E298=\"\",\"\",E298/(COUNTA('Data Input'!$C$8:$AQ$8)-1))","v":""},{"$f":"IF(ISBLANK('Data Input'!A302),\"\",SUM('Data Input'!H302,'Data Input'!I302,'Data Input'!M302,'Data Input'!N302))","v":""},{"$f":"IF(G298=\"\",\"\",G298/COUNTIF('Data Input'!$C$8:$AQ$8,$G$2))","v":""},{"$f":"IF(ISBLANK('Data Input'!A302),\"\",SUM('Data Input'!J302,'Data Input'!K302,'Data Input'!U302,'Data Input'!V302))","v":""},{"$f":"IF(I298=\"\",\"\",I298/COUNTIF('Data Input'!$C$8:$AQ$8,$I$2))","v":""},{"$f":"IF(ISBLANK('Data Input'!A302),\"\",SUM('Data Input'!D302))","v":""},{"$f":"IF(K298=\"\",\"\",K298/COUNTIF('Data Input'!$C$8:$AQ$8,$K$2))","v":""},{"$f":"IF(ISBLANK('Data Input'!A302),\"\",SUM('Data Input'!O302,'Data Input'!P302,'Data Input'!R302,'Data Input'!S302))","v":""},{"$f":"IF(M298=\"\",\"\",M298/COUNTIF('Data Input'!$C$8:$AQ$8,$M$2))","v":""},{"$f":"IF(ISBLANK('Data Input'!A302),\"\",SUM('Data Input'!C302,'Data Input'!E302,'Data Input'!F302,'Data Input'!G302,'Data Input'!Q302,'Data Input'!T302))","v":""},{"$f":"IF(O298=\"\",\"\",O298/COUNTIF('Data Input'!$C$8:$AQ$8,$O$2))","v":""},{"$f":"IF(ISBLANK('Data Input'!A302),\"\",SUM('Data Input'!L302))","v":""},{"$f":"IF(Q298=\"\",\"\",Q298/COUNTIF('Data Input'!$C$8:$AQ$8,$Q$2))","v":""},{"$f":"IF(ISBLANK('Data Input'!A302),\"\",SUM('Data Input'!X302:AQ302))","v":""},{"$f":"IF(S298=\"\",\"\",S298/COUNTIF('Data Input'!$C$8:$AQ$8,$S$2))","v":""}]
[{"$f":"IF('Data Input'!A303=0,\"\",'Data Input'!A303)","v":""},{"$f":"IF(ISBLANK('Data Input'!A303),\"\",COUNTIF('Data Input'!C303:AQ303,\"\")-1)","v":""},{"$f":"IF(ISBLANK('Data Input'!A303),\"\",COUNTIF('Data Input'!C303:AQ303,\"0\"))","v":""},{"$f":"IF(ISBLANK('Data Input'!A303),\"\",SUM(B299,C299))","v":""},{"$f":"IF(ISBLANK('Data Input'!A303),\"\",SUM('Data Input'!C303:AQ303))","v":""},{"$f":"IF(E299=\"\",\"\",E299/(COUNTA('Data Input'!$C$8:$AQ$8)-1))","v":""},{"$f":"IF(ISBLANK('Data Input'!A303),\"\",SUM('Data Input'!H303,'Data Input'!I303,'Data Input'!M303,'Data Input'!N303))","v":""},{"$f":"IF(G299=\"\",\"\",G299/COUNTIF('Data Input'!$C$8:$AQ$8,$G$2))","v":""},{"$f":"IF(ISBLANK('Data Input'!A303),\"\",SUM('Data Input'!J303,'Data Input'!K303,'Data Input'!U303,'Data Input'!V303))","v":""},{"$f":"IF(I299=\"\",\"\",I299/COUNTIF('Data Input'!$C$8:$AQ$8,$I$2))","v":""},{"$f":"IF(ISBLANK('Data Input'!A303),\"\",SUM('Data Input'!D303))","v":""},{"$f":"IF(K299=\"\",\"\",K299/COUNTIF('Data Input'!$C$8:$AQ$8,$K$2))","v":""},{"$f":"IF(ISBLANK('Data Input'!A303),\"\",SUM('Data Input'!O303,'Data Input'!P303,'Data Input'!R303,'Data Input'!S303))","v":""},{"$f":"IF(M299=\"\",\"\",M299/COUNTIF('Data Input'!$C$8:$AQ$8,$M$2))","v":""},{"$f":"IF(ISBLANK('Data Input'!A303),\"\",SUM('Data Input'!C303,'Data Input'!E303,'Data Input'!F303,'Data Input'!G303,'Data Input'!Q303,'Data Input'!T303))","v":""},{"$f":"IF(O299=\"\",\"\",O299/COUNTIF('Data Input'!$C$8:$AQ$8,$O$2))","v":""},{"$f":"IF(ISBLANK('Data Input'!A303),\"\",SUM('Data Input'!L303))","v":""},{"$f":"IF(Q299=\"\",\"\",Q299/COUNTIF('Data Input'!$C$8:$AQ$8,$Q$2))","v":""},{"$f":"IF(ISBLANK('Data Input'!A303),\"\",SUM('Data Input'!X303:AQ303))","v":""},{"$f":"IF(S299=\"\",\"\",S299/COUNTIF('Data Input'!$C$8:$AQ$8,$S$2))","v":""}]
[{"$f":"IF('Data Input'!A304=0,\"\",'Data Input'!A304)","v":""},{"$f":"IF(ISBLANK('Data Input'!A304),\"\",COUNTIF('Data Input'!C304:AQ304,\"\")-1)","v":""},{"$f":"IF(ISBLANK('Data Input'!A304),\"\",COUNTIF('Data Input'!C304:AQ304,\"0\"))","v":""},{"$f":"IF(ISBLANK('Data Input'!A304),\"\",SUM(B300,C300))","v":""},{"$f":"IF(ISBLANK('Data Input'!A304),\"\",SUM('Data Input'!C304:AQ304))","v":""},{"$f":"IF(E300=\"\",\"\",E300/(COUNTA('Data Input'!$C$8:$AQ$8)-1))","v":""},{"$f":"IF(ISBLANK('Data Input'!A304),\"\",SUM('Data Input'!H304,'Data Input'!I304,'Data Input'!M304,'Data Input'!N304))","v":""},{"$f":"IF(G300=\"\",\"\",G300/COUNTIF('Data Input'!$C$8:$AQ$8,$G$2))","v":""},{"$f":"IF(ISBLANK('Data Input'!A304),\"\",SUM('Data Input'!J304,'Data Input'!K304,'Data Input'!U304,'Data Input'!V304))","v":""},{"$f":"IF(I300=\"\",\"\",I300/COUNTIF('Data Input'!$C$8:$AQ$8,$I$2))","v":""},{"$f":"IF(ISBLANK('Data Input'!A304),\"\",SUM('Data Input'!D304))","v":""},{"$f":"IF(K300=\"\",\"\",K300/COUNTIF('Data Input'!$C$8:$AQ$8,$K$2))","v":""},{"$f":"IF(ISBLANK('Data Input'!A304),\"\",SUM('Data Input'!O304,'Data Input'!P304,'Data Input'!R304,'Data Input'!S304))","v":""},{"$f":"IF(M300=\"\",\"\",M300/COUNTIF('Data Input'!$C$8:$AQ$8,$M$2))","v":""},{"$f":"IF(ISBLANK('Data Input'!A304),\"\",SUM('Data Input'!C304,'Data Input'!E304,'Data Input'!F304,'Data Input'!G304,'Data Input'!Q304,'Data Input'!T304))","v":""},{"$f":"IF(O300=\"\",\"\",O300/COUNTIF('Data Input'!$C$8:$AQ$8,$O$2))","v":""},{"$f":"IF(ISBLANK('Data Input'!A304),\"\",SUM('Data Input'!L304))","v":""},{"$f":"IF(Q300=\"\",\"\",Q300/COUNTIF('Data Input'!$C$8:$AQ$8,$Q$2))","v":""},{"$f":"IF(ISBLANK('Data Input'!A304),\"\",SUM('Data Input'!X304:AQ304))","v":""},{"$f":"IF(S300=\"\",\"\",S300/COUNTIF('Data Input'!$C$8:$AQ$8,$S$2))","v":""}]
[{"$f":"IF('Data Input'!A305=0,\"\",'Data Input'!A305)","v":""},{"$f":"IF(ISBLANK('Data Input'!A305),\"\",COUNTIF('Data Input'!C305:AQ305,\"\")-1)","v":""},{"$f":"IF(ISBLANK('Data Input'!A305),\"\",COUNTIF('Data Input'!C305:AQ305,\"0\"))","v":""},{"$f":"IF(ISBLANK('Data Input'!A305),\"\",SUM(B301,C301))","v":""},{"$f":"IF(ISBLANK('Data Input'!A305),\"\",SUM('Data Input'!C305:AQ305))","v":""},{"$f":"IF(E301=\"\",\"\",E301/(COUNTA('Data Input'!$C$8:$AQ$8)-1))","v":""},{"$f":"IF(ISBLANK('Data Input'!A305),\"\",SUM('Data Input'!H305,'Data Input'!I305,'Data Input'!M305,'Data Input'!N305))","v":""},{"$f":"IF(G301=\"\",\"\",G301/COUNTIF('Data Input'!$C$8:$AQ$8,$G$2))","v":""},{"$f":"IF(ISBLANK('Data Input'!A305),\"\",SUM('Data Input'!J305,'Data Input'!K305,'Data Input'!U305,'Data Input'!V305))","v":""},{"$f":"IF(I301=\"\",\"\",I301/COUNTIF('Data Input'!$C$8:$AQ$8,$I$2))","v":""},{"$f":"IF(ISBLANK('Data Input'!A305),\"\",SUM('Data Input'!D305))","v":""},{"$f":"IF(K301=\"\",\"\",K301/COUNTIF('Data Input'!$C$8:$AQ$8,$K$2))","v":""},{"$f":"IF(ISBLANK('Data Input'!A305),\"\",SUM('Data Input'!O305,'Data Input'!P305,'Data Input'!R305,'Data Input'!S305))","v":""},{"$f":"IF(M301=\"\",\"\",M301/COUNTIF('Data Input'!$C$8:$AQ$8,$M$2))","v":""},{"$f":"IF(ISBLANK('Data Input'!A305),\"\",SUM('Data Input'!C305,'Data Input'!E305,'Data Input'!F305,'Data Input'!G305,'Data Input'!Q305,'Data Input'!T305))","v":""},{"$f":"IF(O301=\"\",\"\",O301/COUNTIF('Data Input'!$C$8:$AQ$8,$O$2))","v":""},{"$f":"IF(ISBLANK('Data Input'!A305),\"\",SUM('Data Input'!L305))","v":""},{"$f":"IF(Q301=\"\",\"\",Q301/COUNTIF('Data Input'!$C$8:$AQ$8,$Q$2))","v":""},{"$f":"IF(ISBLANK('Data Input'!A305),\"\",SUM('Data Input'!X305:AQ305))","v":""},{"$f":"IF(S301=\"\",\"\",S301/COUNTIF('Data Input'!$C$8:$AQ$8,$S$2))","v":""}]
[{"$f":"IF('Data Input'!A306=0,\"\",'Data Input'!A306)","v":""},{"$f":"IF(ISBLANK('Data Input'!A306),\"\",COUNTIF('Data Input'!C306:AQ306,\"\")-1)","v":""},{"$f":"IF(ISBLANK('Data Input'!A306),\"\",COUNTIF('Data Input'!C306:AQ306,\"0\"))","v":""},{"$f":"IF(ISBLANK('Data Input'!A306),\"\",SUM(B302,C302))","v":""},{"$f":"IF(ISBLANK('Data Input'!A306),\"\",SUM('Data Input'!C306:AQ306))","v":""},{"$f":"IF(E302=\"\",\"\",E302/(COUNTA('Data Input'!$C$8:$AQ$8)-1))","v":""},{"$f":"IF(ISBLANK('Data Input'!A306),\"\",SUM('Data Input'!H306,'Data Input'!I306,'Data Input'!M306,'Data Input'!N306))","v":""},{"$f":"IF(G302=\"\",\"\",G302/COUNTIF('Data Input'!$C$8:$AQ$8,$G$2))","v":""},{"$f":"IF(ISBLANK('Data Input'!A306),\"\",SUM('Data Input'!J306,'Data Input'!K306,'Data Input'!U306,'Data Input'!V306))","v":""},{"$f":"IF(I302=\"\",\"\",I302/COUNTIF('Data Input'!$C$8:$AQ$8,$I$2))","v":""},{"$f":"IF(ISBLANK('Data Input'!A306),\"\",SUM('Data Input'!D306))","v":""},{"$f":"IF(K302=\"\",\"\",K302/COUNTIF('Data Input'!$C$8:$AQ$8,$K$2))","v":""},{"$f":"IF(ISBLANK('Data Input'!A306),\"\",SUM('Data Input'!O306,'Data Input'!P306,'Data Input'!R306,'Data Input'!S306))","v":""},{"$f":"IF(M302=\"\",\"\",M302/COUNTIF('Data Input'!$C$8:$AQ$8,$M$2))","v":""},{"$f":"IF(ISBLANK('Data Input'!A306),\"\",SUM('Data Input'!C306,'Data Input'!E306,'Data Input'!F306,'Data Input'!G306,'Data Input'!Q306,'Data Input'!T306))","v":""},{"$f":"IF(O302=\"\",\"\",O302/COUNTIF('Data Input'!$C$8:$AQ$8,$O$2))","v":""},{"$f":"IF(ISBLANK('Data Input'!A306),\"\",SUM('Data Input'!L306))","v":""},{"$f":"IF(Q302=\"\",\"\",Q302/COUNTIF('Data Input'!$C$8:$AQ$8,$Q$2))","v":""},{"$f":"IF(ISBLANK('Data Input'!A306),\"\",SUM('Data Input'!X306:AQ306))","v":""},{"$f":"IF(S302=\"\",\"\",S302/COUNTIF('Data Input'!$C$8:$AQ$8,$S$2))","v":""}]
[{"$f":"IF('Data Input'!A307=0,\"\",'Data Input'!A307)","v":""},{"$f":"IF(ISBLANK('Data Input'!A307),\"\",COUNTIF('Data Input'!C307:AQ307,\"\")-1)","v":""},{"$f":"IF(ISBLANK('Data Input'!A307),\"\",COUNTIF('Data Input'!C307:AQ307,\"0\"))","v":""},{"$f":"IF(ISBLANK('Data Input'!A307),\"\",SUM(B303,C303))","v":""},{"$f":"IF(ISBLANK('Data Input'!A307),\"\",SUM('Data Input'!C307:AQ307))","v":""},{"$f":"IF(E303=\"\",\"\",E303/(COUNTA('Data Input'!$C$8:$AQ$8)-1))","v":""},{"$f":"IF(ISBLANK('Data Input'!A307),\"\",SUM('Data Input'!H307,'Data Input'!I307,'Data Input'!M307,'Data Input'!N307))","v":""},{"$f":"IF(G303=\"\",\"\",G303/COUNTIF('Data Input'!$C$8:$AQ$8,$G$2))","v":""},{"$f":"IF(ISBLANK('Data Input'!A307),\"\",SUM('Data Input'!J307,'Data Input'!K307,'Data Input'!U307,'Data Input'!V307))","v":""},{"$f":"IF(I303=\"\",\"\",I303/COUNTIF('Data Input'!$C$8:$AQ$8,$I$2))","v":""},{"$f":"IF(ISBLANK('Data Input'!A307),\"\",SUM('Data Input'!D307))","v":""},{"$f":"IF(K303=\"\",\"\",K303/COUNTIF('Data Input'!$C$8:$AQ$8,$K$2))","v":""},{"$f":"IF(ISBLANK('Data Input'!A307),\"\",SUM('Data Input'!O307,'Data Input'!P307,'Data Input'!R307,'Data Input'!S307))","v":""},{"$f":"IF(M303=\"\",\"\",M303/COUNTIF('Data Input'!$C$8:$AQ$8,$M$2))","v":""},{"$f":"IF(ISBLANK('Data Input'!A307),\"\",SUM('Data Input'!C307,'Data Input'!E307,'Data Input'!F307,'Data Input'!G307,'Data Input'!Q307,'Data Input'!T307))","v":""},{"$f":"IF(O303=\"\",\"\",O303/COUNTIF('Data Input'!$C$8:$AQ$8,$O$2))","v":""},{"$f":"IF(ISBLANK('Data Input'!A307),\"\",SUM('Data Input'!L307))","v":""},{"$f":"IF(Q303=\"\",\"\",Q303/COUNTIF('Data Input'!$C$8:$AQ$8,$Q$2))","v":""},{"$f":"IF(ISBLANK('Data Input'!A307),\"\",SUM('Data Input'!X307:AQ307))","v":""},{"$f":"IF(S303=\"\",\"\",S303/COUNTIF('Data Input'!$C$8:$AQ$8,$S$2))","v":""}]
[{"$f":"IF('Data Input'!A308=0,\"\",'Data Input'!A308)","v":""},{"$f":"IF(ISBLANK('Data Input'!A308),\"\",COUNTIF('Data Input'!C308:AQ308,\"\")-1)","v":""},{"$f":"IF(ISBLANK('Data Input'!A308),\"\",COUNTIF('Data Input'!C308:AQ308,\"0\"))","v":""},{"$f":"IF(ISBLANK('Data Input'!A308),\"\",SUM(B304,C304))","v":""},{"$f":"IF(ISBLANK('Data Input'!A308),\"\",SUM('Data Input'!C308:AQ308))","v":""},{"$f":"IF(E304=\"\",\"\",E304/(COUNTA('Data Input'!$C$8:$AQ$8)-1))","v":""},{"$f":"IF(ISBLANK('Data Input'!A308),\"\",SUM('Data Input'!H308,'Data Input'!I308,'Data Input'!M308,'Data Input'!N308))","v":""},{"$f":"IF(G304=\"\",\"\",G304/COUNTIF('Data Input'!$C$8:$AQ$8,$G$2))","v":""},{"$f":"IF(ISBLANK('Data Input'!A308),\"\",SUM('Data Input'!J308,'Data Input'!K308,'Data Input'!U308,'Data Input'!V308))","v":""},{"$f":"IF(I304=\"\",\"\",I304/COUNTIF('Data Input'!$C$8:$AQ$8,$I$2))","v":""},{"$f":"IF(ISBLANK('Data Input'!A308),\"\",SUM('Data Input'!D308))","v":""},{"$f":"IF(K304=\"\",\"\",K304/COUNTIF('Data Input'!$C$8:$AQ$8,$K$2))","v":""},{"$f":"IF(ISBLANK('Data Input'!A308),\"\",SUM('Data Input'!O308,'Data Input'!P308,'Data Input'!R308,'Data Input'!S308))","v":""},{"$f":"IF(M304=\"\",\"\",M304/COUNTIF('Data Input'!$C$8:$AQ$8,$M$2))","v":""},{"$f":"IF(ISBLANK('Data Input'!A308),\"\",SUM('Data Input'!C308,'Data Input'!E308,'Data Input'!F308,'Data Input'!G308,'Data Input'!Q308,'Data Input'!T308))","v":""},{"$f":"IF(O304=\"\",\"\",O304/COUNTIF('Data Input'!$C$8:$AQ$8,$O$2))","v":""},{"$f":"IF(ISBLANK('Data Input'!A308),\"\",SUM('Data Input'!L308))","v":""},{"$f":"IF(Q304=\"\",\"\",Q304/COUNTIF('Data Input'!$C$8:$AQ$8,$Q$2))","v":""},{"$f":"IF(ISBLANK('Data Input'!A308),\"\",SUM('Data Input'!X308:AQ308))","v":""},{"$f":"IF(S304=\"\",\"\",S304/COUNTIF('Data Input'!$C$8:$AQ$8,$S$2))","v":""}]
[{"$f":"IF('Data Input'!A309=0,\"\",'Data Input'!A309)","v":""},{"$f":"IF(ISBLANK('Data Input'!A309),\"\",COUNTIF('Data Input'!C309:AQ309,\"\")-1)","v":""},{"$f":"IF(ISBLANK('Data Input'!A309),\"\",COUNTIF('Data Input'!C309:AQ309,\"0\"))","v":""},{"$f":"IF(ISBLANK('Data Input'!A309),\"\",SUM(B305,C305))","v":""},{"$f":"IF(ISBLANK('Data Input'!A309),\"\",SUM('Data Input'!C309:AQ309))","v":""},{"$f":"IF(E305=\"\",\"\",E305/(COUNTA('Data Input'!$C$8:$AQ$8)-1))","v":""},{"$f":"IF(ISBLANK('Data Input'!A309),\"\",SUM('Data Input'!H309,'Data Input'!I309,'Data Input'!M309,'Data Input'!N309))","v":""},{"$f":"IF(G305=\"\",\"\",G305/COUNTIF('Data Input'!$C$8:$AQ$8,$G$2))","v":""},{"$f":"IF(ISBLANK('Data Input'!A309),\"\",SUM('Data Input'!J309,'Data Input'!K309,'Data Input'!U309,'Data Input'!V309))","v":""},{"$f":"IF(I305=\"\",\"\",I305/COUNTIF('Data Input'!$C$8:$AQ$8,$I$2))","v":""},{"$f":"IF(ISBLANK('Data Input'!A309),\"\",SUM('Data Input'!D309))","v":""},{"$f":"IF(K305=\"\",\"\",K305/COUNTIF('Data Input'!$C$8:$AQ$8,$K$2))","v":""},{"$f":"IF(ISBLANK('Data Input'!A309),\"\",SUM('Data Input'!O309,'Data Input'!P309,'Data Input'!R309,'Data Input'!S309))","v":""},{"$f":"IF(M305=\"\",\"\",M305/COUNTIF('Data Input'!$C$8:$AQ$8,$M$2))","v":""},{"$f":"IF(ISBLANK('Data Input'!A309),\"\",SUM('Data Input'!C309,'Data Input'!E309,'Data Input'!F309,'Data Input'!G309,'Data Input'!Q309,'Data Input'!T309))","v":""},{"$f":"IF(O305=\"\",\"\",O305/COUNTIF('Data Input'!$C$8:$AQ$8,$O$2))","v":""},{"$f":"IF(ISBLANK('Data Input'!A309),\"\",SUM('Data Input'!L309))","v":""},{"$f":"IF(Q305=\"\",\"\",Q305/COUNTIF('Data Input'!$C$8:$AQ$8,$Q$2))","v":""},{"$f":"IF(ISBLANK('Data Input'!A309),\"\",SUM('Data Input'!X309:AQ309))","v":""},{"$f":"IF(S305=\"\",\"\",S305/COUNTIF('Data Input'!$C$8:$AQ$8,$S$2))","v":""}]
[{"$f":"IF('Data Input'!A310=0,\"\",'Data Input'!A310)","v":""},{"$f":"IF(ISBLANK('Data Input'!A310),\"\",COUNTIF('Data Input'!C310:AQ310,\"\")-1)","v":""},{"$f":"IF(ISBLANK('Data Input'!A310),\"\",COUNTIF('Data Input'!C310:AQ310,\"0\"))","v":""},{"$f":"IF(ISBLANK('Data Input'!A310),\"\",SUM(B306,C306))","v":""},{"$f":"IF(ISBLANK('Data Input'!A310),\"\",SUM('Data Input'!C310:AQ310))","v":""},{"$f":"IF(E306=\"\",\"\",E306/(COUNTA('Data Input'!$C$8:$AQ$8)-1))","v":""},{"$f":"IF(ISBLANK('Data Input'!A310),\"\",SUM('Data Input'!H310,'Data Input'!I310,'Data Input'!M310,'Data Input'!N310))","v":""},{"$f":"IF(G306=\"\",\"\",G306/COUNTIF('Data Input'!$C$8:$AQ$8,$G$2))","v":""},{"$f":"IF(ISBLANK('Data Input'!A310),\"\",SUM('Data Input'!J310,'Data Input'!K310,'Data Input'!U310,'Data Input'!V310))","v":""},{"$f":"IF(I306=\"\",\"\",I306/COUNTIF('Data Input'!$C$8:$AQ$8,$I$2))","v":""},{"$f":"IF(ISBLANK('Data Input'!A310),\"\",SUM('Data Input'!D310))","v":""},{"$f":"IF(K306=\"\",\"\",K306/COUNTIF('Data Input'!$C$8:$AQ$8,$K$2))","v":""},{"$f":"IF(ISBLANK('Data Input'!A310),\"\",SUM('Data Input'!O310,'Data Input'!P310,'Data Input'!R310,'Data Input'!S310))","v":""},{"$f":"IF(M306=\"\",\"\",M306/COUNTIF('Data Input'!$C$8:$AQ$8,$M$2))","v":""},{"$f":"IF(ISBLANK('Data Input'!A310),\"\",SUM('Data Input'!C310,'Data Input'!E310,'Data Input'!F310,'Data Input'!G310,'Data Input'!Q310,'Data Input'!T310))","v":""},{"$f":"IF(O306=\"\",\"\",O306/COUNTIF('Data Input'!$C$8:$AQ$8,$O$2))","v":""},{"$f":"IF(ISBLANK('Data Input'!A310),\"\",SUM('Data Input'!L310))","v":""},{"$f":"IF(Q306=\"\",\"\",Q306/COUNTIF('Data Input'!$C$8:$AQ$8,$Q$2))","v":""},{"$f":"IF(ISBLANK('Data Input'!A310),\"\",SUM('Data Input'!X310:AQ310))","v":""},{"$f":"IF(S306=\"\",\"\",S306/COUNTIF('Data Input'!$C$8:$AQ$8,$S$2))","v":""}]
[{"$f":"IF('Data Input'!A311=0,\"\",'Data Input'!A311)","v":""},{"$f":"IF(ISBLANK('Data Input'!A311),\"\",COUNTIF('Data Input'!C311:AQ311,\"\")-1)","v":""},{"$f":"IF(ISBLANK('Data Input'!A311),\"\",COUNTIF('Data Input'!C311:AQ311,\"0\"))","v":""},{"$f":"IF(ISBLANK('Data Input'!A311),\"\",SUM(B307,C307))","v":""},{"$f":"IF(ISBLANK('Data Input'!A311),\"\",SUM('Data Input'!C311:AQ311))","v":""},{"$f":"IF(E307=\"\",\"\",E307/(COUNTA('Data Input'!$C$8:$AQ$8)-1))","v":""},{"$f":"IF(ISBLANK('Data Input'!A311),\"\",SUM('Data Input'!H311,'Data Input'!I311,'Data Input'!M311,'Data Input'!N311))","v":""},{"$f":"IF(G307=\"\",\"\",G307/COUNTIF('Data Input'!$C$8:$AQ$8,$G$2))","v":""},{"$f":"IF(ISBLANK('Data Input'!A311),\"\",SUM('Data Input'!J311,'Data Input'!K311,'Data Input'!U311,'Data Input'!V311))","v":""},{"$f":"IF(I307=\"\",\"\",I307/COUNTIF('Data Input'!$C$8:$AQ$8,$I$2))","v":""},{"$f":"IF(ISBLANK('Data Input'!A311),\"\",SUM('Data Input'!D311))","v":""},{"$f":"IF(K307=\"\",\"\",K307/COUNTIF('Data Input'!$C$8:$AQ$8,$K$2))","v":""},{"$f":"IF(ISBLANK('Data Input'!A311),\"\",SUM('Data Input'!O311,'Data Input'!P311,'Data Input'!R311,'Data Input'!S311))","v":""},{"$f":"IF(M307=\"\",\"\",M307/COUNTIF('Data Input'!$C$8:$AQ$8,$M$2))","v":""},{"$f":"IF(ISBLANK('Data Input'!A311),\"\",SUM('Data Input'!C311,'Data Input'!E311,'Data Input'!F311,'Data Input'!G311,'Data Input'!Q311,'Data Input'!T311))","v":""},{"$f":"IF(O307=\"\",\"\",O307/COUNTIF('Data Input'!$C$8:$AQ$8,$O$2))","v":""},{"$f":"IF(ISBLANK('Data Input'!A311),\"\",SUM('Data Input'!L311))","v":""},{"$f":"IF(Q307=\"\",\"\",Q307/COUNTIF('Data Input'!$C$8:$AQ$8,$Q$2))","v":""},{"$f":"IF(ISBLANK('Data Input'!A311),\"\",SUM('Data Input'!X311:AQ311))","v":""},{"$f":"IF(S307=\"\",\"\",S307/COUNTIF('Data Input'!$C$8:$AQ$8,$S$2))","v":""}]
[{"$f":"IF('Data Input'!A312=0,\"\",'Data Input'!A312)","v":""},{"$f":"IF(ISBLANK('Data Input'!A312),\"\",COUNTIF('Data Input'!C312:AQ312,\"\")-1)","v":""},{"$f":"IF(ISBLANK('Data Input'!A312),\"\",COUNTIF('Data Input'!C312:AQ312,\"0\"))","v":""},{"$f":"IF(ISBLANK('Data Input'!A312),\"\",SUM(B308,C308))","v":""},{"$f":"IF(ISBLANK('Data Input'!A312),\"\",SUM('Data Input'!C312:AQ312))","v":""},{"$f":"IF(E308=\"\",\"\",E308/(COUNTA('Data Input'!$C$8:$AQ$8)-1))","v":""},{"$f":"IF(ISBLANK('Data Input'!A312),\"\",SUM('Data Input'!H312,'Data Input'!I312,'Data Input'!M312,'Data Input'!N312))","v":""},{"$f":"IF(G308=\"\",\"\",G308/COUNTIF('Data Input'!$C$8:$AQ$8,$G$2))","v":""},{"$f":"IF(ISBLANK('Data Input'!A312),\"\",SUM('Data Input'!J312,'Data Input'!K312,'Data Input'!U312,'Data Input'!V312))","v":""},{"$f":"IF(I308=\"\",\"\",I308/COUNTIF('Data Input'!$C$8:$AQ$8,$I$2))","v":""},{"$f":"IF(ISBLANK('Data Input'!A312),\"\",SUM('Data Input'!D312))","v":""},{"$f":"IF(K308=\"\",\"\",K308/COUNTIF('Data Input'!$C$8:$AQ$8,$K$2))","v":""},{"$f":"IF(ISBLANK('Data Input'!A312),\"\",SUM('Data Input'!O312,'Data Input'!P312,'Data Input'!R312,'Data Input'!S312))","v":""},{"$f":"IF(M308=\"\",\"\",M308/COUNTIF('Data Input'!$C$8:$AQ$8,$M$2))","v":""},{"$f":"IF(ISBLANK('Data Input'!A312),\"\",SUM('Data Input'!C312,'Data Input'!E312,'Data Input'!F312,'Data Input'!G312,'Data Input'!Q312,'Data Input'!T312))","v":""},{"$f":"IF(O308=\"\",\"\",O308/COUNTIF('Data Input'!$C$8:$AQ$8,$O$2))","v":""},{"$f":"IF(ISBLANK('Data Input'!A312),\"\",SUM('Data Input'!L312))","v":""},{"$f":"IF(Q308=\"\",\"\",Q308/COUNTIF('Data Input'!$C$8:$AQ$8,$Q$2))","v":""},{"$f":"IF(ISBLANK('Data Input'!A312),\"\",SUM('Data Input'!X312:AQ312))","v":""},{"$f":"IF(S308=\"\",\"\",S308/COUNTIF('Data Input'!$C$8:$AQ$8,$S$2))","v":""}]
[{"$f":"IF('Data Input'!A313=0,\"\",'Data Input'!A313)","v":""},{"$f":"IF(ISBLANK('Data Input'!A313),\"\",COUNTIF('Data Input'!C313:AQ313,\"\")-1)","v":""},{"$f":"IF(ISBLANK('Data Input'!A313),\"\",COUNTIF('Data Input'!C313:AQ313,\"0\"))","v":""},{"$f":"IF(ISBLANK('Data Input'!A313),\"\",SUM(B309,C309))","v":""},{"$f":"IF(ISBLANK('Data Input'!A313),\"\",SUM('Data Input'!C313:AQ313))","v":""},{"$f":"IF(E309=\"\",\"\",E309/(COUNTA('Data Input'!$C$8:$AQ$8)-1))","v":""},{"$f":"IF(ISBLANK('Data Input'!A313),\"\",SUM('Data Input'!H313,'Data Input'!I313,'Data Input'!M313,'Data Input'!N313))","v":""},{"$f":"IF(G309=\"\",\"\",G309/COUNTIF('Data Input'!$C$8:$AQ$8,$G$2))","v":""},{"$f":"IF(ISBLANK('Data Input'!A313),\"\",SUM('Data Input'!J313,'Data Input'!K313,'Data Input'!U313,'Data Input'!V313))","v":""},{"$f":"IF(I309=\"\",\"\",I309/COUNTIF('Data Input'!$C$8:$AQ$8,$I$2))","v":""},{"$f":"IF(ISBLANK('Data Input'!A313),\"\",SUM('Data Input'!D313))","v":""},{"$f":"IF(K309=\"\",\"\",K309/COUNTIF('Data Input'!$C$8:$AQ$8,$K$2))","v":""},{"$f":"IF(ISBLANK('Data Input'!A313),\"\",SUM('Data Input'!O313,'Data Input'!P313,'Data Input'!R313,'Data Input'!S313))","v":""},{"$f":"IF(M309=\"\",\"\",M309/COUNTIF('Data Input'!$C$8:$AQ$8,$M$2))","v":""},{"$f":"IF(ISBLANK('Data Input'!A313),\"\",SUM('Data Input'!C313,'Data Input'!E313,'Data Input'!F313,'Data Input'!G313,'Data Input'!Q313,'Data Input'!T313))","v":""},{"$f":"IF(O309=\"\",\"\",O309/COUNTIF('Data Input'!$C$8:$AQ$8,$O$2))","v":""},{"$f":"IF(ISBLANK('Data Input'!A313),\"\",SUM('Data Input'!L313))","v":""},{"$f":"IF(Q309=\"\",\"\",Q309/COUNTIF('Data Input'!$C$8:$AQ$8,$Q$2))","v":""},{"$f":"IF(ISBLANK('Data Input'!A313),\"\",SUM('Data Input'!X313:AQ313))","v":""},{"$f":"IF(S309=\"\",\"\",S309/COUNTIF('Data Input'!$C$8:$AQ$8,$S$2))","v":""}]
[{"$f":"IF('Data Input'!A314=0,\"\",'Data Input'!A314)","v":""},{"$f":"IF(ISBLANK('Data Input'!A314),\"\",COUNTIF('Data Input'!C314:AQ314,\"\")-1)","v":""},{"$f":"IF(ISBLANK('Data Input'!A314),\"\",COUNTIF('Data Input'!C314:AQ314,\"0\"))","v":""},{"$f":"IF(ISBLANK('Data Input'!A314),\"\",SUM(B310,C310))","v":""},{"$f":"IF(ISBLANK('Data Input'!A314),\"\",SUM('Data Input'!C314:AQ314))","v":""},{"$f":"IF(E310=\"\",\"\",E310/(COUNTA('Data Input'!$C$8:$AQ$8)-1))","v":""},{"$f":"IF(ISBLANK('Data Input'!A314),\"\",SUM('Data Input'!H314,'Data Input'!I314,'Data Input'!M314,'Data Input'!N314))","v":""},{"$f":"IF(G310=\"\",\"\",G310/COUNTIF('Data Input'!$C$8:$AQ$8,$G$2))","v":""},{"$f":"IF(ISBLANK('Data Input'!A314),\"\",SUM('Data Input'!J314,'Data Input'!K314,'Data Input'!U314,'Data Input'!V314))","v":""},{"$f":"IF(I310=\"\",\"\",I310/COUNTIF('Data Input'!$C$8:$AQ$8,$I$2))","v":""},{"$f":"IF(ISBLANK('Data Input'!A314),\"\",SUM('Data Input'!D314))","v":""},{"$f":"IF(K310=\"\",\"\",K310/COUNTIF('Data Input'!$C$8:$AQ$8,$K$2))","v":""},{"$f":"IF(ISBLANK('Data Input'!A314),\"\",SUM('Data Input'!O314,'Data Input'!P314,'Data Input'!R314,'Data Input'!S314))","v":""},{"$f":"IF(M310=\"\",\"\",M310/COUNTIF('Data Input'!$C$8:$AQ$8,$M$2))","v":""},{"$f":"IF(ISBLANK('Data Input'!A314),\"\",SUM('Data Input'!C314,'Data Input'!E314,'Data Input'!F314,'Data Input'!G314,'Data Input'!Q314,'Data Input'!T314))","v":""},{"$f":"IF(O310=\"\",\"\",O310/COUNTIF('Data Input'!$C$8:$AQ$8,$O$2))","v":""},{"$f":"IF(ISBLANK('Data Input'!A314),\"\",SUM('Data Input'!L314))","v":""},{"$f":"IF(Q310=\"\",\"\",Q310/COUNTIF('Data Input'!$C$8:$AQ$8,$Q$2))","v":""},{"$f":"IF(ISBLANK('Data Input'!A314),\"\",SUM('Data Input'!X314:AQ314))","v":""},{"$f":"IF(S310=\"\",\"\",S310/COUNTIF('Data Input'!$C$8:$AQ$8,$S$2))","v":""}]
[{"$f":"IF('Data Input'!A315=0,\"\",'Data Input'!A315)","v":""},{"$f":"IF(ISBLANK('Data Input'!A315),\"\",COUNTIF('Data Input'!C315:AQ315,\"\")-1)","v":""},{"$f":"IF(ISBLANK('Data Input'!A315),\"\",COUNTIF('Data Input'!C315:AQ315,\"0\"))","v":""},{"$f":"IF(ISBLANK('Data Input'!A315),\"\",SUM(B311,C311))","v":""},{"$f":"IF(ISBLANK('Data Input'!A315),\"\",SUM('Data Input'!C315:AQ315))","v":""},{"$f":"IF(E311=\"\",\"\",E311/(COUNTA('Data Input'!$C$8:$AQ$8)-1))","v":""},{"$f":"IF(ISBLANK('Data Input'!A315),\"\",SUM('Data Input'!H315,'Data Input'!I315,'Data Input'!M315,'Data Input'!N315))","v":""},{"$f":"IF(G311=\"\",\"\",G311/COUNTIF('Data Input'!$C$8:$AQ$8,$G$2))","v":""},{"$f":"IF(ISBLANK('Data Input'!A315),\"\",SUM('Data Input'!J315,'Data Input'!K315,'Data Input'!U315,'Data Input'!V315))","v":""},{"$f":"IF(I311=\"\",\"\",I311/COUNTIF('Data Input'!$C$8:$AQ$8,$I$2))","v":""},{"$f":"IF(ISBLANK('Data Input'!A315),\"\",SUM('Data Input'!D315))","v":""},{"$f":"IF(K311=\"\",\"\",K311/COUNTIF('Data Input'!$C$8:$AQ$8,$K$2))","v":""},{"$f":"IF(ISBLANK('Data Input'!A315),\"\",SUM('Data Input'!O315,'Data Input'!P315,'Data Input'!R315,'Data Input'!S315))","v":""},{"$f":"IF(M311=\"\",\"\",M311/COUNTIF('Data Input'!$C$8:$AQ$8,$M$2))","v":""},{"$f":"IF(ISBLANK('Data Input'!A315),\"\",SUM('Data Input'!C315,'Data Input'!E315,'Data Input'!F315,'Data Input'!G315,'Data Input'!Q315,'Data Input'!T315))","v":""},{"$f":"IF(O311=\"\",\"\",O311/COUNTIF('Data Input'!$C$8:$AQ$8,$O$2))","v":""},{"$f":"IF(ISBLANK('Data Input'!A315),\"\",SUM('Data Input'!L315))","v":""},{"$f":"IF(Q311=\"\",\"\",Q311/COUNTIF('Data Input'!$C$8:$AQ$8,$Q$2))","v":""},{"$f":"IF(ISBLANK('Data Input'!A315),\"\",SUM('Data Input'!X315:AQ315))","v":""},{"$f":"IF(S311=\"\",\"\",S311/COUNTIF('Data Input'!$C$8:$AQ$8,$S$2))","v":""}]
[{"$f":"IF('Data Input'!A316=0,\"\",'Data Input'!A316)","v":""},{"$f":"IF(ISBLANK('Data Input'!A316),\"\",COUNTIF('Data Input'!C316:AQ316,\"\")-1)","v":""},{"$f":"IF(ISBLANK('Data Input'!A316),\"\",COUNTIF('Data Input'!C316:AQ316,\"0\"))","v":""},{"$f":"IF(ISBLANK('Data Input'!A316),\"\",SUM(B312,C312))","v":""},{"$f":"IF(ISBLANK('Data Input'!A316),\"\",SUM('Data Input'!C316:AQ316))","v":""},{"$f":"IF(E312=\"\",\"\",E312/(COUNTA('Data Input'!$C$8:$AQ$8)-1))","v":""},{"$f":"IF(ISBLANK('Data Input'!A316),\"\",SUM('Data Input'!H316,'Data Input'!I316,'Data Input'!M316,'Data Input'!N316))","v":""},{"$f":"IF(G312=\"\",\"\",G312/COUNTIF('Data Input'!$C$8:$AQ$8,$G$2))","v":""},{"$f":"IF(ISBLANK('Data Input'!A316),\"\",SUM('Data Input'!J316,'Data Input'!K316,'Data Input'!U316,'Data Input'!V316))","v":""},{"$f":"IF(I312=\"\",\"\",I312/COUNTIF('Data Input'!$C$8:$AQ$8,$I$2))","v":""},{"$f":"IF(ISBLANK('Data Input'!A316),\"\",SUM('Data Input'!D316))","v":""},{"$f":"IF(K312=\"\",\"\",K312/COUNTIF('Data Input'!$C$8:$AQ$8,$K$2))","v":""},{"$f":"IF(ISBLANK('Data Input'!A316),\"\",SUM('Data Input'!O316,'Data Input'!P316,'Data Input'!R316,'Data Input'!S316))","v":""},{"$f":"IF(M312=\"\",\"\",M312/COUNTIF('Data Input'!$C$8:$AQ$8,$M$2))","v":""},{"$f":"IF(ISBLANK('Data Input'!A316),\"\",SUM('Data Input'!C316,'Data Input'!E316,'Data Input'!F316,'Data Input'!G316,'Data Input'!Q316,'Data Input'!T316))","v":""},{"$f":"IF(O312=\"\",\"\",O312/COUNTIF('Data Input'!$C$8:$AQ$8,$O$2))","v":""},{"$f":"IF(ISBLANK('Data Input'!A316),\"\",SUM('Data Input'!L316))","v":""},{"$f":"IF(Q312=\"\",\"\",Q312/COUNTIF('Data Input'!$C$8:$AQ$8,$Q$2))","v":""},{"$f":"IF(ISBLANK('Data Input'!A316),\"\",SUM('Data Input'!X316:AQ316))","v":""},{"$f":"IF(S312=\"\",\"\",S312/COUNTIF('Data Input'!$C$8:$AQ$8,$S$2))","v":""}]
[{"$f":"IF('Data Input'!A317=0,\"\",'Data Input'!A317)","v":""},{"$f":"IF(ISBLANK('Data Input'!A317),\"\",COUNTIF('Data Input'!C317:AQ317,\"\")-1)","v":""},{"$f":"IF(ISBLANK('Data Input'!A317),\"\",COUNTIF('Data Input'!C317:AQ317,\"0\"))","v":""},{"$f":"IF(ISBLANK('Data Input'!A317),\"\",SUM(B313,C313))","v":""},{"$f":"IF(ISBLANK('Data Input'!A317),\"\",SUM('Data Input'!C317:AQ317))","v":""},{"$f":"IF(E313=\"\",\"\",E313/(COUNTA('Data Input'!$C$8:$AQ$8)-1))","v":""},{"$f":"IF(ISBLANK('Data Input'!A317),\"\",SUM('Data Input'!H317,'Data Input'!I317,'Data Input'!M317,'Data Input'!N317))","v":""},{"$f":"IF(G313=\"\",\"\",G313/COUNTIF('Data Input'!$C$8:$AQ$8,$G$2))","v":""},{"$f":"IF(ISBLANK('Data Input'!A317),\"\",SUM('Data Input'!J317,'Data Input'!K317,'Data Input'!U317,'Data Input'!V317))","v":""},{"$f":"IF(I313=\"\",\"\",I313/COUNTIF('Data Input'!$C$8:$AQ$8,$I$2))","v":""},{"$f":"IF(ISBLANK('Data Input'!A317),\"\",SUM('Data Input'!D317))","v":""},{"$f":"IF(K313=\"\",\"\",K313/COUNTIF('Data Input'!$C$8:$AQ$8,$K$2))","v":""},{"$f":"IF(ISBLANK('Data Input'!A317),\"\",SUM('Data Input'!O317,'Data Input'!P317,'Data Input'!R317,'Data Input'!S317))","v":""},{"$f":"IF(M313=\"\",\"\",M313/COUNTIF('Data Input'!$C$8:$AQ$8,$M$2))","v":""},{"$f":"IF(ISBLANK('Data Input'!A317),\"\",SUM('Data Input'!C317,'Data Input'!E317,'Data Input'!F317,'Data Input'!G317,'Data Input'!Q317,'Data Input'!T317))","v":""},{"$f":"IF(O313=\"\",\"\",O313/COUNTIF('Data Input'!$C$8:$AQ$8,$O$2))","v":""},{"$f":"IF(ISBLANK('Data Input'!A317),\"\",SUM('Data Input'!L317))","v":""},{"$f":"IF(Q313=\"\",\"\",Q313/COUNTIF('Data Input'!$C$8:$AQ$8,$Q$2))","v":""},{"$f":"IF(ISBLANK('Data Input'!A317),\"\",SUM('Data Input'!X317:AQ317))","v":""},{"$f":"IF(S313=\"\",\"\",S313/COUNTIF('Data Input'!$C$8:$AQ$8,$S$2))","v":""}]
[{"$f":"IF('Data Input'!A318=0,\"\",'Data Input'!A318)","v":""},{"$f":"IF(ISBLANK('Data Input'!A318),\"\",COUNTIF('Data Input'!C318:AQ318,\"\")-1)","v":""},{"$f":"IF(ISBLANK('Data Input'!A318),\"\",COUNTIF('Data Input'!C318:AQ318,\"0\"))","v":""},{"$f":"IF(ISBLANK('Data Input'!A318),\"\",SUM(B314,C314))","v":""},{"$f":"IF(ISBLANK('Data Input'!A318),\"\",SUM('Data Input'!C318:AQ318))","v":""},{"$f":"IF(E314=\"\",\"\",E314/(COUNTA('Data Input'!$C$8:$AQ$8)-1))","v":""},{"$f":"IF(ISBLANK('Data Input'!A318),\"\",SUM('Data Input'!H318,'Data Input'!I318,'Data Input'!M318,'Data Input'!N318))","v":""},{"$f":"IF(G314=\"\",\"\",G314/COUNTIF('Data Input'!$C$8:$AQ$8,$G$2))","v":""},{"$f":"IF(ISBLANK('Data Input'!A318),\"\",SUM('Data Input'!J318,'Data Input'!K318,'Data Input'!U318,'Data Input'!V318))","v":""},{"$f":"IF(I314=\"\",\"\",I314/COUNTIF('Data Input'!$C$8:$AQ$8,$I$2))","v":""},{"$f":"IF(ISBLANK('Data Input'!A318),\"\",SUM('Data Input'!D318))","v":""},{"$f":"IF(K314=\"\",\"\",K314/COUNTIF('Data Input'!$C$8:$AQ$8,$K$2))","v":""},{"$f":"IF(ISBLANK('Data Input'!A318),\"\",SUM('Data Input'!O318,'Data Input'!P318,'Data Input'!R318,'Data Input'!S318))","v":""},{"$f":"IF(M314=\"\",\"\",M314/COUNTIF('Data Input'!$C$8:$AQ$8,$M$2))","v":""},{"$f":"IF(ISBLANK('Data Input'!A318),\"\",SUM('Data Input'!C318,'Data Input'!E318,'Data Input'!F318,'Data Input'!G318,'Data Input'!Q318,'Data Input'!T318))","v":""},{"$f":"IF(O314=\"\",\"\",O314/COUNTIF('Data Input'!$C$8:$AQ$8,$O$2))","v":""},{"$f":"IF(ISBLANK('Data Input'!A318),\"\",SUM('Data Input'!L318))","v":""},{"$f":"IF(Q314=\"\",\"\",Q314/COUNTIF('Data Input'!$C$8:$AQ$8,$Q$2))","v":""},{"$f":"IF(ISBLANK('Data Input'!A318),\"\",SUM('Data Input'!X318:AQ318))","v":""},{"$f":"IF(S314=\"\",\"\",S314/COUNTIF('Data Input'!$C$8:$AQ$8,$S$2))","v":""}]
[{"$f":"IF('Data Input'!A319=0,\"\",'Data Input'!A319)","v":""},{"$f":"IF(ISBLANK('Data Input'!A319),\"\",COUNTIF('Data Input'!C319:AQ319,\"\")-1)","v":""},{"$f":"IF(ISBLANK('Data Input'!A319),\"\",COUNTIF('Data Input'!C319:AQ319,\"0\"))","v":""},{"$f":"IF(ISBLANK('Data Input'!A319),\"\",SUM(B315,C315))","v":""},{"$f":"IF(ISBLANK('Data Input'!A319),\"\",SUM('Data Input'!C319:AQ319))","v":""},{"$f":"IF(E315=\"\",\"\",E315/(COUNTA('Data Input'!$C$8:$AQ$8)-1))","v":""},{"$f":"IF(ISBLANK('Data Input'!A319),\"\",SUM('Data Input'!H319,'Data Input'!I319,'Data Input'!M319,'Data Input'!N319))","v":""},{"$f":"IF(G315=\"\",\"\",G315/COUNTIF('Data Input'!$C$8:$AQ$8,$G$2))","v":""},{"$f":"IF(ISBLANK('Data Input'!A319),\"\",SUM('Data Input'!J319,'Data Input'!K319,'Data Input'!U319,'Data Input'!V319))","v":""},{"$f":"IF(I315=\"\",\"\",I315/COUNTIF('Data Input'!$C$8:$AQ$8,$I$2))","v":""},{"$f":"IF(ISBLANK('Data Input'!A319),\"\",SUM('Data Input'!D319))","v":""},{"$f":"IF(K315=\"\",\"\",K315/COUNTIF('Data Input'!$C$8:$AQ$8,$K$2))","v":""},{"$f":"IF(ISBLANK('Data Input'!A319),\"\",SUM('Data Input'!O319,'Data Input'!P319,'Data Input'!R319,'Data Input'!S319))","v":""},{"$f":"IF(M315=\"\",\"\",M315/COUNTIF('Data Input'!$C$8:$AQ$8,$M$2))","v":""},{"$f":"IF(ISBLANK('Data Input'!A319),\"\",SUM('Data Input'!C319,'Data Input'!E319,'Data Input'!F319,'Data Input'!G319,'Data Input'!Q319,'Data Input'!T319))","v":""},{"$f":"IF(O315=\"\",\"\",O315/COUNTIF('Data Input'!$C$8:$AQ$8,$O$2))","v":""},{"$f":"IF(ISBLANK('Data Input'!A319),\"\",SUM('Data Input'!L319))","v":""},{"$f":"IF(Q315=\"\",\"\",Q315/COUNTIF('Data Input'!$C$8:$AQ$8,$Q$2))","v":""},{"$f":"IF(ISBLANK('Data Input'!A319),\"\",SUM('Data Input'!X319:AQ319))","v":""},{"$f":"IF(S315=\"\",\"\",S315/COUNTIF('Data Input'!$C$8:$AQ$8,$S$2))","v":""}]
[{"$f":"IF('Data Input'!A320=0,\"\",'Data Input'!A320)","v":""},{"$f":"IF(ISBLANK('Data Input'!A320),\"\",COUNTIF('Data Input'!C320:AQ320,\"\")-1)","v":""},{"$f":"IF(ISBLANK('Data Input'!A320),\"\",COUNTIF('Data Input'!C320:AQ320,\"0\"))","v":""},{"$f":"IF(ISBLANK('Data Input'!A320),\"\",SUM(B316,C316))","v":""},{"$f":"IF(ISBLANK('Data Input'!A320),\"\",SUM('Data Input'!C320:AQ320))","v":""},{"$f":"IF(E316=\"\",\"\",E316/(COUNTA('Data Input'!$C$8:$AQ$8)-1))","v":""},{"$f":"IF(ISBLANK('Data Input'!A320),\"\",SUM('Data Input'!H320,'Data Input'!I320,'Data Input'!M320,'Data Input'!N320))","v":""},{"$f":"IF(G316=\"\",\"\",G316/COUNTIF('Data Input'!$C$8:$AQ$8,$G$2))","v":""},{"$f":"IF(ISBLANK('Data Input'!A320),\"\",SUM('Data Input'!J320,'Data Input'!K320,'Data Input'!U320,'Data Input'!V320))","v":""},{"$f":"IF(I316=\"\",\"\",I316/COUNTIF('Data Input'!$C$8:$AQ$8,$I$2))","v":""},{"$f":"IF(ISBLANK('Data Input'!A320),\"\",SUM('Data Input'!D320))","v":""},{"$f":"IF(K316=\"\",\"\",K316/COUNTIF('Data Input'!$C$8:$AQ$8,$K$2))","v":""},{"$f":"IF(ISBLANK('Data Input'!A320),\"\",SUM('Data Input'!O320,'Data Input'!P320,'Data Input'!R320,'Data Input'!S320))","v":""},{"$f":"IF(M316=\"\",\"\",M316/COUNTIF('Data Input'!$C$8:$AQ$8,$M$2))","v":""},{"$f":"IF(ISBLANK('Data Input'!A320),\"\",SUM('Data Input'!C320,'Data Input'!E320,'Data Input'!F320,'Data Input'!G320,'Data Input'!Q320,'Data Input'!T320))","v":""},{"$f":"IF(O316=\"\",\"\",O316/COUNTIF('Data Input'!$C$8:$AQ$8,$O$2))","v":""},{"$f":"IF(ISBLANK('Data Input'!A320),\"\",SUM('Data Input'!L320))","v":""},{"$f":"IF(Q316=\"\",\"\",Q316/COUNTIF('Data Input'!$C$8:$AQ$8,$Q$2))","v":""},{"$f":"IF(ISBLANK('Data Input'!A320),\"\",SUM('Data Input'!X320:AQ320))","v":""},{"$f":"IF(S316=\"\",\"\",S316/COUNTIF('Data Input'!$C$8:$AQ$8,$S$2))","v":""}]
[{"$f":"IF('Data Input'!A321=0,\"\",'Data Input'!A321)","v":""},{"$f":"IF(ISBLANK('Data Input'!A321),\"\",COUNTIF('Data Input'!C321:AQ321,\"\")-1)","v":""},{"$f":"IF(ISBLANK('Data Input'!A321),\"\",COUNTIF('Data Input'!C321:AQ321,\"0\"))","v":""},{"$f":"IF(ISBLANK('Data Input'!A321),\"\",SUM(B317,C317))","v":""},{"$f":"IF(ISBLANK('Data Input'!A321),\"\",SUM('Data Input'!C321:AQ321))","v":""},{"$f":"IF(E317=\"\",\"\",E317/(COUNTA('Data Input'!$C$8:$AQ$8)-1))","v":""},{"$f":"IF(ISBLANK('Data Input'!A321),\"\",SUM('Data Input'!H321,'Data Input'!I321,'Data Input'!M321,'Data Input'!N321))","v":""},{"$f":"IF(G317=\"\",\"\",G317/COUNTIF('Data Input'!$C$8:$AQ$8,$G$2))","v":""},{"$f":"IF(ISBLANK('Data Input'!A321),\"\",SUM('Data Input'!J321,'Data Input'!K321,'Data Input'!U321,'Data Input'!V321))","v":""},{"$f":"IF(I317=\"\",\"\",I317/COUNTIF('Data Input'!$C$8:$AQ$8,$I$2))","v":""},{"$f":"IF(ISBLANK('Data Input'!A321),\"\",SUM('Data Input'!D321))","v":""},{"$f":"IF(K317=\"\",\"\",K317/COUNTIF('Data Input'!$C$8:$AQ$8,$K$2))","v":""},{"$f":"IF(ISBLANK('Data Input'!A321),\"\",SUM('Data Input'!O321,'Data Input'!P321,'Data Input'!R321,'Data Input'!S321))","v":""},{"$f":"IF(M317=\"\",\"\",M317/COUNTIF('Data Input'!$C$8:$AQ$8,$M$2))","v":""},{"$f":"IF(ISBLANK('Data Input'!A321),\"\",SUM('Data Input'!C321,'Data Input'!E321,'Data Input'!F321,'Data Input'!G321,'Data Input'!Q321,'Data Input'!T321))","v":""},{"$f":"IF(O317=\"\",\"\",O317/COUNTIF('Data Input'!$C$8:$AQ$8,$O$2))","v":""},{"$f":"IF(ISBLANK('Data Input'!A321),\"\",SUM('Data Input'!L321))","v":""},{"$f":"IF(Q317=\"\",\"\",Q317/COUNTIF('Data Input'!$C$8:$AQ$8,$Q$2))","v":""},{"$f":"IF(ISBLANK('Data Input'!A321),\"\",SUM('Data Input'!X321:AQ321))","v":""},{"$f":"IF(S317=\"\",\"\",S317/COUNTIF('Data Input'!$C$8:$AQ$8,$S$2))","v":""}]
[{"$f":"IF('Data Input'!A322=0,\"\",'Data Input'!A322)","v":""},{"$f":"IF(ISBLANK('Data Input'!A322),\"\",COUNTIF('Data Input'!C322:AQ322,\"\")-1)","v":""},{"$f":"IF(ISBLANK('Data Input'!A322),\"\",COUNTIF('Data Input'!C322:AQ322,\"0\"))","v":""},{"$f":"IF(ISBLANK('Data Input'!A322),\"\",SUM(B318,C318))","v":""},{"$f":"IF(ISBLANK('Data Input'!A322),\"\",SUM('Data Input'!C322:AQ322))","v":""},{"$f":"IF(E318=\"\",\"\",E318/(COUNTA('Data Input'!$C$8:$AQ$8)-1))","v":""},{"$f":"IF(ISBLANK('Data Input'!A322),\"\",SUM('Data Input'!H322,'Data Input'!I322,'Data Input'!M322,'Data Input'!N322))","v":""},{"$f":"IF(G318=\"\",\"\",G318/COUNTIF('Data Input'!$C$8:$AQ$8,$G$2))","v":""},{"$f":"IF(ISBLANK('Data Input'!A322),\"\",SUM('Data Input'!J322,'Data Input'!K322,'Data Input'!U322,'Data Input'!V322))","v":""},{"$f":"IF(I318=\"\",\"\",I318/COUNTIF('Data Input'!$C$8:$AQ$8,$I$2))","v":""},{"$f":"IF(ISBLANK('Data Input'!A322),\"\",SUM('Data Input'!D322))","v":""},{"$f":"IF(K318=\"\",\"\",K318/COUNTIF('Data Input'!$C$8:$AQ$8,$K$2))","v":""},{"$f":"IF(ISBLANK('Data Input'!A322),\"\",SUM('Data Input'!O322,'Data Input'!P322,'Data Input'!R322,'Data Input'!S322))","v":""},{"$f":"IF(M318=\"\",\"\",M318/COUNTIF('Data Input'!$C$8:$AQ$8,$M$2))","v":""},{"$f":"IF(ISBLANK('Data Input'!A322),\"\",SUM('Data Input'!C322,'Data Input'!E322,'Data Input'!F322,'Data Input'!G322,'Data Input'!Q322,'Data Input'!T322))","v":""},{"$f":"IF(O318=\"\",\"\",O318/COUNTIF('Data Input'!$C$8:$AQ$8,$O$2))","v":""},{"$f":"IF(ISBLANK('Data Input'!A322),\"\",SUM('Data Input'!L322))","v":""},{"$f":"IF(Q318=\"\",\"\",Q318/COUNTIF('Data Input'!$C$8:$AQ$8,$Q$2))","v":""},{"$f":"IF(ISBLANK('Data Input'!A322),\"\",SUM('Data Input'!X322:AQ322))","v":""},{"$f":"IF(S318=\"\",\"\",S318/COUNTIF('Data Input'!$C$8:$AQ$8,$S$2))","v":""}]
[{"$f":"IF('Data Input'!A323=0,\"\",'Data Input'!A323)","v":""},{"$f":"IF(ISBLANK('Data Input'!A323),\"\",COUNTIF('Data Input'!C323:AQ323,\"\")-1)","v":""},{"$f":"IF(ISBLANK('Data Input'!A323),\"\",COUNTIF('Data Input'!C323:AQ323,\"0\"))","v":""},{"$f":"IF(ISBLANK('Data Input'!A323),\"\",SUM(B319,C319))","v":""},{"$f":"IF(ISBLANK('Data Input'!A323),\"\",SUM('Data Input'!C323:AQ323))","v":""},{"$f":"IF(E319=\"\",\"\",E319/(COUNTA('Data Input'!$C$8:$AQ$8)-1))","v":""},{"$f":"IF(ISBLANK('Data Input'!A323),\"\",SUM('Data Input'!H323,'Data Input'!I323,'Data Input'!M323,'Data Input'!N323))","v":""},{"$f":"IF(G319=\"\",\"\",G319/COUNTIF('Data Input'!$C$8:$AQ$8,$G$2))","v":""},{"$f":"IF(ISBLANK('Data Input'!A323),\"\",SUM('Data Input'!J323,'Data Input'!K323,'Data Input'!U323,'Data Input'!V323))","v":""},{"$f":"IF(I319=\"\",\"\",I319/COUNTIF('Data Input'!$C$8:$AQ$8,$I$2))","v":""},{"$f":"IF(ISBLANK('Data Input'!A323),\"\",SUM('Data Input'!D323))","v":""},{"$f":"IF(K319=\"\",\"\",K319/COUNTIF('Data Input'!$C$8:$AQ$8,$K$2))","v":""},{"$f":"IF(ISBLANK('Data Input'!A323),\"\",SUM('Data Input'!O323,'Data Input'!P323,'Data Input'!R323,'Data Input'!S323))","v":""},{"$f":"IF(M319=\"\",\"\",M319/COUNTIF('Data Input'!$C$8:$AQ$8,$M$2))","v":""},{"$f":"IF(ISBLANK('Data Input'!A323),\"\",SUM('Data Input'!C323,'Data Input'!E323,'Data Input'!F323,'Data Input'!G323,'Data Input'!Q323,'Data Input'!T323))","v":""},{"$f":"IF(O319=\"\",\"\",O319/COUNTIF('Data Input'!$C$8:$AQ$8,$O$2))","v":""},{"$f":"IF(ISBLANK('Data Input'!A323),\"\",SUM('Data Input'!L323))","v":""},{"$f":"IF(Q319=\"\",\"\",Q319/COUNTIF('Data Input'!$C$8:$AQ$8,$Q$2))","v":""},{"$f":"IF(ISBLANK('Data Input'!A323),\"\",SUM('Data Input'!X323:AQ323))","v":""},{"$f":"IF(S319=\"\",\"\",S319/COUNTIF('Data Input'!$C$8:$AQ$8,$S$2))","v":""}]
[{"$f":"IF('Data Input'!A324=0,\"\",'Data Input'!A324)","v":""},{"$f":"IF(ISBLANK('Data Input'!A324),\"\",COUNTIF('Data Input'!C324:AQ324,\"\")-1)","v":""},{"$f":"IF(ISBLANK('Data Input'!A324),\"\",COUNTIF('Data Input'!C324:AQ324,\"0\"))","v":""},{"$f":"IF(ISBLANK('Data Input'!A324),\"\",SUM(B320,C320))","v":""},{"$f":"IF(ISBLANK('Data Input'!A324),\"\",SUM('Data Input'!C324:AQ324))","v":""},{"$f":"IF(E320=\"\",\"\",E320/(COUNTA('Data Input'!$C$8:$AQ$8)-1))","v":""},{"$f":"IF(ISBLANK('Data Input'!A324),\"\",SUM('Data Input'!H324,'Data Input'!I324,'Data Input'!M324,'Data Input'!N324))","v":""},{"$f":"IF(G320=\"\",\"\",G320/COUNTIF('Data Input'!$C$8:$AQ$8,$G$2))","v":""},{"$f":"IF(ISBLANK('Data Input'!A324),\"\",SUM('Data Input'!J324,'Data Input'!K324,'Data Input'!U324,'Data Input'!V324))","v":""},{"$f":"IF(I320=\"\",\"\",I320/COUNTIF('Data Input'!$C$8:$AQ$8,$I$2))","v":""},{"$f":"IF(ISBLANK('Data Input'!A324),\"\",SUM('Data Input'!D324))","v":""},{"$f":"IF(K320=\"\",\"\",K320/COUNTIF('Data Input'!$C$8:$AQ$8,$K$2))","v":""},{"$f":"IF(ISBLANK('Data Input'!A324),\"\",SUM('Data Input'!O324,'Data Input'!P324,'Data Input'!R324,'Data Input'!S324))","v":""},{"$f":"IF(M320=\"\",\"\",M320/COUNTIF('Data Input'!$C$8:$AQ$8,$M$2))","v":""},{"$f":"IF(ISBLANK('Data Input'!A324),\"\",SUM('Data Input'!C324,'Data Input'!E324,'Data Input'!F324,'Data Input'!G324,'Data Input'!Q324,'Data Input'!T324))","v":""},{"$f":"IF(O320=\"\",\"\",O320/COUNTIF('Data Input'!$C$8:$AQ$8,$O$2))","v":""},{"$f":"IF(ISBLANK('Data Input'!A324),\"\",SUM('Data Input'!L324))","v":""},{"$f":"IF(Q320=\"\",\"\",Q320/COUNTIF('Data Input'!$C$8:$AQ$8,$Q$2))","v":""},{"$f":"IF(ISBLANK('Data Input'!A324),\"\",SUM('Data Input'!X324:AQ324))","v":""},{"$f":"IF(S320=\"\",\"\",S320/COUNTIF('Data Input'!$C$8:$AQ$8,$S$2))","v":""}]
[{"$f":"IF('Data Input'!A325=0,\"\",'Data Input'!A325)","v":""},{"$f":"IF(ISBLANK('Data Input'!A325),\"\",COUNTIF('Data Input'!C325:AQ325,\"\")-1)","v":""},{"$f":"IF(ISBLANK('Data Input'!A325),\"\",COUNTIF('Data Input'!C325:AQ325,\"0\"))","v":""},{"$f":"IF(ISBLANK('Data Input'!A325),\"\",SUM(B321,C321))","v":""},{"$f":"IF(ISBLANK('Data Input'!A325),\"\",SUM('Data Input'!C325:AQ325))","v":""},{"$f":"IF(E321=\"\",\"\",E321/(COUNTA('Data Input'!$C$8:$AQ$8)-1))","v":""},{"$f":"IF(ISBLANK('Data Input'!A325),\"\",SUM('Data Input'!H325,'Data Input'!I325,'Data Input'!M325,'Data Input'!N325))","v":""},{"$f":"IF(G321=\"\",\"\",G321/COUNTIF('Data Input'!$C$8:$AQ$8,$G$2))","v":""},{"$f":"IF(ISBLANK('Data Input'!A325),\"\",SUM('Data Input'!J325,'Data Input'!K325,'Data Input'!U325,'Data Input'!V325))","v":""},{"$f":"IF(I321=\"\",\"\",I321/COUNTIF('Data Input'!$C$8:$AQ$8,$I$2))","v":""},{"$f":"IF(ISBLANK('Data Input'!A325),\"\",SUM('Data Input'!D325))","v":""},{"$f":"IF(K321=\"\",\"\",K321/COUNTIF('Data Input'!$C$8:$AQ$8,$K$2))","v":""},{"$f":"IF(ISBLANK('Data Input'!A325),\"\",SUM('Data Input'!O325,'Data Input'!P325,'Data Input'!R325,'Data Input'!S325))","v":""},{"$f":"IF(M321=\"\",\"\",M321/COUNTIF('Data Input'!$C$8:$AQ$8,$M$2))","v":""},{"$f":"IF(ISBLANK('Data Input'!A325),\"\",SUM('Data Input'!C325,'Data Input'!E325,'Data Input'!F325,'Data Input'!G325,'Data Input'!Q325,'Data Input'!T325))","v":""},{"$f":"IF(O321=\"\",\"\",O321/COUNTIF('Data Input'!$C$8:$AQ$8,$O$2))","v":""},{"$f":"IF(ISBLANK('Data Input'!A325),\"\",SUM('Data Input'!L325))","v":""},{"$f":"IF(Q321=\"\",\"\",Q321/COUNTIF('Data Input'!$C$8:$AQ$8,$Q$2))","v":""},{"$f":"IF(ISBLANK('Data Input'!A325),\"\",SUM('Data Input'!X325:AQ325))","v":""},{"$f":"IF(S321=\"\",\"\",S321/COUNTIF('Data Input'!$C$8:$AQ$8,$S$2))","v":""}]
[{"$f":"IF('Data Input'!A326=0,\"\",'Data Input'!A326)","v":""},{"$f":"IF(ISBLANK('Data Input'!A326),\"\",COUNTIF('Data Input'!C326:AQ326,\"\")-1)","v":""},{"$f":"IF(ISBLANK('Data Input'!A326),\"\",COUNTIF('Data Input'!C326:AQ326,\"0\"))","v":""},{"$f":"IF(ISBLANK('Data Input'!A326),\"\",SUM(B322,C322))","v":""},{"$f":"IF(ISBLANK('Data Input'!A326),\"\",SUM('Data Input'!C326:AQ326))","v":""},{"$f":"IF(E322=\"\",\"\",E322/(COUNTA('Data Input'!$C$8:$AQ$8)-1))","v":""},{"$f":"IF(ISBLANK('Data Input'!A326),\"\",SUM('Data Input'!H326,'Data Input'!I326,'Data Input'!M326,'Data Input'!N326))","v":""},{"$f":"IF(G322=\"\",\"\",G322/COUNTIF('Data Input'!$C$8:$AQ$8,$G$2))","v":""},{"$f":"IF(ISBLANK('Data Input'!A326),\"\",SUM('Data Input'!J326,'Data Input'!K326,'Data Input'!U326,'Data Input'!V326))","v":""},{"$f":"IF(I322=\"\",\"\",I322/COUNTIF('Data Input'!$C$8:$AQ$8,$I$2))","v":""},{"$f":"IF(ISBLANK('Data Input'!A326),\"\",SUM('Data Input'!D326))","v":""},{"$f":"IF(K322=\"\",\"\",K322/COUNTIF('Data Input'!$C$8:$AQ$8,$K$2))","v":""},{"$f":"IF(ISBLANK('Data Input'!A326),\"\",SUM('Data Input'!O326,'Data Input'!P326,'Data Input'!R326,'Data Input'!S326))","v":""},{"$f":"IF(M322=\"\",\"\",M322/COUNTIF('Data Input'!$C$8:$AQ$8,$M$2))","v":""},{"$f":"IF(ISBLANK('Data Input'!A326),\"\",SUM('Data Input'!C326,'Data Input'!E326,'Data Input'!F326,'Data Input'!G326,'Data Input'!Q326,'Data Input'!T326))","v":""},{"$f":"IF(O322=\"\",\"\",O322/COUNTIF('Data Input'!$C$8:$AQ$8,$O$2))","v":""},{"$f":"IF(ISBLANK('Data Input'!A326),\"\",SUM('Data Input'!L326))","v":""},{"$f":"IF(Q322=\"\",\"\",Q322/COUNTIF('Data Input'!$C$8:$AQ$8,$Q$2))","v":""},{"$f":"IF(ISBLANK('Data Input'!A326),\"\",SUM('Data Input'!X326:AQ326))","v":""},{"$f":"IF(S322=\"\",\"\",S322/COUNTIF('Data Input'!$C$8:$AQ$8,$S$2))","v":""}]
[{"$f":"IF('Data Input'!A327=0,\"\",'Data Input'!A327)","v":""},{"$f":"IF(ISBLANK('Data Input'!A327),\"\",COUNTIF('Data Input'!C327:AQ327,\"\")-1)","v":""},{"$f":"IF(ISBLANK('Data Input'!A327),\"\",COUNTIF('Data Input'!C327:AQ327,\"0\"))","v":""},{"$f":"IF(ISBLANK('Data Input'!A327),\"\",SUM(B323,C323))","v":""},{"$f":"IF(ISBLANK('Data Input'!A327),\"\",SUM('Data Input'!C327:AQ327))","v":""},{"$f":"IF(E323=\"\",\"\",E323/(COUNTA('Data Input'!$C$8:$AQ$8)-1))","v":""},{"$f":"IF(ISBLANK('Data Input'!A327),\"\",SUM('Data Input'!H327,'Data Input'!I327,'Data Input'!M327,'Data Input'!N327))","v":""},{"$f":"IF(G323=\"\",\"\",G323/COUNTIF('Data Input'!$C$8:$AQ$8,$G$2))","v":""},{"$f":"IF(ISBLANK('Data Input'!A327),\"\",SUM('Data Input'!J327,'Data Input'!K327,'Data Input'!U327,'Data Input'!V327))","v":""},{"$f":"IF(I323=\"\",\"\",I323/COUNTIF('Data Input'!$C$8:$AQ$8,$I$2))","v":""},{"$f":"IF(ISBLANK('Data Input'!A327),\"\",SUM('Data Input'!D327))","v":""},{"$f":"IF(K323=\"\",\"\",K323/COUNTIF('Data Input'!$C$8:$AQ$8,$K$2))","v":""},{"$f":"IF(ISBLANK('Data Input'!A327),\"\",SUM('Data Input'!O327,'Data Input'!P327,'Data Input'!R327,'Data Input'!S327))","v":""},{"$f":"IF(M323=\"\",\"\",M323/COUNTIF('Data Input'!$C$8:$AQ$8,$M$2))","v":""},{"$f":"IF(ISBLANK('Data Input'!A327),\"\",SUM('Data Input'!C327,'Data Input'!E327,'Data Input'!F327,'Data Input'!G327,'Data Input'!Q327,'Data Input'!T327))","v":""},{"$f":"IF(O323=\"\",\"\",O323/COUNTIF('Data Input'!$C$8:$AQ$8,$O$2))","v":""},{"$f":"IF(ISBLANK('Data Input'!A327),\"\",SUM('Data Input'!L327))","v":""},{"$f":"IF(Q323=\"\",\"\",Q323/COUNTIF('Data Input'!$C$8:$AQ$8,$Q$2))","v":""},{"$f":"IF(ISBLANK('Data Input'!A327),\"\",SUM('Data Input'!X327:AQ327))","v":""},{"$f":"IF(S323=\"\",\"\",S323/COUNTIF('Data Input'!$C$8:$AQ$8,$S$2))","v":""}]
[{"$f":"IF('Data Input'!A328=0,\"\",'Data Input'!A328)","v":""},{"$f":"IF(ISBLANK('Data Input'!A328),\"\",COUNTIF('Data Input'!C328:AQ328,\"\")-1)","v":""},{"$f":"IF(ISBLANK('Data Input'!A328),\"\",COUNTIF('Data Input'!C328:AQ328,\"0\"))","v":""},{"$f":"IF(ISBLANK('Data Input'!A328),\"\",SUM(B324,C324))","v":""},{"$f":"IF(ISBLANK('Data Input'!A328),\"\",SUM('Data Input'!C328:AQ328))","v":""},{"$f":"IF(E324=\"\",\"\",E324/(COUNTA('Data Input'!$C$8:$AQ$8)-1))","v":""},{"$f":"IF(ISBLANK('Data Input'!A328),\"\",SUM('Data Input'!H328,'Data Input'!I328,'Data Input'!M328,'Data Input'!N328))","v":""},{"$f":"IF(G324=\"\",\"\",G324/COUNTIF('Data Input'!$C$8:$AQ$8,$G$2))","v":""},{"$f":"IF(ISBLANK('Data Input'!A328),\"\",SUM('Data Input'!J328,'Data Input'!K328,'Data Input'!U328,'Data Input'!V328))","v":""},{"$f":"IF(I324=\"\",\"\",I324/COUNTIF('Data Input'!$C$8:$AQ$8,$I$2))","v":""},{"$f":"IF(ISBLANK('Data Input'!A328),\"\",SUM('Data Input'!D328))","v":""},{"$f":"IF(K324=\"\",\"\",K324/COUNTIF('Data Input'!$C$8:$AQ$8,$K$2))","v":""},{"$f":"IF(ISBLANK('Data Input'!A328),\"\",SUM('Data Input'!O328,'Data Input'!P328,'Data Input'!R328,'Data Input'!S328))","v":""},{"$f":"IF(M324=\"\",\"\",M324/COUNTIF('Data Input'!$C$8:$AQ$8,$M$2))","v":""},{"$f":"IF(ISBLANK('Data Input'!A328),\"\",SUM('Data Input'!C328,'Data Input'!E328,'Data Input'!F328,'Data Input'!G328,'Data Input'!Q328,'Data Input'!T328))","v":""},{"$f":"IF(O324=\"\",\"\",O324/COUNTIF('Data Input'!$C$8:$AQ$8,$O$2))","v":""},{"$f":"IF(ISBLANK('Data Input'!A328),\"\",SUM('Data Input'!L328))","v":""},{"$f":"IF(Q324=\"\",\"\",Q324/COUNTIF('Data Input'!$C$8:$AQ$8,$Q$2))","v":""},{"$f":"IF(ISBLANK('Data Input'!A328),\"\",SUM('Data Input'!X328:AQ328))","v":""},{"$f":"IF(S324=\"\",\"\",S324/COUNTIF('Data Input'!$C$8:$AQ$8,$S$2))","v":""}]
[{"$f":"IF('Data Input'!A329=0,\"\",'Data Input'!A329)","v":""},{"$f":"IF(ISBLANK('Data Input'!A329),\"\",COUNTIF('Data Input'!C329:AQ329,\"\")-1)","v":""},{"$f":"IF(ISBLANK('Data Input'!A329),\"\",COUNTIF('Data Input'!C329:AQ329,\"0\"))","v":""},{"$f":"IF(ISBLANK('Data Input'!A329),\"\",SUM(B325,C325))","v":""},{"$f":"IF(ISBLANK('Data Input'!A329),\"\",SUM('Data Input'!C329:AQ329))","v":""},{"$f":"IF(E325=\"\",\"\",E325/(COUNTA('Data Input'!$C$8:$AQ$8)-1))","v":""},{"$f":"IF(ISBLANK('Data Input'!A329),\"\",SUM('Data Input'!H329,'Data Input'!I329,'Data Input'!M329,'Data Input'!N329))","v":""},{"$f":"IF(G325=\"\",\"\",G325/COUNTIF('Data Input'!$C$8:$AQ$8,$G$2))","v":""},{"$f":"IF(ISBLANK('Data Input'!A329),\"\",SUM('Data Input'!J329,'Data Input'!K329,'Data Input'!U329,'Data Input'!V329))","v":""},{"$f":"IF(I325=\"\",\"\",I325/COUNTIF('Data Input'!$C$8:$AQ$8,$I$2))","v":""},{"$f":"IF(ISBLANK('Data Input'!A329),\"\",SUM('Data Input'!D329))","v":""},{"$f":"IF(K325=\"\",\"\",K325/COUNTIF('Data Input'!$C$8:$AQ$8,$K$2))","v":""},{"$f":"IF(ISBLANK('Data Input'!A329),\"\",SUM('Data Input'!O329,'Data Input'!P329,'Data Input'!R329,'Data Input'!S329))","v":""},{"$f":"IF(M325=\"\",\"\",M325/COUNTIF('Data Input'!$C$8:$AQ$8,$M$2))","v":""},{"$f":"IF(ISBLANK('Data Input'!A329),\"\",SUM('Data Input'!C329,'Data Input'!E329,'Data Input'!F329,'Data Input'!G329,'Data Input'!Q329,'Data Input'!T329))","v":""},{"$f":"IF(O325=\"\",\"\",O325/COUNTIF('Data Input'!$C$8:$AQ$8,$O$2))","v":""},{"$f":"IF(ISBLANK('Data Input'!A329),\"\",SUM('Data Input'!L329))","v":""},{"$f":"IF(Q325=\"\",\"\",Q325/COUNTIF('Data Input'!$C$8:$AQ$8,$Q$2))","v":""},{"$f":"IF(ISBLANK('Data Input'!A329),\"\",SUM('Data Input'!X329:AQ329))","v":""},{"$f":"IF(S325=\"\",\"\",S325/COUNTIF('Data Input'!$C$8:$AQ$8,$S$2))","v":""}]
[{"$f":"IF('Data Input'!A330=0,\"\",'Data Input'!A330)","v":""},{"$f":"IF(ISBLANK('Data Input'!A330),\"\",COUNTIF('Data Input'!C330:AQ330,\"\")-1)","v":""},{"$f":"IF(ISBLANK('Data Input'!A330),\"\",COUNTIF('Data Input'!C330:AQ330,\"0\"))","v":""},{"$f":"IF(ISBLANK('Data Input'!A330),\"\",SUM(B326,C326))","v":""},{"$f":"IF(ISBLANK('Data Input'!A330),\"\",SUM('Data Input'!C330:AQ330))","v":""},{"$f":"IF(E326=\"\",\"\",E326/(COUNTA('Data Input'!$C$8:$AQ$8)-1))","v":""},{"$f":"IF(ISBLANK('Data Input'!A330),\"\",SUM('Data Input'!H330,'Data Input'!I330,'Data Input'!M330,'Data Input'!N330))","v":""},{"$f":"IF(G326=\"\",\"\",G326/COUNTIF('Data Input'!$C$8:$AQ$8,$G$2))","v":""},{"$f":"IF(ISBLANK('Data Input'!A330),\"\",SUM('Data Input'!J330,'Data Input'!K330,'Data Input'!U330,'Data Input'!V330))","v":""},{"$f":"IF(I326=\"\",\"\",I326/COUNTIF('Data Input'!$C$8:$AQ$8,$I$2))","v":""},{"$f":"IF(ISBLANK('Data Input'!A330),\"\",SUM('Data Input'!D330))","v":""},{"$f":"IF(K326=\"\",\"\",K326/COUNTIF('Data Input'!$C$8:$AQ$8,$K$2))","v":""},{"$f":"IF(ISBLANK('Data Input'!A330),\"\",SUM('Data Input'!O330,'Data Input'!P330,'Data Input'!R330,'Data Input'!S330))","v":""},{"$f":"IF(M326=\"\",\"\",M326/COUNTIF('Data Input'!$C$8:$AQ$8,$M$2))","v":""},{"$f":"IF(ISBLANK('Data Input'!A330),\"\",SUM('Data Input'!C330,'Data Input'!E330,'Data Input'!F330,'Data Input'!G330,'Data Input'!Q330,'Data Input'!T330))","v":""},{"$f":"IF(O326=\"\",\"\",O326/COUNTIF('Data Input'!$C$8:$AQ$8,$O$2))","v":""},{"$f":"IF(ISBLANK('Data Input'!A330),\"\",SUM('Data Input'!L330))","v":""},{"$f":"IF(Q326=\"\",\"\",Q326/COUNTIF('Data Input'!$C$8:$AQ$8,$Q$2))","v":""},{"$f":"IF(ISBLANK('Data Input'!A330),\"\",SUM('Data Input'!X330:AQ330))","v":""},{"$f":"IF(S326=\"\",\"\",S326/COUNTIF('Data Input'!$C$8:$AQ$8,$S$2))","v":""}]
[{"$f":"IF('Data Input'!A331=0,\"\",'Data Input'!A331)","v":""},{"$f":"IF(ISBLANK('Data Input'!A331),\"\",COUNTIF('Data Input'!C331:AQ331,\"\")-1)","v":""},{"$f":"IF(ISBLANK('Data Input'!A331),\"\",COUNTIF('Data Input'!C331:AQ331,\"0\"))","v":""},{"$f":"IF(ISBLANK('Data Input'!A331),\"\",SUM(B327,C327))","v":""},{"$f":"IF(ISBLANK('Data Input'!A331),\"\",SUM('Data Input'!C331:AQ331))","v":""},{"$f":"IF(E327=\"\",\"\",E327/(COUNTA('Data Input'!$C$8:$AQ$8)-1))","v":""},{"$f":"IF(ISBLANK('Data Input'!A331),\"\",SUM('Data Input'!H331,'Data Input'!I331,'Data Input'!M331,'Data Input'!N331))","v":""},{"$f":"IF(G327=\"\",\"\",G327/COUNTIF('Data Input'!$C$8:$AQ$8,$G$2))","v":""},{"$f":"IF(ISBLANK('Data Input'!A331),\"\",SUM('Data Input'!J331,'Data Input'!K331,'Data Input'!U331,'Data Input'!V331))","v":""},{"$f":"IF(I327=\"\",\"\",I327/COUNTIF('Data Input'!$C$8:$AQ$8,$I$2))","v":""},{"$f":"IF(ISBLANK('Data Input'!A331),\"\",SUM('Data Input'!D331))","v":""},{"$f":"IF(K327=\"\",\"\",K327/COUNTIF('Data Input'!$C$8:$AQ$8,$K$2))","v":""},{"$f":"IF(ISBLANK('Data Input'!A331),\"\",SUM('Data Input'!O331,'Data Input'!P331,'Data Input'!R331,'Data Input'!S331))","v":""},{"$f":"IF(M327=\"\",\"\",M327/COUNTIF('Data Input'!$C$8:$AQ$8,$M$2))","v":""},{"$f":"IF(ISBLANK('Data Input'!A331),\"\",SUM('Data Input'!C331,'Data Input'!E331,'Data Input'!F331,'Data Input'!G331,'Data Input'!Q331,'Data Input'!T331))","v":""},{"$f":"IF(O327=\"\",\"\",O327/COUNTIF('Data Input'!$C$8:$AQ$8,$O$2))","v":""},{"$f":"IF(ISBLANK('Data Input'!A331),\"\",SUM('Data Input'!L331))","v":""},{"$f":"IF(Q327=\"\",\"\",Q327/COUNTIF('Data Input'!$C$8:$AQ$8,$Q$2))","v":""},{"$f":"IF(ISBLANK('Data Input'!A331),\"\",SUM('Data Input'!X331:AQ331))","v":""},{"$f":"IF(S327=\"\",\"\",S327/COUNTIF('Data Input'!$C$8:$AQ$8,$S$2))","v":""}]
[{"$f":"IF('Data Input'!A332=0,\"\",'Data Input'!A332)","v":""},{"$f":"IF(ISBLANK('Data Input'!A332),\"\",COUNTIF('Data Input'!C332:AQ332,\"\")-1)","v":""},{"$f":"IF(ISBLANK('Data Input'!A332),\"\",COUNTIF('Data Input'!C332:AQ332,\"0\"))","v":""},{"$f":"IF(ISBLANK('Data Input'!A332),\"\",SUM(B328,C328))","v":""},{"$f":"IF(ISBLANK('Data Input'!A332),\"\",SUM('Data Input'!C332:AQ332))","v":""},{"$f":"IF(E328=\"\",\"\",E328/(COUNTA('Data Input'!$C$8:$AQ$8)-1))","v":""},{"$f":"IF(ISBLANK('Data Input'!A332),\"\",SUM('Data Input'!H332,'Data Input'!I332,'Data Input'!M332,'Data Input'!N332))","v":""},{"$f":"IF(G328=\"\",\"\",G328/COUNTIF('Data Input'!$C$8:$AQ$8,$G$2))","v":""},{"$f":"IF(ISBLANK('Data Input'!A332),\"\",SUM('Data Input'!J332,'Data Input'!K332,'Data Input'!U332,'Data Input'!V332))","v":""},{"$f":"IF(I328=\"\",\"\",I328/COUNTIF('Data Input'!$C$8:$AQ$8,$I$2))","v":""},{"$f":"IF(ISBLANK('Data Input'!A332),\"\",SUM('Data Input'!D332))","v":""},{"$f":"IF(K328=\"\",\"\",K328/COUNTIF('Data Input'!$C$8:$AQ$8,$K$2))","v":""},{"$f":"IF(ISBLANK('Data Input'!A332),\"\",SUM('Data Input'!O332,'Data Input'!P332,'Data Input'!R332,'Data Input'!S332))","v":""},{"$f":"IF(M328=\"\",\"\",M328/COUNTIF('Data Input'!$C$8:$AQ$8,$M$2))","v":""},{"$f":"IF(ISBLANK('Data Input'!A332),\"\",SUM('Data Input'!C332,'Data Input'!E332,'Data Input'!F332,'Data Input'!G332,'Data Input'!Q332,'Data Input'!T332))","v":""},{"$f":"IF(O328=\"\",\"\",O328/COUNTIF('Data Input'!$C$8:$AQ$8,$O$2))","v":""},{"$f":"IF(ISBLANK('Data Input'!A332),\"\",SUM('Data Input'!L332))","v":""},{"$f":"IF(Q328=\"\",\"\",Q328/COUNTIF('Data Input'!$C$8:$AQ$8,$Q$2))","v":""},{"$f":"IF(ISBLANK('Data Input'!A332),\"\",SUM('Data Input'!X332:AQ332))","v":""},{"$f":"IF(S328=\"\",\"\",S328/COUNTIF('Data Input'!$C$8:$AQ$8,$S$2))","v":""}]
[{"$f":"IF('Data Input'!A333=0,\"\",'Data Input'!A333)","v":""},{"$f":"IF(ISBLANK('Data Input'!A333),\"\",COUNTIF('Data Input'!C333:AQ333,\"\")-1)","v":""},{"$f":"IF(ISBLANK('Data Input'!A333),\"\",COUNTIF('Data Input'!C333:AQ333,\"0\"))","v":""},{"$f":"IF(ISBLANK('Data Input'!A333),\"\",SUM(B329,C329))","v":""},{"$f":"IF(ISBLANK('Data Input'!A333),\"\",SUM('Data Input'!C333:AQ333))","v":""},{"$f":"IF(E329=\"\",\"\",E329/(COUNTA('Data Input'!$C$8:$AQ$8)-1))","v":""},{"$f":"IF(ISBLANK('Data Input'!A333),\"\",SUM('Data Input'!H333,'Data Input'!I333,'Data Input'!M333,'Data Input'!N333))","v":""},{"$f":"IF(G329=\"\",\"\",G329/COUNTIF('Data Input'!$C$8:$AQ$8,$G$2))","v":""},{"$f":"IF(ISBLANK('Data Input'!A333),\"\",SUM('Data Input'!J333,'Data Input'!K333,'Data Input'!U333,'Data Input'!V333))","v":""},{"$f":"IF(I329=\"\",\"\",I329/COUNTIF('Data Input'!$C$8:$AQ$8,$I$2))","v":""},{"$f":"IF(ISBLANK('Data Input'!A333),\"\",SUM('Data Input'!D333))","v":""},{"$f":"IF(K329=\"\",\"\",K329/COUNTIF('Data Input'!$C$8:$AQ$8,$K$2))","v":""},{"$f":"IF(ISBLANK('Data Input'!A333),\"\",SUM('Data Input'!O333,'Data Input'!P333,'Data Input'!R333,'Data Input'!S333))","v":""},{"$f":"IF(M329=\"\",\"\",M329/COUNTIF('Data Input'!$C$8:$AQ$8,$M$2))","v":""},{"$f":"IF(ISBLANK('Data Input'!A333),\"\",SUM('Data Input'!C333,'Data Input'!E333,'Data Input'!F333,'Data Input'!G333,'Data Input'!Q333,'Data Input'!T333))","v":""},{"$f":"IF(O329=\"\",\"\",O329/COUNTIF('Data Input'!$C$8:$AQ$8,$O$2))","v":""},{"$f":"IF(ISBLANK('Data Input'!A333),\"\",SUM('Data Input'!L333))","v":""},{"$f":"IF(Q329=\"\",\"\",Q329/COUNTIF('Data Input'!$C$8:$AQ$8,$Q$2))","v":""},{"$f":"IF(ISBLANK('Data Input'!A333),\"\",SUM('Data Input'!X333:AQ333))","v":""},{"$f":"IF(S329=\"\",\"\",S329/COUNTIF('Data Input'!$C$8:$AQ$8,$S$2))","v":""}]
[{"$f":"IF('Data Input'!A334=0,\"\",'Data Input'!A334)","v":""},{"$f":"IF(ISBLANK('Data Input'!A334),\"\",COUNTIF('Data Input'!C334:AQ334,\"\")-1)","v":""},{"$f":"IF(ISBLANK('Data Input'!A334),\"\",COUNTIF('Data Input'!C334:AQ334,\"0\"))","v":""},{"$f":"IF(ISBLANK('Data Input'!A334),\"\",SUM(B330,C330))","v":""},{"$f":"IF(ISBLANK('Data Input'!A334),\"\",SUM('Data Input'!C334:AQ334))","v":""},{"$f":"IF(E330=\"\",\"\",E330/(COUNTA('Data Input'!$C$8:$AQ$8)-1))","v":""},{"$f":"IF(ISBLANK('Data Input'!A334),\"\",SUM('Data Input'!H334,'Data Input'!I334,'Data Input'!M334,'Data Input'!N334))","v":""},{"$f":"IF(G330=\"\",\"\",G330/COUNTIF('Data Input'!$C$8:$AQ$8,$G$2))","v":""},{"$f":"IF(ISBLANK('Data Input'!A334),\"\",SUM('Data Input'!J334,'Data Input'!K334,'Data Input'!U334,'Data Input'!V334))","v":""},{"$f":"IF(I330=\"\",\"\",I330/COUNTIF('Data Input'!$C$8:$AQ$8,$I$2))","v":""},{"$f":"IF(ISBLANK('Data Input'!A334),\"\",SUM('Data Input'!D334))","v":""},{"$f":"IF(K330=\"\",\"\",K330/COUNTIF('Data Input'!$C$8:$AQ$8,$K$2))","v":""},{"$f":"IF(ISBLANK('Data Input'!A334),\"\",SUM('Data Input'!O334,'Data Input'!P334,'Data Input'!R334,'Data Input'!S334))","v":""},{"$f":"IF(M330=\"\",\"\",M330/COUNTIF('Data Input'!$C$8:$AQ$8,$M$2))","v":""},{"$f":"IF(ISBLANK('Data Input'!A334),\"\",SUM('Data Input'!C334,'Data Input'!E334,'Data Input'!F334,'Data Input'!G334,'Data Input'!Q334,'Data Input'!T334))","v":""},{"$f":"IF(O330=\"\",\"\",O330/COUNTIF('Data Input'!$C$8:$AQ$8,$O$2))","v":""},{"$f":"IF(ISBLANK('Data Input'!A334),\"\",SUM('Data Input'!L334))","v":""},{"$f":"IF(Q330=\"\",\"\",Q330/COUNTIF('Data Input'!$C$8:$AQ$8,$Q$2))","v":""},{"$f":"IF(ISBLANK('Data Input'!A334),\"\",SUM('Data Input'!X334:AQ334))","v":""},{"$f":"IF(S330=\"\",\"\",S330/COUNTIF('Data Input'!$C$8:$AQ$8,$S$2))","v":""}]
[{"$f":"IF('Data Input'!A335=0,\"\",'Data Input'!A335)","v":""},{"$f":"IF(ISBLANK('Data Input'!A335),\"\",COUNTIF('Data Input'!C335:AQ335,\"\")-1)","v":""},{"$f":"IF(ISBLANK('Data Input'!A335),\"\",COUNTIF('Data Input'!C335:AQ335,\"0\"))","v":""},{"$f":"IF(ISBLANK('Data Input'!A335),\"\",SUM(B331,C331))","v":""},{"$f":"IF(ISBLANK('Data Input'!A335),\"\",SUM('Data Input'!C335:AQ335))","v":""},{"$f":"IF(E331=\"\",\"\",E331/(COUNTA('Data Input'!$C$8:$AQ$8)-1))","v":""},{"$f":"IF(ISBLANK('Data Input'!A335),\"\",SUM('Data Input'!H335,'Data Input'!I335,'Data Input'!M335,'Data Input'!N335))","v":""},{"$f":"IF(G331=\"\",\"\",G331/COUNTIF('Data Input'!$C$8:$AQ$8,$G$2))","v":""},{"$f":"IF(ISBLANK('Data Input'!A335),\"\",SUM('Data Input'!J335,'Data Input'!K335,'Data Input'!U335,'Data Input'!V335))","v":""},{"$f":"IF(I331=\"\",\"\",I331/COUNTIF('Data Input'!$C$8:$AQ$8,$I$2))","v":""},{"$f":"IF(ISBLANK('Data Input'!A335),\"\",SUM('Data Input'!D335))","v":""},{"$f":"IF(K331=\"\",\"\",K331/COUNTIF('Data Input'!$C$8:$AQ$8,$K$2))","v":""},{"$f":"IF(ISBLANK('Data Input'!A335),\"\",SUM('Data Input'!O335,'Data Input'!P335,'Data Input'!R335,'Data Input'!S335))","v":""},{"$f":"IF(M331=\"\",\"\",M331/COUNTIF('Data Input'!$C$8:$AQ$8,$M$2))","v":""},{"$f":"IF(ISBLANK('Data Input'!A335),\"\",SUM('Data Input'!C335,'Data Input'!E335,'Data Input'!F335,'Data Input'!G335,'Data Input'!Q335,'Data Input'!T335))","v":""},{"$f":"IF(O331=\"\",\"\",O331/COUNTIF('Data Input'!$C$8:$AQ$8,$O$2))","v":""},{"$f":"IF(ISBLANK('Data Input'!A335),\"\",SUM('Data Input'!L335))","v":""},{"$f":"IF(Q331=\"\",\"\",Q331/COUNTIF('Data Input'!$C$8:$AQ$8,$Q$2))","v":""},{"$f":"IF(ISBLANK('Data Input'!A335),\"\",SUM('Data Input'!X335:AQ335))","v":""},{"$f":"IF(S331=\"\",\"\",S331/COUNTIF('Data Input'!$C$8:$AQ$8,$S$2))","v":""}]
[{"$f":"IF('Data Input'!A336=0,\"\",'Data Input'!A336)","v":""},{"$f":"IF(ISBLANK('Data Input'!A336),\"\",COUNTIF('Data Input'!C336:AQ336,\"\")-1)","v":""},{"$f":"IF(ISBLANK('Data Input'!A336),\"\",COUNTIF('Data Input'!C336:AQ336,\"0\"))","v":""},{"$f":"IF(ISBLANK('Data Input'!A336),\"\",SUM(B332,C332))","v":""},{"$f":"IF(ISBLANK('Data Input'!A336),\"\",SUM('Data Input'!C336:AQ336))","v":""},{"$f":"IF(E332=\"\",\"\",E332/(COUNTA('Data Input'!$C$8:$AQ$8)-1))","v":""},{"$f":"IF(ISBLANK('Data Input'!A336),\"\",SUM('Data Input'!H336,'Data Input'!I336,'Data Input'!M336,'Data Input'!N336))","v":""},{"$f":"IF(G332=\"\",\"\",G332/COUNTIF('Data Input'!$C$8:$AQ$8,$G$2))","v":""},{"$f":"IF(ISBLANK('Data Input'!A336),\"\",SUM('Data Input'!J336,'Data Input'!K336,'Data Input'!U336,'Data Input'!V336))","v":""},{"$f":"IF(I332=\"\",\"\",I332/COUNTIF('Data Input'!$C$8:$AQ$8,$I$2))","v":""},{"$f":"IF(ISBLANK('Data Input'!A336),\"\",SUM('Data Input'!D336))","v":""},{"$f":"IF(K332=\"\",\"\",K332/COUNTIF('Data Input'!$C$8:$AQ$8,$K$2))","v":""},{"$f":"IF(ISBLANK('Data Input'!A336),\"\",SUM('Data Input'!O336,'Data Input'!P336,'Data Input'!R336,'Data Input'!S336))","v":""},{"$f":"IF(M332=\"\",\"\",M332/COUNTIF('Data Input'!$C$8:$AQ$8,$M$2))","v":""},{"$f":"IF(ISBLANK('Data Input'!A336),\"\",SUM('Data Input'!C336,'Data Input'!E336,'Data Input'!F336,'Data Input'!G336,'Data Input'!Q336,'Data Input'!T336))","v":""},{"$f":"IF(O332=\"\",\"\",O332/COUNTIF('Data Input'!$C$8:$AQ$8,$O$2))","v":""},{"$f":"IF(ISBLANK('Data Input'!A336),\"\",SUM('Data Input'!L336))","v":""},{"$f":"IF(Q332=\"\",\"\",Q332/COUNTIF('Data Input'!$C$8:$AQ$8,$Q$2))","v":""},{"$f":"IF(ISBLANK('Data Input'!A336),\"\",SUM('Data Input'!X336:AQ336))","v":""},{"$f":"IF(S332=\"\",\"\",S332/COUNTIF('Data Input'!$C$8:$AQ$8,$S$2))","v":""}]
[{"$f":"IF('Data Input'!A337=0,\"\",'Data Input'!A337)","v":""},{"$f":"IF(ISBLANK('Data Input'!A337),\"\",COUNTIF('Data Input'!C337:AQ337,\"\")-1)","v":""},{"$f":"IF(ISBLANK('Data Input'!A337),\"\",COUNTIF('Data Input'!C337:AQ337,\"0\"))","v":""},{"$f":"IF(ISBLANK('Data Input'!A337),\"\",SUM(B333,C333))","v":""},{"$f":"IF(ISBLANK('Data Input'!A337),\"\",SUM('Data Input'!C337:AQ337))","v":""},{"$f":"IF(E333=\"\",\"\",E333/(COUNTA('Data Input'!$C$8:$AQ$8)-1))","v":""},{"$f":"IF(ISBLANK('Data Input'!A337),\"\",SUM('Data Input'!H337,'Data Input'!I337,'Data Input'!M337,'Data Input'!N337))","v":""},{"$f":"IF(G333=\"\",\"\",G333/COUNTIF('Data Input'!$C$8:$AQ$8,$G$2))","v":""},{"$f":"IF(ISBLANK('Data Input'!A337),\"\",SUM('Data Input'!J337,'Data Input'!K337,'Data Input'!U337,'Data Input'!V337))","v":""},{"$f":"IF(I333=\"\",\"\",I333/COUNTIF('Data Input'!$C$8:$AQ$8,$I$2))","v":""},{"$f":"IF(ISBLANK('Data Input'!A337),\"\",SUM('Data Input'!D337))","v":""},{"$f":"IF(K333=\"\",\"\",K333/COUNTIF('Data Input'!$C$8:$AQ$8,$K$2))","v":""},{"$f":"IF(ISBLANK('Data Input'!A337),\"\",SUM('Data Input'!O337,'Data Input'!P337,'Data Input'!R337,'Data Input'!S337))","v":""},{"$f":"IF(M333=\"\",\"\",M333/COUNTIF('Data Input'!$C$8:$AQ$8,$M$2))","v":""},{"$f":"IF(ISBLANK('Data Input'!A337),\"\",SUM('Data Input'!C337,'Data Input'!E337,'Data Input'!F337,'Data Input'!G337,'Data Input'!Q337,'Data Input'!T337))","v":""},{"$f":"IF(O333=\"\",\"\",O333/COUNTIF('Data Input'!$C$8:$AQ$8,$O$2))","v":""},{"$f":"IF(ISBLANK('Data Input'!A337),\"\",SUM('Data Input'!L337))","v":""},{"$f":"IF(Q333=\"\",\"\",Q333/COUNTIF('Data Input'!$C$8:$AQ$8,$Q$2))","v":""},{"$f":"IF(ISBLANK('Data Input'!A337),\"\",SUM('Data Input'!X337:AQ337))","v":""},{"$f":"IF(S333=\"\",\"\",S333/COUNTIF('Data Input'!$C$8:$AQ$8,$S$2))","v":""}]
[{"$f":"IF('Data Input'!A338=0,\"\",'Data Input'!A338)","v":""},{"$f":"IF(ISBLANK('Data Input'!A338),\"\",COUNTIF('Data Input'!C338:AQ338,\"\")-1)","v":""},{"$f":"IF(ISBLANK('Data Input'!A338),\"\",COUNTIF('Data Input'!C338:AQ338,\"0\"))","v":""},{"$f":"IF(ISBLANK('Data Input'!A338),\"\",SUM(B334,C334))","v":""},{"$f":"IF(ISBLANK('Data Input'!A338),\"\",SUM('Data Input'!C338:AQ338))","v":""},{"$f":"IF(E334=\"\",\"\",E334/(COUNTA('Data Input'!$C$8:$AQ$8)-1))","v":""},{"$f":"IF(ISBLANK('Data Input'!A338),\"\",SUM('Data Input'!H338,'Data Input'!I338,'Data Input'!M338,'Data Input'!N338))","v":""},{"$f":"IF(G334=\"\",\"\",G334/COUNTIF('Data Input'!$C$8:$AQ$8,$G$2))","v":""},{"$f":"IF(ISBLANK('Data Input'!A338),\"\",SUM('Data Input'!J338,'Data Input'!K338,'Data Input'!U338,'Data Input'!V338))","v":""},{"$f":"IF(I334=\"\",\"\",I334/COUNTIF('Data Input'!$C$8:$AQ$8,$I$2))","v":""},{"$f":"IF(ISBLANK('Data Input'!A338),\"\",SUM('Data Input'!D338))","v":""},{"$f":"IF(K334=\"\",\"\",K334/COUNTIF('Data Input'!$C$8:$AQ$8,$K$2))","v":""},{"$f":"IF(ISBLANK('Data Input'!A338),\"\",SUM('Data Input'!O338,'Data Input'!P338,'Data Input'!R338,'Data Input'!S338))","v":""},{"$f":"IF(M334=\"\",\"\",M334/COUNTIF('Data Input'!$C$8:$AQ$8,$M$2))","v":""},{"$f":"IF(ISBLANK('Data Input'!A338),\"\",SUM('Data Input'!C338,'Data Input'!E338,'Data Input'!F338,'Data Input'!G338,'Data Input'!Q338,'Data Input'!T338))","v":""},{"$f":"IF(O334=\"\",\"\",O334/COUNTIF('Data Input'!$C$8:$AQ$8,$O$2))","v":""},{"$f":"IF(ISBLANK('Data Input'!A338),\"\",SUM('Data Input'!L338))","v":""},{"$f":"IF(Q334=\"\",\"\",Q334/COUNTIF('Data Input'!$C$8:$AQ$8,$Q$2))","v":""},{"$f":"IF(ISBLANK('Data Input'!A338),\"\",SUM('Data Input'!X338:AQ338))","v":""},{"$f":"IF(S334=\"\",\"\",S334/COUNTIF('Data Input'!$C$8:$AQ$8,$S$2))","v":""}]
[{"$f":"IF('Data Input'!A339=0,\"\",'Data Input'!A339)","v":""},{"$f":"IF(ISBLANK('Data Input'!A339),\"\",COUNTIF('Data Input'!C339:AQ339,\"\")-1)","v":""},{"$f":"IF(ISBLANK('Data Input'!A339),\"\",COUNTIF('Data Input'!C339:AQ339,\"0\"))","v":""},{"$f":"IF(ISBLANK('Data Input'!A339),\"\",SUM(B335,C335))","v":""},{"$f":"IF(ISBLANK('Data Input'!A339),\"\",SUM('Data Input'!C339:AQ339))","v":""},{"$f":"IF(E335=\"\",\"\",E335/(COUNTA('Data Input'!$C$8:$AQ$8)-1))","v":""},{"$f":"IF(ISBLANK('Data Input'!A339),\"\",SUM('Data Input'!H339,'Data Input'!I339,'Data Input'!M339,'Data Input'!N339))","v":""},{"$f":"IF(G335=\"\",\"\",G335/COUNTIF('Data Input'!$C$8:$AQ$8,$G$2))","v":""},{"$f":"IF(ISBLANK('Data Input'!A339),\"\",SUM('Data Input'!J339,'Data Input'!K339,'Data Input'!U339,'Data Input'!V339))","v":""},{"$f":"IF(I335=\"\",\"\",I335/COUNTIF('Data Input'!$C$8:$AQ$8,$I$2))","v":""},{"$f":"IF(ISBLANK('Data Input'!A339),\"\",SUM('Data Input'!D339))","v":""},{"$f":"IF(K335=\"\",\"\",K335/COUNTIF('Data Input'!$C$8:$AQ$8,$K$2))","v":""},{"$f":"IF(ISBLANK('Data Input'!A339),\"\",SUM('Data Input'!O339,'Data Input'!P339,'Data Input'!R339,'Data Input'!S339))","v":""},{"$f":"IF(M335=\"\",\"\",M335/COUNTIF('Data Input'!$C$8:$AQ$8,$M$2))","v":""},{"$f":"IF(ISBLANK('Data Input'!A339),\"\",SUM('Data Input'!C339,'Data Input'!E339,'Data Input'!F339,'Data Input'!G339,'Data Input'!Q339,'Data Input'!T339))","v":""},{"$f":"IF(O335=\"\",\"\",O335/COUNTIF('Data Input'!$C$8:$AQ$8,$O$2))","v":""},{"$f":"IF(ISBLANK('Data Input'!A339),\"\",SUM('Data Input'!L339))","v":""},{"$f":"IF(Q335=\"\",\"\",Q335/COUNTIF('Data Input'!$C$8:$AQ$8,$Q$2))","v":""},{"$f":"IF(ISBLANK('Data Input'!A339),\"\",SUM('Data Input'!X339:AQ339))","v":""},{"$f":"IF(S335=\"\",\"\",S335/COUNTIF('Data Input'!$C$8:$AQ$8,$S$2))","v":""}]
[{"$f":"IF('Data Input'!A340=0,\"\",'Data Input'!A340)","v":""},{"$f":"IF(ISBLANK('Data Input'!A340),\"\",COUNTIF('Data Input'!C340:AQ340,\"\")-1)","v":""},{"$f":"IF(ISBLANK('Data Input'!A340),\"\",COUNTIF('Data Input'!C340:AQ340,\"0\"))","v":""},{"$f":"IF(ISBLANK('Data Input'!A340),\"\",SUM(B336,C336))","v":""},{"$f":"IF(ISBLANK('Data Input'!A340),\"\",SUM('Data Input'!C340:AQ340))","v":""},{"$f":"IF(E336=\"\",\"\",E336/(COUNTA('Data Input'!$C$8:$AQ$8)-1))","v":""},{"$f":"IF(ISBLANK('Data Input'!A340),\"\",SUM('Data Input'!H340,'Data Input'!I340,'Data Input'!M340,'Data Input'!N340))","v":""},{"$f":"IF(G336=\"\",\"\",G336/COUNTIF('Data Input'!$C$8:$AQ$8,$G$2))","v":""},{"$f":"IF(ISBLANK('Data Input'!A340),\"\",SUM('Data Input'!J340,'Data Input'!K340,'Data Input'!U340,'Data Input'!V340))","v":""},{"$f":"IF(I336=\"\",\"\",I336/COUNTIF('Data Input'!$C$8:$AQ$8,$I$2))","v":""},{"$f":"IF(ISBLANK('Data Input'!A340),\"\",SUM('Data Input'!D340))","v":""},{"$f":"IF(K336=\"\",\"\",K336/COUNTIF('Data Input'!$C$8:$AQ$8,$K$2))","v":""},{"$f":"IF(ISBLANK('Data Input'!A340),\"\",SUM('Data Input'!O340,'Data Input'!P340,'Data Input'!R340,'Data Input'!S340))","v":""},{"$f":"IF(M336=\"\",\"\",M336/COUNTIF('Data Input'!$C$8:$AQ$8,$M$2))","v":""},{"$f":"IF(ISBLANK('Data Input'!A340),\"\",SUM('Data Input'!C340,'Data Input'!E340,'Data Input'!F340,'Data Input'!G340,'Data Input'!Q340,'Data Input'!T340))","v":""},{"$f":"IF(O336=\"\",\"\",O336/COUNTIF('Data Input'!$C$8:$AQ$8,$O$2))","v":""},{"$f":"IF(ISBLANK('Data Input'!A340),\"\",SUM('Data Input'!L340))","v":""},{"$f":"IF(Q336=\"\",\"\",Q336/COUNTIF('Data Input'!$C$8:$AQ$8,$Q$2))","v":""},{"$f":"IF(ISBLANK('Data Input'!A340),\"\",SUM('Data Input'!X340:AQ340))","v":""},{"$f":"IF(S336=\"\",\"\",S336/COUNTIF('Data Input'!$C$8:$AQ$8,$S$2))","v":""}]
[{"$f":"IF('Data Input'!A341=0,\"\",'Data Input'!A341)","v":""},{"$f":"IF(ISBLANK('Data Input'!A341),\"\",COUNTIF('Data Input'!C341:AQ341,\"\")-1)","v":""},{"$f":"IF(ISBLANK('Data Input'!A341),\"\",COUNTIF('Data Input'!C341:AQ341,\"0\"))","v":""},{"$f":"IF(ISBLANK('Data Input'!A341),\"\",SUM(B337,C337))","v":""},{"$f":"IF(ISBLANK('Data Input'!A341),\"\",SUM('Data Input'!C341:AQ341))","v":""},{"$f":"IF(E337=\"\",\"\",E337/(COUNTA('Data Input'!$C$8:$AQ$8)-1))","v":""},{"$f":"IF(ISBLANK('Data Input'!A341),\"\",SUM('Data Input'!H341,'Data Input'!I341,'Data Input'!M341,'Data Input'!N341))","v":""},{"$f":"IF(G337=\"\",\"\",G337/COUNTIF('Data Input'!$C$8:$AQ$8,$G$2))","v":""},{"$f":"IF(ISBLANK('Data Input'!A341),\"\",SUM('Data Input'!J341,'Data Input'!K341,'Data Input'!U341,'Data Input'!V341))","v":""},{"$f":"IF(I337=\"\",\"\",I337/COUNTIF('Data Input'!$C$8:$AQ$8,$I$2))","v":""},{"$f":"IF(ISBLANK('Data Input'!A341),\"\",SUM('Data Input'!D341))","v":""},{"$f":"IF(K337=\"\",\"\",K337/COUNTIF('Data Input'!$C$8:$AQ$8,$K$2))","v":""},{"$f":"IF(ISBLANK('Data Input'!A341),\"\",SUM('Data Input'!O341,'Data Input'!P341,'Data Input'!R341,'Data Input'!S341))","v":""},{"$f":"IF(M337=\"\",\"\",M337/COUNTIF('Data Input'!$C$8:$AQ$8,$M$2))","v":""},{"$f":"IF(ISBLANK('Data Input'!A341),\"\",SUM('Data Input'!C341,'Data Input'!E341,'Data Input'!F341,'Data Input'!G341,'Data Input'!Q341,'Data Input'!T341))","v":""},{"$f":"IF(O337=\"\",\"\",O337/COUNTIF('Data Input'!$C$8:$AQ$8,$O$2))","v":""},{"$f":"IF(ISBLANK('Data Input'!A341),\"\",SUM('Data Input'!L341))","v":""},{"$f":"IF(Q337=\"\",\"\",Q337/COUNTIF('Data Input'!$C$8:$AQ$8,$Q$2))","v":""},{"$f":"IF(ISBLANK('Data Input'!A341),\"\",SUM('Data Input'!X341:AQ341))","v":""},{"$f":"IF(S337=\"\",\"\",S337/COUNTIF('Data Input'!$C$8:$AQ$8,$S$2))","v":""}]
[{"$f":"IF('Data Input'!A342=0,\"\",'Data Input'!A342)","v":""},{"$f":"IF(ISBLANK('Data Input'!A342),\"\",COUNTIF('Data Input'!C342:AQ342,\"\")-1)","v":""},{"$f":"IF(ISBLANK('Data Input'!A342),\"\",COUNTIF('Data Input'!C342:AQ342,\"0\"))","v":""},{"$f":"IF(ISBLANK('Data Input'!A342),\"\",SUM(B338,C338))","v":""},{"$f":"IF(ISBLANK('Data Input'!A342),\"\",SUM('Data Input'!C342:AQ342))","v":""},{"$f":"IF(E338=\"\",\"\",E338/(COUNTA('Data Input'!$C$8:$AQ$8)-1))","v":""},{"$f":"IF(ISBLANK('Data Input'!A342),\"\",SUM('Data Input'!H342,'Data Input'!I342,'Data Input'!M342,'Data Input'!N342))","v":""},{"$f":"IF(G338=\"\",\"\",G338/COUNTIF('Data Input'!$C$8:$AQ$8,$G$2))","v":""},{"$f":"IF(ISBLANK('Data Input'!A342),\"\",SUM('Data Input'!J342,'Data Input'!K342,'Data Input'!U342,'Data Input'!V342))","v":""},{"$f":"IF(I338=\"\",\"\",I338/COUNTIF('Data Input'!$C$8:$AQ$8,$I$2))","v":""},{"$f":"IF(ISBLANK('Data Input'!A342),\"\",SUM('Data Input'!D342))","v":""},{"$f":"IF(K338=\"\",\"\",K338/COUNTIF('Data Input'!$C$8:$AQ$8,$K$2))","v":""},{"$f":"IF(ISBLANK('Data Input'!A342),\"\",SUM('Data Input'!O342,'Data Input'!P342,'Data Input'!R342,'Data Input'!S342))","v":""},{"$f":"IF(M338=\"\",\"\",M338/COUNTIF('Data Input'!$C$8:$AQ$8,$M$2))","v":""},{"$f":"IF(ISBLANK('Data Input'!A342),\"\",SUM('Data Input'!C342,'Data Input'!E342,'Data Input'!F342,'Data Input'!G342,'Data Input'!Q342,'Data Input'!T342))","v":""},{"$f":"IF(O338=\"\",\"\",O338/COUNTIF('Data Input'!$C$8:$AQ$8,$O$2))","v":""},{"$f":"IF(ISBLANK('Data Input'!A342),\"\",SUM('Data Input'!L342))","v":""},{"$f":"IF(Q338=\"\",\"\",Q338/COUNTIF('Data Input'!$C$8:$AQ$8,$Q$2))","v":""},{"$f":"IF(ISBLANK('Data Input'!A342),\"\",SUM('Data Input'!X342:AQ342))","v":""},{"$f":"IF(S338=\"\",\"\",S338/COUNTIF('Data Input'!$C$8:$AQ$8,$S$2))","v":""}]
[{"$f":"IF('Data Input'!A343=0,\"\",'Data Input'!A343)","v":""},{"$f":"IF(ISBLANK('Data Input'!A343),\"\",COUNTIF('Data Input'!C343:AQ343,\"\")-1)","v":""},{"$f":"IF(ISBLANK('Data Input'!A343),\"\",COUNTIF('Data Input'!C343:AQ343,\"0\"))","v":""},{"$f":"IF(ISBLANK('Data Input'!A343),\"\",SUM(B339,C339))","v":""},{"$f":"IF(ISBLANK('Data Input'!A343),\"\",SUM('Data Input'!C343:AQ343))","v":""},{"$f":"IF(E339=\"\",\"\",E339/(COUNTA('Data Input'!$C$8:$AQ$8)-1))","v":""},{"$f":"IF(ISBLANK('Data Input'!A343),\"\",SUM('Data Input'!H343,'Data Input'!I343,'Data Input'!M343,'Data Input'!N343))","v":""},{"$f":"IF(G339=\"\",\"\",G339/COUNTIF('Data Input'!$C$8:$AQ$8,$G$2))","v":""},{"$f":"IF(ISBLANK('Data Input'!A343),\"\",SUM('Data Input'!J343,'Data Input'!K343,'Data Input'!U343,'Data Input'!V343))","v":""},{"$f":"IF(I339=\"\",\"\",I339/COUNTIF('Data Input'!$C$8:$AQ$8,$I$2))","v":""},{"$f":"IF(ISBLANK('Data Input'!A343),\"\",SUM('Data Input'!D343))","v":""},{"$f":"IF(K339=\"\",\"\",K339/COUNTIF('Data Input'!$C$8:$AQ$8,$K$2))","v":""},{"$f":"IF(ISBLANK('Data Input'!A343),\"\",SUM('Data Input'!O343,'Data Input'!P343,'Data Input'!R343,'Data Input'!S343))","v":""},{"$f":"IF(M339=\"\",\"\",M339/COUNTIF('Data Input'!$C$8:$AQ$8,$M$2))","v":""},{"$f":"IF(ISBLANK('Data Input'!A343),\"\",SUM('Data Input'!C343,'Data Input'!E343,'Data Input'!F343,'Data Input'!G343,'Data Input'!Q343,'Data Input'!T343))","v":""},{"$f":"IF(O339=\"\",\"\",O339/COUNTIF('Data Input'!$C$8:$AQ$8,$O$2))","v":""},{"$f":"IF(ISBLANK('Data Input'!A343),\"\",SUM('Data Input'!L343))","v":""},{"$f":"IF(Q339=\"\",\"\",Q339/COUNTIF('Data Input'!$C$8:$AQ$8,$Q$2))","v":""},{"$f":"IF(ISBLANK('Data Input'!A343),\"\",SUM('Data Input'!X343:AQ343))","v":""},{"$f":"IF(S339=\"\",\"\",S339/COUNTIF('Data Input'!$C$8:$AQ$8,$S$2))","v":""}]
[{"$f":"IF('Data Input'!A344=0,\"\",'Data Input'!A344)","v":""},{"$f":"IF(ISBLANK('Data Input'!A344),\"\",COUNTIF('Data Input'!C344:AQ344,\"\")-1)","v":""},{"$f":"IF(ISBLANK('Data Input'!A344),\"\",COUNTIF('Data Input'!C344:AQ344,\"0\"))","v":""},{"$f":"IF(ISBLANK('Data Input'!A344),\"\",SUM(B340,C340))","v":""},{"$f":"IF(ISBLANK('Data Input'!A344),\"\",SUM('Data Input'!C344:AQ344))","v":""},{"$f":"IF(E340=\"\",\"\",E340/(COUNTA('Data Input'!$C$8:$AQ$8)-1))","v":""},{"$f":"IF(ISBLANK('Data Input'!A344),\"\",SUM('Data Input'!H344,'Data Input'!I344,'Data Input'!M344,'Data Input'!N344))","v":""},{"$f":"IF(G340=\"\",\"\",G340/COUNTIF('Data Input'!$C$8:$AQ$8,$G$2))","v":""},{"$f":"IF(ISBLANK('Data Input'!A344),\"\",SUM('Data Input'!J344,'Data Input'!K344,'Data Input'!U344,'Data Input'!V344))","v":""},{"$f":"IF(I340=\"\",\"\",I340/COUNTIF('Data Input'!$C$8:$AQ$8,$I$2))","v":""},{"$f":"IF(ISBLANK('Data Input'!A344),\"\",SUM('Data Input'!D344))","v":""},{"$f":"IF(K340=\"\",\"\",K340/COUNTIF('Data Input'!$C$8:$AQ$8,$K$2))","v":""},{"$f":"IF(ISBLANK('Data Input'!A344),\"\",SUM('Data Input'!O344,'Data Input'!P344,'Data Input'!R344,'Data Input'!S344))","v":""},{"$f":"IF(M340=\"\",\"\",M340/COUNTIF('Data Input'!$C$8:$AQ$8,$M$2))","v":""},{"$f":"IF(ISBLANK('Data Input'!A344),\"\",SUM('Data Input'!C344,'Data Input'!E344,'Data Input'!F344,'Data Input'!G344,'Data Input'!Q344,'Data Input'!T344))","v":""},{"$f":"IF(O340=\"\",\"\",O340/COUNTIF('Data Input'!$C$8:$AQ$8,$O$2))","v":""},{"$f":"IF(ISBLANK('Data Input'!A344),\"\",SUM('Data Input'!L344))","v":""},{"$f":"IF(Q340=\"\",\"\",Q340/COUNTIF('Data Input'!$C$8:$AQ$8,$Q$2))","v":""},{"$f":"IF(ISBLANK('Data Input'!A344),\"\",SUM('Data Input'!X344:AQ344))","v":""},{"$f":"IF(S340=\"\",\"\",S340/COUNTIF('Data Input'!$C$8:$AQ$8,$S$2))","v":""}]
[{"$f":"IF('Data Input'!A345=0,\"\",'Data Input'!A345)","v":""},{"$f":"IF(ISBLANK('Data Input'!A345),\"\",COUNTIF('Data Input'!C345:AQ345,\"\")-1)","v":""},{"$f":"IF(ISBLANK('Data Input'!A345),\"\",COUNTIF('Data Input'!C345:AQ345,\"0\"))","v":""},{"$f":"IF(ISBLANK('Data Input'!A345),\"\",SUM(B341,C341))","v":""},{"$f":"IF(ISBLANK('Data Input'!A345),\"\",SUM('Data Input'!C345:AQ345))","v":""},{"$f":"IF(E341=\"\",\"\",E341/(COUNTA('Data Input'!$C$8:$AQ$8)-1))","v":""},{"$f":"IF(ISBLANK('Data Input'!A345),\"\",SUM('Data Input'!H345,'Data Input'!I345,'Data Input'!M345,'Data Input'!N345))","v":""},{"$f":"IF(G341=\"\",\"\",G341/COUNTIF('Data Input'!$C$8:$AQ$8,$G$2))","v":""},{"$f":"IF(ISBLANK('Data Input'!A345),\"\",SUM('Data Input'!J345,'Data Input'!K345,'Data Input'!U345,'Data Input'!V345))","v":""},{"$f":"IF(I341=\"\",\"\",I341/COUNTIF('Data Input'!$C$8:$AQ$8,$I$2))","v":""},{"$f":"IF(ISBLANK('Data Input'!A345),\"\",SUM('Data Input'!D345))","v":""},{"$f":"IF(K341=\"\",\"\",K341/COUNTIF('Data Input'!$C$8:$AQ$8,$K$2))","v":""},{"$f":"IF(ISBLANK('Data Input'!A345),\"\",SUM('Data Input'!O345,'Data Input'!P345,'Data Input'!R345,'Data Input'!S345))","v":""},{"$f":"IF(M341=\"\",\"\",M341/COUNTIF('Data Input'!$C$8:$AQ$8,$M$2))","v":""},{"$f":"IF(ISBLANK('Data Input'!A345),\"\",SUM('Data Input'!C345,'Data Input'!E345,'Data Input'!F345,'Data Input'!G345,'Data Input'!Q345,'Data Input'!T345))","v":""},{"$f":"IF(O341=\"\",\"\",O341/COUNTIF('Data Input'!$C$8:$AQ$8,$O$2))","v":""},{"$f":"IF(ISBLANK('Data Input'!A345),\"\",SUM('Data Input'!L345))","v":""},{"$f":"IF(Q341=\"\",\"\",Q341/COUNTIF('Data Input'!$C$8:$AQ$8,$Q$2))","v":""},{"$f":"IF(ISBLANK('Data Input'!A345),\"\",SUM('Data Input'!X345:AQ345))","v":""},{"$f":"IF(S341=\"\",\"\",S341/COUNTIF('Data Input'!$C$8:$AQ$8,$S$2))","v":""}]
[{"$f":"IF('Data Input'!A346=0,\"\",'Data Input'!A346)","v":""},{"$f":"IF(ISBLANK('Data Input'!A346),\"\",COUNTIF('Data Input'!C346:AQ346,\"\")-1)","v":""},{"$f":"IF(ISBLANK('Data Input'!A346),\"\",COUNTIF('Data Input'!C346:AQ346,\"0\"))","v":""},{"$f":"IF(ISBLANK('Data Input'!A346),\"\",SUM(B342,C342))","v":""},{"$f":"IF(ISBLANK('Data Input'!A346),\"\",SUM('Data Input'!C346:AQ346))","v":""},{"$f":"IF(E342=\"\",\"\",E342/(COUNTA('Data Input'!$C$8:$AQ$8)-1))","v":""},{"$f":"IF(ISBLANK('Data Input'!A346),\"\",SUM('Data Input'!H346,'Data Input'!I346,'Data Input'!M346,'Data Input'!N346))","v":""},{"$f":"IF(G342=\"\",\"\",G342/COUNTIF('Data Input'!$C$8:$AQ$8,$G$2))","v":""},{"$f":"IF(ISBLANK('Data Input'!A346),\"\",SUM('Data Input'!J346,'Data Input'!K346,'Data Input'!U346,'Data Input'!V346))","v":""},{"$f":"IF(I342=\"\",\"\",I342/COUNTIF('Data Input'!$C$8:$AQ$8,$I$2))","v":""},{"$f":"IF(ISBLANK('Data Input'!A346),\"\",SUM('Data Input'!D346))","v":""},{"$f":"IF(K342=\"\",\"\",K342/COUNTIF('Data Input'!$C$8:$AQ$8,$K$2))","v":""},{"$f":"IF(ISBLANK('Data Input'!A346),\"\",SUM('Data Input'!O346,'Data Input'!P346,'Data Input'!R346,'Data Input'!S346))","v":""},{"$f":"IF(M342=\"\",\"\",M342/COUNTIF('Data Input'!$C$8:$AQ$8,$M$2))","v":""},{"$f":"IF(ISBLANK('Data Input'!A346),\"\",SUM('Data Input'!C346,'Data Input'!E346,'Data Input'!F346,'Data Input'!G346,'Data Input'!Q346,'Data Input'!T346))","v":""},{"$f":"IF(O342=\"\",\"\",O342/COUNTIF('Data Input'!$C$8:$AQ$8,$O$2))","v":""},{"$f":"IF(ISBLANK('Data Input'!A346),\"\",SUM('Data Input'!L346))","v":""},{"$f":"IF(Q342=\"\",\"\",Q342/COUNTIF('Data Input'!$C$8:$AQ$8,$Q$2))","v":""},{"$f":"IF(ISBLANK('Data Input'!A346),\"\",SUM('Data Input'!X346:AQ346))","v":""},{"$f":"IF(S342=\"\",\"\",S342/COUNTIF('Data Input'!$C$8:$AQ$8,$S$2))","v":""}]
[{"$f":"IF('Data Input'!A347=0,\"\",'Data Input'!A347)","v":""},{"$f":"IF(ISBLANK('Data Input'!A347),\"\",COUNTIF('Data Input'!C347:AQ347,\"\")-1)","v":""},{"$f":"IF(ISBLANK('Data Input'!A347),\"\",COUNTIF('Data Input'!C347:AQ347,\"0\"))","v":""},{"$f":"IF(ISBLANK('Data Input'!A347),\"\",SUM(B343,C343))","v":""},{"$f":"IF(ISBLANK('Data Input'!A347),\"\",SUM('Data Input'!C347:AQ347))","v":""},{"$f":"IF(E343=\"\",\"\",E343/(COUNTA('Data Input'!$C$8:$AQ$8)-1))","v":""},{"$f":"IF(ISBLANK('Data Input'!A347),\"\",SUM('Data Input'!H347,'Data Input'!I347,'Data Input'!M347,'Data Input'!N347))","v":""},{"$f":"IF(G343=\"\",\"\",G343/COUNTIF('Data Input'!$C$8:$AQ$8,$G$2))","v":""},{"$f":"IF(ISBLANK('Data Input'!A347),\"\",SUM('Data Input'!J347,'Data Input'!K347,'Data Input'!U347,'Data Input'!V347))","v":""},{"$f":"IF(I343=\"\",\"\",I343/COUNTIF('Data Input'!$C$8:$AQ$8,$I$2))","v":""},{"$f":"IF(ISBLANK('Data Input'!A347),\"\",SUM('Data Input'!D347))","v":""},{"$f":"IF(K343=\"\",\"\",K343/COUNTIF('Data Input'!$C$8:$AQ$8,$K$2))","v":""},{"$f":"IF(ISBLANK('Data Input'!A347),\"\",SUM('Data Input'!O347,'Data Input'!P347,'Data Input'!R347,'Data Input'!S347))","v":""},{"$f":"IF(M343=\"\",\"\",M343/COUNTIF('Data Input'!$C$8:$AQ$8,$M$2))","v":""},{"$f":"IF(ISBLANK('Data Input'!A347),\"\",SUM('Data Input'!C347,'Data Input'!E347,'Data Input'!F347,'Data Input'!G347,'Data Input'!Q347,'Data Input'!T347))","v":""},{"$f":"IF(O343=\"\",\"\",O343/COUNTIF('Data Input'!$C$8:$AQ$8,$O$2))","v":""},{"$f":"IF(ISBLANK('Data Input'!A347),\"\",SUM('Data Input'!L347))","v":""},{"$f":"IF(Q343=\"\",\"\",Q343/COUNTIF('Data Input'!$C$8:$AQ$8,$Q$2))","v":""},{"$f":"IF(ISBLANK('Data Input'!A347),\"\",SUM('Data Input'!X347:AQ347))","v":""},{"$f":"IF(S343=\"\",\"\",S343/COUNTIF('Data Input'!$C$8:$AQ$8,$S$2))","v":""}]
[{"$f":"IF('Data Input'!A348=0,\"\",'Data Input'!A348)","v":""},{"$f":"IF(ISBLANK('Data Input'!A348),\"\",COUNTIF('Data Input'!C348:AQ348,\"\")-1)","v":""},{"$f":"IF(ISBLANK('Data Input'!A348),\"\",COUNTIF('Data Input'!C348:AQ348,\"0\"))","v":""},{"$f":"IF(ISBLANK('Data Input'!A348),\"\",SUM(B344,C344))","v":""},{"$f":"IF(ISBLANK('Data Input'!A348),\"\",SUM('Data Input'!C348:AQ348))","v":""},{"$f":"IF(E344=\"\",\"\",E344/(COUNTA('Data Input'!$C$8:$AQ$8)-1))","v":""},{"$f":"IF(ISBLANK('Data Input'!A348),\"\",SUM('Data Input'!H348,'Data Input'!I348,'Data Input'!M348,'Data Input'!N348))","v":""},{"$f":"IF(G344=\"\",\"\",G344/COUNTIF('Data Input'!$C$8:$AQ$8,$G$2))","v":""},{"$f":"IF(ISBLANK('Data Input'!A348),\"\",SUM('Data Input'!J348,'Data Input'!K348,'Data Input'!U348,'Data Input'!V348))","v":""},{"$f":"IF(I344=\"\",\"\",I344/COUNTIF('Data Input'!$C$8:$AQ$8,$I$2))","v":""},{"$f":"IF(ISBLANK('Data Input'!A348),\"\",SUM('Data Input'!D348))","v":""},{"$f":"IF(K344=\"\",\"\",K344/COUNTIF('Data Input'!$C$8:$AQ$8,$K$2))","v":""},{"$f":"IF(ISBLANK('Data Input'!A348),\"\",SUM('Data Input'!O348,'Data Input'!P348,'Data Input'!R348,'Data Input'!S348))","v":""},{"$f":"IF(M344=\"\",\"\",M344/COUNTIF('Data Input'!$C$8:$AQ$8,$M$2))","v":""},{"$f":"IF(ISBLANK('Data Input'!A348),\"\",SUM('Data Input'!C348,'Data Input'!E348,'Data Input'!F348,'Data Input'!G348,'Data Input'!Q348,'Data Input'!T348))","v":""},{"$f":"IF(O344=\"\",\"\",O344/COUNTIF('Data Input'!$C$8:$AQ$8,$O$2))","v":""},{"$f":"IF(ISBLANK('Data Input'!A348),\"\",SUM('Data Input'!L348))","v":""},{"$f":"IF(Q344=\"\",\"\",Q344/COUNTIF('Data Input'!$C$8:$AQ$8,$Q$2))","v":""},{"$f":"IF(ISBLANK('Data Input'!A348),\"\",SUM('Data Input'!X348:AQ348))","v":""},{"$f":"IF(S344=\"\",\"\",S344/COUNTIF('Data Input'!$C$8:$AQ$8,$S$2))","v":""}]
[{"$f":"IF('Data Input'!A349=0,\"\",'Data Input'!A349)","v":""},{"$f":"IF(ISBLANK('Data Input'!A349),\"\",COUNTIF('Data Input'!C349:AQ349,\"\")-1)","v":""},{"$f":"IF(ISBLANK('Data Input'!A349),\"\",COUNTIF('Data Input'!C349:AQ349,\"0\"))","v":""},{"$f":"IF(ISBLANK('Data Input'!A349),\"\",SUM(B345,C345))","v":""},{"$f":"IF(ISBLANK('Data Input'!A349),\"\",SUM('Data Input'!C349:AQ349))","v":""},{"$f":"IF(E345=\"\",\"\",E345/(COUNTA('Data Input'!$C$8:$AQ$8)-1))","v":""},{"$f":"IF(ISBLANK('Data Input'!A349),\"\",SUM('Data Input'!H349,'Data Input'!I349,'Data Input'!M349,'Data Input'!N349))","v":""},{"$f":"IF(G345=\"\",\"\",G345/COUNTIF('Data Input'!$C$8:$AQ$8,$G$2))","v":""},{"$f":"IF(ISBLANK('Data Input'!A349),\"\",SUM('Data Input'!J349,'Data Input'!K349,'Data Input'!U349,'Data Input'!V349))","v":""},{"$f":"IF(I345=\"\",\"\",I345/COUNTIF('Data Input'!$C$8:$AQ$8,$I$2))","v":""},{"$f":"IF(ISBLANK('Data Input'!A349),\"\",SUM('Data Input'!D349))","v":""},{"$f":"IF(K345=\"\",\"\",K345/COUNTIF('Data Input'!$C$8:$AQ$8,$K$2))","v":""},{"$f":"IF(ISBLANK('Data Input'!A349),\"\",SUM('Data Input'!O349,'Data Input'!P349,'Data Input'!R349,'Data Input'!S349))","v":""},{"$f":"IF(M345=\"\",\"\",M345/COUNTIF('Data Input'!$C$8:$AQ$8,$M$2))","v":""},{"$f":"IF(ISBLANK('Data Input'!A349),\"\",SUM('Data Input'!C349,'Data Input'!E349,'Data Input'!F349,'Data Input'!G349,'Data Input'!Q349,'Data Input'!T349))","v":""},{"$f":"IF(O345=\"\",\"\",O345/COUNTIF('Data Input'!$C$8:$AQ$8,$O$2))","v":""},{"$f":"IF(ISBLANK('Data Input'!A349),\"\",SUM('Data Input'!L349))","v":""},{"$f":"IF(Q345=\"\",\"\",Q345/COUNTIF('Data Input'!$C$8:$AQ$8,$Q$2))","v":""},{"$f":"IF(ISBLANK('Data Input'!A349),\"\",SUM('Data Input'!X349:AQ349))","v":""},{"$f":"IF(S345=\"\",\"\",S345/COUNTIF('Data Input'!$C$8:$AQ$8,$S$2))","v":""}]
[{"$f":"IF('Data Input'!A350=0,\"\",'Data Input'!A350)","v":""},{"$f":"IF(ISBLANK('Data Input'!A350),\"\",COUNTIF('Data Input'!C350:AQ350,\"\")-1)","v":""},{"$f":"IF(ISBLANK('Data Input'!A350),\"\",COUNTIF('Data Input'!C350:AQ350,\"0\"))","v":""},{"$f":"IF(ISBLANK('Data Input'!A350),\"\",SUM(B346,C346))","v":""},{"$f":"IF(ISBLANK('Data Input'!A350),\"\",SUM('Data Input'!C350:AQ350))","v":""},{"$f":"IF(E346=\"\",\"\",E346/(COUNTA('Data Input'!$C$8:$AQ$8)-1))","v":""},{"$f":"IF(ISBLANK('Data Input'!A350),\"\",SUM('Data Input'!H350,'Data Input'!I350,'Data Input'!M350,'Data Input'!N350))","v":""},{"$f":"IF(G346=\"\",\"\",G346/COUNTIF('Data Input'!$C$8:$AQ$8,$G$2))","v":""},{"$f":"IF(ISBLANK('Data Input'!A350),\"\",SUM('Data Input'!J350,'Data Input'!K350,'Data Input'!U350,'Data Input'!V350))","v":""},{"$f":"IF(I346=\"\",\"\",I346/COUNTIF('Data Input'!$C$8:$AQ$8,$I$2))","v":""},{"$f":"IF(ISBLANK('Data Input'!A350),\"\",SUM('Data Input'!D350))","v":""},{"$f":"IF(K346=\"\",\"\",K346/COUNTIF('Data Input'!$C$8:$AQ$8,$K$2))","v":""},{"$f":"IF(ISBLANK('Data Input'!A350),\"\",SUM('Data Input'!O350,'Data Input'!P350,'Data Input'!R350,'Data Input'!S350))","v":""},{"$f":"IF(M346=\"\",\"\",M346/COUNTIF('Data Input'!$C$8:$AQ$8,$M$2))","v":""},{"$f":"IF(ISBLANK('Data Input'!A350),\"\",SUM('Data Input'!C350,'Data Input'!E350,'Data Input'!F350,'Data Input'!G350,'Data Input'!Q350,'Data Input'!T350))","v":""},{"$f":"IF(O346=\"\",\"\",O346/COUNTIF('Data Input'!$C$8:$AQ$8,$O$2))","v":""},{"$f":"IF(ISBLANK('Data Input'!A350),\"\",SUM('Data Input'!L350))","v":""},{"$f":"IF(Q346=\"\",\"\",Q346/COUNTIF('Data Input'!$C$8:$AQ$8,$Q$2))","v":""},{"$f":"IF(ISBLANK('Data Input'!A350),\"\",SUM('Data Input'!X350:AQ350))","v":""},{"$f":"IF(S346=\"\",\"\",S346/COUNTIF('Data Input'!$C$8:$AQ$8,$S$2))","v":""}]
[{"$f":"IF('Data Input'!A351=0,\"\",'Data Input'!A351)","v":""},{"$f":"IF(ISBLANK('Data Input'!A351),\"\",COUNTIF('Data Input'!C351:AQ351,\"\")-1)","v":""},{"$f":"IF(ISBLANK('Data Input'!A351),\"\",COUNTIF('Data Input'!C351:AQ351,\"0\"))","v":""},{"$f":"IF(ISBLANK('Data Input'!A351),\"\",SUM(B347,C347))","v":""},{"$f":"IF(ISBLANK('Data Input'!A351),\"\",SUM('Data Input'!C351:AQ351))","v":""},{"$f":"IF(E347=\"\",\"\",E347/(COUNTA('Data Input'!$C$8:$AQ$8)-1))","v":""},{"$f":"IF(ISBLANK('Data Input'!A351),\"\",SUM('Data Input'!H351,'Data Input'!I351,'Data Input'!M351,'Data Input'!N351))","v":""},{"$f":"IF(G347=\"\",\"\",G347/COUNTIF('Data Input'!$C$8:$AQ$8,$G$2))","v":""},{"$f":"IF(ISBLANK('Data Input'!A351),\"\",SUM('Data Input'!J351,'Data Input'!K351,'Data Input'!U351,'Data Input'!V351))","v":""},{"$f":"IF(I347=\"\",\"\",I347/COUNTIF('Data Input'!$C$8:$AQ$8,$I$2))","v":""},{"$f":"IF(ISBLANK('Data Input'!A351),\"\",SUM('Data Input'!D351))","v":""},{"$f":"IF(K347=\"\",\"\",K347/COUNTIF('Data Input'!$C$8:$AQ$8,$K$2))","v":""},{"$f":"IF(ISBLANK('Data Input'!A351),\"\",SUM('Data Input'!O351,'Data Input'!P351,'Data Input'!R351,'Data Input'!S351))","v":""},{"$f":"IF(M347=\"\",\"\",M347/COUNTIF('Data Input'!$C$8:$AQ$8,$M$2))","v":""},{"$f":"IF(ISBLANK('Data Input'!A351),\"\",SUM('Data Input'!C351,'Data Input'!E351,'Data Input'!F351,'Data Input'!G351,'Data Input'!Q351,'Data Input'!T351))","v":""},{"$f":"IF(O347=\"\",\"\",O347/COUNTIF('Data Input'!$C$8:$AQ$8,$O$2))","v":""},{"$f":"IF(ISBLANK('Data Input'!A351),\"\",SUM('Data Input'!L351))","v":""},{"$f":"IF(Q347=\"\",\"\",Q347/COUNTIF('Data Input'!$C$8:$AQ$8,$Q$2))","v":""},{"$f":"IF(ISBLANK('Data Input'!A351),\"\",SUM('Data Input'!X351:AQ351))","v":""},{"$f":"IF(S347=\"\",\"\",S347/COUNTIF('Data Input'!$C$8:$AQ$8,$S$2))","v":""}]
[{"$f":"IF('Data Input'!A352=0,\"\",'Data Input'!A352)","v":""},{"$f":"IF(ISBLANK('Data Input'!A352),\"\",COUNTIF('Data Input'!C352:AQ352,\"\")-1)","v":""},{"$f":"IF(ISBLANK('Data Input'!A352),\"\",COUNTIF('Data Input'!C352:AQ352,\"0\"))","v":""},{"$f":"IF(ISBLANK('Data Input'!A352),\"\",SUM(B348,C348))","v":""},{"$f":"IF(ISBLANK('Data Input'!A352),\"\",SUM('Data Input'!C352:AQ352))","v":""},{"$f":"IF(E348=\"\",\"\",E348/(COUNTA('Data Input'!$C$8:$AQ$8)-1))","v":""},{"$f":"IF(ISBLANK('Data Input'!A352),\"\",SUM('Data Input'!H352,'Data Input'!I352,'Data Input'!M352,'Data Input'!N352))","v":""},{"$f":"IF(G348=\"\",\"\",G348/COUNTIF('Data Input'!$C$8:$AQ$8,$G$2))","v":""},{"$f":"IF(ISBLANK('Data Input'!A352),\"\",SUM('Data Input'!J352,'Data Input'!K352,'Data Input'!U352,'Data Input'!V352))","v":""},{"$f":"IF(I348=\"\",\"\",I348/COUNTIF('Data Input'!$C$8:$AQ$8,$I$2))","v":""},{"$f":"IF(ISBLANK('Data Input'!A352),\"\",SUM('Data Input'!D352))","v":""},{"$f":"IF(K348=\"\",\"\",K348/COUNTIF('Data Input'!$C$8:$AQ$8,$K$2))","v":""},{"$f":"IF(ISBLANK('Data Input'!A352),\"\",SUM('Data Input'!O352,'Data Input'!P352,'Data Input'!R352,'Data Input'!S352))","v":""},{"$f":"IF(M348=\"\",\"\",M348/COUNTIF('Data Input'!$C$8:$AQ$8,$M$2))","v":""},{"$f":"IF(ISBLANK('Data Input'!A352),\"\",SUM('Data Input'!C352,'Data Input'!E352,'Data Input'!F352,'Data Input'!G352,'Data Input'!Q352,'Data Input'!T352))","v":""},{"$f":"IF(O348=\"\",\"\",O348/COUNTIF('Data Input'!$C$8:$AQ$8,$O$2))","v":""},{"$f":"IF(ISBLANK('Data Input'!A352),\"\",SUM('Data Input'!L352))","v":""},{"$f":"IF(Q348=\"\",\"\",Q348/COUNTIF('Data Input'!$C$8:$AQ$8,$Q$2))","v":""},{"$f":"IF(ISBLANK('Data Input'!A352),\"\",SUM('Data Input'!X352:AQ352))","v":""},{"$f":"IF(S348=\"\",\"\",S348/COUNTIF('Data Input'!$C$8:$AQ$8,$S$2))","v":""}]
[{"$f":"IF('Data Input'!A353=0,\"\",'Data Input'!A353)","v":""},{"$f":"IF(ISBLANK('Data Input'!A353),\"\",COUNTIF('Data Input'!C353:AQ353,\"\")-1)","v":""},{"$f":"IF(ISBLANK('Data Input'!A353),\"\",COUNTIF('Data Input'!C353:AQ353,\"0\"))","v":""},{"$f":"IF(ISBLANK('Data Input'!A353),\"\",SUM(B349,C349))","v":""},{"$f":"IF(ISBLANK('Data Input'!A353),\"\",SUM('Data Input'!C353:AQ353))","v":""},{"$f":"IF(E349=\"\",\"\",E349/(COUNTA('Data Input'!$C$8:$AQ$8)-1))","v":""},{"$f":"IF(ISBLANK('Data Input'!A353),\"\",SUM('Data Input'!H353,'Data Input'!I353,'Data Input'!M353,'Data Input'!N353))","v":""},{"$f":"IF(G349=\"\",\"\",G349/COUNTIF('Data Input'!$C$8:$AQ$8,$G$2))","v":""},{"$f":"IF(ISBLANK('Data Input'!A353),\"\",SUM('Data Input'!J353,'Data Input'!K353,'Data Input'!U353,'Data Input'!V353))","v":""},{"$f":"IF(I349=\"\",\"\",I349/COUNTIF('Data Input'!$C$8:$AQ$8,$I$2))","v":""},{"$f":"IF(ISBLANK('Data Input'!A353),\"\",SUM('Data Input'!D353))","v":""},{"$f":"IF(K349=\"\",\"\",K349/COUNTIF('Data Input'!$C$8:$AQ$8,$K$2))","v":""},{"$f":"IF(ISBLANK('Data Input'!A353),\"\",SUM('Data Input'!O353,'Data Input'!P353,'Data Input'!R353,'Data Input'!S353))","v":""},{"$f":"IF(M349=\"\",\"\",M349/COUNTIF('Data Input'!$C$8:$AQ$8,$M$2))","v":""},{"$f":"IF(ISBLANK('Data Input'!A353),\"\",SUM('Data Input'!C353,'Data Input'!E353,'Data Input'!F353,'Data Input'!G353,'Data Input'!Q353,'Data Input'!T353))","v":""},{"$f":"IF(O349=\"\",\"\",O349/COUNTIF('Data Input'!$C$8:$AQ$8,$O$2))","v":""},{"$f":"IF(ISBLANK('Data Input'!A353),\"\",SUM('Data Input'!L353))","v":""},{"$f":"IF(Q349=\"\",\"\",Q349/COUNTIF('Data Input'!$C$8:$AQ$8,$Q$2))","v":""},{"$f":"IF(ISBLANK('Data Input'!A353),\"\",SUM('Data Input'!X353:AQ353))","v":""},{"$f":"IF(S349=\"\",\"\",S349/COUNTIF('Data Input'!$C$8:$AQ$8,$S$2))","v":""}]
[{"$f":"IF('Data Input'!A354=0,\"\",'Data Input'!A354)","v":""},{"$f":"IF(ISBLANK('Data Input'!A354),\"\",COUNTIF('Data Input'!C354:AQ354,\"\")-1)","v":""},{"$f":"IF(ISBLANK('Data Input'!A354),\"\",COUNTIF('Data Input'!C354:AQ354,\"0\"))","v":""},{"$f":"IF(ISBLANK('Data Input'!A354),\"\",SUM(B350,C350))","v":""},{"$f":"IF(ISBLANK('Data Input'!A354),\"\",SUM('Data Input'!C354:AQ354))","v":""},{"$f":"IF(E350=\"\",\"\",E350/(COUNTA('Data Input'!$C$8:$AQ$8)-1))","v":""},{"$f":"IF(ISBLANK('Data Input'!A354),\"\",SUM('Data Input'!H354,'Data Input'!I354,'Data Input'!M354,'Data Input'!N354))","v":""},{"$f":"IF(G350=\"\",\"\",G350/COUNTIF('Data Input'!$C$8:$AQ$8,$G$2))","v":""},{"$f":"IF(ISBLANK('Data Input'!A354),\"\",SUM('Data Input'!J354,'Data Input'!K354,'Data Input'!U354,'Data Input'!V354))","v":""},{"$f":"IF(I350=\"\",\"\",I350/COUNTIF('Data Input'!$C$8:$AQ$8,$I$2))","v":""},{"$f":"IF(ISBLANK('Data Input'!A354),\"\",SUM('Data Input'!D354))","v":""},{"$f":"IF(K350=\"\",\"\",K350/COUNTIF('Data Input'!$C$8:$AQ$8,$K$2))","v":""},{"$f":"IF(ISBLANK('Data Input'!A354),\"\",SUM('Data Input'!O354,'Data Input'!P354,'Data Input'!R354,'Data Input'!S354))","v":""},{"$f":"IF(M350=\"\",\"\",M350/COUNTIF('Data Input'!$C$8:$AQ$8,$M$2))","v":""},{"$f":"IF(ISBLANK('Data Input'!A354),\"\",SUM('Data Input'!C354,'Data Input'!E354,'Data Input'!F354,'Data Input'!G354,'Data Input'!Q354,'Data Input'!T354))","v":""},{"$f":"IF(O350=\"\",\"\",O350/COUNTIF('Data Input'!$C$8:$AQ$8,$O$2))","v":""},{"$f":"IF(ISBLANK('Data Input'!A354),\"\",SUM('Data Input'!L354))","v":""},{"$f":"IF(Q350=\"\",\"\",Q350/COUNTIF('Data Input'!$C$8:$AQ$8,$Q$2))","v":""},{"$f":"IF(ISBLANK('Data Input'!A354),\"\",SUM('Data Input'!X354:AQ354))","v":""},{"$f":"IF(S350=\"\",\"\",S350/COUNTIF('Data Input'!$C$8:$AQ$8,$S$2))","v":""}]
[{"$f":"IF('Data Input'!A355=0,\"\",'Data Input'!A355)","v":""},{"$f":"IF(ISBLANK('Data Input'!A355),\"\",COUNTIF('Data Input'!C355:AQ355,\"\")-1)","v":""},{"$f":"IF(ISBLANK('Data Input'!A355),\"\",COUNTIF('Data Input'!C355:AQ355,\"0\"))","v":""},{"$f":"IF(ISBLANK('Data Input'!A355),\"\",SUM(B351,C351))","v":""},{"$f":"IF(ISBLANK('Data Input'!A355),\"\",SUM('Data Input'!C355:AQ355))","v":""},{"$f":"IF(E351=\"\",\"\",E351/(COUNTA('Data Input'!$C$8:$AQ$8)-1))","v":""},{"$f":"IF(ISBLANK('Data Input'!A355),\"\",SUM('Data Input'!H355,'Data Input'!I355,'Data Input'!M355,'Data Input'!N355))","v":""},{"$f":"IF(G351=\"\",\"\",G351/COUNTIF('Data Input'!$C$8:$AQ$8,$G$2))","v":""},{"$f":"IF(ISBLANK('Data Input'!A355),\"\",SUM('Data Input'!J355,'Data Input'!K355,'Data Input'!U355,'Data Input'!V355))","v":""},{"$f":"IF(I351=\"\",\"\",I351/COUNTIF('Data Input'!$C$8:$AQ$8,$I$2))","v":""},{"$f":"IF(ISBLANK('Data Input'!A355),\"\",SUM('Data Input'!D355))","v":""},{"$f":"IF(K351=\"\",\"\",K351/COUNTIF('Data Input'!$C$8:$AQ$8,$K$2))","v":""},{"$f":"IF(ISBLANK('Data Input'!A355),\"\",SUM('Data Input'!O355,'Data Input'!P355,'Data Input'!R355,'Data Input'!S355))","v":""},{"$f":"IF(M351=\"\",\"\",M351/COUNTIF('Data Input'!$C$8:$AQ$8,$M$2))","v":""},{"$f":"IF(ISBLANK('Data Input'!A355),\"\",SUM('Data Input'!C355,'Data Input'!E355,'Data Input'!F355,'Data Input'!G355,'Data Input'!Q355,'Data Input'!T355))","v":""},{"$f":"IF(O351=\"\",\"\",O351/COUNTIF('Data Input'!$C$8:$AQ$8,$O$2))","v":""},{"$f":"IF(ISBLANK('Data Input'!A355),\"\",SUM('Data Input'!L355))","v":""},{"$f":"IF(Q351=\"\",\"\",Q351/COUNTIF('Data Input'!$C$8:$AQ$8,$Q$2))","v":""},{"$f":"IF(ISBLANK('Data Input'!A355),\"\",SUM('Data Input'!X355:AQ355))","v":""},{"$f":"IF(S351=\"\",\"\",S351/COUNTIF('Data Input'!$C$8:$AQ$8,$S$2))","v":""}]
[{"$f":"IF('Data Input'!A356=0,\"\",'Data Input'!A356)","v":""},{"$f":"IF(ISBLANK('Data Input'!A356),\"\",COUNTIF('Data Input'!C356:AQ356,\"\")-1)","v":""},{"$f":"IF(ISBLANK('Data Input'!A356),\"\",COUNTIF('Data Input'!C356:AQ356,\"0\"))","v":""},{"$f":"IF(ISBLANK('Data Input'!A356),\"\",SUM(B352,C352))","v":""},{"$f":"IF(ISBLANK('Data Input'!A356),\"\",SUM('Data Input'!C356:AQ356))","v":""},{"$f":"IF(E352=\"\",\"\",E352/(COUNTA('Data Input'!$C$8:$AQ$8)-1))","v":""},{"$f":"IF(ISBLANK('Data Input'!A356),\"\",SUM('Data Input'!H356,'Data Input'!I356,'Data Input'!M356,'Data Input'!N356))","v":""},{"$f":"IF(G352=\"\",\"\",G352/COUNTIF('Data Input'!$C$8:$AQ$8,$G$2))","v":""},{"$f":"IF(ISBLANK('Data Input'!A356),\"\",SUM('Data Input'!J356,'Data Input'!K356,'Data Input'!U356,'Data Input'!V356))","v":""},{"$f":"IF(I352=\"\",\"\",I352/COUNTIF('Data Input'!$C$8:$AQ$8,$I$2))","v":""},{"$f":"IF(ISBLANK('Data Input'!A356),\"\",SUM('Data Input'!D356))","v":""},{"$f":"IF(K352=\"\",\"\",K352/COUNTIF('Data Input'!$C$8:$AQ$8,$K$2))","v":""},{"$f":"IF(ISBLANK('Data Input'!A356),\"\",SUM('Data Input'!O356,'Data Input'!P356,'Data Input'!R356,'Data Input'!S356))","v":""},{"$f":"IF(M352=\"\",\"\",M352/COUNTIF('Data Input'!$C$8:$AQ$8,$M$2))","v":""},{"$f":"IF(ISBLANK('Data Input'!A356),\"\",SUM('Data Input'!C356,'Data Input'!E356,'Data Input'!F356,'Data Input'!G356,'Data Input'!Q356,'Data Input'!T356))","v":""},{"$f":"IF(O352=\"\",\"\",O352/COUNTIF('Data Input'!$C$8:$AQ$8,$O$2))","v":""},{"$f":"IF(ISBLANK('Data Input'!A356),\"\",SUM('Data Input'!L356))","v":""},{"$f":"IF(Q352=\"\",\"\",Q352/COUNTIF('Data Input'!$C$8:$AQ$8,$Q$2))","v":""},{"$f":"IF(ISBLANK('Data Input'!A356),\"\",SUM('Data Input'!X356:AQ356))","v":""},{"$f":"IF(S352=\"\",\"\",S352/COUNTIF('Data Input'!$C$8:$AQ$8,$S$2))","v":""}]
[{"$f":"IF('Data Input'!A357=0,\"\",'Data Input'!A357)","v":""},{"$f":"IF(ISBLANK('Data Input'!A357),\"\",COUNTIF('Data Input'!C357:AQ357,\"\")-1)","v":""},{"$f":"IF(ISBLANK('Data Input'!A357),\"\",COUNTIF('Data Input'!C357:AQ357,\"0\"))","v":""},{"$f":"IF(ISBLANK('Data Input'!A357),\"\",SUM(B353,C353))","v":""},{"$f":"IF(ISBLANK('Data Input'!A357),\"\",SUM('Data Input'!C357:AQ357))","v":""},{"$f":"IF(E353=\"\",\"\",E353/(COUNTA('Data Input'!$C$8:$AQ$8)-1))","v":""},{"$f":"IF(ISBLANK('Data Input'!A357),\"\",SUM('Data Input'!H357,'Data Input'!I357,'Data Input'!M357,'Data Input'!N357))","v":""},{"$f":"IF(G353=\"\",\"\",G353/COUNTIF('Data Input'!$C$8:$AQ$8,$G$2))","v":""},{"$f":"IF(ISBLANK('Data Input'!A357),\"\",SUM('Data Input'!J357,'Data Input'!K357,'Data Input'!U357,'Data Input'!V357))","v":""},{"$f":"IF(I353=\"\",\"\",I353/COUNTIF('Data Input'!$C$8:$AQ$8,$I$2))","v":""},{"$f":"IF(ISBLANK('Data Input'!A357),\"\",SUM('Data Input'!D357))","v":""},{"$f":"IF(K353=\"\",\"\",K353/COUNTIF('Data Input'!$C$8:$AQ$8,$K$2))","v":""},{"$f":"IF(ISBLANK('Data Input'!A357),\"\",SUM('Data Input'!O357,'Data Input'!P357,'Data Input'!R357,'Data Input'!S357))","v":""},{"$f":"IF(M353=\"\",\"\",M353/COUNTIF('Data Input'!$C$8:$AQ$8,$M$2))","v":""},{"$f":"IF(ISBLANK('Data Input'!A357),\"\",SUM('Data Input'!C357,'Data Input'!E357,'Data Input'!F357,'Data Input'!G357,'Data Input'!Q357,'Data Input'!T357))","v":""},{"$f":"IF(O353=\"\",\"\",O353/COUNTIF('Data Input'!$C$8:$AQ$8,$O$2))","v":""},{"$f":"IF(ISBLANK('Data Input'!A357),\"\",SUM('Data Input'!L357))","v":""},{"$f":"IF(Q353=\"\",\"\",Q353/COUNTIF('Data Input'!$C$8:$AQ$8,$Q$2))","v":""},{"$f":"IF(ISBLANK('Data Input'!A357),\"\",SUM('Data Input'!X357:AQ357))","v":""},{"$f":"IF(S353=\"\",\"\",S353/COUNTIF('Data Input'!$C$8:$AQ$8,$S$2))","v":""}]
[{"$f":"IF('Data Input'!A358=0,\"\",'Data Input'!A358)","v":""},{"$f":"IF(ISBLANK('Data Input'!A358),\"\",COUNTIF('Data Input'!C358:AQ358,\"\")-1)","v":""},{"$f":"IF(ISBLANK('Data Input'!A358),\"\",COUNTIF('Data Input'!C358:AQ358,\"0\"))","v":""},{"$f":"IF(ISBLANK('Data Input'!A358),\"\",SUM(B354,C354))","v":""},{"$f":"IF(ISBLANK('Data Input'!A358),\"\",SUM('Data Input'!C358:AQ358))","v":""},{"$f":"IF(E354=\"\",\"\",E354/(COUNTA('Data Input'!$C$8:$AQ$8)-1))","v":""},{"$f":"IF(ISBLANK('Data Input'!A358),\"\",SUM('Data Input'!H358,'Data Input'!I358,'Data Input'!M358,'Data Input'!N358))","v":""},{"$f":"IF(G354=\"\",\"\",G354/COUNTIF('Data Input'!$C$8:$AQ$8,$G$2))","v":""},{"$f":"IF(ISBLANK('Data Input'!A358),\"\",SUM('Data Input'!J358,'Data Input'!K358,'Data Input'!U358,'Data Input'!V358))","v":""},{"$f":"IF(I354=\"\",\"\",I354/COUNTIF('Data Input'!$C$8:$AQ$8,$I$2))","v":""},{"$f":"IF(ISBLANK('Data Input'!A358),\"\",SUM('Data Input'!D358))","v":""},{"$f":"IF(K354=\"\",\"\",K354/COUNTIF('Data Input'!$C$8:$AQ$8,$K$2))","v":""},{"$f":"IF(ISBLANK('Data Input'!A358),\"\",SUM('Data Input'!O358,'Data Input'!P358,'Data Input'!R358,'Data Input'!S358))","v":""},{"$f":"IF(M354=\"\",\"\",M354/COUNTIF('Data Input'!$C$8:$AQ$8,$M$2))","v":""},{"$f":"IF(ISBLANK('Data Input'!A358),\"\",SUM('Data Input'!C358,'Data Input'!E358,'Data Input'!F358,'Data Input'!G358,'Data Input'!Q358,'Data Input'!T358))","v":""},{"$f":"IF(O354=\"\",\"\",O354/COUNTIF('Data Input'!$C$8:$AQ$8,$O$2))","v":""},{"$f":"IF(ISBLANK('Data Input'!A358),\"\",SUM('Data Input'!L358))","v":""},{"$f":"IF(Q354=\"\",\"\",Q354/COUNTIF('Data Input'!$C$8:$AQ$8,$Q$2))","v":""},{"$f":"IF(ISBLANK('Data Input'!A358),\"\",SUM('Data Input'!X358:AQ358))","v":""},{"$f":"IF(S354=\"\",\"\",S354/COUNTIF('Data Input'!$C$8:$AQ$8,$S$2))","v":""}]
[{"$f":"IF('Data Input'!A359=0,\"\",'Data Input'!A359)","v":""},{"$f":"IF(ISBLANK('Data Input'!A359),\"\",COUNTIF('Data Input'!C359:AQ359,\"\")-1)","v":""},{"$f":"IF(ISBLANK('Data Input'!A359),\"\",COUNTIF('Data Input'!C359:AQ359,\"0\"))","v":""},{"$f":"IF(ISBLANK('Data Input'!A359),\"\",SUM(B355,C355))","v":""},{"$f":"IF(ISBLANK('Data Input'!A359),\"\",SUM('Data Input'!C359:AQ359))","v":""},{"$f":"IF(E355=\"\",\"\",E355/(COUNTA('Data Input'!$C$8:$AQ$8)-1))","v":""},{"$f":"IF(ISBLANK('Data Input'!A359),\"\",SUM('Data Input'!H359,'Data Input'!I359,'Data Input'!M359,'Data Input'!N359))","v":""},{"$f":"IF(G355=\"\",\"\",G355/COUNTIF('Data Input'!$C$8:$AQ$8,$G$2))","v":""},{"$f":"IF(ISBLANK('Data Input'!A359),\"\",SUM('Data Input'!J359,'Data Input'!K359,'Data Input'!U359,'Data Input'!V359))","v":""},{"$f":"IF(I355=\"\",\"\",I355/COUNTIF('Data Input'!$C$8:$AQ$8,$I$2))","v":""},{"$f":"IF(ISBLANK('Data Input'!A359),\"\",SUM('Data Input'!D359))","v":""},{"$f":"IF(K355=\"\",\"\",K355/COUNTIF('Data Input'!$C$8:$AQ$8,$K$2))","v":""},{"$f":"IF(ISBLANK('Data Input'!A359),\"\",SUM('Data Input'!O359,'Data Input'!P359,'Data Input'!R359,'Data Input'!S359))","v":""},{"$f":"IF(M355=\"\",\"\",M355/COUNTIF('Data Input'!$C$8:$AQ$8,$M$2))","v":""},{"$f":"IF(ISBLANK('Data Input'!A359),\"\",SUM('Data Input'!C359,'Data Input'!E359,'Data Input'!F359,'Data Input'!G359,'Data Input'!Q359,'Data Input'!T359))","v":""},{"$f":"IF(O355=\"\",\"\",O355/COUNTIF('Data Input'!$C$8:$AQ$8,$O$2))","v":""},{"$f":"IF(ISBLANK('Data Input'!A359),\"\",SUM('Data Input'!L359))","v":""},{"$f":"IF(Q355=\"\",\"\",Q355/COUNTIF('Data Input'!$C$8:$AQ$8,$Q$2))","v":""},{"$f":"IF(ISBLANK('Data Input'!A359),\"\",SUM('Data Input'!X359:AQ359))","v":""},{"$f":"IF(S355=\"\",\"\",S355/COUNTIF('Data Input'!$C$8:$AQ$8,$S$2))","v":""}]
[{"$f":"IF('Data Input'!A360=0,\"\",'Data Input'!A360)","v":""},{"$f":"IF(ISBLANK('Data Input'!A360),\"\",COUNTIF('Data Input'!C360:AQ360,\"\")-1)","v":""},{"$f":"IF(ISBLANK('Data Input'!A360),\"\",COUNTIF('Data Input'!C360:AQ360,\"0\"))","v":""},{"$f":"IF(ISBLANK('Data Input'!A360),\"\",SUM(B356,C356))","v":""},{"$f":"IF(ISBLANK('Data Input'!A360),\"\",SUM('Data Input'!C360:AQ360))","v":""},{"$f":"IF(E356=\"\",\"\",E356/(COUNTA('Data Input'!$C$8:$AQ$8)-1))","v":""},{"$f":"IF(ISBLANK('Data Input'!A360),\"\",SUM('Data Input'!H360,'Data Input'!I360,'Data Input'!M360,'Data Input'!N360))","v":""},{"$f":"IF(G356=\"\",\"\",G356/COUNTIF('Data Input'!$C$8:$AQ$8,$G$2))","v":""},{"$f":"IF(ISBLANK('Data Input'!A360),\"\",SUM('Data Input'!J360,'Data Input'!K360,'Data Input'!U360,'Data Input'!V360))","v":""},{"$f":"IF(I356=\"\",\"\",I356/COUNTIF('Data Input'!$C$8:$AQ$8,$I$2))","v":""},{"$f":"IF(ISBLANK('Data Input'!A360),\"\",SUM('Data Input'!D360))","v":""},{"$f":"IF(K356=\"\",\"\",K356/COUNTIF('Data Input'!$C$8:$AQ$8,$K$2))","v":""},{"$f":"IF(ISBLANK('Data Input'!A360),\"\",SUM('Data Input'!O360,'Data Input'!P360,'Data Input'!R360,'Data Input'!S360))","v":""},{"$f":"IF(M356=\"\",\"\",M356/COUNTIF('Data Input'!$C$8:$AQ$8,$M$2))","v":""},{"$f":"IF(ISBLANK('Data Input'!A360),\"\",SUM('Data Input'!C360,'Data Input'!E360,'Data Input'!F360,'Data Input'!G360,'Data Input'!Q360,'Data Input'!T360))","v":""},{"$f":"IF(O356=\"\",\"\",O356/COUNTIF('Data Input'!$C$8:$AQ$8,$O$2))","v":""},{"$f":"IF(ISBLANK('Data Input'!A360),\"\",SUM('Data Input'!L360))","v":""},{"$f":"IF(Q356=\"\",\"\",Q356/COUNTIF('Data Input'!$C$8:$AQ$8,$Q$2))","v":""},{"$f":"IF(ISBLANK('Data Input'!A360),\"\",SUM('Data Input'!X360:AQ360))","v":""},{"$f":"IF(S356=\"\",\"\",S356/COUNTIF('Data Input'!$C$8:$AQ$8,$S$2))","v":""}]
[{"$f":"IF('Data Input'!A361=0,\"\",'Data Input'!A361)","v":""},{"$f":"IF(ISBLANK('Data Input'!A361),\"\",COUNTIF('Data Input'!C361:AQ361,\"\")-1)","v":""},{"$f":"IF(ISBLANK('Data Input'!A361),\"\",COUNTIF('Data Input'!C361:AQ361,\"0\"))","v":""},{"$f":"IF(ISBLANK('Data Input'!A361),\"\",SUM(B357,C357))","v":""},{"$f":"IF(ISBLANK('Data Input'!A361),\"\",SUM('Data Input'!C361:AQ361))","v":""},{"$f":"IF(E357=\"\",\"\",E357/(COUNTA('Data Input'!$C$8:$AQ$8)-1))","v":""},{"$f":"IF(ISBLANK('Data Input'!A361),\"\",SUM('Data Input'!H361,'Data Input'!I361,'Data Input'!M361,'Data Input'!N361))","v":""},{"$f":"IF(G357=\"\",\"\",G357/COUNTIF('Data Input'!$C$8:$AQ$8,$G$2))","v":""},{"$f":"IF(ISBLANK('Data Input'!A361),\"\",SUM('Data Input'!J361,'Data Input'!K361,'Data Input'!U361,'Data Input'!V361))","v":""},{"$f":"IF(I357=\"\",\"\",I357/COUNTIF('Data Input'!$C$8:$AQ$8,$I$2))","v":""},{"$f":"IF(ISBLANK('Data Input'!A361),\"\",SUM('Data Input'!D361))","v":""},{"$f":"IF(K357=\"\",\"\",K357/COUNTIF('Data Input'!$C$8:$AQ$8,$K$2))","v":""},{"$f":"IF(ISBLANK('Data Input'!A361),\"\",SUM('Data Input'!O361,'Data Input'!P361,'Data Input'!R361,'Data Input'!S361))","v":""},{"$f":"IF(M357=\"\",\"\",M357/COUNTIF('Data Input'!$C$8:$AQ$8,$M$2))","v":""},{"$f":"IF(ISBLANK('Data Input'!A361),\"\",SUM('Data Input'!C361,'Data Input'!E361,'Data Input'!F361,'Data Input'!G361,'Data Input'!Q361,'Data Input'!T361))","v":""},{"$f":"IF(O357=\"\",\"\",O357/COUNTIF('Data Input'!$C$8:$AQ$8,$O$2))","v":""},{"$f":"IF(ISBLANK('Data Input'!A361),\"\",SUM('Data Input'!L361))","v":""},{"$f":"IF(Q357=\"\",\"\",Q357/COUNTIF('Data Input'!$C$8:$AQ$8,$Q$2))","v":""},{"$f":"IF(ISBLANK('Data Input'!A361),\"\",SUM('Data Input'!X361:AQ361))","v":""},{"$f":"IF(S357=\"\",\"\",S357/COUNTIF('Data Input'!$C$8:$AQ$8,$S$2))","v":""}]
[{"$f":"IF('Data Input'!A362=0,\"\",'Data Input'!A362)","v":""},{"$f":"IF(ISBLANK('Data Input'!A362),\"\",COUNTIF('Data Input'!C362:AQ362,\"\")-1)","v":""},{"$f":"IF(ISBLANK('Data Input'!A362),\"\",COUNTIF('Data Input'!C362:AQ362,\"0\"))","v":""},{"$f":"IF(ISBLANK('Data Input'!A362),\"\",SUM(B358,C358))","v":""},{"$f":"IF(ISBLANK('Data Input'!A362),\"\",SUM('Data Input'!C362:AQ362))","v":""},{"$f":"IF(E358=\"\",\"\",E358/(COUNTA('Data Input'!$C$8:$AQ$8)-1))","v":""},{"$f":"IF(ISBLANK('Data Input'!A362),\"\",SUM('Data Input'!H362,'Data Input'!I362,'Data Input'!M362,'Data Input'!N362))","v":""},{"$f":"IF(G358=\"\",\"\",G358/COUNTIF('Data Input'!$C$8:$AQ$8,$G$2))","v":""},{"$f":"IF(ISBLANK('Data Input'!A362),\"\",SUM('Data Input'!J362,'Data Input'!K362,'Data Input'!U362,'Data Input'!V362))","v":""},{"$f":"IF(I358=\"\",\"\",I358/COUNTIF('Data Input'!$C$8:$AQ$8,$I$2))","v":""},{"$f":"IF(ISBLANK('Data Input'!A362),\"\",SUM('Data Input'!D362))","v":""},{"$f":"IF(K358=\"\",\"\",K358/COUNTIF('Data Input'!$C$8:$AQ$8,$K$2))","v":""},{"$f":"IF(ISBLANK('Data Input'!A362),\"\",SUM('Data Input'!O362,'Data Input'!P362,'Data Input'!R362,'Data Input'!S362))","v":""},{"$f":"IF(M358=\"\",\"\",M358/COUNTIF('Data Input'!$C$8:$AQ$8,$M$2))","v":""},{"$f":"IF(ISBLANK('Data Input'!A362),\"\",SUM('Data Input'!C362,'Data Input'!E362,'Data Input'!F362,'Data Input'!G362,'Data Input'!Q362,'Data Input'!T362))","v":""},{"$f":"IF(O358=\"\",\"\",O358/COUNTIF('Data Input'!$C$8:$AQ$8,$O$2))","v":""},{"$f":"IF(ISBLANK('Data Input'!A362),\"\",SUM('Data Input'!L362))","v":""},{"$f":"IF(Q358=\"\",\"\",Q358/COUNTIF('Data Input'!$C$8:$AQ$8,$Q$2))","v":""},{"$f":"IF(ISBLANK('Data Input'!A362),\"\",SUM('Data Input'!X362:AQ362))","v":""},{"$f":"IF(S358=\"\",\"\",S358/COUNTIF('Data Input'!$C$8:$AQ$8,$S$2))","v":""}]
[{"$f":"IF('Data Input'!A363=0,\"\",'Data Input'!A363)","v":""},{"$f":"IF(ISBLANK('Data Input'!A363),\"\",COUNTIF('Data Input'!C363:AQ363,\"\")-1)","v":""},{"$f":"IF(ISBLANK('Data Input'!A363),\"\",COUNTIF('Data Input'!C363:AQ363,\"0\"))","v":""},{"$f":"IF(ISBLANK('Data Input'!A363),\"\",SUM(B359,C359))","v":""},{"$f":"IF(ISBLANK('Data Input'!A363),\"\",SUM('Data Input'!C363:AQ363))","v":""},{"$f":"IF(E359=\"\",\"\",E359/(COUNTA('Data Input'!$C$8:$AQ$8)-1))","v":""},{"$f":"IF(ISBLANK('Data Input'!A363),\"\",SUM('Data Input'!H363,'Data Input'!I363,'Data Input'!M363,'Data Input'!N363))","v":""},{"$f":"IF(G359=\"\",\"\",G359/COUNTIF('Data Input'!$C$8:$AQ$8,$G$2))","v":""},{"$f":"IF(ISBLANK('Data Input'!A363),\"\",SUM('Data Input'!J363,'Data Input'!K363,'Data Input'!U363,'Data Input'!V363))","v":""},{"$f":"IF(I359=\"\",\"\",I359/COUNTIF('Data Input'!$C$8:$AQ$8,$I$2))","v":""},{"$f":"IF(ISBLANK('Data Input'!A363),\"\",SUM('Data Input'!D363))","v":""},{"$f":"IF(K359=\"\",\"\",K359/COUNTIF('Data Input'!$C$8:$AQ$8,$K$2))","v":""},{"$f":"IF(ISBLANK('Data Input'!A363),\"\",SUM('Data Input'!O363,'Data Input'!P363,'Data Input'!R363,'Data Input'!S363))","v":""},{"$f":"IF(M359=\"\",\"\",M359/COUNTIF('Data Input'!$C$8:$AQ$8,$M$2))","v":""},{"$f":"IF(ISBLANK('Data Input'!A363),\"\",SUM('Data Input'!C363,'Data Input'!E363,'Data Input'!F363,'Data Input'!G363,'Data Input'!Q363,'Data Input'!T363))","v":""},{"$f":"IF(O359=\"\",\"\",O359/COUNTIF('Data Input'!$C$8:$AQ$8,$O$2))","v":""},{"$f":"IF(ISBLANK('Data Input'!A363),\"\",SUM('Data Input'!L363))","v":""},{"$f":"IF(Q359=\"\",\"\",Q359/COUNTIF('Data Input'!$C$8:$AQ$8,$Q$2))","v":""},{"$f":"IF(ISBLANK('Data Input'!A363),\"\",SUM('Data Input'!X363:AQ363))","v":""},{"$f":"IF(S359=\"\",\"\",S359/COUNTIF('Data Input'!$C$8:$AQ$8,$S$2))","v":""}]
[{"$f":"IF('Data Input'!A364=0,\"\",'Data Input'!A364)","v":""},{"$f":"IF(ISBLANK('Data Input'!A364),\"\",COUNTIF('Data Input'!C364:AQ364,\"\")-1)","v":""},{"$f":"IF(ISBLANK('Data Input'!A364),\"\",COUNTIF('Data Input'!C364:AQ364,\"0\"))","v":""},{"$f":"IF(ISBLANK('Data Input'!A364),\"\",SUM(B360,C360))","v":""},{"$f":"IF(ISBLANK('Data Input'!A364),\"\",SUM('Data Input'!C364:AQ364))","v":""},{"$f":"IF(E360=\"\",\"\",E360/(COUNTA('Data Input'!$C$8:$AQ$8)-1))","v":""},{"$f":"IF(ISBLANK('Data Input'!A364),\"\",SUM('Data Input'!H364,'Data Input'!I364,'Data Input'!M364,'Data Input'!N364))","v":""},{"$f":"IF(G360=\"\",\"\",G360/COUNTIF('Data Input'!$C$8:$AQ$8,$G$2))","v":""},{"$f":"IF(ISBLANK('Data Input'!A364),\"\",SUM('Data Input'!J364,'Data Input'!K364,'Data Input'!U364,'Data Input'!V364))","v":""},{"$f":"IF(I360=\"\",\"\",I360/COUNTIF('Data Input'!$C$8:$AQ$8,$I$2))","v":""},{"$f":"IF(ISBLANK('Data Input'!A364),\"\",SUM('Data Input'!D364))","v":""},{"$f":"IF(K360=\"\",\"\",K360/COUNTIF('Data Input'!$C$8:$AQ$8,$K$2))","v":""},{"$f":"IF(ISBLANK('Data Input'!A364),\"\",SUM('Data Input'!O364,'Data Input'!P364,'Data Input'!R364,'Data Input'!S364))","v":""},{"$f":"IF(M360=\"\",\"\",M360/COUNTIF('Data Input'!$C$8:$AQ$8,$M$2))","v":""},{"$f":"IF(ISBLANK('Data Input'!A364),\"\",SUM('Data Input'!C364,'Data Input'!E364,'Data Input'!F364,'Data Input'!G364,'Data Input'!Q364,'Data Input'!T364))","v":""},{"$f":"IF(O360=\"\",\"\",O360/COUNTIF('Data Input'!$C$8:$AQ$8,$O$2))","v":""},{"$f":"IF(ISBLANK('Data Input'!A364),\"\",SUM('Data Input'!L364))","v":""},{"$f":"IF(Q360=\"\",\"\",Q360/COUNTIF('Data Input'!$C$8:$AQ$8,$Q$2))","v":""},{"$f":"IF(ISBLANK('Data Input'!A364),\"\",SUM('Data Input'!X364:AQ364))","v":""},{"$f":"IF(S360=\"\",\"\",S360/COUNTIF('Data Input'!$C$8:$AQ$8,$S$2))","v":""}]
[{"$f":"IF('Data Input'!A365=0,\"\",'Data Input'!A365)","v":""},{"$f":"IF(ISBLANK('Data Input'!A365),\"\",COUNTIF('Data Input'!C365:AQ365,\"\")-1)","v":""},{"$f":"IF(ISBLANK('Data Input'!A365),\"\",COUNTIF('Data Input'!C365:AQ365,\"0\"))","v":""},{"$f":"IF(ISBLANK('Data Input'!A365),\"\",SUM(B361,C361))","v":""},{"$f":"IF(ISBLANK('Data Input'!A365),\"\",SUM('Data Input'!C365:AQ365))","v":""},{"$f":"IF(E361=\"\",\"\",E361/(COUNTA('Data Input'!$C$8:$AQ$8)-1))","v":""},{"$f":"IF(ISBLANK('Data Input'!A365),\"\",SUM('Data Input'!H365,'Data Input'!I365,'Data Input'!M365,'Data Input'!N365))","v":""},{"$f":"IF(G361=\"\",\"\",G361/COUNTIF('Data Input'!$C$8:$AQ$8,$G$2))","v":""},{"$f":"IF(ISBLANK('Data Input'!A365),\"\",SUM('Data Input'!J365,'Data Input'!K365,'Data Input'!U365,'Data Input'!V365))","v":""},{"$f":"IF(I361=\"\",\"\",I361/COUNTIF('Data Input'!$C$8:$AQ$8,$I$2))","v":""},{"$f":"IF(ISBLANK('Data Input'!A365),\"\",SUM('Data Input'!D365))","v":""},{"$f":"IF(K361=\"\",\"\",K361/COUNTIF('Data Input'!$C$8:$AQ$8,$K$2))","v":""},{"$f":"IF(ISBLANK('Data Input'!A365),\"\",SUM('Data Input'!O365,'Data Input'!P365,'Data Input'!R365,'Data Input'!S365))","v":""},{"$f":"IF(M361=\"\",\"\",M361/COUNTIF('Data Input'!$C$8:$AQ$8,$M$2))","v":""},{"$f":"IF(ISBLANK('Data Input'!A365),\"\",SUM('Data Input'!C365,'Data Input'!E365,'Data Input'!F365,'Data Input'!G365,'Data Input'!Q365,'Data Input'!T365))","v":""},{"$f":"IF(O361=\"\",\"\",O361/COUNTIF('Data Input'!$C$8:$AQ$8,$O$2))","v":""},{"$f":"IF(ISBLANK('Data Input'!A365),\"\",SUM('Data Input'!L365))","v":""},{"$f":"IF(Q361=\"\",\"\",Q361/COUNTIF('Data Input'!$C$8:$AQ$8,$Q$2))","v":""},{"$f":"IF(ISBLANK('Data Input'!A365),\"\",SUM('Data Input'!X365:AQ365))","v":""},{"$f":"IF(S361=\"\",\"\",S361/COUNTIF('Data Input'!$C$8:$AQ$8,$S$2))","v":""}]
[{"$f":"IF('Data Input'!A366=0,\"\",'Data Input'!A366)","v":""},{"$f":"IF(ISBLANK('Data Input'!A366),\"\",COUNTIF('Data Input'!C366:AQ366,\"\")-1)","v":""},{"$f":"IF(ISBLANK('Data Input'!A366),\"\",COUNTIF('Data Input'!C366:AQ366,\"0\"))","v":""},{"$f":"IF(ISBLANK('Data Input'!A366),\"\",SUM(B362,C362))","v":""},{"$f":"IF(ISBLANK('Data Input'!A366),\"\",SUM('Data Input'!C366:AQ366))","v":""},{"$f":"IF(E362=\"\",\"\",E362/(COUNTA('Data Input'!$C$8:$AQ$8)-1))","v":""},{"$f":"IF(ISBLANK('Data Input'!A366),\"\",SUM('Data Input'!H366,'Data Input'!I366,'Data Input'!M366,'Data Input'!N366))","v":""},{"$f":"IF(G362=\"\",\"\",G362/COUNTIF('Data Input'!$C$8:$AQ$8,$G$2))","v":""},{"$f":"IF(ISBLANK('Data Input'!A366),\"\",SUM('Data Input'!J366,'Data Input'!K366,'Data Input'!U366,'Data Input'!V366))","v":""},{"$f":"IF(I362=\"\",\"\",I362/COUNTIF('Data Input'!$C$8:$AQ$8,$I$2))","v":""},{"$f":"IF(ISBLANK('Data Input'!A366),\"\",SUM('Data Input'!D366))","v":""},{"$f":"IF(K362=\"\",\"\",K362/COUNTIF('Data Input'!$C$8:$AQ$8,$K$2))","v":""},{"$f":"IF(ISBLANK('Data Input'!A366),\"\",SUM('Data Input'!O366,'Data Input'!P366,'Data Input'!R366,'Data Input'!S366))","v":""},{"$f":"IF(M362=\"\",\"\",M362/COUNTIF('Data Input'!$C$8:$AQ$8,$M$2))","v":""},{"$f":"IF(ISBLANK('Data Input'!A366),\"\",SUM('Data Input'!C366,'Data Input'!E366,'Data Input'!F366,'Data Input'!G366,'Data Input'!Q366,'Data Input'!T366))","v":""},{"$f":"IF(O362=\"\",\"\",O362/COUNTIF('Data Input'!$C$8:$AQ$8,$O$2))","v":""},{"$f":"IF(ISBLANK('Data Input'!A366),\"\",SUM('Data Input'!L366))","v":""},{"$f":"IF(Q362=\"\",\"\",Q362/COUNTIF('Data Input'!$C$8:$AQ$8,$Q$2))","v":""},{"$f":"IF(ISBLANK('Data Input'!A366),\"\",SUM('Data Input'!X366:AQ366))","v":""},{"$f":"IF(S362=\"\",\"\",S362/COUNTIF('Data Input'!$C$8:$AQ$8,$S$2))","v":""}]
[{"$f":"IF('Data Input'!A367=0,\"\",'Data Input'!A367)","v":""},{"$f":"IF(ISBLANK('Data Input'!A367),\"\",COUNTIF('Data Input'!C367:AQ367,\"\")-1)","v":""},{"$f":"IF(ISBLANK('Data Input'!A367),\"\",COUNTIF('Data Input'!C367:AQ367,\"0\"))","v":""},{"$f":"IF(ISBLANK('Data Input'!A367),\"\",SUM(B363,C363))","v":""},{"$f":"IF(ISBLANK('Data Input'!A367),\"\",SUM('Data Input'!C367:AQ367))","v":""},{"$f":"IF(E363=\"\",\"\",E363/(COUNTA('Data Input'!$C$8:$AQ$8)-1))","v":""},{"$f":"IF(ISBLANK('Data Input'!A367),\"\",SUM('Data Input'!H367,'Data Input'!I367,'Data Input'!M367,'Data Input'!N367))","v":""},{"$f":"IF(G363=\"\",\"\",G363/COUNTIF('Data Input'!$C$8:$AQ$8,$G$2))","v":""},{"$f":"IF(ISBLANK('Data Input'!A367),\"\",SUM('Data Input'!J367,'Data Input'!K367,'Data Input'!U367,'Data Input'!V367))","v":""},{"$f":"IF(I363=\"\",\"\",I363/COUNTIF('Data Input'!$C$8:$AQ$8,$I$2))","v":""},{"$f":"IF(ISBLANK('Data Input'!A367),\"\",SUM('Data Input'!D367))","v":""},{"$f":"IF(K363=\"\",\"\",K363/COUNTIF('Data Input'!$C$8:$AQ$8,$K$2))","v":""},{"$f":"IF(ISBLANK('Data Input'!A367),\"\",SUM('Data Input'!O367,'Data Input'!P367,'Data Input'!R367,'Data Input'!S367))","v":""},{"$f":"IF(M363=\"\",\"\",M363/COUNTIF('Data Input'!$C$8:$AQ$8,$M$2))","v":""},{"$f":"IF(ISBLANK('Data Input'!A367),\"\",SUM('Data Input'!C367,'Data Input'!E367,'Data Input'!F367,'Data Input'!G367,'Data Input'!Q367,'Data Input'!T367))","v":""},{"$f":"IF(O363=\"\",\"\",O363/COUNTIF('Data Input'!$C$8:$AQ$8,$O$2))","v":""},{"$f":"IF(ISBLANK('Data Input'!A367),\"\",SUM('Data Input'!L367))","v":""},{"$f":"IF(Q363=\"\",\"\",Q363/COUNTIF('Data Input'!$C$8:$AQ$8,$Q$2))","v":""},{"$f":"IF(ISBLANK('Data Input'!A367),\"\",SUM('Data Input'!X367:AQ367))","v":""},{"$f":"IF(S363=\"\",\"\",S363/COUNTIF('Data Input'!$C$8:$AQ$8,$S$2))","v":""}]
[{"$f":"IF('Data Input'!A368=0,\"\",'Data Input'!A368)","v":""},{"$f":"IF(ISBLANK('Data Input'!A368),\"\",COUNTIF('Data Input'!C368:AQ368,\"\")-1)","v":""},{"$f":"IF(ISBLANK('Data Input'!A368),\"\",COUNTIF('Data Input'!C368:AQ368,\"0\"))","v":""},{"$f":"IF(ISBLANK('Data Input'!A368),\"\",SUM(B364,C364))","v":""},{"$f":"IF(ISBLANK('Data Input'!A368),\"\",SUM('Data Input'!C368:AQ368))","v":""},{"$f":"IF(E364=\"\",\"\",E364/(COUNTA('Data Input'!$C$8:$AQ$8)-1))","v":""},{"$f":"IF(ISBLANK('Data Input'!A368),\"\",SUM('Data Input'!H368,'Data Input'!I368,'Data Input'!M368,'Data Input'!N368))","v":""},{"$f":"IF(G364=\"\",\"\",G364/COUNTIF('Data Input'!$C$8:$AQ$8,$G$2))","v":""},{"$f":"IF(ISBLANK('Data Input'!A368),\"\",SUM('Data Input'!J368,'Data Input'!K368,'Data Input'!U368,'Data Input'!V368))","v":""},{"$f":"IF(I364=\"\",\"\",I364/COUNTIF('Data Input'!$C$8:$AQ$8,$I$2))","v":""},{"$f":"IF(ISBLANK('Data Input'!A368),\"\",SUM('Data Input'!D368))","v":""},{"$f":"IF(K364=\"\",\"\",K364/COUNTIF('Data Input'!$C$8:$AQ$8,$K$2))","v":""},{"$f":"IF(ISBLANK('Data Input'!A368),\"\",SUM('Data Input'!O368,'Data Input'!P368,'Data Input'!R368,'Data Input'!S368))","v":""},{"$f":"IF(M364=\"\",\"\",M364/COUNTIF('Data Input'!$C$8:$AQ$8,$M$2))","v":""},{"$f":"IF(ISBLANK('Data Input'!A368),\"\",SUM('Data Input'!C368,'Data Input'!E368,'Data Input'!F368,'Data Input'!G368,'Data Input'!Q368,'Data Input'!T368))","v":""},{"$f":"IF(O364=\"\",\"\",O364/COUNTIF('Data Input'!$C$8:$AQ$8,$O$2))","v":""},{"$f":"IF(ISBLANK('Data Input'!A368),\"\",SUM('Data Input'!L368))","v":""},{"$f":"IF(Q364=\"\",\"\",Q364/COUNTIF('Data Input'!$C$8:$AQ$8,$Q$2))","v":""},{"$f":"IF(ISBLANK('Data Input'!A368),\"\",SUM('Data Input'!X368:AQ368))","v":""},{"$f":"IF(S364=\"\",\"\",S364/COUNTIF('Data Input'!$C$8:$AQ$8,$S$2))","v":""}]
[{"$f":"IF('Data Input'!A369=0,\"\",'Data Input'!A369)","v":""},{"$f":"IF(ISBLANK('Data Input'!A369),\"\",COUNTIF('Data Input'!C369:AQ369,\"\")-1)","v":""},{"$f":"IF(ISBLANK('Data Input'!A369),\"\",COUNTIF('Data Input'!C369:AQ369,\"0\"))","v":""},{"$f":"IF(ISBLANK('Data Input'!A369),\"\",SUM(B365,C365))","v":""},{"$f":"IF(ISBLANK('Data Input'!A369),\"\",SUM('Data Input'!C369:AQ369))","v":""},{"$f":"IF(E365=\"\",\"\",E365/(COUNTA('Data Input'!$C$8:$AQ$8)-1))","v":""},{"$f":"IF(ISBLANK('Data Input'!A369),\"\",SUM('Data Input'!H369,'Data Input'!I369,'Data Input'!M369,'Data Input'!N369))","v":""},{"$f":"IF(G365=\"\",\"\",G365/COUNTIF('Data Input'!$C$8:$AQ$8,$G$2))","v":""},{"$f":"IF(ISBLANK('Data Input'!A369),\"\",SUM('Data Input'!J369,'Data Input'!K369,'Data Input'!U369,'Data Input'!V369))","v":""},{"$f":"IF(I365=\"\",\"\",I365/COUNTIF('Data Input'!$C$8:$AQ$8,$I$2))","v":""},{"$f":"IF(ISBLANK('Data Input'!A369),\"\",SUM('Data Input'!D369))","v":""},{"$f":"IF(K365=\"\",\"\",K365/COUNTIF('Data Input'!$C$8:$AQ$8,$K$2))","v":""},{"$f":"IF(ISBLANK('Data Input'!A369),\"\",SUM('Data Input'!O369,'Data Input'!P369,'Data Input'!R369,'Data Input'!S369))","v":""},{"$f":"IF(M365=\"\",\"\",M365/COUNTIF('Data Input'!$C$8:$AQ$8,$M$2))","v":""},{"$f":"IF(ISBLANK('Data Input'!A369),\"\",SUM('Data Input'!C369,'Data Input'!E369,'Data Input'!F369,'Data Input'!G369,'Data Input'!Q369,'Data Input'!T369))","v":""},{"$f":"IF(O365=\"\",\"\",O365/COUNTIF('Data Input'!$C$8:$AQ$8,$O$2))","v":""},{"$f":"IF(ISBLANK('Data Input'!A369),\"\",SUM('Data Input'!L369))","v":""},{"$f":"IF(Q365=\"\",\"\",Q365/COUNTIF('Data Input'!$C$8:$AQ$8,$Q$2))","v":""},{"$f":"IF(ISBLANK('Data Input'!A369),\"\",SUM('Data Input'!X369:AQ369))","v":""},{"$f":"IF(S365=\"\",\"\",S365/COUNTIF('Data Input'!$C$8:$AQ$8,$S$2))","v":""}]
[{"$f":"IF('Data Input'!A370=0,\"\",'Data Input'!A370)","v":""},{"$f":"IF(ISBLANK('Data Input'!A370),\"\",COUNTIF('Data Input'!C370:AQ370,\"\")-1)","v":""},{"$f":"IF(ISBLANK('Data Input'!A370),\"\",COUNTIF('Data Input'!C370:AQ370,\"0\"))","v":""},{"$f":"IF(ISBLANK('Data Input'!A370),\"\",SUM(B366,C366))","v":""},{"$f":"IF(ISBLANK('Data Input'!A370),\"\",SUM('Data Input'!C370:AQ370))","v":""},{"$f":"IF(E366=\"\",\"\",E366/(COUNTA('Data Input'!$C$8:$AQ$8)-1))","v":""},{"$f":"IF(ISBLANK('Data Input'!A370),\"\",SUM('Data Input'!H370,'Data Input'!I370,'Data Input'!M370,'Data Input'!N370))","v":""},{"$f":"IF(G366=\"\",\"\",G366/COUNTIF('Data Input'!$C$8:$AQ$8,$G$2))","v":""},{"$f":"IF(ISBLANK('Data Input'!A370),\"\",SUM('Data Input'!J370,'Data Input'!K370,'Data Input'!U370,'Data Input'!V370))","v":""},{"$f":"IF(I366=\"\",\"\",I366/COUNTIF('Data Input'!$C$8:$AQ$8,$I$2))","v":""},{"$f":"IF(ISBLANK('Data Input'!A370),\"\",SUM('Data Input'!D370))","v":""},{"$f":"IF(K366=\"\",\"\",K366/COUNTIF('Data Input'!$C$8:$AQ$8,$K$2))","v":""},{"$f":"IF(ISBLANK('Data Input'!A370),\"\",SUM('Data Input'!O370,'Data Input'!P370,'Data Input'!R370,'Data Input'!S370))","v":""},{"$f":"IF(M366=\"\",\"\",M366/COUNTIF('Data Input'!$C$8:$AQ$8,$M$2))","v":""},{"$f":"IF(ISBLANK('Data Input'!A370),\"\",SUM('Data Input'!C370,'Data Input'!E370,'Data Input'!F370,'Data Input'!G370,'Data Input'!Q370,'Data Input'!T370))","v":""},{"$f":"IF(O366=\"\",\"\",O366/COUNTIF('Data Input'!$C$8:$AQ$8,$O$2))","v":""},{"$f":"IF(ISBLANK('Data Input'!A370),\"\",SUM('Data Input'!L370))","v":""},{"$f":"IF(Q366=\"\",\"\",Q366/COUNTIF('Data Input'!$C$8:$AQ$8,$Q$2))","v":""},{"$f":"IF(ISBLANK('Data Input'!A370),\"\",SUM('Data Input'!X370:AQ370))","v":""},{"$f":"IF(S366=\"\",\"\",S366/COUNTIF('Data Input'!$C$8:$AQ$8,$S$2))","v":""}]
[{"$f":"IF('Data Input'!A371=0,\"\",'Data Input'!A371)","v":""},{"$f":"IF(ISBLANK('Data Input'!A371),\"\",COUNTIF('Data Input'!C371:AQ371,\"\")-1)","v":""},{"$f":"IF(ISBLANK('Data Input'!A371),\"\",COUNTIF('Data Input'!C371:AQ371,\"0\"))","v":""},{"$f":"IF(ISBLANK('Data Input'!A371),\"\",SUM(B367,C367))","v":""},{"$f":"IF(ISBLANK('Data Input'!A371),\"\",SUM('Data Input'!C371:AQ371))","v":""},{"$f":"IF(E367=\"\",\"\",E367/(COUNTA('Data Input'!$C$8:$AQ$8)-1))","v":""},{"$f":"IF(ISBLANK('Data Input'!A371),\"\",SUM('Data Input'!H371,'Data Input'!I371,'Data Input'!M371,'Data Input'!N371))","v":""},{"$f":"IF(G367=\"\",\"\",G367/COUNTIF('Data Input'!$C$8:$AQ$8,$G$2))","v":""},{"$f":"IF(ISBLANK('Data Input'!A371),\"\",SUM('Data Input'!J371,'Data Input'!K371,'Data Input'!U371,'Data Input'!V371))","v":""},{"$f":"IF(I367=\"\",\"\",I367/COUNTIF('Data Input'!$C$8:$AQ$8,$I$2))","v":""},{"$f":"IF(ISBLANK('Data Input'!A371),\"\",SUM('Data Input'!D371))","v":""},{"$f":"IF(K367=\"\",\"\",K367/COUNTIF('Data Input'!$C$8:$AQ$8,$K$2))","v":""},{"$f":"IF(ISBLANK('Data Input'!A371),\"\",SUM('Data Input'!O371,'Data Input'!P371,'Data Input'!R371,'Data Input'!S371))","v":""},{"$f":"IF(M367=\"\",\"\",M367/COUNTIF('Data Input'!$C$8:$AQ$8,$M$2))","v":""},{"$f":"IF(ISBLANK('Data Input'!A371),\"\",SUM('Data Input'!C371,'Data Input'!E371,'Data Input'!F371,'Data Input'!G371,'Data Input'!Q371,'Data Input'!T371))","v":""},{"$f":"IF(O367=\"\",\"\",O367/COUNTIF('Data Input'!$C$8:$AQ$8,$O$2))","v":""},{"$f":"IF(ISBLANK('Data Input'!A371),\"\",SUM('Data Input'!L371))","v":""},{"$f":"IF(Q367=\"\",\"\",Q367/COUNTIF('Data Input'!$C$8:$AQ$8,$Q$2))","v":""},{"$f":"IF(ISBLANK('Data Input'!A371),\"\",SUM('Data Input'!X371:AQ371))","v":""},{"$f":"IF(S367=\"\",\"\",S367/COUNTIF('Data Input'!$C$8:$AQ$8,$S$2))","v":""}]
[{"$f":"IF('Data Input'!A372=0,\"\",'Data Input'!A372)","v":""},{"$f":"IF(ISBLANK('Data Input'!A372),\"\",COUNTIF('Data Input'!C372:AQ372,\"\")-1)","v":""},{"$f":"IF(ISBLANK('Data Input'!A372),\"\",COUNTIF('Data Input'!C372:AQ372,\"0\"))","v":""},{"$f":"IF(ISBLANK('Data Input'!A372),\"\",SUM(B368,C368))","v":""},{"$f":"IF(ISBLANK('Data Input'!A372),\"\",SUM('Data Input'!C372:AQ372))","v":""},{"$f":"IF(E368=\"\",\"\",E368/(COUNTA('Data Input'!$C$8:$AQ$8)-1))","v":""},{"$f":"IF(ISBLANK('Data Input'!A372),\"\",SUM('Data Input'!H372,'Data Input'!I372,'Data Input'!M372,'Data Input'!N372))","v":""},{"$f":"IF(G368=\"\",\"\",G368/COUNTIF('Data Input'!$C$8:$AQ$8,$G$2))","v":""},{"$f":"IF(ISBLANK('Data Input'!A372),\"\",SUM('Data Input'!J372,'Data Input'!K372,'Data Input'!U372,'Data Input'!V372))","v":""},{"$f":"IF(I368=\"\",\"\",I368/COUNTIF('Data Input'!$C$8:$AQ$8,$I$2))","v":""},{"$f":"IF(ISBLANK('Data Input'!A372),\"\",SUM('Data Input'!D372))","v":""},{"$f":"IF(K368=\"\",\"\",K368/COUNTIF('Data Input'!$C$8:$AQ$8,$K$2))","v":""},{"$f":"IF(ISBLANK('Data Input'!A372),\"\",SUM('Data Input'!O372,'Data Input'!P372,'Data Input'!R372,'Data Input'!S372))","v":""},{"$f":"IF(M368=\"\",\"\",M368/COUNTIF('Data Input'!$C$8:$AQ$8,$M$2))","v":""},{"$f":"IF(ISBLANK('Data Input'!A372),\"\",SUM('Data Input'!C372,'Data Input'!E372,'Data Input'!F372,'Data Input'!G372,'Data Input'!Q372,'Data Input'!T372))","v":""},{"$f":"IF(O368=\"\",\"\",O368/COUNTIF('Data Input'!$C$8:$AQ$8,$O$2))","v":""},{"$f":"IF(ISBLANK('Data Input'!A372),\"\",SUM('Data Input'!L372))","v":""},{"$f":"IF(Q368=\"\",\"\",Q368/COUNTIF('Data Input'!$C$8:$AQ$8,$Q$2))","v":""},{"$f":"IF(ISBLANK('Data Input'!A372),\"\",SUM('Data Input'!X372:AQ372))","v":""},{"$f":"IF(S368=\"\",\"\",S368/COUNTIF('Data Input'!$C$8:$AQ$8,$S$2))","v":""}]
[{"$f":"IF('Data Input'!A373=0,\"\",'Data Input'!A373)","v":""},{"$f":"IF(ISBLANK('Data Input'!A373),\"\",COUNTIF('Data Input'!C373:AQ373,\"\")-1)","v":""},{"$f":"IF(ISBLANK('Data Input'!A373),\"\",COUNTIF('Data Input'!C373:AQ373,\"0\"))","v":""},{"$f":"IF(ISBLANK('Data Input'!A373),\"\",SUM(B369,C369))","v":""},{"$f":"IF(ISBLANK('Data Input'!A373),\"\",SUM('Data Input'!C373:AQ373))","v":""},{"$f":"IF(E369=\"\",\"\",E369/(COUNTA('Data Input'!$C$8:$AQ$8)-1))","v":""},{"$f":"IF(ISBLANK('Data Input'!A373),\"\",SUM('Data Input'!H373,'Data Input'!I373,'Data Input'!M373,'Data Input'!N373))","v":""},{"$f":"IF(G369=\"\",\"\",G369/COUNTIF('Data Input'!$C$8:$AQ$8,$G$2))","v":""},{"$f":"IF(ISBLANK('Data Input'!A373),\"\",SUM('Data Input'!J373,'Data Input'!K373,'Data Input'!U373,'Data Input'!V373))","v":""},{"$f":"IF(I369=\"\",\"\",I369/COUNTIF('Data Input'!$C$8:$AQ$8,$I$2))","v":""},{"$f":"IF(ISBLANK('Data Input'!A373),\"\",SUM('Data Input'!D373))","v":""},{"$f":"IF(K369=\"\",\"\",K369/COUNTIF('Data Input'!$C$8:$AQ$8,$K$2))","v":""},{"$f":"IF(ISBLANK('Data Input'!A373),\"\",SUM('Data Input'!O373,'Data Input'!P373,'Data Input'!R373,'Data Input'!S373))","v":""},{"$f":"IF(M369=\"\",\"\",M369/COUNTIF('Data Input'!$C$8:$AQ$8,$M$2))","v":""},{"$f":"IF(ISBLANK('Data Input'!A373),\"\",SUM('Data Input'!C373,'Data Input'!E373,'Data Input'!F373,'Data Input'!G373,'Data Input'!Q373,'Data Input'!T373))","v":""},{"$f":"IF(O369=\"\",\"\",O369/COUNTIF('Data Input'!$C$8:$AQ$8,$O$2))","v":""},{"$f":"IF(ISBLANK('Data Input'!A373),\"\",SUM('Data Input'!L373))","v":""},{"$f":"IF(Q369=\"\",\"\",Q369/COUNTIF('Data Input'!$C$8:$AQ$8,$Q$2))","v":""},{"$f":"IF(ISBLANK('Data Input'!A373),\"\",SUM('Data Input'!X373:AQ373))","v":""},{"$f":"IF(S369=\"\",\"\",S369/COUNTIF('Data Input'!$C$8:$AQ$8,$S$2))","v":""}]
[{"$f":"IF('Data Input'!A374=0,\"\",'Data Input'!A374)","v":""},{"$f":"IF(ISBLANK('Data Input'!A374),\"\",COUNTIF('Data Input'!C374:AQ374,\"\")-1)","v":""},{"$f":"IF(ISBLANK('Data Input'!A374),\"\",COUNTIF('Data Input'!C374:AQ374,\"0\"))","v":""},{"$f":"IF(ISBLANK('Data Input'!A374),\"\",SUM(B370,C370))","v":""},{"$f":"IF(ISBLANK('Data Input'!A374),\"\",SUM('Data Input'!C374:AQ374))","v":""},{"$f":"IF(E370=\"\",\"\",E370/(COUNTA('Data Input'!$C$8:$AQ$8)-1))","v":""},{"$f":"IF(ISBLANK('Data Input'!A374),\"\",SUM('Data Input'!H374,'Data Input'!I374,'Data Input'!M374,'Data Input'!N374))","v":""},{"$f":"IF(G370=\"\",\"\",G370/COUNTIF('Data Input'!$C$8:$AQ$8,$G$2))","v":""},{"$f":"IF(ISBLANK('Data Input'!A374),\"\",SUM('Data Input'!J374,'Data Input'!K374,'Data Input'!U374,'Data Input'!V374))","v":""},{"$f":"IF(I370=\"\",\"\",I370/COUNTIF('Data Input'!$C$8:$AQ$8,$I$2))","v":""},{"$f":"IF(ISBLANK('Data Input'!A374),\"\",SUM('Data Input'!D374))","v":""},{"$f":"IF(K370=\"\",\"\",K370/COUNTIF('Data Input'!$C$8:$AQ$8,$K$2))","v":""},{"$f":"IF(ISBLANK('Data Input'!A374),\"\",SUM('Data Input'!O374,'Data Input'!P374,'Data Input'!R374,'Data Input'!S374))","v":""},{"$f":"IF(M370=\"\",\"\",M370/COUNTIF('Data Input'!$C$8:$AQ$8,$M$2))","v":""},{"$f":"IF(ISBLANK('Data Input'!A374),\"\",SUM('Data Input'!C374,'Data Input'!E374,'Data Input'!F374,'Data Input'!G374,'Data Input'!Q374,'Data Input'!T374))","v":""},{"$f":"IF(O370=\"\",\"\",O370/COUNTIF('Data Input'!$C$8:$AQ$8,$O$2))","v":""},{"$f":"IF(ISBLANK('Data Input'!A374),\"\",SUM('Data Input'!L374))","v":""},{"$f":"IF(Q370=\"\",\"\",Q370/COUNTIF('Data Input'!$C$8:$AQ$8,$Q$2))","v":""},{"$f":"IF(ISBLANK('Data Input'!A374),\"\",SUM('Data Input'!X374:AQ374))","v":""},{"$f":"IF(S370=\"\",\"\",S370/COUNTIF('Data Input'!$C$8:$AQ$8,$S$2))","v":""}]
[{"$f":"IF('Data Input'!A375=0,\"\",'Data Input'!A375)","v":""},{"$f":"IF(ISBLANK('Data Input'!A375),\"\",COUNTIF('Data Input'!C375:AQ375,\"\")-1)","v":""},{"$f":"IF(ISBLANK('Data Input'!A375),\"\",COUNTIF('Data Input'!C375:AQ375,\"0\"))","v":""},{"$f":"IF(ISBLANK('Data Input'!A375),\"\",SUM(B371,C371))","v":""},{"$f":"IF(ISBLANK('Data Input'!A375),\"\",SUM('Data Input'!C375:AQ375))","v":""},{"$f":"IF(E371=\"\",\"\",E371/(COUNTA('Data Input'!$C$8:$AQ$8)-1))","v":""},{"$f":"IF(ISBLANK('Data Input'!A375),\"\",SUM('Data Input'!H375,'Data Input'!I375,'Data Input'!M375,'Data Input'!N375))","v":""},{"$f":"IF(G371=\"\",\"\",G371/COUNTIF('Data Input'!$C$8:$AQ$8,$G$2))","v":""},{"$f":"IF(ISBLANK('Data Input'!A375),\"\",SUM('Data Input'!J375,'Data Input'!K375,'Data Input'!U375,'Data Input'!V375))","v":""},{"$f":"IF(I371=\"\",\"\",I371/COUNTIF('Data Input'!$C$8:$AQ$8,$I$2))","v":""},{"$f":"IF(ISBLANK('Data Input'!A375),\"\",SUM('Data Input'!D375))","v":""},{"$f":"IF(K371=\"\",\"\",K371/COUNTIF('Data Input'!$C$8:$AQ$8,$K$2))","v":""},{"$f":"IF(ISBLANK('Data Input'!A375),\"\",SUM('Data Input'!O375,'Data Input'!P375,'Data Input'!R375,'Data Input'!S375))","v":""},{"$f":"IF(M371=\"\",\"\",M371/COUNTIF('Data Input'!$C$8:$AQ$8,$M$2))","v":""},{"$f":"IF(ISBLANK('Data Input'!A375),\"\",SUM('Data Input'!C375,'Data Input'!E375,'Data Input'!F375,'Data Input'!G375,'Data Input'!Q375,'Data Input'!T375))","v":""},{"$f":"IF(O371=\"\",\"\",O371/COUNTIF('Data Input'!$C$8:$AQ$8,$O$2))","v":""},{"$f":"IF(ISBLANK('Data Input'!A375),\"\",SUM('Data Input'!L375))","v":""},{"$f":"IF(Q371=\"\",\"\",Q371/COUNTIF('Data Input'!$C$8:$AQ$8,$Q$2))","v":""},{"$f":"IF(ISBLANK('Data Input'!A375),\"\",SUM('Data Input'!X375:AQ375))","v":""},{"$f":"IF(S371=\"\",\"\",S371/COUNTIF('Data Input'!$C$8:$AQ$8,$S$2))","v":""}]
[{"$f":"IF('Data Input'!A376=0,\"\",'Data Input'!A376)","v":""},{"$f":"IF(ISBLANK('Data Input'!A376),\"\",COUNTIF('Data Input'!C376:AQ376,\"\")-1)","v":""},{"$f":"IF(ISBLANK('Data Input'!A376),\"\",COUNTIF('Data Input'!C376:AQ376,\"0\"))","v":""},{"$f":"IF(ISBLANK('Data Input'!A376),\"\",SUM(B372,C372))","v":""},{"$f":"IF(ISBLANK('Data Input'!A376),\"\",SUM('Data Input'!C376:AQ376))","v":""},{"$f":"IF(E372=\"\",\"\",E372/(COUNTA('Data Input'!$C$8:$AQ$8)-1))","v":""},{"$f":"IF(ISBLANK('Data Input'!A376),\"\",SUM('Data Input'!H376,'Data Input'!I376,'Data Input'!M376,'Data Input'!N376))","v":""},{"$f":"IF(G372=\"\",\"\",G372/COUNTIF('Data Input'!$C$8:$AQ$8,$G$2))","v":""},{"$f":"IF(ISBLANK('Data Input'!A376),\"\",SUM('Data Input'!J376,'Data Input'!K376,'Data Input'!U376,'Data Input'!V376))","v":""},{"$f":"IF(I372=\"\",\"\",I372/COUNTIF('Data Input'!$C$8:$AQ$8,$I$2))","v":""},{"$f":"IF(ISBLANK('Data Input'!A376),\"\",SUM('Data Input'!D376))","v":""},{"$f":"IF(K372=\"\",\"\",K372/COUNTIF('Data Input'!$C$8:$AQ$8,$K$2))","v":""},{"$f":"IF(ISBLANK('Data Input'!A376),\"\",SUM('Data Input'!O376,'Data Input'!P376,'Data Input'!R376,'Data Input'!S376))","v":""},{"$f":"IF(M372=\"\",\"\",M372/COUNTIF('Data Input'!$C$8:$AQ$8,$M$2))","v":""},{"$f":"IF(ISBLANK('Data Input'!A376),\"\",SUM('Data Input'!C376,'Data Input'!E376,'Data Input'!F376,'Data Input'!G376,'Data Input'!Q376,'Data Input'!T376))","v":""},{"$f":"IF(O372=\"\",\"\",O372/COUNTIF('Data Input'!$C$8:$AQ$8,$O$2))","v":""},{"$f":"IF(ISBLANK('Data Input'!A376),\"\",SUM('Data Input'!L376))","v":""},{"$f":"IF(Q372=\"\",\"\",Q372/COUNTIF('Data Input'!$C$8:$AQ$8,$Q$2))","v":""},{"$f":"IF(ISBLANK('Data Input'!A376),\"\",SUM('Data Input'!X376:AQ376))","v":""},{"$f":"IF(S372=\"\",\"\",S372/COUNTIF('Data Input'!$C$8:$AQ$8,$S$2))","v":""}]
[{"$f":"IF('Data Input'!A377=0,\"\",'Data Input'!A377)","v":""},{"$f":"IF(ISBLANK('Data Input'!A377),\"\",COUNTIF('Data Input'!C377:AQ377,\"\")-1)","v":""},{"$f":"IF(ISBLANK('Data Input'!A377),\"\",COUNTIF('Data Input'!C377:AQ377,\"0\"))","v":""},{"$f":"IF(ISBLANK('Data Input'!A377),\"\",SUM(B373,C373))","v":""},{"$f":"IF(ISBLANK('Data Input'!A377),\"\",SUM('Data Input'!C377:AQ377))","v":""},{"$f":"IF(E373=\"\",\"\",E373/(COUNTA('Data Input'!$C$8:$AQ$8)-1))","v":""},{"$f":"IF(ISBLANK('Data Input'!A377),\"\",SUM('Data Input'!H377,'Data Input'!I377,'Data Input'!M377,'Data Input'!N377))","v":""},{"$f":"IF(G373=\"\",\"\",G373/COUNTIF('Data Input'!$C$8:$AQ$8,$G$2))","v":""},{"$f":"IF(ISBLANK('Data Input'!A377),\"\",SUM('Data Input'!J377,'Data Input'!K377,'Data Input'!U377,'Data Input'!V377))","v":""},{"$f":"IF(I373=\"\",\"\",I373/COUNTIF('Data Input'!$C$8:$AQ$8,$I$2))","v":""},{"$f":"IF(ISBLANK('Data Input'!A377),\"\",SUM('Data Input'!D377))","v":""},{"$f":"IF(K373=\"\",\"\",K373/COUNTIF('Data Input'!$C$8:$AQ$8,$K$2))","v":""},{"$f":"IF(ISBLANK('Data Input'!A377),\"\",SUM('Data Input'!O377,'Data Input'!P377,'Data Input'!R377,'Data Input'!S377))","v":""},{"$f":"IF(M373=\"\",\"\",M373/COUNTIF('Data Input'!$C$8:$AQ$8,$M$2))","v":""},{"$f":"IF(ISBLANK('Data Input'!A377),\"\",SUM('Data Input'!C377,'Data Input'!E377,'Data Input'!F377,'Data Input'!G377,'Data Input'!Q377,'Data Input'!T377))","v":""},{"$f":"IF(O373=\"\",\"\",O373/COUNTIF('Data Input'!$C$8:$AQ$8,$O$2))","v":""},{"$f":"IF(ISBLANK('Data Input'!A377),\"\",SUM('Data Input'!L377))","v":""},{"$f":"IF(Q373=\"\",\"\",Q373/COUNTIF('Data Input'!$C$8:$AQ$8,$Q$2))","v":""},{"$f":"IF(ISBLANK('Data Input'!A377),\"\",SUM('Data Input'!X377:AQ377))","v":""},{"$f":"IF(S373=\"\",\"\",S373/COUNTIF('Data Input'!$C$8:$AQ$8,$S$2))","v":""}]
[{"$f":"IF('Data Input'!A378=0,\"\",'Data Input'!A378)","v":""},{"$f":"IF(ISBLANK('Data Input'!A378),\"\",COUNTIF('Data Input'!C378:AQ378,\"\")-1)","v":""},{"$f":"IF(ISBLANK('Data Input'!A378),\"\",COUNTIF('Data Input'!C378:AQ378,\"0\"))","v":""},{"$f":"IF(ISBLANK('Data Input'!A378),\"\",SUM(B374,C374))","v":""},{"$f":"IF(ISBLANK('Data Input'!A378),\"\",SUM('Data Input'!C378:AQ378))","v":""},{"$f":"IF(E374=\"\",\"\",E374/(COUNTA('Data Input'!$C$8:$AQ$8)-1))","v":""},{"$f":"IF(ISBLANK('Data Input'!A378),\"\",SUM('Data Input'!H378,'Data Input'!I378,'Data Input'!M378,'Data Input'!N378))","v":""},{"$f":"IF(G374=\"\",\"\",G374/COUNTIF('Data Input'!$C$8:$AQ$8,$G$2))","v":""},{"$f":"IF(ISBLANK('Data Input'!A378),\"\",SUM('Data Input'!J378,'Data Input'!K378,'Data Input'!U378,'Data Input'!V378))","v":""},{"$f":"IF(I374=\"\",\"\",I374/COUNTIF('Data Input'!$C$8:$AQ$8,$I$2))","v":""},{"$f":"IF(ISBLANK('Data Input'!A378),\"\",SUM('Data Input'!D378))","v":""},{"$f":"IF(K374=\"\",\"\",K374/COUNTIF('Data Input'!$C$8:$AQ$8,$K$2))","v":""},{"$f":"IF(ISBLANK('Data Input'!A378),\"\",SUM('Data Input'!O378,'Data Input'!P378,'Data Input'!R378,'Data Input'!S378))","v":""},{"$f":"IF(M374=\"\",\"\",M374/COUNTIF('Data Input'!$C$8:$AQ$8,$M$2))","v":""},{"$f":"IF(ISBLANK('Data Input'!A378),\"\",SUM('Data Input'!C378,'Data Input'!E378,'Data Input'!F378,'Data Input'!G378,'Data Input'!Q378,'Data Input'!T378))","v":""},{"$f":"IF(O374=\"\",\"\",O374/COUNTIF('Data Input'!$C$8:$AQ$8,$O$2))","v":""},{"$f":"IF(ISBLANK('Data Input'!A378),\"\",SUM('Data Input'!L378))","v":""},{"$f":"IF(Q374=\"\",\"\",Q374/COUNTIF('Data Input'!$C$8:$AQ$8,$Q$2))","v":""},{"$f":"IF(ISBLANK('Data Input'!A378),\"\",SUM('Data Input'!X378:AQ378))","v":""},{"$f":"IF(S374=\"\",\"\",S374/COUNTIF('Data Input'!$C$8:$AQ$8,$S$2))","v":""}]
[{"$f":"IF('Data Input'!A379=0,\"\",'Data Input'!A379)","v":""},{"$f":"IF(ISBLANK('Data Input'!A379),\"\",COUNTIF('Data Input'!C379:AQ379,\"\")-1)","v":""},{"$f":"IF(ISBLANK('Data Input'!A379),\"\",COUNTIF('Data Input'!C379:AQ379,\"0\"))","v":""},{"$f":"IF(ISBLANK('Data Input'!A379),\"\",SUM(B375,C375))","v":""},{"$f":"IF(ISBLANK('Data Input'!A379),\"\",SUM('Data Input'!C379:AQ379))","v":""},{"$f":"IF(E375=\"\",\"\",E375/(COUNTA('Data Input'!$C$8:$AQ$8)-1))","v":""},{"$f":"IF(ISBLANK('Data Input'!A379),\"\",SUM('Data Input'!H379,'Data Input'!I379,'Data Input'!M379,'Data Input'!N379))","v":""},{"$f":"IF(G375=\"\",\"\",G375/COUNTIF('Data Input'!$C$8:$AQ$8,$G$2))","v":""},{"$f":"IF(ISBLANK('Data Input'!A379),\"\",SUM('Data Input'!J379,'Data Input'!K379,'Data Input'!U379,'Data Input'!V379))","v":""},{"$f":"IF(I375=\"\",\"\",I375/COUNTIF('Data Input'!$C$8:$AQ$8,$I$2))","v":""},{"$f":"IF(ISBLANK('Data Input'!A379),\"\",SUM('Data Input'!D379))","v":""},{"$f":"IF(K375=\"\",\"\",K375/COUNTIF('Data Input'!$C$8:$AQ$8,$K$2))","v":""},{"$f":"IF(ISBLANK('Data Input'!A379),\"\",SUM('Data Input'!O379,'Data Input'!P379,'Data Input'!R379,'Data Input'!S379))","v":""},{"$f":"IF(M375=\"\",\"\",M375/COUNTIF('Data Input'!$C$8:$AQ$8,$M$2))","v":""},{"$f":"IF(ISBLANK('Data Input'!A379),\"\",SUM('Data Input'!C379,'Data Input'!E379,'Data Input'!F379,'Data Input'!G379,'Data Input'!Q379,'Data Input'!T379))","v":""},{"$f":"IF(O375=\"\",\"\",O375/COUNTIF('Data Input'!$C$8:$AQ$8,$O$2))","v":""},{"$f":"IF(ISBLANK('Data Input'!A379),\"\",SUM('Data Input'!L379))","v":""},{"$f":"IF(Q375=\"\",\"\",Q375/COUNTIF('Data Input'!$C$8:$AQ$8,$Q$2))","v":""},{"$f":"IF(ISBLANK('Data Input'!A379),\"\",SUM('Data Input'!X379:AQ379))","v":""},{"$f":"IF(S375=\"\",\"\",S375/COUNTIF('Data Input'!$C$8:$AQ$8,$S$2))","v":""}]
[{"$f":"IF('Data Input'!A380=0,\"\",'Data Input'!A380)","v":""},{"$f":"IF(ISBLANK('Data Input'!A380),\"\",COUNTIF('Data Input'!C380:AQ380,\"\")-1)","v":""},{"$f":"IF(ISBLANK('Data Input'!A380),\"\",COUNTIF('Data Input'!C380:AQ380,\"0\"))","v":""},{"$f":"IF(ISBLANK('Data Input'!A380),\"\",SUM(B376,C376))","v":""},{"$f":"IF(ISBLANK('Data Input'!A380),\"\",SUM('Data Input'!C380:AQ380))","v":""},{"$f":"IF(E376=\"\",\"\",E376/(COUNTA('Data Input'!$C$8:$AQ$8)-1))","v":""},{"$f":"IF(ISBLANK('Data Input'!A380),\"\",SUM('Data Input'!H380,'Data Input'!I380,'Data Input'!M380,'Data Input'!N380))","v":""},{"$f":"IF(G376=\"\",\"\",G376/COUNTIF('Data Input'!$C$8:$AQ$8,$G$2))","v":""},{"$f":"IF(ISBLANK('Data Input'!A380),\"\",SUM('Data Input'!J380,'Data Input'!K380,'Data Input'!U380,'Data Input'!V380))","v":""},{"$f":"IF(I376=\"\",\"\",I376/COUNTIF('Data Input'!$C$8:$AQ$8,$I$2))","v":""},{"$f":"IF(ISBLANK('Data Input'!A380),\"\",SUM('Data Input'!D380))","v":""},{"$f":"IF(K376=\"\",\"\",K376/COUNTIF('Data Input'!$C$8:$AQ$8,$K$2))","v":""},{"$f":"IF(ISBLANK('Data Input'!A380),\"\",SUM('Data Input'!O380,'Data Input'!P380,'Data Input'!R380,'Data Input'!S380))","v":""},{"$f":"IF(M376=\"\",\"\",M376/COUNTIF('Data Input'!$C$8:$AQ$8,$M$2))","v":""},{"$f":"IF(ISBLANK('Data Input'!A380),\"\",SUM('Data Input'!C380,'Data Input'!E380,'Data Input'!F380,'Data Input'!G380,'Data Input'!Q380,'Data Input'!T380))","v":""},{"$f":"IF(O376=\"\",\"\",O376/COUNTIF('Data Input'!$C$8:$AQ$8,$O$2))","v":""},{"$f":"IF(ISBLANK('Data Input'!A380),\"\",SUM('Data Input'!L380))","v":""},{"$f":"IF(Q376=\"\",\"\",Q376/COUNTIF('Data Input'!$C$8:$AQ$8,$Q$2))","v":""},{"$f":"IF(ISBLANK('Data Input'!A380),\"\",SUM('Data Input'!X380:AQ380))","v":""},{"$f":"IF(S376=\"\",\"\",S376/COUNTIF('Data Input'!$C$8:$AQ$8,$S$2))","v":""}]
[{"$f":"IF('Data Input'!A381=0,\"\",'Data Input'!A381)","v":""},{"$f":"IF(ISBLANK('Data Input'!A381),\"\",COUNTIF('Data Input'!C381:AQ381,\"\")-1)","v":""},{"$f":"IF(ISBLANK('Data Input'!A381),\"\",COUNTIF('Data Input'!C381:AQ381,\"0\"))","v":""},{"$f":"IF(ISBLANK('Data Input'!A381),\"\",SUM(B377,C377))","v":""},{"$f":"IF(ISBLANK('Data Input'!A381),\"\",SUM('Data Input'!C381:AQ381))","v":""},{"$f":"IF(E377=\"\",\"\",E377/(COUNTA('Data Input'!$C$8:$AQ$8)-1))","v":""},{"$f":"IF(ISBLANK('Data Input'!A381),\"\",SUM('Data Input'!H381,'Data Input'!I381,'Data Input'!M381,'Data Input'!N381))","v":""},{"$f":"IF(G377=\"\",\"\",G377/COUNTIF('Data Input'!$C$8:$AQ$8,$G$2))","v":""},{"$f":"IF(ISBLANK('Data Input'!A381),\"\",SUM('Data Input'!J381,'Data Input'!K381,'Data Input'!U381,'Data Input'!V381))","v":""},{"$f":"IF(I377=\"\",\"\",I377/COUNTIF('Data Input'!$C$8:$AQ$8,$I$2))","v":""},{"$f":"IF(ISBLANK('Data Input'!A381),\"\",SUM('Data Input'!D381))","v":""},{"$f":"IF(K377=\"\",\"\",K377/COUNTIF('Data Input'!$C$8:$AQ$8,$K$2))","v":""},{"$f":"IF(ISBLANK('Data Input'!A381),\"\",SUM('Data Input'!O381,'Data Input'!P381,'Data Input'!R381,'Data Input'!S381))","v":""},{"$f":"IF(M377=\"\",\"\",M377/COUNTIF('Data Input'!$C$8:$AQ$8,$M$2))","v":""},{"$f":"IF(ISBLANK('Data Input'!A381),\"\",SUM('Data Input'!C381,'Data Input'!E381,'Data Input'!F381,'Data Input'!G381,'Data Input'!Q381,'Data Input'!T381))","v":""},{"$f":"IF(O377=\"\",\"\",O377/COUNTIF('Data Input'!$C$8:$AQ$8,$O$2))","v":""},{"$f":"IF(ISBLANK('Data Input'!A381),\"\",SUM('Data Input'!L381))","v":""},{"$f":"IF(Q377=\"\",\"\",Q377/COUNTIF('Data Input'!$C$8:$AQ$8,$Q$2))","v":""},{"$f":"IF(ISBLANK('Data Input'!A381),\"\",SUM('Data Input'!X381:AQ381))","v":""},{"$f":"IF(S377=\"\",\"\",S377/COUNTIF('Data Input'!$C$8:$AQ$8,$S$2))","v":""}]
[{"$f":"IF('Data Input'!A382=0,\"\",'Data Input'!A382)","v":""},{"$f":"IF(ISBLANK('Data Input'!A382),\"\",COUNTIF('Data Input'!C382:AQ382,\"\")-1)","v":""},{"$f":"IF(ISBLANK('Data Input'!A382),\"\",COUNTIF('Data Input'!C382:AQ382,\"0\"))","v":""},{"$f":"IF(ISBLANK('Data Input'!A382),\"\",SUM(B378,C378))","v":""},{"$f":"IF(ISBLANK('Data Input'!A382),\"\",SUM('Data Input'!C382:AQ382))","v":""},{"$f":"IF(E378=\"\",\"\",E378/(COUNTA('Data Input'!$C$8:$AQ$8)-1))","v":""},{"$f":"IF(ISBLANK('Data Input'!A382),\"\",SUM('Data Input'!H382,'Data Input'!I382,'Data Input'!M382,'Data Input'!N382))","v":""},{"$f":"IF(G378=\"\",\"\",G378/COUNTIF('Data Input'!$C$8:$AQ$8,$G$2))","v":""},{"$f":"IF(ISBLANK('Data Input'!A382),\"\",SUM('Data Input'!J382,'Data Input'!K382,'Data Input'!U382,'Data Input'!V382))","v":""},{"$f":"IF(I378=\"\",\"\",I378/COUNTIF('Data Input'!$C$8:$AQ$8,$I$2))","v":""},{"$f":"IF(ISBLANK('Data Input'!A382),\"\",SUM('Data Input'!D382))","v":""},{"$f":"IF(K378=\"\",\"\",K378/COUNTIF('Data Input'!$C$8:$AQ$8,$K$2))","v":""},{"$f":"IF(ISBLANK('Data Input'!A382),\"\",SUM('Data Input'!O382,'Data Input'!P382,'Data Input'!R382,'Data Input'!S382))","v":""},{"$f":"IF(M378=\"\",\"\",M378/COUNTIF('Data Input'!$C$8:$AQ$8,$M$2))","v":""},{"$f":"IF(ISBLANK('Data Input'!A382),\"\",SUM('Data Input'!C382,'Data Input'!E382,'Data Input'!F382,'Data Input'!G382,'Data Input'!Q382,'Data Input'!T382))","v":""},{"$f":"IF(O378=\"\",\"\",O378/COUNTIF('Data Input'!$C$8:$AQ$8,$O$2))","v":""},{"$f":"IF(ISBLANK('Data Input'!A382),\"\",SUM('Data Input'!L382))","v":""},{"$f":"IF(Q378=\"\",\"\",Q378/COUNTIF('Data Input'!$C$8:$AQ$8,$Q$2))","v":""},{"$f":"IF(ISBLANK('Data Input'!A382),\"\",SUM('Data Input'!X382:AQ382))","v":""},{"$f":"IF(S378=\"\",\"\",S378/COUNTIF('Data Input'!$C$8:$AQ$8,$S$2))","v":""}]
[{"$f":"IF('Data Input'!A383=0,\"\",'Data Input'!A383)","v":""},{"$f":"IF(ISBLANK('Data Input'!A383),\"\",COUNTIF('Data Input'!C383:AQ383,\"\")-1)","v":""},{"$f":"IF(ISBLANK('Data Input'!A383),\"\",COUNTIF('Data Input'!C383:AQ383,\"0\"))","v":""},{"$f":"IF(ISBLANK('Data Input'!A383),\"\",SUM(B379,C379))","v":""},{"$f":"IF(ISBLANK('Data Input'!A383),\"\",SUM('Data Input'!C383:AQ383))","v":""},{"$f":"IF(E379=\"\",\"\",E379/(COUNTA('Data Input'!$C$8:$AQ$8)-1))","v":""},{"$f":"IF(ISBLANK('Data Input'!A383),\"\",SUM('Data Input'!H383,'Data Input'!I383,'Data Input'!M383,'Data Input'!N383))","v":""},{"$f":"IF(G379=\"\",\"\",G379/COUNTIF('Data Input'!$C$8:$AQ$8,$G$2))","v":""},{"$f":"IF(ISBLANK('Data Input'!A383),\"\",SUM('Data Input'!J383,'Data Input'!K383,'Data Input'!U383,'Data Input'!V383))","v":""},{"$f":"IF(I379=\"\",\"\",I379/COUNTIF('Data Input'!$C$8:$AQ$8,$I$2))","v":""},{"$f":"IF(ISBLANK('Data Input'!A383),\"\",SUM('Data Input'!D383))","v":""},{"$f":"IF(K379=\"\",\"\",K379/COUNTIF('Data Input'!$C$8:$AQ$8,$K$2))","v":""},{"$f":"IF(ISBLANK('Data Input'!A383),\"\",SUM('Data Input'!O383,'Data Input'!P383,'Data Input'!R383,'Data Input'!S383))","v":""},{"$f":"IF(M379=\"\",\"\",M379/COUNTIF('Data Input'!$C$8:$AQ$8,$M$2))","v":""},{"$f":"IF(ISBLANK('Data Input'!A383),\"\",SUM('Data Input'!C383,'Data Input'!E383,'Data Input'!F383,'Data Input'!G383,'Data Input'!Q383,'Data Input'!T383))","v":""},{"$f":"IF(O379=\"\",\"\",O379/COUNTIF('Data Input'!$C$8:$AQ$8,$O$2))","v":""},{"$f":"IF(ISBLANK('Data Input'!A383),\"\",SUM('Data Input'!L383))","v":""},{"$f":"IF(Q379=\"\",\"\",Q379/COUNTIF('Data Input'!$C$8:$AQ$8,$Q$2))","v":""},{"$f":"IF(ISBLANK('Data Input'!A383),\"\",SUM('Data Input'!X383:AQ383))","v":""},{"$f":"IF(S379=\"\",\"\",S379/COUNTIF('Data Input'!$C$8:$AQ$8,$S$2))","v":""}]
[{"$f":"IF('Data Input'!A384=0,\"\",'Data Input'!A384)","v":""},{"$f":"IF(ISBLANK('Data Input'!A384),\"\",COUNTIF('Data Input'!C384:AQ384,\"\")-1)","v":""},{"$f":"IF(ISBLANK('Data Input'!A384),\"\",COUNTIF('Data Input'!C384:AQ384,\"0\"))","v":""},{"$f":"IF(ISBLANK('Data Input'!A384),\"\",SUM(B380,C380))","v":""},{"$f":"IF(ISBLANK('Data Input'!A384),\"\",SUM('Data Input'!C384:AQ384))","v":""},{"$f":"IF(E380=\"\",\"\",E380/(COUNTA('Data Input'!$C$8:$AQ$8)-1))","v":""},{"$f":"IF(ISBLANK('Data Input'!A384),\"\",SUM('Data Input'!H384,'Data Input'!I384,'Data Input'!M384,'Data Input'!N384))","v":""},{"$f":"IF(G380=\"\",\"\",G380/COUNTIF('Data Input'!$C$8:$AQ$8,$G$2))","v":""},{"$f":"IF(ISBLANK('Data Input'!A384),\"\",SUM('Data Input'!J384,'Data Input'!K384,'Data Input'!U384,'Data Input'!V384))","v":""},{"$f":"IF(I380=\"\",\"\",I380/COUNTIF('Data Input'!$C$8:$AQ$8,$I$2))","v":""},{"$f":"IF(ISBLANK('Data Input'!A384),\"\",SUM('Data Input'!D384))","v":""},{"$f":"IF(K380=\"\",\"\",K380/COUNTIF('Data Input'!$C$8:$AQ$8,$K$2))","v":""},{"$f":"IF(ISBLANK('Data Input'!A384),\"\",SUM('Data Input'!O384,'Data Input'!P384,'Data Input'!R384,'Data Input'!S384))","v":""},{"$f":"IF(M380=\"\",\"\",M380/COUNTIF('Data Input'!$C$8:$AQ$8,$M$2))","v":""},{"$f":"IF(ISBLANK('Data Input'!A384),\"\",SUM('Data Input'!C384,'Data Input'!E384,'Data Input'!F384,'Data Input'!G384,'Data Input'!Q384,'Data Input'!T384))","v":""},{"$f":"IF(O380=\"\",\"\",O380/COUNTIF('Data Input'!$C$8:$AQ$8,$O$2))","v":""},{"$f":"IF(ISBLANK('Data Input'!A384),\"\",SUM('Data Input'!L384))","v":""},{"$f":"IF(Q380=\"\",\"\",Q380/COUNTIF('Data Input'!$C$8:$AQ$8,$Q$2))","v":""},{"$f":"IF(ISBLANK('Data Input'!A384),\"\",SUM('Data Input'!X384:AQ384))","v":""},{"$f":"IF(S380=\"\",\"\",S380/COUNTIF('Data Input'!$C$8:$AQ$8,$S$2))","v":""}]
[{"$f":"IF('Data Input'!A385=0,\"\",'Data Input'!A385)","v":""},{"$f":"IF(ISBLANK('Data Input'!A385),\"\",COUNTIF('Data Input'!C385:AQ385,\"\")-1)","v":""},{"$f":"IF(ISBLANK('Data Input'!A385),\"\",COUNTIF('Data Input'!C385:AQ385,\"0\"))","v":""},{"$f":"IF(ISBLANK('Data Input'!A385),\"\",SUM(B381,C381))","v":""},{"$f":"IF(ISBLANK('Data Input'!A385),\"\",SUM('Data Input'!C385:AQ385))","v":""},{"$f":"IF(E381=\"\",\"\",E381/(COUNTA('Data Input'!$C$8:$AQ$8)-1))","v":""},{"$f":"IF(ISBLANK('Data Input'!A385),\"\",SUM('Data Input'!H385,'Data Input'!I385,'Data Input'!M385,'Data Input'!N385))","v":""},{"$f":"IF(G381=\"\",\"\",G381/COUNTIF('Data Input'!$C$8:$AQ$8,$G$2))","v":""},{"$f":"IF(ISBLANK('Data Input'!A385),\"\",SUM('Data Input'!J385,'Data Input'!K385,'Data Input'!U385,'Data Input'!V385))","v":""},{"$f":"IF(I381=\"\",\"\",I381/COUNTIF('Data Input'!$C$8:$AQ$8,$I$2))","v":""},{"$f":"IF(ISBLANK('Data Input'!A385),\"\",SUM('Data Input'!D385))","v":""},{"$f":"IF(K381=\"\",\"\",K381/COUNTIF('Data Input'!$C$8:$AQ$8,$K$2))","v":""},{"$f":"IF(ISBLANK('Data Input'!A385),\"\",SUM('Data Input'!O385,'Data Input'!P385,'Data Input'!R385,'Data Input'!S385))","v":""},{"$f":"IF(M381=\"\",\"\",M381/COUNTIF('Data Input'!$C$8:$AQ$8,$M$2))","v":""},{"$f":"IF(ISBLANK('Data Input'!A385),\"\",SUM('Data Input'!C385,'Data Input'!E385,'Data Input'!F385,'Data Input'!G385,'Data Input'!Q385,'Data Input'!T385))","v":""},{"$f":"IF(O381=\"\",\"\",O381/COUNTIF('Data Input'!$C$8:$AQ$8,$O$2))","v":""},{"$f":"IF(ISBLANK('Data Input'!A385),\"\",SUM('Data Input'!L385))","v":""},{"$f":"IF(Q381=\"\",\"\",Q381/COUNTIF('Data Input'!$C$8:$AQ$8,$Q$2))","v":""},{"$f":"IF(ISBLANK('Data Input'!A385),\"\",SUM('Data Input'!X385:AQ385))","v":""},{"$f":"IF(S381=\"\",\"\",S381/COUNTIF('Data Input'!$C$8:$AQ$8,$S$2))","v":""}]
[{"$f":"IF('Data Input'!A386=0,\"\",'Data Input'!A386)","v":""},{"$f":"IF(ISBLANK('Data Input'!A386),\"\",COUNTIF('Data Input'!C386:AQ386,\"\")-1)","v":""},{"$f":"IF(ISBLANK('Data Input'!A386),\"\",COUNTIF('Data Input'!C386:AQ386,\"0\"))","v":""},{"$f":"IF(ISBLANK('Data Input'!A386),\"\",SUM(B382,C382))","v":""},{"$f":"IF(ISBLANK('Data Input'!A386),\"\",SUM('Data Input'!C386:AQ386))","v":""},{"$f":"IF(E382=\"\",\"\",E382/(COUNTA('Data Input'!$C$8:$AQ$8)-1))","v":""},{"$f":"IF(ISBLANK('Data Input'!A386),\"\",SUM('Data Input'!H386,'Data Input'!I386,'Data Input'!M386,'Data Input'!N386))","v":""},{"$f":"IF(G382=\"\",\"\",G382/COUNTIF('Data Input'!$C$8:$AQ$8,$G$2))","v":""},{"$f":"IF(ISBLANK('Data Input'!A386),\"\",SUM('Data Input'!J386,'Data Input'!K386,'Data Input'!U386,'Data Input'!V386))","v":""},{"$f":"IF(I382=\"\",\"\",I382/COUNTIF('Data Input'!$C$8:$AQ$8,$I$2))","v":""},{"$f":"IF(ISBLANK('Data Input'!A386),\"\",SUM('Data Input'!D386))","v":""},{"$f":"IF(K382=\"\",\"\",K382/COUNTIF('Data Input'!$C$8:$AQ$8,$K$2))","v":""},{"$f":"IF(ISBLANK('Data Input'!A386),\"\",SUM('Data Input'!O386,'Data Input'!P386,'Data Input'!R386,'Data Input'!S386))","v":""},{"$f":"IF(M382=\"\",\"\",M382/COUNTIF('Data Input'!$C$8:$AQ$8,$M$2))","v":""},{"$f":"IF(ISBLANK('Data Input'!A386),\"\",SUM('Data Input'!C386,'Data Input'!E386,'Data Input'!F386,'Data Input'!G386,'Data Input'!Q386,'Data Input'!T386))","v":""},{"$f":"IF(O382=\"\",\"\",O382/COUNTIF('Data Input'!$C$8:$AQ$8,$O$2))","v":""},{"$f":"IF(ISBLANK('Data Input'!A386),\"\",SUM('Data Input'!L386))","v":""},{"$f":"IF(Q382=\"\",\"\",Q382/COUNTIF('Data Input'!$C$8:$AQ$8,$Q$2))","v":""},{"$f":"IF(ISBLANK('Data Input'!A386),\"\",SUM('Data Input'!X386:AQ386))","v":""},{"$f":"IF(S382=\"\",\"\",S382/COUNTIF('Data Input'!$C$8:$AQ$8,$S$2))","v":""}]
[{"$f":"IF('Data Input'!A387=0,\"\",'Data Input'!A387)","v":""},{"$f":"IF(ISBLANK('Data Input'!A387),\"\",COUNTIF('Data Input'!C387:AQ387,\"\")-1)","v":""},{"$f":"IF(ISBLANK('Data Input'!A387),\"\",COUNTIF('Data Input'!C387:AQ387,\"0\"))","v":""},{"$f":"IF(ISBLANK('Data Input'!A387),\"\",SUM(B383,C383))","v":""},{"$f":"IF(ISBLANK('Data Input'!A387),\"\",SUM('Data Input'!C387:AQ387))","v":""},{"$f":"IF(E383=\"\",\"\",E383/(COUNTA('Data Input'!$C$8:$AQ$8)-1))","v":""},{"$f":"IF(ISBLANK('Data Input'!A387),\"\",SUM('Data Input'!H387,'Data Input'!I387,'Data Input'!M387,'Data Input'!N387))","v":""},{"$f":"IF(G383=\"\",\"\",G383/COUNTIF('Data Input'!$C$8:$AQ$8,$G$2))","v":""},{"$f":"IF(ISBLANK('Data Input'!A387),\"\",SUM('Data Input'!J387,'Data Input'!K387,'Data Input'!U387,'Data Input'!V387))","v":""},{"$f":"IF(I383=\"\",\"\",I383/COUNTIF('Data Input'!$C$8:$AQ$8,$I$2))","v":""},{"$f":"IF(ISBLANK('Data Input'!A387),\"\",SUM('Data Input'!D387))","v":""},{"$f":"IF(K383=\"\",\"\",K383/COUNTIF('Data Input'!$C$8:$AQ$8,$K$2))","v":""},{"$f":"IF(ISBLANK('Data Input'!A387),\"\",SUM('Data Input'!O387,'Data Input'!P387,'Data Input'!R387,'Data Input'!S387))","v":""},{"$f":"IF(M383=\"\",\"\",M383/COUNTIF('Data Input'!$C$8:$AQ$8,$M$2))","v":""},{"$f":"IF(ISBLANK('Data Input'!A387),\"\",SUM('Data Input'!C387,'Data Input'!E387,'Data Input'!F387,'Data Input'!G387,'Data Input'!Q387,'Data Input'!T387))","v":""},{"$f":"IF(O383=\"\",\"\",O383/COUNTIF('Data Input'!$C$8:$AQ$8,$O$2))","v":""},{"$f":"IF(ISBLANK('Data Input'!A387),\"\",SUM('Data Input'!L387))","v":""},{"$f":"IF(Q383=\"\",\"\",Q383/COUNTIF('Data Input'!$C$8:$AQ$8,$Q$2))","v":""},{"$f":"IF(ISBLANK('Data Input'!A387),\"\",SUM('Data Input'!X387:AQ387))","v":""},{"$f":"IF(S383=\"\",\"\",S383/COUNTIF('Data Input'!$C$8:$AQ$8,$S$2))","v":""}]
[{"$f":"IF('Data Input'!A388=0,\"\",'Data Input'!A388)","v":""},{"$f":"IF(ISBLANK('Data Input'!A388),\"\",COUNTIF('Data Input'!C388:AQ388,\"\")-1)","v":""},{"$f":"IF(ISBLANK('Data Input'!A388),\"\",COUNTIF('Data Input'!C388:AQ388,\"0\"))","v":""},{"$f":"IF(ISBLANK('Data Input'!A388),\"\",SUM(B384,C384))","v":""},{"$f":"IF(ISBLANK('Data Input'!A388),\"\",SUM('Data Input'!C388:AQ388))","v":""},{"$f":"IF(E384=\"\",\"\",E384/(COUNTA('Data Input'!$C$8:$AQ$8)-1))","v":""},{"$f":"IF(ISBLANK('Data Input'!A388),\"\",SUM('Data Input'!H388,'Data Input'!I388,'Data Input'!M388,'Data Input'!N388))","v":""},{"$f":"IF(G384=\"\",\"\",G384/COUNTIF('Data Input'!$C$8:$AQ$8,$G$2))","v":""},{"$f":"IF(ISBLANK('Data Input'!A388),\"\",SUM('Data Input'!J388,'Data Input'!K388,'Data Input'!U388,'Data Input'!V388))","v":""},{"$f":"IF(I384=\"\",\"\",I384/COUNTIF('Data Input'!$C$8:$AQ$8,$I$2))","v":""},{"$f":"IF(ISBLANK('Data Input'!A388),\"\",SUM('Data Input'!D388))","v":""},{"$f":"IF(K384=\"\",\"\",K384/COUNTIF('Data Input'!$C$8:$AQ$8,$K$2))","v":""},{"$f":"IF(ISBLANK('Data Input'!A388),\"\",SUM('Data Input'!O388,'Data Input'!P388,'Data Input'!R388,'Data Input'!S388))","v":""},{"$f":"IF(M384=\"\",\"\",M384/COUNTIF('Data Input'!$C$8:$AQ$8,$M$2))","v":""},{"$f":"IF(ISBLANK('Data Input'!A388),\"\",SUM('Data Input'!C388,'Data Input'!E388,'Data Input'!F388,'Data Input'!G388,'Data Input'!Q388,'Data Input'!T388))","v":""},{"$f":"IF(O384=\"\",\"\",O384/COUNTIF('Data Input'!$C$8:$AQ$8,$O$2))","v":""},{"$f":"IF(ISBLANK('Data Input'!A388),\"\",SUM('Data Input'!L388))","v":""},{"$f":"IF(Q384=\"\",\"\",Q384/COUNTIF('Data Input'!$C$8:$AQ$8,$Q$2))","v":""},{"$f":"IF(ISBLANK('Data Input'!A388),\"\",SUM('Data Input'!X388:AQ388))","v":""},{"$f":"IF(S384=\"\",\"\",S384/COUNTIF('Data Input'!$C$8:$AQ$8,$S$2))","v":""}]
[{"$f":"IF('Data Input'!A389=0,\"\",'Data Input'!A389)","v":""},{"$f":"IF(ISBLANK('Data Input'!A389),\"\",COUNTIF('Data Input'!C389:AQ389,\"\")-1)","v":""},{"$f":"IF(ISBLANK('Data Input'!A389),\"\",COUNTIF('Data Input'!C389:AQ389,\"0\"))","v":""},{"$f":"IF(ISBLANK('Data Input'!A389),\"\",SUM(B385,C385))","v":""},{"$f":"IF(ISBLANK('Data Input'!A389),\"\",SUM('Data Input'!C389:AQ389))","v":""},{"$f":"IF(E385=\"\",\"\",E385/(COUNTA('Data Input'!$C$8:$AQ$8)-1))","v":""},{"$f":"IF(ISBLANK('Data Input'!A389),\"\",SUM('Data Input'!H389,'Data Input'!I389,'Data Input'!M389,'Data Input'!N389))","v":""},{"$f":"IF(G385=\"\",\"\",G385/COUNTIF('Data Input'!$C$8:$AQ$8,$G$2))","v":""},{"$f":"IF(ISBLANK('Data Input'!A389),\"\",SUM('Data Input'!J389,'Data Input'!K389,'Data Input'!U389,'Data Input'!V389))","v":""},{"$f":"IF(I385=\"\",\"\",I385/COUNTIF('Data Input'!$C$8:$AQ$8,$I$2))","v":""},{"$f":"IF(ISBLANK('Data Input'!A389),\"\",SUM('Data Input'!D389))","v":""},{"$f":"IF(K385=\"\",\"\",K385/COUNTIF('Data Input'!$C$8:$AQ$8,$K$2))","v":""},{"$f":"IF(ISBLANK('Data Input'!A389),\"\",SUM('Data Input'!O389,'Data Input'!P389,'Data Input'!R389,'Data Input'!S389))","v":""},{"$f":"IF(M385=\"\",\"\",M385/COUNTIF('Data Input'!$C$8:$AQ$8,$M$2))","v":""},{"$f":"IF(ISBLANK('Data Input'!A389),\"\",SUM('Data Input'!C389,'Data Input'!E389,'Data Input'!F389,'Data Input'!G389,'Data Input'!Q389,'Data Input'!T389))","v":""},{"$f":"IF(O385=\"\",\"\",O385/COUNTIF('Data Input'!$C$8:$AQ$8,$O$2))","v":""},{"$f":"IF(ISBLANK('Data Input'!A389),\"\",SUM('Data Input'!L389))","v":""},{"$f":"IF(Q385=\"\",\"\",Q385/COUNTIF('Data Input'!$C$8:$AQ$8,$Q$2))","v":""},{"$f":"IF(ISBLANK('Data Input'!A389),\"\",SUM('Data Input'!X389:AQ389))","v":""},{"$f":"IF(S385=\"\",\"\",S385/COUNTIF('Data Input'!$C$8:$AQ$8,$S$2))","v":""}]
[{"$f":"IF('Data Input'!A390=0,\"\",'Data Input'!A390)","v":""},{"$f":"IF(ISBLANK('Data Input'!A390),\"\",COUNTIF('Data Input'!C390:AQ390,\"\")-1)","v":""},{"$f":"IF(ISBLANK('Data Input'!A390),\"\",COUNTIF('Data Input'!C390:AQ390,\"0\"))","v":""},{"$f":"IF(ISBLANK('Data Input'!A390),\"\",SUM(B386,C386))","v":""},{"$f":"IF(ISBLANK('Data Input'!A390),\"\",SUM('Data Input'!C390:AQ390))","v":""},{"$f":"IF(E386=\"\",\"\",E386/(COUNTA('Data Input'!$C$8:$AQ$8)-1))","v":""},{"$f":"IF(ISBLANK('Data Input'!A390),\"\",SUM('Data Input'!H390,'Data Input'!I390,'Data Input'!M390,'Data Input'!N390))","v":""},{"$f":"IF(G386=\"\",\"\",G386/COUNTIF('Data Input'!$C$8:$AQ$8,$G$2))","v":""},{"$f":"IF(ISBLANK('Data Input'!A390),\"\",SUM('Data Input'!J390,'Data Input'!K390,'Data Input'!U390,'Data Input'!V390))","v":""},{"$f":"IF(I386=\"\",\"\",I386/COUNTIF('Data Input'!$C$8:$AQ$8,$I$2))","v":""},{"$f":"IF(ISBLANK('Data Input'!A390),\"\",SUM('Data Input'!D390))","v":""},{"$f":"IF(K386=\"\",\"\",K386/COUNTIF('Data Input'!$C$8:$AQ$8,$K$2))","v":""},{"$f":"IF(ISBLANK('Data Input'!A390),\"\",SUM('Data Input'!O390,'Data Input'!P390,'Data Input'!R390,'Data Input'!S390))","v":""},{"$f":"IF(M386=\"\",\"\",M386/COUNTIF('Data Input'!$C$8:$AQ$8,$M$2))","v":""},{"$f":"IF(ISBLANK('Data Input'!A390),\"\",SUM('Data Input'!C390,'Data Input'!E390,'Data Input'!F390,'Data Input'!G390,'Data Input'!Q390,'Data Input'!T390))","v":""},{"$f":"IF(O386=\"\",\"\",O386/COUNTIF('Data Input'!$C$8:$AQ$8,$O$2))","v":""},{"$f":"IF(ISBLANK('Data Input'!A390),\"\",SUM('Data Input'!L390))","v":""},{"$f":"IF(Q386=\"\",\"\",Q386/COUNTIF('Data Input'!$C$8:$AQ$8,$Q$2))","v":""},{"$f":"IF(ISBLANK('Data Input'!A390),\"\",SUM('Data Input'!X390:AQ390))","v":""},{"$f":"IF(S386=\"\",\"\",S386/COUNTIF('Data Input'!$C$8:$AQ$8,$S$2))","v":""}]
[{"$f":"IF('Data Input'!A391=0,\"\",'Data Input'!A391)","v":""},{"$f":"IF(ISBLANK('Data Input'!A391),\"\",COUNTIF('Data Input'!C391:AQ391,\"\")-1)","v":""},{"$f":"IF(ISBLANK('Data Input'!A391),\"\",COUNTIF('Data Input'!C391:AQ391,\"0\"))","v":""},{"$f":"IF(ISBLANK('Data Input'!A391),\"\",SUM(B387,C387))","v":""},{"$f":"IF(ISBLANK('Data Input'!A391),\"\",SUM('Data Input'!C391:AQ391))","v":""},{"$f":"IF(E387=\"\",\"\",E387/(COUNTA('Data Input'!$C$8:$AQ$8)-1))","v":""},{"$f":"IF(ISBLANK('Data Input'!A391),\"\",SUM('Data Input'!H391,'Data Input'!I391,'Data Input'!M391,'Data Input'!N391))","v":""},{"$f":"IF(G387=\"\",\"\",G387/COUNTIF('Data Input'!$C$8:$AQ$8,$G$2))","v":""},{"$f":"IF(ISBLANK('Data Input'!A391),\"\",SUM('Data Input'!J391,'Data Input'!K391,'Data Input'!U391,'Data Input'!V391))","v":""},{"$f":"IF(I387=\"\",\"\",I387/COUNTIF('Data Input'!$C$8:$AQ$8,$I$2))","v":""},{"$f":"IF(ISBLANK('Data Input'!A391),\"\",SUM('Data Input'!D391))","v":""},{"$f":"IF(K387=\"\",\"\",K387/COUNTIF('Data Input'!$C$8:$AQ$8,$K$2))","v":""},{"$f":"IF(ISBLANK('Data Input'!A391),\"\",SUM('Data Input'!O391,'Data Input'!P391,'Data Input'!R391,'Data Input'!S391))","v":""},{"$f":"IF(M387=\"\",\"\",M387/COUNTIF('Data Input'!$C$8:$AQ$8,$M$2))","v":""},{"$f":"IF(ISBLANK('Data Input'!A391),\"\",SUM('Data Input'!C391,'Data Input'!E391,'Data Input'!F391,'Data Input'!G391,'Data Input'!Q391,'Data Input'!T391))","v":""},{"$f":"IF(O387=\"\",\"\",O387/COUNTIF('Data Input'!$C$8:$AQ$8,$O$2))","v":""},{"$f":"IF(ISBLANK('Data Input'!A391),\"\",SUM('Data Input'!L391))","v":""},{"$f":"IF(Q387=\"\",\"\",Q387/COUNTIF('Data Input'!$C$8:$AQ$8,$Q$2))","v":""},{"$f":"IF(ISBLANK('Data Input'!A391),\"\",SUM('Data Input'!X391:AQ391))","v":""},{"$f":"IF(S387=\"\",\"\",S387/COUNTIF('Data Input'!$C$8:$AQ$8,$S$2))","v":""}]
[{"$f":"IF('Data Input'!A392=0,\"\",'Data Input'!A392)","v":""},{"$f":"IF(ISBLANK('Data Input'!A392),\"\",COUNTIF('Data Input'!C392:AQ392,\"\")-1)","v":""},{"$f":"IF(ISBLANK('Data Input'!A392),\"\",COUNTIF('Data Input'!C392:AQ392,\"0\"))","v":""},{"$f":"IF(ISBLANK('Data Input'!A392),\"\",SUM(B388,C388))","v":""},{"$f":"IF(ISBLANK('Data Input'!A392),\"\",SUM('Data Input'!C392:AQ392))","v":""},{"$f":"IF(E388=\"\",\"\",E388/(COUNTA('Data Input'!$C$8:$AQ$8)-1))","v":""},{"$f":"IF(ISBLANK('Data Input'!A392),\"\",SUM('Data Input'!H392,'Data Input'!I392,'Data Input'!M392,'Data Input'!N392))","v":""},{"$f":"IF(G388=\"\",\"\",G388/COUNTIF('Data Input'!$C$8:$AQ$8,$G$2))","v":""},{"$f":"IF(ISBLANK('Data Input'!A392),\"\",SUM('Data Input'!J392,'Data Input'!K392,'Data Input'!U392,'Data Input'!V392))","v":""},{"$f":"IF(I388=\"\",\"\",I388/COUNTIF('Data Input'!$C$8:$AQ$8,$I$2))","v":""},{"$f":"IF(ISBLANK('Data Input'!A392),\"\",SUM('Data Input'!D392))","v":""},{"$f":"IF(K388=\"\",\"\",K388/COUNTIF('Data Input'!$C$8:$AQ$8,$K$2))","v":""},{"$f":"IF(ISBLANK('Data Input'!A392),\"\",SUM('Data Input'!O392,'Data Input'!P392,'Data Input'!R392,'Data Input'!S392))","v":""},{"$f":"IF(M388=\"\",\"\",M388/COUNTIF('Data Input'!$C$8:$AQ$8,$M$2))","v":""},{"$f":"IF(ISBLANK('Data Input'!A392),\"\",SUM('Data Input'!C392,'Data Input'!E392,'Data Input'!F392,'Data Input'!G392,'Data Input'!Q392,'Data Input'!T392))","v":""},{"$f":"IF(O388=\"\",\"\",O388/COUNTIF('Data Input'!$C$8:$AQ$8,$O$2))","v":""},{"$f":"IF(ISBLANK('Data Input'!A392),\"\",SUM('Data Input'!L392))","v":""},{"$f":"IF(Q388=\"\",\"\",Q388/COUNTIF('Data Input'!$C$8:$AQ$8,$Q$2))","v":""},{"$f":"IF(ISBLANK('Data Input'!A392),\"\",SUM('Data Input'!X392:AQ392))","v":""},{"$f":"IF(S388=\"\",\"\",S388/COUNTIF('Data Input'!$C$8:$AQ$8,$S$2))","v":""}]
[{"$f":"IF('Data Input'!A393=0,\"\",'Data Input'!A393)","v":""},{"$f":"IF(ISBLANK('Data Input'!A393),\"\",COUNTIF('Data Input'!C393:AQ393,\"\")-1)","v":""},{"$f":"IF(ISBLANK('Data Input'!A393),\"\",COUNTIF('Data Input'!C393:AQ393,\"0\"))","v":""},{"$f":"IF(ISBLANK('Data Input'!A393),\"\",SUM(B389,C389))","v":""},{"$f":"IF(ISBLANK('Data Input'!A393),\"\",SUM('Data Input'!C393:AQ393))","v":""},{"$f":"IF(E389=\"\",\"\",E389/(COUNTA('Data Input'!$C$8:$AQ$8)-1))","v":""},{"$f":"IF(ISBLANK('Data Input'!A393),\"\",SUM('Data Input'!H393,'Data Input'!I393,'Data Input'!M393,'Data Input'!N393))","v":""},{"$f":"IF(G389=\"\",\"\",G389/COUNTIF('Data Input'!$C$8:$AQ$8,$G$2))","v":""},{"$f":"IF(ISBLANK('Data Input'!A393),\"\",SUM('Data Input'!J393,'Data Input'!K393,'Data Input'!U393,'Data Input'!V393))","v":""},{"$f":"IF(I389=\"\",\"\",I389/COUNTIF('Data Input'!$C$8:$AQ$8,$I$2))","v":""},{"$f":"IF(ISBLANK('Data Input'!A393),\"\",SUM('Data Input'!D393))","v":""},{"$f":"IF(K389=\"\",\"\",K389/COUNTIF('Data Input'!$C$8:$AQ$8,$K$2))","v":""},{"$f":"IF(ISBLANK('Data Input'!A393),\"\",SUM('Data Input'!O393,'Data Input'!P393,'Data Input'!R393,'Data Input'!S393))","v":""},{"$f":"IF(M389=\"\",\"\",M389/COUNTIF('Data Input'!$C$8:$AQ$8,$M$2))","v":""},{"$f":"IF(ISBLANK('Data Input'!A393),\"\",SUM('Data Input'!C393,'Data Input'!E393,'Data Input'!F393,'Data Input'!G393,'Data Input'!Q393,'Data Input'!T393))","v":""},{"$f":"IF(O389=\"\",\"\",O389/COUNTIF('Data Input'!$C$8:$AQ$8,$O$2))","v":""},{"$f":"IF(ISBLANK('Data Input'!A393),\"\",SUM('Data Input'!L393))","v":""},{"$f":"IF(Q389=\"\",\"\",Q389/COUNTIF('Data Input'!$C$8:$AQ$8,$Q$2))","v":""},{"$f":"IF(ISBLANK('Data Input'!A393),\"\",SUM('Data Input'!X393:AQ393))","v":""},{"$f":"IF(S389=\"\",\"\",S389/COUNTIF('Data Input'!$C$8:$AQ$8,$S$2))","v":""}]
[{"$f":"IF('Data Input'!A394=0,\"\",'Data Input'!A394)","v":""},{"$f":"IF(ISBLANK('Data Input'!A394),\"\",COUNTIF('Data Input'!C394:AQ394,\"\")-1)","v":""},{"$f":"IF(ISBLANK('Data Input'!A394),\"\",COUNTIF('Data Input'!C394:AQ394,\"0\"))","v":""},{"$f":"IF(ISBLANK('Data Input'!A394),\"\",SUM(B390,C390))","v":""},{"$f":"IF(ISBLANK('Data Input'!A394),\"\",SUM('Data Input'!C394:AQ394))","v":""},{"$f":"IF(E390=\"\",\"\",E390/(COUNTA('Data Input'!$C$8:$AQ$8)-1))","v":""},{"$f":"IF(ISBLANK('Data Input'!A394),\"\",SUM('Data Input'!H394,'Data Input'!I394,'Data Input'!M394,'Data Input'!N394))","v":""},{"$f":"IF(G390=\"\",\"\",G390/COUNTIF('Data Input'!$C$8:$AQ$8,$G$2))","v":""},{"$f":"IF(ISBLANK('Data Input'!A394),\"\",SUM('Data Input'!J394,'Data Input'!K394,'Data Input'!U394,'Data Input'!V394))","v":""},{"$f":"IF(I390=\"\",\"\",I390/COUNTIF('Data Input'!$C$8:$AQ$8,$I$2))","v":""},{"$f":"IF(ISBLANK('Data Input'!A394),\"\",SUM('Data Input'!D394))","v":""},{"$f":"IF(K390=\"\",\"\",K390/COUNTIF('Data Input'!$C$8:$AQ$8,$K$2))","v":""},{"$f":"IF(ISBLANK('Data Input'!A394),\"\",SUM('Data Input'!O394,'Data Input'!P394,'Data Input'!R394,'Data Input'!S394))","v":""},{"$f":"IF(M390=\"\",\"\",M390/COUNTIF('Data Input'!$C$8:$AQ$8,$M$2))","v":""},{"$f":"IF(ISBLANK('Data Input'!A394),\"\",SUM('Data Input'!C394,'Data Input'!E394,'Data Input'!F394,'Data Input'!G394,'Data Input'!Q394,'Data Input'!T394))","v":""},{"$f":"IF(O390=\"\",\"\",O390/COUNTIF('Data Input'!$C$8:$AQ$8,$O$2))","v":""},{"$f":"IF(ISBLANK('Data Input'!A394),\"\",SUM('Data Input'!L394))","v":""},{"$f":"IF(Q390=\"\",\"\",Q390/COUNTIF('Data Input'!$C$8:$AQ$8,$Q$2))","v":""},{"$f":"IF(ISBLANK('Data Input'!A394),\"\",SUM('Data Input'!X394:AQ394))","v":""},{"$f":"IF(S390=\"\",\"\",S390/COUNTIF('Data Input'!$C$8:$AQ$8,$S$2))","v":""}]
[{"$f":"IF('Data Input'!A395=0,\"\",'Data Input'!A395)","v":""},{"$f":"IF(ISBLANK('Data Input'!A395),\"\",COUNTIF('Data Input'!C395:AQ395,\"\")-1)","v":""},{"$f":"IF(ISBLANK('Data Input'!A395),\"\",COUNTIF('Data Input'!C395:AQ395,\"0\"))","v":""},{"$f":"IF(ISBLANK('Data Input'!A395),\"\",SUM(B391,C391))","v":""},{"$f":"IF(ISBLANK('Data Input'!A395),\"\",SUM('Data Input'!C395:AQ395))","v":""},{"$f":"IF(E391=\"\",\"\",E391/(COUNTA('Data Input'!$C$8:$AQ$8)-1))","v":""},{"$f":"IF(ISBLANK('Data Input'!A395),\"\",SUM('Data Input'!H395,'Data Input'!I395,'Data Input'!M395,'Data Input'!N395))","v":""},{"$f":"IF(G391=\"\",\"\",G391/COUNTIF('Data Input'!$C$8:$AQ$8,$G$2))","v":""},{"$f":"IF(ISBLANK('Data Input'!A395),\"\",SUM('Data Input'!J395,'Data Input'!K395,'Data Input'!U395,'Data Input'!V395))","v":""},{"$f":"IF(I391=\"\",\"\",I391/COUNTIF('Data Input'!$C$8:$AQ$8,$I$2))","v":""},{"$f":"IF(ISBLANK('Data Input'!A395),\"\",SUM('Data Input'!D395))","v":""},{"$f":"IF(K391=\"\",\"\",K391/COUNTIF('Data Input'!$C$8:$AQ$8,$K$2))","v":""},{"$f":"IF(ISBLANK('Data Input'!A395),\"\",SUM('Data Input'!O395,'Data Input'!P395,'Data Input'!R395,'Data Input'!S395))","v":""},{"$f":"IF(M391=\"\",\"\",M391/COUNTIF('Data Input'!$C$8:$AQ$8,$M$2))","v":""},{"$f":"IF(ISBLANK('Data Input'!A395),\"\",SUM('Data Input'!C395,'Data Input'!E395,'Data Input'!F395,'Data Input'!G395,'Data Input'!Q395,'Data Input'!T395))","v":""},{"$f":"IF(O391=\"\",\"\",O391/COUNTIF('Data Input'!$C$8:$AQ$8,$O$2))","v":""},{"$f":"IF(ISBLANK('Data Input'!A395),\"\",SUM('Data Input'!L395))","v":""},{"$f":"IF(Q391=\"\",\"\",Q391/COUNTIF('Data Input'!$C$8:$AQ$8,$Q$2))","v":""},{"$f":"IF(ISBLANK('Data Input'!A395),\"\",SUM('Data Input'!X395:AQ395))","v":""},{"$f":"IF(S391=\"\",\"\",S391/COUNTIF('Data Input'!$C$8:$AQ$8,$S$2))","v":""}]
[{"$f":"IF('Data Input'!A396=0,\"\",'Data Input'!A396)","v":""},{"$f":"IF(ISBLANK('Data Input'!A396),\"\",COUNTIF('Data Input'!C396:AQ396,\"\")-1)","v":""},{"$f":"IF(ISBLANK('Data Input'!A396),\"\",COUNTIF('Data Input'!C396:AQ396,\"0\"))","v":""},{"$f":"IF(ISBLANK('Data Input'!A396),\"\",SUM(B392,C392))","v":""},{"$f":"IF(ISBLANK('Data Input'!A396),\"\",SUM('Data Input'!C396:AQ396))","v":""},{"$f":"IF(E392=\"\",\"\",E392/(COUNTA('Data Input'!$C$8:$AQ$8)-1))","v":""},{"$f":"IF(ISBLANK('Data Input'!A396),\"\",SUM('Data Input'!H396,'Data Input'!I396,'Data Input'!M396,'Data Input'!N396))","v":""},{"$f":"IF(G392=\"\",\"\",G392/COUNTIF('Data Input'!$C$8:$AQ$8,$G$2))","v":""},{"$f":"IF(ISBLANK('Data Input'!A396),\"\",SUM('Data Input'!J396,'Data Input'!K396,'Data Input'!U396,'Data Input'!V396))","v":""},{"$f":"IF(I392=\"\",\"\",I392/COUNTIF('Data Input'!$C$8:$AQ$8,$I$2))","v":""},{"$f":"IF(ISBLANK('Data Input'!A396),\"\",SUM('Data Input'!D396))","v":""},{"$f":"IF(K392=\"\",\"\",K392/COUNTIF('Data Input'!$C$8:$AQ$8,$K$2))","v":""},{"$f":"IF(ISBLANK('Data Input'!A396),\"\",SUM('Data Input'!O396,'Data Input'!P396,'Data Input'!R396,'Data Input'!S396))","v":""},{"$f":"IF(M392=\"\",\"\",M392/COUNTIF('Data Input'!$C$8:$AQ$8,$M$2))","v":""},{"$f":"IF(ISBLANK('Data Input'!A396),\"\",SUM('Data Input'!C396,'Data Input'!E396,'Data Input'!F396,'Data Input'!G396,'Data Input'!Q396,'Data Input'!T396))","v":""},{"$f":"IF(O392=\"\",\"\",O392/COUNTIF('Data Input'!$C$8:$AQ$8,$O$2))","v":""},{"$f":"IF(ISBLANK('Data Input'!A396),\"\",SUM('Data Input'!L396))","v":""},{"$f":"IF(Q392=\"\",\"\",Q392/COUNTIF('Data Input'!$C$8:$AQ$8,$Q$2))","v":""},{"$f":"IF(ISBLANK('Data Input'!A396),\"\",SUM('Data Input'!X396:AQ396))","v":""},{"$f":"IF(S392=\"\",\"\",S392/COUNTIF('Data Input'!$C$8:$AQ$8,$S$2))","v":""}]
[{"$f":"IF('Data Input'!A397=0,\"\",'Data Input'!A397)","v":""},{"$f":"IF(ISBLANK('Data Input'!A397),\"\",COUNTIF('Data Input'!C397:AQ397,\"\")-1)","v":""},{"$f":"IF(ISBLANK('Data Input'!A397),\"\",COUNTIF('Data Input'!C397:AQ397,\"0\"))","v":""},{"$f":"IF(ISBLANK('Data Input'!A397),\"\",SUM(B393,C393))","v":""},{"$f":"IF(ISBLANK('Data Input'!A397),\"\",SUM('Data Input'!C397:AQ397))","v":""},{"$f":"IF(E393=\"\",\"\",E393/(COUNTA('Data Input'!$C$8:$AQ$8)-1))","v":""},{"$f":"IF(ISBLANK('Data Input'!A397),\"\",SUM('Data Input'!H397,'Data Input'!I397,'Data Input'!M397,'Data Input'!N397))","v":""},{"$f":"IF(G393=\"\",\"\",G393/COUNTIF('Data Input'!$C$8:$AQ$8,$G$2))","v":""},{"$f":"IF(ISBLANK('Data Input'!A397),\"\",SUM('Data Input'!J397,'Data Input'!K397,'Data Input'!U397,'Data Input'!V397))","v":""},{"$f":"IF(I393=\"\",\"\",I393/COUNTIF('Data Input'!$C$8:$AQ$8,$I$2))","v":""},{"$f":"IF(ISBLANK('Data Input'!A397),\"\",SUM('Data Input'!D397))","v":""},{"$f":"IF(K393=\"\",\"\",K393/COUNTIF('Data Input'!$C$8:$AQ$8,$K$2))","v":""},{"$f":"IF(ISBLANK('Data Input'!A397),\"\",SUM('Data Input'!O397,'Data Input'!P397,'Data Input'!R397,'Data Input'!S397))","v":""},{"$f":"IF(M393=\"\",\"\",M393/COUNTIF('Data Input'!$C$8:$AQ$8,$M$2))","v":""},{"$f":"IF(ISBLANK('Data Input'!A397),\"\",SUM('Data Input'!C397,'Data Input'!E397,'Data Input'!F397,'Data Input'!G397,'Data Input'!Q397,'Data Input'!T397))","v":""},{"$f":"IF(O393=\"\",\"\",O393/COUNTIF('Data Input'!$C$8:$AQ$8,$O$2))","v":""},{"$f":"IF(ISBLANK('Data Input'!A397),\"\",SUM('Data Input'!L397))","v":""},{"$f":"IF(Q393=\"\",\"\",Q393/COUNTIF('Data Input'!$C$8:$AQ$8,$Q$2))","v":""},{"$f":"IF(ISBLANK('Data Input'!A397),\"\",SUM('Data Input'!X397:AQ397))","v":""},{"$f":"IF(S393=\"\",\"\",S393/COUNTIF('Data Input'!$C$8:$AQ$8,$S$2))","v":""}]
[{"$f":"IF('Data Input'!A398=0,\"\",'Data Input'!A398)","v":""},{"$f":"IF(ISBLANK('Data Input'!A398),\"\",COUNTIF('Data Input'!C398:AQ398,\"\")-1)","v":""},{"$f":"IF(ISBLANK('Data Input'!A398),\"\",COUNTIF('Data Input'!C398:AQ398,\"0\"))","v":""},{"$f":"IF(ISBLANK('Data Input'!A398),\"\",SUM(B394,C394))","v":""},{"$f":"IF(ISBLANK('Data Input'!A398),\"\",SUM('Data Input'!C398:AQ398))","v":""},{"$f":"IF(E394=\"\",\"\",E394/(COUNTA('Data Input'!$C$8:$AQ$8)-1))","v":""},{"$f":"IF(ISBLANK('Data Input'!A398),\"\",SUM('Data Input'!H398,'Data Input'!I398,'Data Input'!M398,'Data Input'!N398))","v":""},{"$f":"IF(G394=\"\",\"\",G394/COUNTIF('Data Input'!$C$8:$AQ$8,$G$2))","v":""},{"$f":"IF(ISBLANK('Data Input'!A398),\"\",SUM('Data Input'!J398,'Data Input'!K398,'Data Input'!U398,'Data Input'!V398))","v":""},{"$f":"IF(I394=\"\",\"\",I394/COUNTIF('Data Input'!$C$8:$AQ$8,$I$2))","v":""},{"$f":"IF(ISBLANK('Data Input'!A398),\"\",SUM('Data Input'!D398))","v":""},{"$f":"IF(K394=\"\",\"\",K394/COUNTIF('Data Input'!$C$8:$AQ$8,$K$2))","v":""},{"$f":"IF(ISBLANK('Data Input'!A398),\"\",SUM('Data Input'!O398,'Data Input'!P398,'Data Input'!R398,'Data Input'!S398))","v":""},{"$f":"IF(M394=\"\",\"\",M394/COUNTIF('Data Input'!$C$8:$AQ$8,$M$2))","v":""},{"$f":"IF(ISBLANK('Data Input'!A398),\"\",SUM('Data Input'!C398,'Data Input'!E398,'Data Input'!F398,'Data Input'!G398,'Data Input'!Q398,'Data Input'!T398))","v":""},{"$f":"IF(O394=\"\",\"\",O394/COUNTIF('Data Input'!$C$8:$AQ$8,$O$2))","v":""},{"$f":"IF(ISBLANK('Data Input'!A398),\"\",SUM('Data Input'!L398))","v":""},{"$f":"IF(Q394=\"\",\"\",Q394/COUNTIF('Data Input'!$C$8:$AQ$8,$Q$2))","v":""},{"$f":"IF(ISBLANK('Data Input'!A398),\"\",SUM('Data Input'!X398:AQ398))","v":""},{"$f":"IF(S394=\"\",\"\",S394/COUNTIF('Data Input'!$C$8:$AQ$8,$S$2))","v":""}]
[{"$f":"IF('Data Input'!A399=0,\"\",'Data Input'!A399)","v":""},{"$f":"IF(ISBLANK('Data Input'!A399),\"\",COUNTIF('Data Input'!C399:AQ399,\"\")-1)","v":""},{"$f":"IF(ISBLANK('Data Input'!A399),\"\",COUNTIF('Data Input'!C399:AQ399,\"0\"))","v":""},{"$f":"IF(ISBLANK('Data Input'!A399),\"\",SUM(B395,C395))","v":""},{"$f":"IF(ISBLANK('Data Input'!A399),\"\",SUM('Data Input'!C399:AQ399))","v":""},{"$f":"IF(E395=\"\",\"\",E395/(COUNTA('Data Input'!$C$8:$AQ$8)-1))","v":""},{"$f":"IF(ISBLANK('Data Input'!A399),\"\",SUM('Data Input'!H399,'Data Input'!I399,'Data Input'!M399,'Data Input'!N399))","v":""},{"$f":"IF(G395=\"\",\"\",G395/COUNTIF('Data Input'!$C$8:$AQ$8,$G$2))","v":""},{"$f":"IF(ISBLANK('Data Input'!A399),\"\",SUM('Data Input'!J399,'Data Input'!K399,'Data Input'!U399,'Data Input'!V399))","v":""},{"$f":"IF(I395=\"\",\"\",I395/COUNTIF('Data Input'!$C$8:$AQ$8,$I$2))","v":""},{"$f":"IF(ISBLANK('Data Input'!A399),\"\",SUM('Data Input'!D399))","v":""},{"$f":"IF(K395=\"\",\"\",K395/COUNTIF('Data Input'!$C$8:$AQ$8,$K$2))","v":""},{"$f":"IF(ISBLANK('Data Input'!A399),\"\",SUM('Data Input'!O399,'Data Input'!P399,'Data Input'!R399,'Data Input'!S399))","v":""},{"$f":"IF(M395=\"\",\"\",M395/COUNTIF('Data Input'!$C$8:$AQ$8,$M$2))","v":""},{"$f":"IF(ISBLANK('Data Input'!A399),\"\",SUM('Data Input'!C399,'Data Input'!E399,'Data Input'!F399,'Data Input'!G399,'Data Input'!Q399,'Data Input'!T399))","v":""},{"$f":"IF(O395=\"\",\"\",O395/COUNTIF('Data Input'!$C$8:$AQ$8,$O$2))","v":""},{"$f":"IF(ISBLANK('Data Input'!A399),\"\",SUM('Data Input'!L399))","v":""},{"$f":"IF(Q395=\"\",\"\",Q395/COUNTIF('Data Input'!$C$8:$AQ$8,$Q$2))","v":""},{"$f":"IF(ISBLANK('Data Input'!A399),\"\",SUM('Data Input'!X399:AQ399))","v":""},{"$f":"IF(S395=\"\",\"\",S395/COUNTIF('Data Input'!$C$8:$AQ$8,$S$2))","v":""}]
[{"$f":"IF('Data Input'!A400=0,\"\",'Data Input'!A400)","v":""},{"$f":"IF(ISBLANK('Data Input'!A400),\"\",COUNTIF('Data Input'!C400:AQ400,\"\")-1)","v":""},{"$f":"IF(ISBLANK('Data Input'!A400),\"\",COUNTIF('Data Input'!C400:AQ400,\"0\"))","v":""},{"$f":"IF(ISBLANK('Data Input'!A400),\"\",SUM(B396,C396))","v":""},{"$f":"IF(ISBLANK('Data Input'!A400),\"\",SUM('Data Input'!C400:AQ400))","v":""},{"$f":"IF(E396=\"\",\"\",E396/(COUNTA('Data Input'!$C$8:$AQ$8)-1))","v":""},{"$f":"IF(ISBLANK('Data Input'!A400),\"\",SUM('Data Input'!H400,'Data Input'!I400,'Data Input'!M400,'Data Input'!N400))","v":""},{"$f":"IF(G396=\"\",\"\",G396/COUNTIF('Data Input'!$C$8:$AQ$8,$G$2))","v":""},{"$f":"IF(ISBLANK('Data Input'!A400),\"\",SUM('Data Input'!J400,'Data Input'!K400,'Data Input'!U400,'Data Input'!V400))","v":""},{"$f":"IF(I396=\"\",\"\",I396/COUNTIF('Data Input'!$C$8:$AQ$8,$I$2))","v":""},{"$f":"IF(ISBLANK('Data Input'!A400),\"\",SUM('Data Input'!D400))","v":""},{"$f":"IF(K396=\"\",\"\",K396/COUNTIF('Data Input'!$C$8:$AQ$8,$K$2))","v":""},{"$f":"IF(ISBLANK('Data Input'!A400),\"\",SUM('Data Input'!O400,'Data Input'!P400,'Data Input'!R400,'Data Input'!S400))","v":""},{"$f":"IF(M396=\"\",\"\",M396/COUNTIF('Data Input'!$C$8:$AQ$8,$M$2))","v":""},{"$f":"IF(ISBLANK('Data Input'!A400),\"\",SUM('Data Input'!C400,'Data Input'!E400,'Data Input'!F400,'Data Input'!G400,'Data Input'!Q400,'Data Input'!T400))","v":""},{"$f":"IF(O396=\"\",\"\",O396/COUNTIF('Data Input'!$C$8:$AQ$8,$O$2))","v":""},{"$f":"IF(ISBLANK('Data Input'!A400),\"\",SUM('Data Input'!L400))","v":""},{"$f":"IF(Q396=\"\",\"\",Q396/COUNTIF('Data Input'!$C$8:$AQ$8,$Q$2))","v":""},{"$f":"IF(ISBLANK('Data Input'!A400),\"\",SUM('Data Input'!X400:AQ400))","v":""},{"$f":"IF(S396=\"\",\"\",S396/COUNTIF('Data Input'!$C$8:$AQ$8,$S$2))","v":""}]
[{"$f":"IF('Data Input'!A401=0,\"\",'Data Input'!A401)","v":""},{"$f":"IF(ISBLANK('Data Input'!A401),\"\",COUNTIF('Data Input'!C401:AQ401,\"\")-1)","v":""},{"$f":"IF(ISBLANK('Data Input'!A401),\"\",COUNTIF('Data Input'!C401:AQ401,\"0\"))","v":""},{"$f":"IF(ISBLANK('Data Input'!A401),\"\",SUM(B397,C397))","v":""},{"$f":"IF(ISBLANK('Data Input'!A401),\"\",SUM('Data Input'!C401:AQ401))","v":""},{"$f":"IF(E397=\"\",\"\",E397/(COUNTA('Data Input'!$C$8:$AQ$8)-1))","v":""},{"$f":"IF(ISBLANK('Data Input'!A401),\"\",SUM('Data Input'!H401,'Data Input'!I401,'Data Input'!M401,'Data Input'!N401))","v":""},{"$f":"IF(G397=\"\",\"\",G397/COUNTIF('Data Input'!$C$8:$AQ$8,$G$2))","v":""},{"$f":"IF(ISBLANK('Data Input'!A401),\"\",SUM('Data Input'!J401,'Data Input'!K401,'Data Input'!U401,'Data Input'!V401))","v":""},{"$f":"IF(I397=\"\",\"\",I397/COUNTIF('Data Input'!$C$8:$AQ$8,$I$2))","v":""},{"$f":"IF(ISBLANK('Data Input'!A401),\"\",SUM('Data Input'!D401))","v":""},{"$f":"IF(K397=\"\",\"\",K397/COUNTIF('Data Input'!$C$8:$AQ$8,$K$2))","v":""},{"$f":"IF(ISBLANK('Data Input'!A401),\"\",SUM('Data Input'!O401,'Data Input'!P401,'Data Input'!R401,'Data Input'!S401))","v":""},{"$f":"IF(M397=\"\",\"\",M397/COUNTIF('Data Input'!$C$8:$AQ$8,$M$2))","v":""},{"$f":"IF(ISBLANK('Data Input'!A401),\"\",SUM('Data Input'!C401,'Data Input'!E401,'Data Input'!F401,'Data Input'!G401,'Data Input'!Q401,'Data Input'!T401))","v":""},{"$f":"IF(O397=\"\",\"\",O397/COUNTIF('Data Input'!$C$8:$AQ$8,$O$2))","v":""},{"$f":"IF(ISBLANK('Data Input'!A401),\"\",SUM('Data Input'!L401))","v":""},{"$f":"IF(Q397=\"\",\"\",Q397/COUNTIF('Data Input'!$C$8:$AQ$8,$Q$2))","v":""},{"$f":"IF(ISBLANK('Data Input'!A401),\"\",SUM('Data Input'!X401:AQ401))","v":""},{"$f":"IF(S397=\"\",\"\",S397/COUNTIF('Data Input'!$C$8:$AQ$8,$S$2))","v":""}]
[{"$f":"IF('Data Input'!A402=0,\"\",'Data Input'!A402)","v":""},{"$f":"IF(ISBLANK('Data Input'!A402),\"\",COUNTIF('Data Input'!C402:AQ402,\"\")-1)","v":""},{"$f":"IF(ISBLANK('Data Input'!A402),\"\",COUNTIF('Data Input'!C402:AQ402,\"0\"))","v":""},{"$f":"IF(ISBLANK('Data Input'!A402),\"\",SUM(B398,C398))","v":""},{"$f":"IF(ISBLANK('Data Input'!A402),\"\",SUM('Data Input'!C402:AQ402))","v":""},{"$f":"IF(E398=\"\",\"\",E398/(COUNTA('Data Input'!$C$8:$AQ$8)-1))","v":""},{"$f":"IF(ISBLANK('Data Input'!A402),\"\",SUM('Data Input'!H402,'Data Input'!I402,'Data Input'!M402,'Data Input'!N402))","v":""},{"$f":"IF(G398=\"\",\"\",G398/COUNTIF('Data Input'!$C$8:$AQ$8,$G$2))","v":""},{"$f":"IF(ISBLANK('Data Input'!A402),\"\",SUM('Data Input'!J402,'Data Input'!K402,'Data Input'!U402,'Data Input'!V402))","v":""},{"$f":"IF(I398=\"\",\"\",I398/COUNTIF('Data Input'!$C$8:$AQ$8,$I$2))","v":""},{"$f":"IF(ISBLANK('Data Input'!A402),\"\",SUM('Data Input'!D402))","v":""},{"$f":"IF(K398=\"\",\"\",K398/COUNTIF('Data Input'!$C$8:$AQ$8,$K$2))","v":""},{"$f":"IF(ISBLANK('Data Input'!A402),\"\",SUM('Data Input'!O402,'Data Input'!P402,'Data Input'!R402,'Data Input'!S402))","v":""},{"$f":"IF(M398=\"\",\"\",M398/COUNTIF('Data Input'!$C$8:$AQ$8,$M$2))","v":""},{"$f":"IF(ISBLANK('Data Input'!A402),\"\",SUM('Data Input'!C402,'Data Input'!E402,'Data Input'!F402,'Data Input'!G402,'Data Input'!Q402,'Data Input'!T402))","v":""},{"$f":"IF(O398=\"\",\"\",O398/COUNTIF('Data Input'!$C$8:$AQ$8,$O$2))","v":""},{"$f":"IF(ISBLANK('Data Input'!A402),\"\",SUM('Data Input'!L402))","v":""},{"$f":"IF(Q398=\"\",\"\",Q398/COUNTIF('Data Input'!$C$8:$AQ$8,$Q$2))","v":""},{"$f":"IF(ISBLANK('Data Input'!A402),\"\",SUM('Data Input'!X402:AQ402))","v":""},{"$f":"IF(S398=\"\",\"\",S398/COUNTIF('Data Input'!$C$8:$AQ$8,$S$2))","v":""}]
[{"$f":"IF('Data Input'!A403=0,\"\",'Data Input'!A403)","v":""},{"$f":"IF(ISBLANK('Data Input'!A403),\"\",COUNTIF('Data Input'!C403:AQ403,\"\")-1)","v":""},{"$f":"IF(ISBLANK('Data Input'!A403),\"\",COUNTIF('Data Input'!C403:AQ403,\"0\"))","v":""},{"$f":"IF(ISBLANK('Data Input'!A403),\"\",SUM(B399,C399))","v":""},{"$f":"IF(ISBLANK('Data Input'!A403),\"\",SUM('Data Input'!C403:AQ403))","v":""},{"$f":"IF(E399=\"\",\"\",E399/(COUNTA('Data Input'!$C$8:$AQ$8)-1))","v":""},{"$f":"IF(ISBLANK('Data Input'!A403),\"\",SUM('Data Input'!H403,'Data Input'!I403,'Data Input'!M403,'Data Input'!N403))","v":""},{"$f":"IF(G399=\"\",\"\",G399/COUNTIF('Data Input'!$C$8:$AQ$8,$G$2))","v":""},{"$f":"IF(ISBLANK('Data Input'!A403),\"\",SUM('Data Input'!J403,'Data Input'!K403,'Data Input'!U403,'Data Input'!V403))","v":""},{"$f":"IF(I399=\"\",\"\",I399/COUNTIF('Data Input'!$C$8:$AQ$8,$I$2))","v":""},{"$f":"IF(ISBLANK('Data Input'!A403),\"\",SUM('Data Input'!D403))","v":""},{"$f":"IF(K399=\"\",\"\",K399/COUNTIF('Data Input'!$C$8:$AQ$8,$K$2))","v":""},{"$f":"IF(ISBLANK('Data Input'!A403),\"\",SUM('Data Input'!O403,'Data Input'!P403,'Data Input'!R403,'Data Input'!S403))","v":""},{"$f":"IF(M399=\"\",\"\",M399/COUNTIF('Data Input'!$C$8:$AQ$8,$M$2))","v":""},{"$f":"IF(ISBLANK('Data Input'!A403),\"\",SUM('Data Input'!C403,'Data Input'!E403,'Data Input'!F403,'Data Input'!G403,'Data Input'!Q403,'Data Input'!T403))","v":""},{"$f":"IF(O399=\"\",\"\",O399/COUNTIF('Data Input'!$C$8:$AQ$8,$O$2))","v":""},{"$f":"IF(ISBLANK('Data Input'!A403),\"\",SUM('Data Input'!L403))","v":""},{"$f":"IF(Q399=\"\",\"\",Q399/COUNTIF('Data Input'!$C$8:$AQ$8,$Q$2))","v":""},{"$f":"IF(ISBLANK('Data Input'!A403),\"\",SUM('Data Input'!X403:AQ403))","v":""},{"$f":"IF(S399=\"\",\"\",S399/COUNTIF('Data Input'!$C$8:$AQ$8,$S$2))","v":""}]
[{"$f":"IF('Data Input'!A404=0,\"\",'Data Input'!A404)","v":""},{"$f":"IF(ISBLANK('Data Input'!A404),\"\",COUNTIF('Data Input'!C404:AQ404,\"\")-1)","v":""},{"$f":"IF(ISBLANK('Data Input'!A404),\"\",COUNTIF('Data Input'!C404:AQ404,\"0\"))","v":""},{"$f":"IF(ISBLANK('Data Input'!A404),\"\",SUM(B400,C400))","v":""},{"$f":"IF(ISBLANK('Data Input'!A404),\"\",SUM('Data Input'!C404:AQ404))","v":""},{"$f":"IF(E400=\"\",\"\",E400/(COUNTA('Data Input'!$C$8:$AQ$8)-1))","v":""},{"$f":"IF(ISBLANK('Data Input'!A404),\"\",SUM('Data Input'!H404,'Data Input'!I404,'Data Input'!M404,'Data Input'!N404))","v":""},{"$f":"IF(G400=\"\",\"\",G400/COUNTIF('Data Input'!$C$8:$AQ$8,$G$2))","v":""},{"$f":"IF(ISBLANK('Data Input'!A404),\"\",SUM('Data Input'!J404,'Data Input'!K404,'Data Input'!U404,'Data Input'!V404))","v":""},{"$f":"IF(I400=\"\",\"\",I400/COUNTIF('Data Input'!$C$8:$AQ$8,$I$2))","v":""},{"$f":"IF(ISBLANK('Data Input'!A404),\"\",SUM('Data Input'!D404))","v":""},{"$f":"IF(K400=\"\",\"\",K400/COUNTIF('Data Input'!$C$8:$AQ$8,$K$2))","v":""},{"$f":"IF(ISBLANK('Data Input'!A404),\"\",SUM('Data Input'!O404,'Data Input'!P404,'Data Input'!R404,'Data Input'!S404))","v":""},{"$f":"IF(M400=\"\",\"\",M400/COUNTIF('Data Input'!$C$8:$AQ$8,$M$2))","v":""},{"$f":"IF(ISBLANK('Data Input'!A404),\"\",SUM('Data Input'!C404,'Data Input'!E404,'Data Input'!F404,'Data Input'!G404,'Data Input'!Q404,'Data Input'!T404))","v":""},{"$f":"IF(O400=\"\",\"\",O400/COUNTIF('Data Input'!$C$8:$AQ$8,$O$2))","v":""},{"$f":"IF(ISBLANK('Data Input'!A404),\"\",SUM('Data Input'!L404))","v":""},{"$f":"IF(Q400=\"\",\"\",Q400/COUNTIF('Data Input'!$C$8:$AQ$8,$Q$2))","v":""},{"$f":"IF(ISBLANK('Data Input'!A404),\"\",SUM('Data Input'!X404:AQ404))","v":""},{"$f":"IF(S400=\"\",\"\",S400/COUNTIF('Data Input'!$C$8:$AQ$8,$S$2))","v":""}]
[{"$f":"IF('Data Input'!A405=0,\"\",'Data Input'!A405)","v":""},{"$f":"IF(ISBLANK('Data Input'!A405),\"\",COUNTIF('Data Input'!C405:AQ405,\"\")-1)","v":""},{"$f":"IF(ISBLANK('Data Input'!A405),\"\",COUNTIF('Data Input'!C405:AQ405,\"0\"))","v":""},{"$f":"IF(ISBLANK('Data Input'!A405),\"\",SUM(B401,C401))","v":""},{"$f":"IF(ISBLANK('Data Input'!A405),\"\",SUM('Data Input'!C405:AQ405))","v":""},{"$f":"IF(E401=\"\",\"\",E401/(COUNTA('Data Input'!$C$8:$AQ$8)-1))","v":""},{"$f":"IF(ISBLANK('Data Input'!A405),\"\",SUM('Data Input'!H405,'Data Input'!I405,'Data Input'!M405,'Data Input'!N405))","v":""},{"$f":"IF(G401=\"\",\"\",G401/COUNTIF('Data Input'!$C$8:$AQ$8,$G$2))","v":""},{"$f":"IF(ISBLANK('Data Input'!A405),\"\",SUM('Data Input'!J405,'Data Input'!K405,'Data Input'!U405,'Data Input'!V405))","v":""},{"$f":"IF(I401=\"\",\"\",I401/COUNTIF('Data Input'!$C$8:$AQ$8,$I$2))","v":""},{"$f":"IF(ISBLANK('Data Input'!A405),\"\",SUM('Data Input'!D405))","v":""},{"$f":"IF(K401=\"\",\"\",K401/COUNTIF('Data Input'!$C$8:$AQ$8,$K$2))","v":""},{"$f":"IF(ISBLANK('Data Input'!A405),\"\",SUM('Data Input'!O405,'Data Input'!P405,'Data Input'!R405,'Data Input'!S405))","v":""},{"$f":"IF(M401=\"\",\"\",M401/COUNTIF('Data Input'!$C$8:$AQ$8,$M$2))","v":""},{"$f":"IF(ISBLANK('Data Input'!A405),\"\",SUM('Data Input'!C405,'Data Input'!E405,'Data Input'!F405,'Data Input'!G405,'Data Input'!Q405,'Data Input'!T405))","v":""},{"$f":"IF(O401=\"\",\"\",O401/COUNTIF('Data Input'!$C$8:$AQ$8,$O$2))","v":""},{"$f":"IF(ISBLANK('Data Input'!A405),\"\",SUM('Data Input'!L405))","v":""},{"$f":"IF(Q401=\"\",\"\",Q401/COUNTIF('Data Input'!$C$8:$AQ$8,$Q$2))","v":""},{"$f":"IF(ISBLANK('Data Input'!A405),\"\",SUM('Data Input'!X405:AQ405))","v":""},{"$f":"IF(S401=\"\",\"\",S401/COUNTIF('Data Input'!$C$8:$AQ$8,$S$2))","v":""}]
[{"$f":"IF('Data Input'!A406=0,\"\",'Data Input'!A406)","v":""},{"$f":"IF(ISBLANK('Data Input'!A406),\"\",COUNTIF('Data Input'!C406:AQ406,\"\")-1)","v":""},{"$f":"IF(ISBLANK('Data Input'!A406),\"\",COUNTIF('Data Input'!C406:AQ406,\"0\"))","v":""},{"$f":"IF(ISBLANK('Data Input'!A406),\"\",SUM(B402,C402))","v":""},{"$f":"IF(ISBLANK('Data Input'!A406),\"\",SUM('Data Input'!C406:AQ406))","v":""},{"$f":"IF(E402=\"\",\"\",E402/(COUNTA('Data Input'!$C$8:$AQ$8)-1))","v":""},{"$f":"IF(ISBLANK('Data Input'!A406),\"\",SUM('Data Input'!H406,'Data Input'!I406,'Data Input'!M406,'Data Input'!N406))","v":""},{"$f":"IF(G402=\"\",\"\",G402/COUNTIF('Data Input'!$C$8:$AQ$8,$G$2))","v":""},{"$f":"IF(ISBLANK('Data Input'!A406),\"\",SUM('Data Input'!J406,'Data Input'!K406,'Data Input'!U406,'Data Input'!V406))","v":""},{"$f":"IF(I402=\"\",\"\",I402/COUNTIF('Data Input'!$C$8:$AQ$8,$I$2))","v":""},{"$f":"IF(ISBLANK('Data Input'!A406),\"\",SUM('Data Input'!D406))","v":""},{"$f":"IF(K402=\"\",\"\",K402/COUNTIF('Data Input'!$C$8:$AQ$8,$K$2))","v":""},{"$f":"IF(ISBLANK('Data Input'!A406),\"\",SUM('Data Input'!O406,'Data Input'!P406,'Data Input'!R406,'Data Input'!S406))","v":""},{"$f":"IF(M402=\"\",\"\",M402/COUNTIF('Data Input'!$C$8:$AQ$8,$M$2))","v":""},{"$f":"IF(ISBLANK('Data Input'!A406),\"\",SUM('Data Input'!C406,'Data Input'!E406,'Data Input'!F406,'Data Input'!G406,'Data Input'!Q406,'Data Input'!T406))","v":""},{"$f":"IF(O402=\"\",\"\",O402/COUNTIF('Data Input'!$C$8:$AQ$8,$O$2))","v":""},{"$f":"IF(ISBLANK('Data Input'!A406),\"\",SUM('Data Input'!L406))","v":""},{"$f":"IF(Q402=\"\",\"\",Q402/COUNTIF('Data Input'!$C$8:$AQ$8,$Q$2))","v":""},{"$f":"IF(ISBLANK('Data Input'!A406),\"\",SUM('Data Input'!X406:AQ406))","v":""},{"$f":"IF(S402=\"\",\"\",S402/COUNTIF('Data Input'!$C$8:$AQ$8,$S$2))","v":""}]
[{"$f":"IF('Data Input'!A407=0,\"\",'Data Input'!A407)","v":""},{"$f":"IF(ISBLANK('Data Input'!A407),\"\",COUNTIF('Data Input'!C407:AQ407,\"\")-1)","v":""},{"$f":"IF(ISBLANK('Data Input'!A407),\"\",COUNTIF('Data Input'!C407:AQ407,\"0\"))","v":""},{"$f":"IF(ISBLANK('Data Input'!A407),\"\",SUM(B403,C403))","v":""},{"$f":"IF(ISBLANK('Data Input'!A407),\"\",SUM('Data Input'!C407:AQ407))","v":""},{"$f":"IF(E403=\"\",\"\",E403/(COUNTA('Data Input'!$C$8:$AQ$8)-1))","v":""},{"$f":"IF(ISBLANK('Data Input'!A407),\"\",SUM('Data Input'!H407,'Data Input'!I407,'Data Input'!M407,'Data Input'!N407))","v":""},{"$f":"IF(G403=\"\",\"\",G403/COUNTIF('Data Input'!$C$8:$AQ$8,$G$2))","v":""},{"$f":"IF(ISBLANK('Data Input'!A407),\"\",SUM('Data Input'!J407,'Data Input'!K407,'Data Input'!U407,'Data Input'!V407))","v":""},{"$f":"IF(I403=\"\",\"\",I403/COUNTIF('Data Input'!$C$8:$AQ$8,$I$2))","v":""},{"$f":"IF(ISBLANK('Data Input'!A407),\"\",SUM('Data Input'!D407))","v":""},{"$f":"IF(K403=\"\",\"\",K403/COUNTIF('Data Input'!$C$8:$AQ$8,$K$2))","v":""},{"$f":"IF(ISBLANK('Data Input'!A407),\"\",SUM('Data Input'!O407,'Data Input'!P407,'Data Input'!R407,'Data Input'!S407))","v":""},{"$f":"IF(M403=\"\",\"\",M403/COUNTIF('Data Input'!$C$8:$AQ$8,$M$2))","v":""},{"$f":"IF(ISBLANK('Data Input'!A407),\"\",SUM('Data Input'!C407,'Data Input'!E407,'Data Input'!F407,'Data Input'!G407,'Data Input'!Q407,'Data Input'!T407))","v":""},{"$f":"IF(O403=\"\",\"\",O403/COUNTIF('Data Input'!$C$8:$AQ$8,$O$2))","v":""},{"$f":"IF(ISBLANK('Data Input'!A407),\"\",SUM('Data Input'!L407))","v":""},{"$f":"IF(Q403=\"\",\"\",Q403/COUNTIF('Data Input'!$C$8:$AQ$8,$Q$2))","v":""},{"$f":"IF(ISBLANK('Data Input'!A407),\"\",SUM('Data Input'!X407:AQ407))","v":""},{"$f":"IF(S403=\"\",\"\",S403/COUNTIF('Data Input'!$C$8:$AQ$8,$S$2))","v":""}]
[{"$f":"IF('Data Input'!A408=0,\"\",'Data Input'!A408)","v":""},{"$f":"IF(ISBLANK('Data Input'!A408),\"\",COUNTIF('Data Input'!C408:AQ408,\"\")-1)","v":""},{"$f":"IF(ISBLANK('Data Input'!A408),\"\",COUNTIF('Data Input'!C408:AQ408,\"0\"))","v":""},{"$f":"IF(ISBLANK('Data Input'!A408),\"\",SUM(B404,C404))","v":""},{"$f":"IF(ISBLANK('Data Input'!A408),\"\",SUM('Data Input'!C408:AQ408))","v":""},{"$f":"IF(E404=\"\",\"\",E404/(COUNTA('Data Input'!$C$8:$AQ$8)-1))","v":""},{"$f":"IF(ISBLANK('Data Input'!A408),\"\",SUM('Data Input'!H408,'Data Input'!I408,'Data Input'!M408,'Data Input'!N408))","v":""},{"$f":"IF(G404=\"\",\"\",G404/COUNTIF('Data Input'!$C$8:$AQ$8,$G$2))","v":""},{"$f":"IF(ISBLANK('Data Input'!A408),\"\",SUM('Data Input'!J408,'Data Input'!K408,'Data Input'!U408,'Data Input'!V408))","v":""},{"$f":"IF(I404=\"\",\"\",I404/COUNTIF('Data Input'!$C$8:$AQ$8,$I$2))","v":""},{"$f":"IF(ISBLANK('Data Input'!A408),\"\",SUM('Data Input'!D408))","v":""},{"$f":"IF(K404=\"\",\"\",K404/COUNTIF('Data Input'!$C$8:$AQ$8,$K$2))","v":""},{"$f":"IF(ISBLANK('Data Input'!A408),\"\",SUM('Data Input'!O408,'Data Input'!P408,'Data Input'!R408,'Data Input'!S408))","v":""},{"$f":"IF(M404=\"\",\"\",M404/COUNTIF('Data Input'!$C$8:$AQ$8,$M$2))","v":""},{"$f":"IF(ISBLANK('Data Input'!A408),\"\",SUM('Data Input'!C408,'Data Input'!E408,'Data Input'!F408,'Data Input'!G408,'Data Input'!Q408,'Data Input'!T408))","v":""},{"$f":"IF(O404=\"\",\"\",O404/COUNTIF('Data Input'!$C$8:$AQ$8,$O$2))","v":""},{"$f":"IF(ISBLANK('Data Input'!A408),\"\",SUM('Data Input'!L408))","v":""},{"$f":"IF(Q404=\"\",\"\",Q404/COUNTIF('Data Input'!$C$8:$AQ$8,$Q$2))","v":""},{"$f":"IF(ISBLANK('Data Input'!A408),\"\",SUM('Data Input'!X408:AQ408))","v":""},{"$f":"IF(S404=\"\",\"\",S404/COUNTIF('Data Input'!$C$8:$AQ$8,$S$2))","v":""}]
[{"$f":"IF('Data Input'!A409=0,\"\",'Data Input'!A409)","v":""},{"$f":"IF(ISBLANK('Data Input'!A409),\"\",COUNTIF('Data Input'!C409:AQ409,\"\")-1)","v":""},{"$f":"IF(ISBLANK('Data Input'!A409),\"\",COUNTIF('Data Input'!C409:AQ409,\"0\"))","v":""},{"$f":"IF(ISBLANK('Data Input'!A409),\"\",SUM(B405,C405))","v":""},{"$f":"IF(ISBLANK('Data Input'!A409),\"\",SUM('Data Input'!C409:AQ409))","v":""},{"$f":"IF(E405=\"\",\"\",E405/(COUNTA('Data Input'!$C$8:$AQ$8)-1))","v":""},{"$f":"IF(ISBLANK('Data Input'!A409),\"\",SUM('Data Input'!H409,'Data Input'!I409,'Data Input'!M409,'Data Input'!N409))","v":""},{"$f":"IF(G405=\"\",\"\",G405/COUNTIF('Data Input'!$C$8:$AQ$8,$G$2))","v":""},{"$f":"IF(ISBLANK('Data Input'!A409),\"\",SUM('Data Input'!J409,'Data Input'!K409,'Data Input'!U409,'Data Input'!V409))","v":""},{"$f":"IF(I405=\"\",\"\",I405/COUNTIF('Data Input'!$C$8:$AQ$8,$I$2))","v":""},{"$f":"IF(ISBLANK('Data Input'!A409),\"\",SUM('Data Input'!D409))","v":""},{"$f":"IF(K405=\"\",\"\",K405/COUNTIF('Data Input'!$C$8:$AQ$8,$K$2))","v":""},{"$f":"IF(ISBLANK('Data Input'!A409),\"\",SUM('Data Input'!O409,'Data Input'!P409,'Data Input'!R409,'Data Input'!S409))","v":""},{"$f":"IF(M405=\"\",\"\",M405/COUNTIF('Data Input'!$C$8:$AQ$8,$M$2))","v":""},{"$f":"IF(ISBLANK('Data Input'!A409),\"\",SUM('Data Input'!C409,'Data Input'!E409,'Data Input'!F409,'Data Input'!G409,'Data Input'!Q409,'Data Input'!T409))","v":""},{"$f":"IF(O405=\"\",\"\",O405/COUNTIF('Data Input'!$C$8:$AQ$8,$O$2))","v":""},{"$f":"IF(ISBLANK('Data Input'!A409),\"\",SUM('Data Input'!L409))","v":""},{"$f":"IF(Q405=\"\",\"\",Q405/COUNTIF('Data Input'!$C$8:$AQ$8,$Q$2))","v":""},{"$f":"IF(ISBLANK('Data Input'!A409),\"\",SUM('Data Input'!X409:AQ409))","v":""},{"$f":"IF(S405=\"\",\"\",S405/COUNTIF('Data Input'!$C$8:$AQ$8,$S$2))","v":""}]
[{"$f":"IF('Data Input'!A410=0,\"\",'Data Input'!A410)","v":""},{"$f":"IF(ISBLANK('Data Input'!A410),\"\",COUNTIF('Data Input'!C410:AQ410,\"\")-1)","v":""},{"$f":"IF(ISBLANK('Data Input'!A410),\"\",COUNTIF('Data Input'!C410:AQ410,\"0\"))","v":""},{"$f":"IF(ISBLANK('Data Input'!A410),\"\",SUM(B406,C406))","v":""},{"$f":"IF(ISBLANK('Data Input'!A410),\"\",SUM('Data Input'!C410:AQ410))","v":""},{"$f":"IF(E406=\"\",\"\",E406/(COUNTA('Data Input'!$C$8:$AQ$8)-1))","v":""},{"$f":"IF(ISBLANK('Data Input'!A410),\"\",SUM('Data Input'!H410,'Data Input'!I410,'Data Input'!M410,'Data Input'!N410))","v":""},{"$f":"IF(G406=\"\",\"\",G406/COUNTIF('Data Input'!$C$8:$AQ$8,$G$2))","v":""},{"$f":"IF(ISBLANK('Data Input'!A410),\"\",SUM('Data Input'!J410,'Data Input'!K410,'Data Input'!U410,'Data Input'!V410))","v":""},{"$f":"IF(I406=\"\",\"\",I406/COUNTIF('Data Input'!$C$8:$AQ$8,$I$2))","v":""},{"$f":"IF(ISBLANK('Data Input'!A410),\"\",SUM('Data Input'!D410))","v":""},{"$f":"IF(K406=\"\",\"\",K406/COUNTIF('Data Input'!$C$8:$AQ$8,$K$2))","v":""},{"$f":"IF(ISBLANK('Data Input'!A410),\"\",SUM('Data Input'!O410,'Data Input'!P410,'Data Input'!R410,'Data Input'!S410))","v":""},{"$f":"IF(M406=\"\",\"\",M406/COUNTIF('Data Input'!$C$8:$AQ$8,$M$2))","v":""},{"$f":"IF(ISBLANK('Data Input'!A410),\"\",SUM('Data Input'!C410,'Data Input'!E410,'Data Input'!F410,'Data Input'!G410,'Data Input'!Q410,'Data Input'!T410))","v":""},{"$f":"IF(O406=\"\",\"\",O406/COUNTIF('Data Input'!$C$8:$AQ$8,$O$2))","v":""},{"$f":"IF(ISBLANK('Data Input'!A410),\"\",SUM('Data Input'!L410))","v":""},{"$f":"IF(Q406=\"\",\"\",Q406/COUNTIF('Data Input'!$C$8:$AQ$8,$Q$2))","v":""},{"$f":"IF(ISBLANK('Data Input'!A410),\"\",SUM('Data Input'!X410:AQ410))","v":""},{"$f":"IF(S406=\"\",\"\",S406/COUNTIF('Data Input'!$C$8:$AQ$8,$S$2))","v":""}]
[{"$f":"IF('Data Input'!A411=0,\"\",'Data Input'!A411)","v":""},{"$f":"IF(ISBLANK('Data Input'!A411),\"\",COUNTIF('Data Input'!C411:AQ411,\"\")-1)","v":""},{"$f":"IF(ISBLANK('Data Input'!A411),\"\",COUNTIF('Data Input'!C411:AQ411,\"0\"))","v":""},{"$f":"IF(ISBLANK('Data Input'!A411),\"\",SUM(B407,C407))","v":""},{"$f":"IF(ISBLANK('Data Input'!A411),\"\",SUM('Data Input'!C411:AQ411))","v":""},{"$f":"IF(E407=\"\",\"\",E407/(COUNTA('Data Input'!$C$8:$AQ$8)-1))","v":""},{"$f":"IF(ISBLANK('Data Input'!A411),\"\",SUM('Data Input'!H411,'Data Input'!I411,'Data Input'!M411,'Data Input'!N411))","v":""},{"$f":"IF(G407=\"\",\"\",G407/COUNTIF('Data Input'!$C$8:$AQ$8,$G$2))","v":""},{"$f":"IF(ISBLANK('Data Input'!A411),\"\",SUM('Data Input'!J411,'Data Input'!K411,'Data Input'!U411,'Data Input'!V411))","v":""},{"$f":"IF(I407=\"\",\"\",I407/COUNTIF('Data Input'!$C$8:$AQ$8,$I$2))","v":""},{"$f":"IF(ISBLANK('Data Input'!A411),\"\",SUM('Data Input'!D411))","v":""},{"$f":"IF(K407=\"\",\"\",K407/COUNTIF('Data Input'!$C$8:$AQ$8,$K$2))","v":""},{"$f":"IF(ISBLANK('Data Input'!A411),\"\",SUM('Data Input'!O411,'Data Input'!P411,'Data Input'!R411,'Data Input'!S411))","v":""},{"$f":"IF(M407=\"\",\"\",M407/COUNTIF('Data Input'!$C$8:$AQ$8,$M$2))","v":""},{"$f":"IF(ISBLANK('Data Input'!A411),\"\",SUM('Data Input'!C411,'Data Input'!E411,'Data Input'!F411,'Data Input'!G411,'Data Input'!Q411,'Data Input'!T411))","v":""},{"$f":"IF(O407=\"\",\"\",O407/COUNTIF('Data Input'!$C$8:$AQ$8,$O$2))","v":""},{"$f":"IF(ISBLANK('Data Input'!A411),\"\",SUM('Data Input'!L411))","v":""},{"$f":"IF(Q407=\"\",\"\",Q407/COUNTIF('Data Input'!$C$8:$AQ$8,$Q$2))","v":""},{"$f":"IF(ISBLANK('Data Input'!A411),\"\",SUM('Data Input'!X411:AQ411))","v":""},{"$f":"IF(S407=\"\",\"\",S407/COUNTIF('Data Input'!$C$8:$AQ$8,$S$2))","v":""}]
[{"$f":"IF('Data Input'!A412=0,\"\",'Data Input'!A412)","v":""},{"$f":"IF(ISBLANK('Data Input'!A412),\"\",COUNTIF('Data Input'!C412:AQ412,\"\")-1)","v":""},{"$f":"IF(ISBLANK('Data Input'!A412),\"\",COUNTIF('Data Input'!C412:AQ412,\"0\"))","v":""},{"$f":"IF(ISBLANK('Data Input'!A412),\"\",SUM(B408,C408))","v":""},{"$f":"IF(ISBLANK('Data Input'!A412),\"\",SUM('Data Input'!C412:AQ412))","v":""},{"$f":"IF(E408=\"\",\"\",E408/(COUNTA('Data Input'!$C$8:$AQ$8)-1))","v":""},{"$f":"IF(ISBLANK('Data Input'!A412),\"\",SUM('Data Input'!H412,'Data Input'!I412,'Data Input'!M412,'Data Input'!N412))","v":""},{"$f":"IF(G408=\"\",\"\",G408/COUNTIF('Data Input'!$C$8:$AQ$8,$G$2))","v":""},{"$f":"IF(ISBLANK('Data Input'!A412),\"\",SUM('Data Input'!J412,'Data Input'!K412,'Data Input'!U412,'Data Input'!V412))","v":""},{"$f":"IF(I408=\"\",\"\",I408/COUNTIF('Data Input'!$C$8:$AQ$8,$I$2))","v":""},{"$f":"IF(ISBLANK('Data Input'!A412),\"\",SUM('Data Input'!D412))","v":""},{"$f":"IF(K408=\"\",\"\",K408/COUNTIF('Data Input'!$C$8:$AQ$8,$K$2))","v":""},{"$f":"IF(ISBLANK('Data Input'!A412),\"\",SUM('Data Input'!O412,'Data Input'!P412,'Data Input'!R412,'Data Input'!S412))","v":""},{"$f":"IF(M408=\"\",\"\",M408/COUNTIF('Data Input'!$C$8:$AQ$8,$M$2))","v":""},{"$f":"IF(ISBLANK('Data Input'!A412),\"\",SUM('Data Input'!C412,'Data Input'!E412,'Data Input'!F412,'Data Input'!G412,'Data Input'!Q412,'Data Input'!T412))","v":""},{"$f":"IF(O408=\"\",\"\",O408/COUNTIF('Data Input'!$C$8:$AQ$8,$O$2))","v":""},{"$f":"IF(ISBLANK('Data Input'!A412),\"\",SUM('Data Input'!L412))","v":""},{"$f":"IF(Q408=\"\",\"\",Q408/COUNTIF('Data Input'!$C$8:$AQ$8,$Q$2))","v":""},{"$f":"IF(ISBLANK('Data Input'!A412),\"\",SUM('Data Input'!X412:AQ412))","v":""},{"$f":"IF(S408=\"\",\"\",S408/COUNTIF('Data Input'!$C$8:$AQ$8,$S$2))","v":""}]
[{"$f":"IF('Data Input'!A413=0,\"\",'Data Input'!A413)","v":""},{"$f":"IF(ISBLANK('Data Input'!A413),\"\",COUNTIF('Data Input'!C413:AQ413,\"\")-1)","v":""},{"$f":"IF(ISBLANK('Data Input'!A413),\"\",COUNTIF('Data Input'!C413:AQ413,\"0\"))","v":""},{"$f":"IF(ISBLANK('Data Input'!A413),\"\",SUM(B409,C409))","v":""},{"$f":"IF(ISBLANK('Data Input'!A413),\"\",SUM('Data Input'!C413:AQ413))","v":""},{"$f":"IF(E409=\"\",\"\",E409/(COUNTA('Data Input'!$C$8:$AQ$8)-1))","v":""},{"$f":"IF(ISBLANK('Data Input'!A413),\"\",SUM('Data Input'!H413,'Data Input'!I413,'Data Input'!M413,'Data Input'!N413))","v":""},{"$f":"IF(G409=\"\",\"\",G409/COUNTIF('Data Input'!$C$8:$AQ$8,$G$2))","v":""},{"$f":"IF(ISBLANK('Data Input'!A413),\"\",SUM('Data Input'!J413,'Data Input'!K413,'Data Input'!U413,'Data Input'!V413))","v":""},{"$f":"IF(I409=\"\",\"\",I409/COUNTIF('Data Input'!$C$8:$AQ$8,$I$2))","v":""},{"$f":"IF(ISBLANK('Data Input'!A413),\"\",SUM('Data Input'!D413))","v":""},{"$f":"IF(K409=\"\",\"\",K409/COUNTIF('Data Input'!$C$8:$AQ$8,$K$2))","v":""},{"$f":"IF(ISBLANK('Data Input'!A413),\"\",SUM('Data Input'!O413,'Data Input'!P413,'Data Input'!R413,'Data Input'!S413))","v":""},{"$f":"IF(M409=\"\",\"\",M409/COUNTIF('Data Input'!$C$8:$AQ$8,$M$2))","v":""},{"$f":"IF(ISBLANK('Data Input'!A413),\"\",SUM('Data Input'!C413,'Data Input'!E413,'Data Input'!F413,'Data Input'!G413,'Data Input'!Q413,'Data Input'!T413))","v":""},{"$f":"IF(O409=\"\",\"\",O409/COUNTIF('Data Input'!$C$8:$AQ$8,$O$2))","v":""},{"$f":"IF(ISBLANK('Data Input'!A413),\"\",SUM('Data Input'!L413))","v":""},{"$f":"IF(Q409=\"\",\"\",Q409/COUNTIF('Data Input'!$C$8:$AQ$8,$Q$2))","v":""},{"$f":"IF(ISBLANK('Data Input'!A413),\"\",SUM('Data Input'!X413:AQ413))","v":""},{"$f":"IF(S409=\"\",\"\",S409/COUNTIF('Data Input'!$C$8:$AQ$8,$S$2))","v":""}]
[{"$f":"IF('Data Input'!A414=0,\"\",'Data Input'!A414)","v":""},{"$f":"IF(ISBLANK('Data Input'!A414),\"\",COUNTIF('Data Input'!C414:AQ414,\"\")-1)","v":""},{"$f":"IF(ISBLANK('Data Input'!A414),\"\",COUNTIF('Data Input'!C414:AQ414,\"0\"))","v":""},{"$f":"IF(ISBLANK('Data Input'!A414),\"\",SUM(B410,C410))","v":""},{"$f":"IF(ISBLANK('Data Input'!A414),\"\",SUM('Data Input'!C414:AQ414))","v":""},{"$f":"IF(E410=\"\",\"\",E410/(COUNTA('Data Input'!$C$8:$AQ$8)-1))","v":""},{"$f":"IF(ISBLANK('Data Input'!A414),\"\",SUM('Data Input'!H414,'Data Input'!I414,'Data Input'!M414,'Data Input'!N414))","v":""},{"$f":"IF(G410=\"\",\"\",G410/COUNTIF('Data Input'!$C$8:$AQ$8,$G$2))","v":""},{"$f":"IF(ISBLANK('Data Input'!A414),\"\",SUM('Data Input'!J414,'Data Input'!K414,'Data Input'!U414,'Data Input'!V414))","v":""},{"$f":"IF(I410=\"\",\"\",I410/COUNTIF('Data Input'!$C$8:$AQ$8,$I$2))","v":""},{"$f":"IF(ISBLANK('Data Input'!A414),\"\",SUM('Data Input'!D414))","v":""},{"$f":"IF(K410=\"\",\"\",K410/COUNTIF('Data Input'!$C$8:$AQ$8,$K$2))","v":""},{"$f":"IF(ISBLANK('Data Input'!A414),\"\",SUM('Data Input'!O414,'Data Input'!P414,'Data Input'!R414,'Data Input'!S414))","v":""},{"$f":"IF(M410=\"\",\"\",M410/COUNTIF('Data Input'!$C$8:$AQ$8,$M$2))","v":""},{"$f":"IF(ISBLANK('Data Input'!A414),\"\",SUM('Data Input'!C414,'Data Input'!E414,'Data Input'!F414,'Data Input'!G414,'Data Input'!Q414,'Data Input'!T414))","v":""},{"$f":"IF(O410=\"\",\"\",O410/COUNTIF('Data Input'!$C$8:$AQ$8,$O$2))","v":""},{"$f":"IF(ISBLANK('Data Input'!A414),\"\",SUM('Data Input'!L414))","v":""},{"$f":"IF(Q410=\"\",\"\",Q410/COUNTIF('Data Input'!$C$8:$AQ$8,$Q$2))","v":""},{"$f":"IF(ISBLANK('Data Input'!A414),\"\",SUM('Data Input'!X414:AQ414))","v":""},{"$f":"IF(S410=\"\",\"\",S410/COUNTIF('Data Input'!$C$8:$AQ$8,$S$2))","v":""}]
[{"$f":"IF('Data Input'!A415=0,\"\",'Data Input'!A415)","v":""},{"$f":"IF(ISBLANK('Data Input'!A415),\"\",COUNTIF('Data Input'!C415:AQ415,\"\")-1)","v":""},{"$f":"IF(ISBLANK('Data Input'!A415),\"\",COUNTIF('Data Input'!C415:AQ415,\"0\"))","v":""},{"$f":"IF(ISBLANK('Data Input'!A415),\"\",SUM(B411,C411))","v":""},{"$f":"IF(ISBLANK('Data Input'!A415),\"\",SUM('Data Input'!C415:AQ415))","v":""},{"$f":"IF(E411=\"\",\"\",E411/(COUNTA('Data Input'!$C$8:$AQ$8)-1))","v":""},{"$f":"IF(ISBLANK('Data Input'!A415),\"\",SUM('Data Input'!H415,'Data Input'!I415,'Data Input'!M415,'Data Input'!N415))","v":""},{"$f":"IF(G411=\"\",\"\",G411/COUNTIF('Data Input'!$C$8:$AQ$8,$G$2))","v":""},{"$f":"IF(ISBLANK('Data Input'!A415),\"\",SUM('Data Input'!J415,'Data Input'!K415,'Data Input'!U415,'Data Input'!V415))","v":""},{"$f":"IF(I411=\"\",\"\",I411/COUNTIF('Data Input'!$C$8:$AQ$8,$I$2))","v":""},{"$f":"IF(ISBLANK('Data Input'!A415),\"\",SUM('Data Input'!D415))","v":""},{"$f":"IF(K411=\"\",\"\",K411/COUNTIF('Data Input'!$C$8:$AQ$8,$K$2))","v":""},{"$f":"IF(ISBLANK('Data Input'!A415),\"\",SUM('Data Input'!O415,'Data Input'!P415,'Data Input'!R415,'Data Input'!S415))","v":""},{"$f":"IF(M411=\"\",\"\",M411/COUNTIF('Data Input'!$C$8:$AQ$8,$M$2))","v":""},{"$f":"IF(ISBLANK('Data Input'!A415),\"\",SUM('Data Input'!C415,'Data Input'!E415,'Data Input'!F415,'Data Input'!G415,'Data Input'!Q415,'Data Input'!T415))","v":""},{"$f":"IF(O411=\"\",\"\",O411/COUNTIF('Data Input'!$C$8:$AQ$8,$O$2))","v":""},{"$f":"IF(ISBLANK('Data Input'!A415),\"\",SUM('Data Input'!L415))","v":""},{"$f":"IF(Q411=\"\",\"\",Q411/COUNTIF('Data Input'!$C$8:$AQ$8,$Q$2))","v":""},{"$f":"IF(ISBLANK('Data Input'!A415),\"\",SUM('Data Input'!X415:AQ415))","v":""},{"$f":"IF(S411=\"\",\"\",S411/COUNTIF('Data Input'!$C$8:$AQ$8,$S$2))","v":""}]
[{"$f":"IF('Data Input'!A416=0,\"\",'Data Input'!A416)","v":""},{"$f":"IF(ISBLANK('Data Input'!A416),\"\",COUNTIF('Data Input'!C416:AQ416,\"\")-1)","v":""},{"$f":"IF(ISBLANK('Data Input'!A416),\"\",COUNTIF('Data Input'!C416:AQ416,\"0\"))","v":""},{"$f":"IF(ISBLANK('Data Input'!A416),\"\",SUM(B412,C412))","v":""},{"$f":"IF(ISBLANK('Data Input'!A416),\"\",SUM('Data Input'!C416:AQ416))","v":""},{"$f":"IF(E412=\"\",\"\",E412/(COUNTA('Data Input'!$C$8:$AQ$8)-1))","v":""},{"$f":"IF(ISBLANK('Data Input'!A416),\"\",SUM('Data Input'!H416,'Data Input'!I416,'Data Input'!M416,'Data Input'!N416))","v":""},{"$f":"IF(G412=\"\",\"\",G412/COUNTIF('Data Input'!$C$8:$AQ$8,$G$2))","v":""},{"$f":"IF(ISBLANK('Data Input'!A416),\"\",SUM('Data Input'!J416,'Data Input'!K416,'Data Input'!U416,'Data Input'!V416))","v":""},{"$f":"IF(I412=\"\",\"\",I412/COUNTIF('Data Input'!$C$8:$AQ$8,$I$2))","v":""},{"$f":"IF(ISBLANK('Data Input'!A416),\"\",SUM('Data Input'!D416))","v":""},{"$f":"IF(K412=\"\",\"\",K412/COUNTIF('Data Input'!$C$8:$AQ$8,$K$2))","v":""},{"$f":"IF(ISBLANK('Data Input'!A416),\"\",SUM('Data Input'!O416,'Data Input'!P416,'Data Input'!R416,'Data Input'!S416))","v":""},{"$f":"IF(M412=\"\",\"\",M412/COUNTIF('Data Input'!$C$8:$AQ$8,$M$2))","v":""},{"$f":"IF(ISBLANK('Data Input'!A416),\"\",SUM('Data Input'!C416,'Data Input'!E416,'Data Input'!F416,'Data Input'!G416,'Data Input'!Q416,'Data Input'!T416))","v":""},{"$f":"IF(O412=\"\",\"\",O412/COUNTIF('Data Input'!$C$8:$AQ$8,$O$2))","v":""},{"$f":"IF(ISBLANK('Data Input'!A416),\"\",SUM('Data Input'!L416))","v":""},{"$f":"IF(Q412=\"\",\"\",Q412/COUNTIF('Data Input'!$C$8:$AQ$8,$Q$2))","v":""},{"$f":"IF(ISBLANK('Data Input'!A416),\"\",SUM('Data Input'!X416:AQ416))","v":""},{"$f":"IF(S412=\"\",\"\",S412/COUNTIF('Data Input'!$C$8:$AQ$8,$S$2))","v":""}]
[{"$f":"IF('Data Input'!A417=0,\"\",'Data Input'!A417)","v":""},{"$f":"IF(ISBLANK('Data Input'!A417),\"\",COUNTIF('Data Input'!C417:AQ417,\"\")-1)","v":""},{"$f":"IF(ISBLANK('Data Input'!A417),\"\",COUNTIF('Data Input'!C417:AQ417,\"0\"))","v":""},{"$f":"IF(ISBLANK('Data Input'!A417),\"\",SUM(B413,C413))","v":""},{"$f":"IF(ISBLANK('Data Input'!A417),\"\",SUM('Data Input'!C417:AQ417))","v":""},{"$f":"IF(E413=\"\",\"\",E413/(COUNTA('Data Input'!$C$8:$AQ$8)-1))","v":""},{"$f":"IF(ISBLANK('Data Input'!A417),\"\",SUM('Data Input'!H417,'Data Input'!I417,'Data Input'!M417,'Data Input'!N417))","v":""},{"$f":"IF(G413=\"\",\"\",G413/COUNTIF('Data Input'!$C$8:$AQ$8,$G$2))","v":""},{"$f":"IF(ISBLANK('Data Input'!A417),\"\",SUM('Data Input'!J417,'Data Input'!K417,'Data Input'!U417,'Data Input'!V417))","v":""},{"$f":"IF(I413=\"\",\"\",I413/COUNTIF('Data Input'!$C$8:$AQ$8,$I$2))","v":""},{"$f":"IF(ISBLANK('Data Input'!A417),\"\",SUM('Data Input'!D417))","v":""},{"$f":"IF(K413=\"\",\"\",K413/COUNTIF('Data Input'!$C$8:$AQ$8,$K$2))","v":""},{"$f":"IF(ISBLANK('Data Input'!A417),\"\",SUM('Data Input'!O417,'Data Input'!P417,'Data Input'!R417,'Data Input'!S417))","v":""},{"$f":"IF(M413=\"\",\"\",M413/COUNTIF('Data Input'!$C$8:$AQ$8,$M$2))","v":""},{"$f":"IF(ISBLANK('Data Input'!A417),\"\",SUM('Data Input'!C417,'Data Input'!E417,'Data Input'!F417,'Data Input'!G417,'Data Input'!Q417,'Data Input'!T417))","v":""},{"$f":"IF(O413=\"\",\"\",O413/COUNTIF('Data Input'!$C$8:$AQ$8,$O$2))","v":""},{"$f":"IF(ISBLANK('Data Input'!A417),\"\",SUM('Data Input'!L417))","v":""},{"$f":"IF(Q413=\"\",\"\",Q413/COUNTIF('Data Input'!$C$8:$AQ$8,$Q$2))","v":""},{"$f":"IF(ISBLANK('Data Input'!A417),\"\",SUM('Data Input'!X417:AQ417))","v":""},{"$f":"IF(S413=\"\",\"\",S413/COUNTIF('Data Input'!$C$8:$AQ$8,$S$2))","v":""}]
[{"$f":"IF('Data Input'!A418=0,\"\",'Data Input'!A418)","v":""},{"$f":"IF(ISBLANK('Data Input'!A418),\"\",COUNTIF('Data Input'!C418:AQ418,\"\")-1)","v":""},{"$f":"IF(ISBLANK('Data Input'!A418),\"\",COUNTIF('Data Input'!C418:AQ418,\"0\"))","v":""},{"$f":"IF(ISBLANK('Data Input'!A418),\"\",SUM(B414,C414))","v":""},{"$f":"IF(ISBLANK('Data Input'!A418),\"\",SUM('Data Input'!C418:AQ418))","v":""},{"$f":"IF(E414=\"\",\"\",E414/(COUNTA('Data Input'!$C$8:$AQ$8)-1))","v":""},{"$f":"IF(ISBLANK('Data Input'!A418),\"\",SUM('Data Input'!H418,'Data Input'!I418,'Data Input'!M418,'Data Input'!N418))","v":""},{"$f":"IF(G414=\"\",\"\",G414/COUNTIF('Data Input'!$C$8:$AQ$8,$G$2))","v":""},{"$f":"IF(ISBLANK('Data Input'!A418),\"\",SUM('Data Input'!J418,'Data Input'!K418,'Data Input'!U418,'Data Input'!V418))","v":""},{"$f":"IF(I414=\"\",\"\",I414/COUNTIF('Data Input'!$C$8:$AQ$8,$I$2))","v":""},{"$f":"IF(ISBLANK('Data Input'!A418),\"\",SUM('Data Input'!D418))","v":""},{"$f":"IF(K414=\"\",\"\",K414/COUNTIF('Data Input'!$C$8:$AQ$8,$K$2))","v":""},{"$f":"IF(ISBLANK('Data Input'!A418),\"\",SUM('Data Input'!O418,'Data Input'!P418,'Data Input'!R418,'Data Input'!S418))","v":""},{"$f":"IF(M414=\"\",\"\",M414/COUNTIF('Data Input'!$C$8:$AQ$8,$M$2))","v":""},{"$f":"IF(ISBLANK('Data Input'!A418),\"\",SUM('Data Input'!C418,'Data Input'!E418,'Data Input'!F418,'Data Input'!G418,'Data Input'!Q418,'Data Input'!T418))","v":""},{"$f":"IF(O414=\"\",\"\",O414/COUNTIF('Data Input'!$C$8:$AQ$8,$O$2))","v":""},{"$f":"IF(ISBLANK('Data Input'!A418),\"\",SUM('Data Input'!L418))","v":""},{"$f":"IF(Q414=\"\",\"\",Q414/COUNTIF('Data Input'!$C$8:$AQ$8,$Q$2))","v":""},{"$f":"IF(ISBLANK('Data Input'!A418),\"\",SUM('Data Input'!X418:AQ418))","v":""},{"$f":"IF(S414=\"\",\"\",S414/COUNTIF('Data Input'!$C$8:$AQ$8,$S$2))","v":""}]
[{"$f":"IF('Data Input'!A419=0,\"\",'Data Input'!A419)","v":""},{"$f":"IF(ISBLANK('Data Input'!A419),\"\",COUNTIF('Data Input'!C419:AQ419,\"\")-1)","v":""},{"$f":"IF(ISBLANK('Data Input'!A419),\"\",COUNTIF('Data Input'!C419:AQ419,\"0\"))","v":""},{"$f":"IF(ISBLANK('Data Input'!A419),\"\",SUM(B415,C415))","v":""},{"$f":"IF(ISBLANK('Data Input'!A419),\"\",SUM('Data Input'!C419:AQ419))","v":""},{"$f":"IF(E415=\"\",\"\",E415/(COUNTA('Data Input'!$C$8:$AQ$8)-1))","v":""},{"$f":"IF(ISBLANK('Data Input'!A419),\"\",SUM('Data Input'!H419,'Data Input'!I419,'Data Input'!M419,'Data Input'!N419))","v":""},{"$f":"IF(G415=\"\",\"\",G415/COUNTIF('Data Input'!$C$8:$AQ$8,$G$2))","v":""},{"$f":"IF(ISBLANK('Data Input'!A419),\"\",SUM('Data Input'!J419,'Data Input'!K419,'Data Input'!U419,'Data Input'!V419))","v":""},{"$f":"IF(I415=\"\",\"\",I415/COUNTIF('Data Input'!$C$8:$AQ$8,$I$2))","v":""},{"$f":"IF(ISBLANK('Data Input'!A419),\"\",SUM('Data Input'!D419))","v":""},{"$f":"IF(K415=\"\",\"\",K415/COUNTIF('Data Input'!$C$8:$AQ$8,$K$2))","v":""},{"$f":"IF(ISBLANK('Data Input'!A419),\"\",SUM('Data Input'!O419,'Data Input'!P419,'Data Input'!R419,'Data Input'!S419))","v":""},{"$f":"IF(M415=\"\",\"\",M415/COUNTIF('Data Input'!$C$8:$AQ$8,$M$2))","v":""},{"$f":"IF(ISBLANK('Data Input'!A419),\"\",SUM('Data Input'!C419,'Data Input'!E419,'Data Input'!F419,'Data Input'!G419,'Data Input'!Q419,'Data Input'!T419))","v":""},{"$f":"IF(O415=\"\",\"\",O415/COUNTIF('Data Input'!$C$8:$AQ$8,$O$2))","v":""},{"$f":"IF(ISBLANK('Data Input'!A419),\"\",SUM('Data Input'!L419))","v":""},{"$f":"IF(Q415=\"\",\"\",Q415/COUNTIF('Data Input'!$C$8:$AQ$8,$Q$2))","v":""},{"$f":"IF(ISBLANK('Data Input'!A419),\"\",SUM('Data Input'!X419:AQ419))","v":""},{"$f":"IF(S415=\"\",\"\",S415/COUNTIF('Data Input'!$C$8:$AQ$8,$S$2))","v":""}]
[{"$f":"IF('Data Input'!A420=0,\"\",'Data Input'!A420)","v":""},{"$f":"IF(ISBLANK('Data Input'!A420),\"\",COUNTIF('Data Input'!C420:AQ420,\"\")-1)","v":""},{"$f":"IF(ISBLANK('Data Input'!A420),\"\",COUNTIF('Data Input'!C420:AQ420,\"0\"))","v":""},{"$f":"IF(ISBLANK('Data Input'!A420),\"\",SUM(B416,C416))","v":""},{"$f":"IF(ISBLANK('Data Input'!A420),\"\",SUM('Data Input'!C420:AQ420))","v":""},{"$f":"IF(E416=\"\",\"\",E416/(COUNTA('Data Input'!$C$8:$AQ$8)-1))","v":""},{"$f":"IF(ISBLANK('Data Input'!A420),\"\",SUM('Data Input'!H420,'Data Input'!I420,'Data Input'!M420,'Data Input'!N420))","v":""},{"$f":"IF(G416=\"\",\"\",G416/COUNTIF('Data Input'!$C$8:$AQ$8,$G$2))","v":""},{"$f":"IF(ISBLANK('Data Input'!A420),\"\",SUM('Data Input'!J420,'Data Input'!K420,'Data Input'!U420,'Data Input'!V420))","v":""},{"$f":"IF(I416=\"\",\"\",I416/COUNTIF('Data Input'!$C$8:$AQ$8,$I$2))","v":""},{"$f":"IF(ISBLANK('Data Input'!A420),\"\",SUM('Data Input'!D420))","v":""},{"$f":"IF(K416=\"\",\"\",K416/COUNTIF('Data Input'!$C$8:$AQ$8,$K$2))","v":""},{"$f":"IF(ISBLANK('Data Input'!A420),\"\",SUM('Data Input'!O420,'Data Input'!P420,'Data Input'!R420,'Data Input'!S420))","v":""},{"$f":"IF(M416=\"\",\"\",M416/COUNTIF('Data Input'!$C$8:$AQ$8,$M$2))","v":""},{"$f":"IF(ISBLANK('Data Input'!A420),\"\",SUM('Data Input'!C420,'Data Input'!E420,'Data Input'!F420,'Data Input'!G420,'Data Input'!Q420,'Data Input'!T420))","v":""},{"$f":"IF(O416=\"\",\"\",O416/COUNTIF('Data Input'!$C$8:$AQ$8,$O$2))","v":""},{"$f":"IF(ISBLANK('Data Input'!A420),\"\",SUM('Data Input'!L420))","v":""},{"$f":"IF(Q416=\"\",\"\",Q416/COUNTIF('Data Input'!$C$8:$AQ$8,$Q$2))","v":""},{"$f":"IF(ISBLANK('Data Input'!A420),\"\",SUM('Data Input'!X420:AQ420))","v":""},{"$f":"IF(S416=\"\",\"\",S416/COUNTIF('Data Input'!$C$8:$AQ$8,$S$2))","v":""}]
[{"$f":"IF('Data Input'!A421=0,\"\",'Data Input'!A421)","v":""},{"$f":"IF(ISBLANK('Data Input'!A421),\"\",COUNTIF('Data Input'!C421:AQ421,\"\")-1)","v":""},{"$f":"IF(ISBLANK('Data Input'!A421),\"\",COUNTIF('Data Input'!C421:AQ421,\"0\"))","v":""},{"$f":"IF(ISBLANK('Data Input'!A421),\"\",SUM(B417,C417))","v":""},{"$f":"IF(ISBLANK('Data Input'!A421),\"\",SUM('Data Input'!C421:AQ421))","v":""},{"$f":"IF(E417=\"\",\"\",E417/(COUNTA('Data Input'!$C$8:$AQ$8)-1))","v":""},{"$f":"IF(ISBLANK('Data Input'!A421),\"\",SUM('Data Input'!H421,'Data Input'!I421,'Data Input'!M421,'Data Input'!N421))","v":""},{"$f":"IF(G417=\"\",\"\",G417/COUNTIF('Data Input'!$C$8:$AQ$8,$G$2))","v":""},{"$f":"IF(ISBLANK('Data Input'!A421),\"\",SUM('Data Input'!J421,'Data Input'!K421,'Data Input'!U421,'Data Input'!V421))","v":""},{"$f":"IF(I417=\"\",\"\",I417/COUNTIF('Data Input'!$C$8:$AQ$8,$I$2))","v":""},{"$f":"IF(ISBLANK('Data Input'!A421),\"\",SUM('Data Input'!D421))","v":""},{"$f":"IF(K417=\"\",\"\",K417/COUNTIF('Data Input'!$C$8:$AQ$8,$K$2))","v":""},{"$f":"IF(ISBLANK('Data Input'!A421),\"\",SUM('Data Input'!O421,'Data Input'!P421,'Data Input'!R421,'Data Input'!S421))","v":""},{"$f":"IF(M417=\"\",\"\",M417/COUNTIF('Data Input'!$C$8:$AQ$8,$M$2))","v":""},{"$f":"IF(ISBLANK('Data Input'!A421),\"\",SUM('Data Input'!C421,'Data Input'!E421,'Data Input'!F421,'Data Input'!G421,'Data Input'!Q421,'Data Input'!T421))","v":""},{"$f":"IF(O417=\"\",\"\",O417/COUNTIF('Data Input'!$C$8:$AQ$8,$O$2))","v":""},{"$f":"IF(ISBLANK('Data Input'!A421),\"\",SUM('Data Input'!L421))","v":""},{"$f":"IF(Q417=\"\",\"\",Q417/COUNTIF('Data Input'!$C$8:$AQ$8,$Q$2))","v":""},{"$f":"IF(ISBLANK('Data Input'!A421),\"\",SUM('Data Input'!X421:AQ421))","v":""},{"$f":"IF(S417=\"\",\"\",S417/COUNTIF('Data Input'!$C$8:$AQ$8,$S$2))","v":""}]
[{"$f":"IF('Data Input'!A422=0,\"\",'Data Input'!A422)","v":""},{"$f":"IF(ISBLANK('Data Input'!A422),\"\",COUNTIF('Data Input'!C422:AQ422,\"\")-1)","v":""},{"$f":"IF(ISBLANK('Data Input'!A422),\"\",COUNTIF('Data Input'!C422:AQ422,\"0\"))","v":""},{"$f":"IF(ISBLANK('Data Input'!A422),\"\",SUM(B418,C418))","v":""},{"$f":"IF(ISBLANK('Data Input'!A422),\"\",SUM('Data Input'!C422:AQ422))","v":""},{"$f":"IF(E418=\"\",\"\",E418/(COUNTA('Data Input'!$C$8:$AQ$8)-1))","v":""},{"$f":"IF(ISBLANK('Data Input'!A422),\"\",SUM('Data Input'!H422,'Data Input'!I422,'Data Input'!M422,'Data Input'!N422))","v":""},{"$f":"IF(G418=\"\",\"\",G418/COUNTIF('Data Input'!$C$8:$AQ$8,$G$2))","v":""},{"$f":"IF(ISBLANK('Data Input'!A422),\"\",SUM('Data Input'!J422,'Data Input'!K422,'Data Input'!U422,'Data Input'!V422))","v":""},{"$f":"IF(I418=\"\",\"\",I418/COUNTIF('Data Input'!$C$8:$AQ$8,$I$2))","v":""},{"$f":"IF(ISBLANK('Data Input'!A422),\"\",SUM('Data Input'!D422))","v":""},{"$f":"IF(K418=\"\",\"\",K418/COUNTIF('Data Input'!$C$8:$AQ$8,$K$2))","v":""},{"$f":"IF(ISBLANK('Data Input'!A422),\"\",SUM('Data Input'!O422,'Data Input'!P422,'Data Input'!R422,'Data Input'!S422))","v":""},{"$f":"IF(M418=\"\",\"\",M418/COUNTIF('Data Input'!$C$8:$AQ$8,$M$2))","v":""},{"$f":"IF(ISBLANK('Data Input'!A422),\"\",SUM('Data Input'!C422,'Data Input'!E422,'Data Input'!F422,'Data Input'!G422,'Data Input'!Q422,'Data Input'!T422))","v":""},{"$f":"IF(O418=\"\",\"\",O418/COUNTIF('Data Input'!$C$8:$AQ$8,$O$2))","v":""},{"$f":"IF(ISBLANK('Data Input'!A422),\"\",SUM('Data Input'!L422))","v":""},{"$f":"IF(Q418=\"\",\"\",Q418/COUNTIF('Data Input'!$C$8:$AQ$8,$Q$2))","v":""},{"$f":"IF(ISBLANK('Data Input'!A422),\"\",SUM('Data Input'!X422:AQ422))","v":""},{"$f":"IF(S418=\"\",\"\",S418/COUNTIF('Data Input'!$C$8:$AQ$8,$S$2))","v":""}]
[{"$f":"IF('Data Input'!A423=0,\"\",'Data Input'!A423)","v":""},{"$f":"IF(ISBLANK('Data Input'!A423),\"\",COUNTIF('Data Input'!C423:AQ423,\"\")-1)","v":""},{"$f":"IF(ISBLANK('Data Input'!A423),\"\",COUNTIF('Data Input'!C423:AQ423,\"0\"))","v":""},{"$f":"IF(ISBLANK('Data Input'!A423),\"\",SUM(B419,C419))","v":""},{"$f":"IF(ISBLANK('Data Input'!A423),\"\",SUM('Data Input'!C423:AQ423))","v":""},{"$f":"IF(E419=\"\",\"\",E419/(COUNTA('Data Input'!$C$8:$AQ$8)-1))","v":""},{"$f":"IF(ISBLANK('Data Input'!A423),\"\",SUM('Data Input'!H423,'Data Input'!I423,'Data Input'!M423,'Data Input'!N423))","v":""},{"$f":"IF(G419=\"\",\"\",G419/COUNTIF('Data Input'!$C$8:$AQ$8,$G$2))","v":""},{"$f":"IF(ISBLANK('Data Input'!A423),\"\",SUM('Data Input'!J423,'Data Input'!K423,'Data Input'!U423,'Data Input'!V423))","v":""},{"$f":"IF(I419=\"\",\"\",I419/COUNTIF('Data Input'!$C$8:$AQ$8,$I$2))","v":""},{"$f":"IF(ISBLANK('Data Input'!A423),\"\",SUM('Data Input'!D423))","v":""},{"$f":"IF(K419=\"\",\"\",K419/COUNTIF('Data Input'!$C$8:$AQ$8,$K$2))","v":""},{"$f":"IF(ISBLANK('Data Input'!A423),\"\",SUM('Data Input'!O423,'Data Input'!P423,'Data Input'!R423,'Data Input'!S423))","v":""},{"$f":"IF(M419=\"\",\"\",M419/COUNTIF('Data Input'!$C$8:$AQ$8,$M$2))","v":""},{"$f":"IF(ISBLANK('Data Input'!A423),\"\",SUM('Data Input'!C423,'Data Input'!E423,'Data Input'!F423,'Data Input'!G423,'Data Input'!Q423,'Data Input'!T423))","v":""},{"$f":"IF(O419=\"\",\"\",O419/COUNTIF('Data Input'!$C$8:$AQ$8,$O$2))","v":""},{"$f":"IF(ISBLANK('Data Input'!A423),\"\",SUM('Data Input'!L423))","v":""},{"$f":"IF(Q419=\"\",\"\",Q419/COUNTIF('Data Input'!$C$8:$AQ$8,$Q$2))","v":""},{"$f":"IF(ISBLANK('Data Input'!A423),\"\",SUM('Data Input'!X423:AQ423))","v":""},{"$f":"IF(S419=\"\",\"\",S419/COUNTIF('Data Input'!$C$8:$AQ$8,$S$2))","v":""}]
[{"$f":"IF('Data Input'!A424=0,\"\",'Data Input'!A424)","v":""},{"$f":"IF(ISBLANK('Data Input'!A424),\"\",COUNTIF('Data Input'!C424:AQ424,\"\")-1)","v":""},{"$f":"IF(ISBLANK('Data Input'!A424),\"\",COUNTIF('Data Input'!C424:AQ424,\"0\"))","v":""},{"$f":"IF(ISBLANK('Data Input'!A424),\"\",SUM(B420,C420))","v":""},{"$f":"IF(ISBLANK('Data Input'!A424),\"\",SUM('Data Input'!C424:AQ424))","v":""},{"$f":"IF(E420=\"\",\"\",E420/(COUNTA('Data Input'!$C$8:$AQ$8)-1))","v":""},{"$f":"IF(ISBLANK('Data Input'!A424),\"\",SUM('Data Input'!H424,'Data Input'!I424,'Data Input'!M424,'Data Input'!N424))","v":""},{"$f":"IF(G420=\"\",\"\",G420/COUNTIF('Data Input'!$C$8:$AQ$8,$G$2))","v":""},{"$f":"IF(ISBLANK('Data Input'!A424),\"\",SUM('Data Input'!J424,'Data Input'!K424,'Data Input'!U424,'Data Input'!V424))","v":""},{"$f":"IF(I420=\"\",\"\",I420/COUNTIF('Data Input'!$C$8:$AQ$8,$I$2))","v":""},{"$f":"IF(ISBLANK('Data Input'!A424),\"\",SUM('Data Input'!D424))","v":""},{"$f":"IF(K420=\"\",\"\",K420/COUNTIF('Data Input'!$C$8:$AQ$8,$K$2))","v":""},{"$f":"IF(ISBLANK('Data Input'!A424),\"\",SUM('Data Input'!O424,'Data Input'!P424,'Data Input'!R424,'Data Input'!S424))","v":""},{"$f":"IF(M420=\"\",\"\",M420/COUNTIF('Data Input'!$C$8:$AQ$8,$M$2))","v":""},{"$f":"IF(ISBLANK('Data Input'!A424),\"\",SUM('Data Input'!C424,'Data Input'!E424,'Data Input'!F424,'Data Input'!G424,'Data Input'!Q424,'Data Input'!T424))","v":""},{"$f":"IF(O420=\"\",\"\",O420/COUNTIF('Data Input'!$C$8:$AQ$8,$O$2))","v":""},{"$f":"IF(ISBLANK('Data Input'!A424),\"\",SUM('Data Input'!L424))","v":""},{"$f":"IF(Q420=\"\",\"\",Q420/COUNTIF('Data Input'!$C$8:$AQ$8,$Q$2))","v":""},{"$f":"IF(ISBLANK('Data Input'!A424),\"\",SUM('Data Input'!X424:AQ424))","v":""},{"$f":"IF(S420=\"\",\"\",S420/COUNTIF('Data Input'!$C$8:$AQ$8,$S$2))","v":""}]
[{"$f":"IF('Data Input'!A425=0,\"\",'Data Input'!A425)","v":""},{"$f":"IF(ISBLANK('Data Input'!A425),\"\",COUNTIF('Data Input'!C425:AQ425,\"\")-1)","v":""},{"$f":"IF(ISBLANK('Data Input'!A425),\"\",COUNTIF('Data Input'!C425:AQ425,\"0\"))","v":""},{"$f":"IF(ISBLANK('Data Input'!A425),\"\",SUM(B421,C421))","v":""},{"$f":"IF(ISBLANK('Data Input'!A425),\"\",SUM('Data Input'!C425:AQ425))","v":""},{"$f":"IF(E421=\"\",\"\",E421/(COUNTA('Data Input'!$C$8:$AQ$8)-1))","v":""},{"$f":"IF(ISBLANK('Data Input'!A425),\"\",SUM('Data Input'!H425,'Data Input'!I425,'Data Input'!M425,'Data Input'!N425))","v":""},{"$f":"IF(G421=\"\",\"\",G421/COUNTIF('Data Input'!$C$8:$AQ$8,$G$2))","v":""},{"$f":"IF(ISBLANK('Data Input'!A425),\"\",SUM('Data Input'!J425,'Data Input'!K425,'Data Input'!U425,'Data Input'!V425))","v":""},{"$f":"IF(I421=\"\",\"\",I421/COUNTIF('Data Input'!$C$8:$AQ$8,$I$2))","v":""},{"$f":"IF(ISBLANK('Data Input'!A425),\"\",SUM('Data Input'!D425))","v":""},{"$f":"IF(K421=\"\",\"\",K421/COUNTIF('Data Input'!$C$8:$AQ$8,$K$2))","v":""},{"$f":"IF(ISBLANK('Data Input'!A425),\"\",SUM('Data Input'!O425,'Data Input'!P425,'Data Input'!R425,'Data Input'!S425))","v":""},{"$f":"IF(M421=\"\",\"\",M421/COUNTIF('Data Input'!$C$8:$AQ$8,$M$2))","v":""},{"$f":"IF(ISBLANK('Data Input'!A425),\"\",SUM('Data Input'!C425,'Data Input'!E425,'Data Input'!F425,'Data Input'!G425,'Data Input'!Q425,'Data Input'!T425))","v":""},{"$f":"IF(O421=\"\",\"\",O421/COUNTIF('Data Input'!$C$8:$AQ$8,$O$2))","v":""},{"$f":"IF(ISBLANK('Data Input'!A425),\"\",SUM('Data Input'!L425))","v":""},{"$f":"IF(Q421=\"\",\"\",Q421/COUNTIF('Data Input'!$C$8:$AQ$8,$Q$2))","v":""},{"$f":"IF(ISBLANK('Data Input'!A425),\"\",SUM('Data Input'!X425:AQ425))","v":""},{"$f":"IF(S421=\"\",\"\",S421/COUNTIF('Data Input'!$C$8:$AQ$8,$S$2))","v":""}]
[{"$f":"IF('Data Input'!A426=0,\"\",'Data Input'!A426)","v":""},{"$f":"IF(ISBLANK('Data Input'!A426),\"\",COUNTIF('Data Input'!C426:AQ426,\"\")-1)","v":""},{"$f":"IF(ISBLANK('Data Input'!A426),\"\",COUNTIF('Data Input'!C426:AQ426,\"0\"))","v":""},{"$f":"IF(ISBLANK('Data Input'!A426),\"\",SUM(B422,C422))","v":""},{"$f":"IF(ISBLANK('Data Input'!A426),\"\",SUM('Data Input'!C426:AQ426))","v":""},{"$f":"IF(E422=\"\",\"\",E422/(COUNTA('Data Input'!$C$8:$AQ$8)-1))","v":""},{"$f":"IF(ISBLANK('Data Input'!A426),\"\",SUM('Data Input'!H426,'Data Input'!I426,'Data Input'!M426,'Data Input'!N426))","v":""},{"$f":"IF(G422=\"\",\"\",G422/COUNTIF('Data Input'!$C$8:$AQ$8,$G$2))","v":""},{"$f":"IF(ISBLANK('Data Input'!A426),\"\",SUM('Data Input'!J426,'Data Input'!K426,'Data Input'!U426,'Data Input'!V426))","v":""},{"$f":"IF(I422=\"\",\"\",I422/COUNTIF('Data Input'!$C$8:$AQ$8,$I$2))","v":""},{"$f":"IF(ISBLANK('Data Input'!A426),\"\",SUM('Data Input'!D426))","v":""},{"$f":"IF(K422=\"\",\"\",K422/COUNTIF('Data Input'!$C$8:$AQ$8,$K$2))","v":""},{"$f":"IF(ISBLANK('Data Input'!A426),\"\",SUM('Data Input'!O426,'Data Input'!P426,'Data Input'!R426,'Data Input'!S426))","v":""},{"$f":"IF(M422=\"\",\"\",M422/COUNTIF('Data Input'!$C$8:$AQ$8,$M$2))","v":""},{"$f":"IF(ISBLANK('Data Input'!A426),\"\",SUM('Data Input'!C426,'Data Input'!E426,'Data Input'!F426,'Data Input'!G426,'Data Input'!Q426,'Data Input'!T426))","v":""},{"$f":"IF(O422=\"\",\"\",O422/COUNTIF('Data Input'!$C$8:$AQ$8,$O$2))","v":""},{"$f":"IF(ISBLANK('Data Input'!A426),\"\",SUM('Data Input'!L426))","v":""},{"$f":"IF(Q422=\"\",\"\",Q422/COUNTIF('Data Input'!$C$8:$AQ$8,$Q$2))","v":""},{"$f":"IF(ISBLANK('Data Input'!A426),\"\",SUM('Data Input'!X426:AQ426))","v":""},{"$f":"IF(S422=\"\",\"\",S422/COUNTIF('Data Input'!$C$8:$AQ$8,$S$2))","v":""}]
[{"$f":"IF('Data Input'!A427=0,\"\",'Data Input'!A427)","v":""},{"$f":"IF(ISBLANK('Data Input'!A427),\"\",COUNTIF('Data Input'!C427:AQ427,\"\")-1)","v":""},{"$f":"IF(ISBLANK('Data Input'!A427),\"\",COUNTIF('Data Input'!C427:AQ427,\"0\"))","v":""},{"$f":"IF(ISBLANK('Data Input'!A427),\"\",SUM(B423,C423))","v":""},{"$f":"IF(ISBLANK('Data Input'!A427),\"\",SUM('Data Input'!C427:AQ427))","v":""},{"$f":"IF(E423=\"\",\"\",E423/(COUNTA('Data Input'!$C$8:$AQ$8)-1))","v":""},{"$f":"IF(ISBLANK('Data Input'!A427),\"\",SUM('Data Input'!H427,'Data Input'!I427,'Data Input'!M427,'Data Input'!N427))","v":""},{"$f":"IF(G423=\"\",\"\",G423/COUNTIF('Data Input'!$C$8:$AQ$8,$G$2))","v":""},{"$f":"IF(ISBLANK('Data Input'!A427),\"\",SUM('Data Input'!J427,'Data Input'!K427,'Data Input'!U427,'Data Input'!V427))","v":""},{"$f":"IF(I423=\"\",\"\",I423/COUNTIF('Data Input'!$C$8:$AQ$8,$I$2))","v":""},{"$f":"IF(ISBLANK('Data Input'!A427),\"\",SUM('Data Input'!D427))","v":""},{"$f":"IF(K423=\"\",\"\",K423/COUNTIF('Data Input'!$C$8:$AQ$8,$K$2))","v":""},{"$f":"IF(ISBLANK('Data Input'!A427),\"\",SUM('Data Input'!O427,'Data Input'!P427,'Data Input'!R427,'Data Input'!S427))","v":""},{"$f":"IF(M423=\"\",\"\",M423/COUNTIF('Data Input'!$C$8:$AQ$8,$M$2))","v":""},{"$f":"IF(ISBLANK('Data Input'!A427),\"\",SUM('Data Input'!C427,'Data Input'!E427,'Data Input'!F427,'Data Input'!G427,'Data Input'!Q427,'Data Input'!T427))","v":""},{"$f":"IF(O423=\"\",\"\",O423/COUNTIF('Data Input'!$C$8:$AQ$8,$O$2))","v":""},{"$f":"IF(ISBLANK('Data Input'!A427),\"\",SUM('Data Input'!L427))","v":""},{"$f":"IF(Q423=\"\",\"\",Q423/COUNTIF('Data Input'!$C$8:$AQ$8,$Q$2))","v":""},{"$f":"IF(ISBLANK('Data Input'!A427),\"\",SUM('Data Input'!X427:AQ427))","v":""},{"$f":"IF(S423=\"\",\"\",S423/COUNTIF('Data Input'!$C$8:$AQ$8,$S$2))","v":""}]
[{"$f":"IF('Data Input'!A428=0,\"\",'Data Input'!A428)","v":""},{"$f":"IF(ISBLANK('Data Input'!A428),\"\",COUNTIF('Data Input'!C428:AQ428,\"\")-1)","v":""},{"$f":"IF(ISBLANK('Data Input'!A428),\"\",COUNTIF('Data Input'!C428:AQ428,\"0\"))","v":""},{"$f":"IF(ISBLANK('Data Input'!A428),\"\",SUM(B424,C424))","v":""},{"$f":"IF(ISBLANK('Data Input'!A428),\"\",SUM('Data Input'!C428:AQ428))","v":""},{"$f":"IF(E424=\"\",\"\",E424/(COUNTA('Data Input'!$C$8:$AQ$8)-1))","v":""},{"$f":"IF(ISBLANK('Data Input'!A428),\"\",SUM('Data Input'!H428,'Data Input'!I428,'Data Input'!M428,'Data Input'!N428))","v":""},{"$f":"IF(G424=\"\",\"\",G424/COUNTIF('Data Input'!$C$8:$AQ$8,$G$2))","v":""},{"$f":"IF(ISBLANK('Data Input'!A428),\"\",SUM('Data Input'!J428,'Data Input'!K428,'Data Input'!U428,'Data Input'!V428))","v":""},{"$f":"IF(I424=\"\",\"\",I424/COUNTIF('Data Input'!$C$8:$AQ$8,$I$2))","v":""},{"$f":"IF(ISBLANK('Data Input'!A428),\"\",SUM('Data Input'!D428))","v":""},{"$f":"IF(K424=\"\",\"\",K424/COUNTIF('Data Input'!$C$8:$AQ$8,$K$2))","v":""},{"$f":"IF(ISBLANK('Data Input'!A428),\"\",SUM('Data Input'!O428,'Data Input'!P428,'Data Input'!R428,'Data Input'!S428))","v":""},{"$f":"IF(M424=\"\",\"\",M424/COUNTIF('Data Input'!$C$8:$AQ$8,$M$2))","v":""},{"$f":"IF(ISBLANK('Data Input'!A428),\"\",SUM('Data Input'!C428,'Data Input'!E428,'Data Input'!F428,'Data Input'!G428,'Data Input'!Q428,'Data Input'!T428))","v":""},{"$f":"IF(O424=\"\",\"\",O424/COUNTIF('Data Input'!$C$8:$AQ$8,$O$2))","v":""},{"$f":"IF(ISBLANK('Data Input'!A428),\"\",SUM('Data Input'!L428))","v":""},{"$f":"IF(Q424=\"\",\"\",Q424/COUNTIF('Data Input'!$C$8:$AQ$8,$Q$2))","v":""},{"$f":"IF(ISBLANK('Data Input'!A428),\"\",SUM('Data Input'!X428:AQ428))","v":""},{"$f":"IF(S424=\"\",\"\",S424/COUNTIF('Data Input'!$C$8:$AQ$8,$S$2))","v":""}]
[{"$f":"IF('Data Input'!A429=0,\"\",'Data Input'!A429)","v":""},{"$f":"IF(ISBLANK('Data Input'!A429),\"\",COUNTIF('Data Input'!C429:AQ429,\"\")-1)","v":""},{"$f":"IF(ISBLANK('Data Input'!A429),\"\",COUNTIF('Data Input'!C429:AQ429,\"0\"))","v":""},{"$f":"IF(ISBLANK('Data Input'!A429),\"\",SUM(B425,C425))","v":""},{"$f":"IF(ISBLANK('Data Input'!A429),\"\",SUM('Data Input'!C429:AQ429))","v":""},{"$f":"IF(E425=\"\",\"\",E425/(COUNTA('Data Input'!$C$8:$AQ$8)-1))","v":""},{"$f":"IF(ISBLANK('Data Input'!A429),\"\",SUM('Data Input'!H429,'Data Input'!I429,'Data Input'!M429,'Data Input'!N429))","v":""},{"$f":"IF(G425=\"\",\"\",G425/COUNTIF('Data Input'!$C$8:$AQ$8,$G$2))","v":""},{"$f":"IF(ISBLANK('Data Input'!A429),\"\",SUM('Data Input'!J429,'Data Input'!K429,'Data Input'!U429,'Data Input'!V429))","v":""},{"$f":"IF(I425=\"\",\"\",I425/COUNTIF('Data Input'!$C$8:$AQ$8,$I$2))","v":""},{"$f":"IF(ISBLANK('Data Input'!A429),\"\",SUM('Data Input'!D429))","v":""},{"$f":"IF(K425=\"\",\"\",K425/COUNTIF('Data Input'!$C$8:$AQ$8,$K$2))","v":""},{"$f":"IF(ISBLANK('Data Input'!A429),\"\",SUM('Data Input'!O429,'Data Input'!P429,'Data Input'!R429,'Data Input'!S429))","v":""},{"$f":"IF(M425=\"\",\"\",M425/COUNTIF('Data Input'!$C$8:$AQ$8,$M$2))","v":""},{"$f":"IF(ISBLANK('Data Input'!A429),\"\",SUM('Data Input'!C429,'Data Input'!E429,'Data Input'!F429,'Data Input'!G429,'Data Input'!Q429,'Data Input'!T429))","v":""},{"$f":"IF(O425=\"\",\"\",O425/COUNTIF('Data Input'!$C$8:$AQ$8,$O$2))","v":""},{"$f":"IF(ISBLANK('Data Input'!A429),\"\",SUM('Data Input'!L429))","v":""},{"$f":"IF(Q425=\"\",\"\",Q425/COUNTIF('Data Input'!$C$8:$AQ$8,$Q$2))","v":""},{"$f":"IF(ISBLANK('Data Input'!A429),\"\",SUM('Data Input'!X429:AQ429))","v":""},{"$f":"IF(S425=\"\",\"\",S425/COUNTIF('Data Input'!$C$8:$AQ$8,$S$2))","v":""}]
[{"$f":"IF('Data Input'!A430=0,\"\",'Data Input'!A430)","v":""},{"$f":"IF(ISBLANK('Data Input'!A430),\"\",COUNTIF('Data Input'!C430:AQ430,\"\")-1)","v":""},{"$f":"IF(ISBLANK('Data Input'!A430),\"\",COUNTIF('Data Input'!C430:AQ430,\"0\"))","v":""},{"$f":"IF(ISBLANK('Data Input'!A430),\"\",SUM(B426,C426))","v":""},{"$f":"IF(ISBLANK('Data Input'!A430),\"\",SUM('Data Input'!C430:AQ430))","v":""},{"$f":"IF(E426=\"\",\"\",E426/(COUNTA('Data Input'!$C$8:$AQ$8)-1))","v":""},{"$f":"IF(ISBLANK('Data Input'!A430),\"\",SUM('Data Input'!H430,'Data Input'!I430,'Data Input'!M430,'Data Input'!N430))","v":""},{"$f":"IF(G426=\"\",\"\",G426/COUNTIF('Data Input'!$C$8:$AQ$8,$G$2))","v":""},{"$f":"IF(ISBLANK('Data Input'!A430),\"\",SUM('Data Input'!J430,'Data Input'!K430,'Data Input'!U430,'Data Input'!V430))","v":""},{"$f":"IF(I426=\"\",\"\",I426/COUNTIF('Data Input'!$C$8:$AQ$8,$I$2))","v":""},{"$f":"IF(ISBLANK('Data Input'!A430),\"\",SUM('Data Input'!D430))","v":""},{"$f":"IF(K426=\"\",\"\",K426/COUNTIF('Data Input'!$C$8:$AQ$8,$K$2))","v":""},{"$f":"IF(ISBLANK('Data Input'!A430),\"\",SUM('Data Input'!O430,'Data Input'!P430,'Data Input'!R430,'Data Input'!S430))","v":""},{"$f":"IF(M426=\"\",\"\",M426/COUNTIF('Data Input'!$C$8:$AQ$8,$M$2))","v":""},{"$f":"IF(ISBLANK('Data Input'!A430),\"\",SUM('Data Input'!C430,'Data Input'!E430,'Data Input'!F430,'Data Input'!G430,'Data Input'!Q430,'Data Input'!T430))","v":""},{"$f":"IF(O426=\"\",\"\",O426/COUNTIF('Data Input'!$C$8:$AQ$8,$O$2))","v":""},{"$f":"IF(ISBLANK('Data Input'!A430),\"\",SUM('Data Input'!L430))","v":""},{"$f":"IF(Q426=\"\",\"\",Q426/COUNTIF('Data Input'!$C$8:$AQ$8,$Q$2))","v":""},{"$f":"IF(ISBLANK('Data Input'!A430),\"\",SUM('Data Input'!X430:AQ430))","v":""},{"$f":"IF(S426=\"\",\"\",S426/COUNTIF('Data Input'!$C$8:$AQ$8,$S$2))","v":""}]
[{"$f":"IF('Data Input'!A431=0,\"\",'Data Input'!A431)","v":""},{"$f":"IF(ISBLANK('Data Input'!A431),\"\",COUNTIF('Data Input'!C431:AQ431,\"\")-1)","v":""},{"$f":"IF(ISBLANK('Data Input'!A431),\"\",COUNTIF('Data Input'!C431:AQ431,\"0\"))","v":""},{"$f":"IF(ISBLANK('Data Input'!A431),\"\",SUM(B427,C427))","v":""},{"$f":"IF(ISBLANK('Data Input'!A431),\"\",SUM('Data Input'!C431:AQ431))","v":""},{"$f":"IF(E427=\"\",\"\",E427/(COUNTA('Data Input'!$C$8:$AQ$8)-1))","v":""},{"$f":"IF(ISBLANK('Data Input'!A431),\"\",SUM('Data Input'!H431,'Data Input'!I431,'Data Input'!M431,'Data Input'!N431))","v":""},{"$f":"IF(G427=\"\",\"\",G427/COUNTIF('Data Input'!$C$8:$AQ$8,$G$2))","v":""},{"$f":"IF(ISBLANK('Data Input'!A431),\"\",SUM('Data Input'!J431,'Data Input'!K431,'Data Input'!U431,'Data Input'!V431))","v":""},{"$f":"IF(I427=\"\",\"\",I427/COUNTIF('Data Input'!$C$8:$AQ$8,$I$2))","v":""},{"$f":"IF(ISBLANK('Data Input'!A431),\"\",SUM('Data Input'!D431))","v":""},{"$f":"IF(K427=\"\",\"\",K427/COUNTIF('Data Input'!$C$8:$AQ$8,$K$2))","v":""},{"$f":"IF(ISBLANK('Data Input'!A431),\"\",SUM('Data Input'!O431,'Data Input'!P431,'Data Input'!R431,'Data Input'!S431))","v":""},{"$f":"IF(M427=\"\",\"\",M427/COUNTIF('Data Input'!$C$8:$AQ$8,$M$2))","v":""},{"$f":"IF(ISBLANK('Data Input'!A431),\"\",SUM('Data Input'!C431,'Data Input'!E431,'Data Input'!F431,'Data Input'!G431,'Data Input'!Q431,'Data Input'!T431))","v":""},{"$f":"IF(O427=\"\",\"\",O427/COUNTIF('Data Input'!$C$8:$AQ$8,$O$2))","v":""},{"$f":"IF(ISBLANK('Data Input'!A431),\"\",SUM('Data Input'!L431))","v":""},{"$f":"IF(Q427=\"\",\"\",Q427/COUNTIF('Data Input'!$C$8:$AQ$8,$Q$2))","v":""},{"$f":"IF(ISBLANK('Data Input'!A431),\"\",SUM('Data Input'!X431:AQ431))","v":""},{"$f":"IF(S427=\"\",\"\",S427/COUNTIF('Data Input'!$C$8:$AQ$8,$S$2))","v":""}]
[{"$f":"IF('Data Input'!A432=0,\"\",'Data Input'!A432)","v":""},{"$f":"IF(ISBLANK('Data Input'!A432),\"\",COUNTIF('Data Input'!C432:AQ432,\"\")-1)","v":""},{"$f":"IF(ISBLANK('Data Input'!A432),\"\",COUNTIF('Data Input'!C432:AQ432,\"0\"))","v":""},{"$f":"IF(ISBLANK('Data Input'!A432),\"\",SUM(B428,C428))","v":""},{"$f":"IF(ISBLANK('Data Input'!A432),\"\",SUM('Data Input'!C432:AQ432))","v":""},{"$f":"IF(E428=\"\",\"\",E428/(COUNTA('Data Input'!$C$8:$AQ$8)-1))","v":""},{"$f":"IF(ISBLANK('Data Input'!A432),\"\",SUM('Data Input'!H432,'Data Input'!I432,'Data Input'!M432,'Data Input'!N432))","v":""},{"$f":"IF(G428=\"\",\"\",G428/COUNTIF('Data Input'!$C$8:$AQ$8,$G$2))","v":""},{"$f":"IF(ISBLANK('Data Input'!A432),\"\",SUM('Data Input'!J432,'Data Input'!K432,'Data Input'!U432,'Data Input'!V432))","v":""},{"$f":"IF(I428=\"\",\"\",I428/COUNTIF('Data Input'!$C$8:$AQ$8,$I$2))","v":""},{"$f":"IF(ISBLANK('Data Input'!A432),\"\",SUM('Data Input'!D432))","v":""},{"$f":"IF(K428=\"\",\"\",K428/COUNTIF('Data Input'!$C$8:$AQ$8,$K$2))","v":""},{"$f":"IF(ISBLANK('Data Input'!A432),\"\",SUM('Data Input'!O432,'Data Input'!P432,'Data Input'!R432,'Data Input'!S432))","v":""},{"$f":"IF(M428=\"\",\"\",M428/COUNTIF('Data Input'!$C$8:$AQ$8,$M$2))","v":""},{"$f":"IF(ISBLANK('Data Input'!A432),\"\",SUM('Data Input'!C432,'Data Input'!E432,'Data Input'!F432,'Data Input'!G432,'Data Input'!Q432,'Data Input'!T432))","v":""},{"$f":"IF(O428=\"\",\"\",O428/COUNTIF('Data Input'!$C$8:$AQ$8,$O$2))","v":""},{"$f":"IF(ISBLANK('Data Input'!A432),\"\",SUM('Data Input'!L432))","v":""},{"$f":"IF(Q428=\"\",\"\",Q428/COUNTIF('Data Input'!$C$8:$AQ$8,$Q$2))","v":""},{"$f":"IF(ISBLANK('Data Input'!A432),\"\",SUM('Data Input'!X432:AQ432))","v":""},{"$f":"IF(S428=\"\",\"\",S428/COUNTIF('Data Input'!$C$8:$AQ$8,$S$2))","v":""}]
[{"$f":"IF('Data Input'!A433=0,\"\",'Data Input'!A433)","v":""},{"$f":"IF(ISBLANK('Data Input'!A433),\"\",COUNTIF('Data Input'!C433:AQ433,\"\")-1)","v":""},{"$f":"IF(ISBLANK('Data Input'!A433),\"\",COUNTIF('Data Input'!C433:AQ433,\"0\"))","v":""},{"$f":"IF(ISBLANK('Data Input'!A433),\"\",SUM(B429,C429))","v":""},{"$f":"IF(ISBLANK('Data Input'!A433),\"\",SUM('Data Input'!C433:AQ433))","v":""},{"$f":"IF(E429=\"\",\"\",E429/(COUNTA('Data Input'!$C$8:$AQ$8)-1))","v":""},{"$f":"IF(ISBLANK('Data Input'!A433),\"\",SUM('Data Input'!H433,'Data Input'!I433,'Data Input'!M433,'Data Input'!N433))","v":""},{"$f":"IF(G429=\"\",\"\",G429/COUNTIF('Data Input'!$C$8:$AQ$8,$G$2))","v":""},{"$f":"IF(ISBLANK('Data Input'!A433),\"\",SUM('Data Input'!J433,'Data Input'!K433,'Data Input'!U433,'Data Input'!V433))","v":""},{"$f":"IF(I429=\"\",\"\",I429/COUNTIF('Data Input'!$C$8:$AQ$8,$I$2))","v":""},{"$f":"IF(ISBLANK('Data Input'!A433),\"\",SUM('Data Input'!D433))","v":""},{"$f":"IF(K429=\"\",\"\",K429/COUNTIF('Data Input'!$C$8:$AQ$8,$K$2))","v":""},{"$f":"IF(ISBLANK('Data Input'!A433),\"\",SUM('Data Input'!O433,'Data Input'!P433,'Data Input'!R433,'Data Input'!S433))","v":""},{"$f":"IF(M429=\"\",\"\",M429/COUNTIF('Data Input'!$C$8:$AQ$8,$M$2))","v":""},{"$f":"IF(ISBLANK('Data Input'!A433),\"\",SUM('Data Input'!C433,'Data Input'!E433,'Data Input'!F433,'Data Input'!G433,'Data Input'!Q433,'Data Input'!T433))","v":""},{"$f":"IF(O429=\"\",\"\",O429/COUNTIF('Data Input'!$C$8:$AQ$8,$O$2))","v":""},{"$f":"IF(ISBLANK('Data Input'!A433),\"\",SUM('Data Input'!L433))","v":""},{"$f":"IF(Q429=\"\",\"\",Q429/COUNTIF('Data Input'!$C$8:$AQ$8,$Q$2))","v":""},{"$f":"IF(ISBLANK('Data Input'!A433),\"\",SUM('Data Input'!X433:AQ433))","v":""},{"$f":"IF(S429=\"\",\"\",S429/COUNTIF('Data Input'!$C$8:$AQ$8,$S$2))","v":""}]
[{"$f":"IF('Data Input'!A434=0,\"\",'Data Input'!A434)","v":""},{"$f":"IF(ISBLANK('Data Input'!A434),\"\",COUNTIF('Data Input'!C434:AQ434,\"\")-1)","v":""},{"$f":"IF(ISBLANK('Data Input'!A434),\"\",COUNTIF('Data Input'!C434:AQ434,\"0\"))","v":""},{"$f":"IF(ISBLANK('Data Input'!A434),\"\",SUM(B430,C430))","v":""},{"$f":"IF(ISBLANK('Data Input'!A434),\"\",SUM('Data Input'!C434:AQ434))","v":""},{"$f":"IF(E430=\"\",\"\",E430/(COUNTA('Data Input'!$C$8:$AQ$8)-1))","v":""},{"$f":"IF(ISBLANK('Data Input'!A434),\"\",SUM('Data Input'!H434,'Data Input'!I434,'Data Input'!M434,'Data Input'!N434))","v":""},{"$f":"IF(G430=\"\",\"\",G430/COUNTIF('Data Input'!$C$8:$AQ$8,$G$2))","v":""},{"$f":"IF(ISBLANK('Data Input'!A434),\"\",SUM('Data Input'!J434,'Data Input'!K434,'Data Input'!U434,'Data Input'!V434))","v":""},{"$f":"IF(I430=\"\",\"\",I430/COUNTIF('Data Input'!$C$8:$AQ$8,$I$2))","v":""},{"$f":"IF(ISBLANK('Data Input'!A434),\"\",SUM('Data Input'!D434))","v":""},{"$f":"IF(K430=\"\",\"\",K430/COUNTIF('Data Input'!$C$8:$AQ$8,$K$2))","v":""},{"$f":"IF(ISBLANK('Data Input'!A434),\"\",SUM('Data Input'!O434,'Data Input'!P434,'Data Input'!R434,'Data Input'!S434))","v":""},{"$f":"IF(M430=\"\",\"\",M430/COUNTIF('Data Input'!$C$8:$AQ$8,$M$2))","v":""},{"$f":"IF(ISBLANK('Data Input'!A434),\"\",SUM('Data Input'!C434,'Data Input'!E434,'Data Input'!F434,'Data Input'!G434,'Data Input'!Q434,'Data Input'!T434))","v":""},{"$f":"IF(O430=\"\",\"\",O430/COUNTIF('Data Input'!$C$8:$AQ$8,$O$2))","v":""},{"$f":"IF(ISBLANK('Data Input'!A434),\"\",SUM('Data Input'!L434))","v":""},{"$f":"IF(Q430=\"\",\"\",Q430/COUNTIF('Data Input'!$C$8:$AQ$8,$Q$2))","v":""},{"$f":"IF(ISBLANK('Data Input'!A434),\"\",SUM('Data Input'!X434:AQ434))","v":""},{"$f":"IF(S430=\"\",\"\",S430/COUNTIF('Data Input'!$C$8:$AQ$8,$S$2))","v":""}]
[{"$f":"IF('Data Input'!A435=0,\"\",'Data Input'!A435)","v":""},{"$f":"IF(ISBLANK('Data Input'!A435),\"\",COUNTIF('Data Input'!C435:AQ435,\"\")-1)","v":""},{"$f":"IF(ISBLANK('Data Input'!A435),\"\",COUNTIF('Data Input'!C435:AQ435,\"0\"))","v":""},{"$f":"IF(ISBLANK('Data Input'!A435),\"\",SUM(B431,C431))","v":""},{"$f":"IF(ISBLANK('Data Input'!A435),\"\",SUM('Data Input'!C435:AQ435))","v":""},{"$f":"IF(E431=\"\",\"\",E431/(COUNTA('Data Input'!$C$8:$AQ$8)-1))","v":""},{"$f":"IF(ISBLANK('Data Input'!A435),\"\",SUM('Data Input'!H435,'Data Input'!I435,'Data Input'!M435,'Data Input'!N435))","v":""},{"$f":"IF(G431=\"\",\"\",G431/COUNTIF('Data Input'!$C$8:$AQ$8,$G$2))","v":""},{"$f":"IF(ISBLANK('Data Input'!A435),\"\",SUM('Data Input'!J435,'Data Input'!K435,'Data Input'!U435,'Data Input'!V435))","v":""},{"$f":"IF(I431=\"\",\"\",I431/COUNTIF('Data Input'!$C$8:$AQ$8,$I$2))","v":""},{"$f":"IF(ISBLANK('Data Input'!A435),\"\",SUM('Data Input'!D435))","v":""},{"$f":"IF(K431=\"\",\"\",K431/COUNTIF('Data Input'!$C$8:$AQ$8,$K$2))","v":""},{"$f":"IF(ISBLANK('Data Input'!A435),\"\",SUM('Data Input'!O435,'Data Input'!P435,'Data Input'!R435,'Data Input'!S435))","v":""},{"$f":"IF(M431=\"\",\"\",M431/COUNTIF('Data Input'!$C$8:$AQ$8,$M$2))","v":""},{"$f":"IF(ISBLANK('Data Input'!A435),\"\",SUM('Data Input'!C435,'Data Input'!E435,'Data Input'!F435,'Data Input'!G435,'Data Input'!Q435,'Data Input'!T435))","v":""},{"$f":"IF(O431=\"\",\"\",O431/COUNTIF('Data Input'!$C$8:$AQ$8,$O$2))","v":""},{"$f":"IF(ISBLANK('Data Input'!A435),\"\",SUM('Data Input'!L435))","v":""},{"$f":"IF(Q431=\"\",\"\",Q431/COUNTIF('Data Input'!$C$8:$AQ$8,$Q$2))","v":""},{"$f":"IF(ISBLANK('Data Input'!A435),\"\",SUM('Data Input'!X435:AQ435))","v":""},{"$f":"IF(S431=\"\",\"\",S431/COUNTIF('Data Input'!$C$8:$AQ$8,$S$2))","v":""}]
[{"$f":"IF('Data Input'!A436=0,\"\",'Data Input'!A436)","v":""},{"$f":"IF(ISBLANK('Data Input'!A436),\"\",COUNTIF('Data Input'!C436:AQ436,\"\")-1)","v":""},{"$f":"IF(ISBLANK('Data Input'!A436),\"\",COUNTIF('Data Input'!C436:AQ436,\"0\"))","v":""},{"$f":"IF(ISBLANK('Data Input'!A436),\"\",SUM(B432,C432))","v":""},{"$f":"IF(ISBLANK('Data Input'!A436),\"\",SUM('Data Input'!C436:AQ436))","v":""},{"$f":"IF(E432=\"\",\"\",E432/(COUNTA('Data Input'!$C$8:$AQ$8)-1))","v":""},{"$f":"IF(ISBLANK('Data Input'!A436),\"\",SUM('Data Input'!H436,'Data Input'!I436,'Data Input'!M436,'Data Input'!N436))","v":""},{"$f":"IF(G432=\"\",\"\",G432/COUNTIF('Data Input'!$C$8:$AQ$8,$G$2))","v":""},{"$f":"IF(ISBLANK('Data Input'!A436),\"\",SUM('Data Input'!J436,'Data Input'!K436,'Data Input'!U436,'Data Input'!V436))","v":""},{"$f":"IF(I432=\"\",\"\",I432/COUNTIF('Data Input'!$C$8:$AQ$8,$I$2))","v":""},{"$f":"IF(ISBLANK('Data Input'!A436),\"\",SUM('Data Input'!D436))","v":""},{"$f":"IF(K432=\"\",\"\",K432/COUNTIF('Data Input'!$C$8:$AQ$8,$K$2))","v":""},{"$f":"IF(ISBLANK('Data Input'!A436),\"\",SUM('Data Input'!O436,'Data Input'!P436,'Data Input'!R436,'Data Input'!S436))","v":""},{"$f":"IF(M432=\"\",\"\",M432/COUNTIF('Data Input'!$C$8:$AQ$8,$M$2))","v":""},{"$f":"IF(ISBLANK('Data Input'!A436),\"\",SUM('Data Input'!C436,'Data Input'!E436,'Data Input'!F436,'Data Input'!G436,'Data Input'!Q436,'Data Input'!T436))","v":""},{"$f":"IF(O432=\"\",\"\",O432/COUNTIF('Data Input'!$C$8:$AQ$8,$O$2))","v":""},{"$f":"IF(ISBLANK('Data Input'!A436),\"\",SUM('Data Input'!L436))","v":""},{"$f":"IF(Q432=\"\",\"\",Q432/COUNTIF('Data Input'!$C$8:$AQ$8,$Q$2))","v":""},{"$f":"IF(ISBLANK('Data Input'!A436),\"\",SUM('Data Input'!X436:AQ436))","v":""},{"$f":"IF(S432=\"\",\"\",S432/COUNTIF('Data Input'!$C$8:$AQ$8,$S$2))","v":""}]
[{"$f":"IF('Data Input'!A437=0,\"\",'Data Input'!A437)","v":""},{"$f":"IF(ISBLANK('Data Input'!A437),\"\",COUNTIF('Data Input'!C437:AQ437,\"\")-1)","v":""},{"$f":"IF(ISBLANK('Data Input'!A437),\"\",COUNTIF('Data Input'!C437:AQ437,\"0\"))","v":""},{"$f":"IF(ISBLANK('Data Input'!A437),\"\",SUM(B433,C433))","v":""},{"$f":"IF(ISBLANK('Data Input'!A437),\"\",SUM('Data Input'!C437:AQ437))","v":""},{"$f":"IF(E433=\"\",\"\",E433/(COUNTA('Data Input'!$C$8:$AQ$8)-1))","v":""},{"$f":"IF(ISBLANK('Data Input'!A437),\"\",SUM('Data Input'!H437,'Data Input'!I437,'Data Input'!M437,'Data Input'!N437))","v":""},{"$f":"IF(G433=\"\",\"\",G433/COUNTIF('Data Input'!$C$8:$AQ$8,$G$2))","v":""},{"$f":"IF(ISBLANK('Data Input'!A437),\"\",SUM('Data Input'!J437,'Data Input'!K437,'Data Input'!U437,'Data Input'!V437))","v":""},{"$f":"IF(I433=\"\",\"\",I433/COUNTIF('Data Input'!$C$8:$AQ$8,$I$2))","v":""},{"$f":"IF(ISBLANK('Data Input'!A437),\"\",SUM('Data Input'!D437))","v":""},{"$f":"IF(K433=\"\",\"\",K433/COUNTIF('Data Input'!$C$8:$AQ$8,$K$2))","v":""},{"$f":"IF(ISBLANK('Data Input'!A437),\"\",SUM('Data Input'!O437,'Data Input'!P437,'Data Input'!R437,'Data Input'!S437))","v":""},{"$f":"IF(M433=\"\",\"\",M433/COUNTIF('Data Input'!$C$8:$AQ$8,$M$2))","v":""},{"$f":"IF(ISBLANK('Data Input'!A437),\"\",SUM('Data Input'!C437,'Data Input'!E437,'Data Input'!F437,'Data Input'!G437,'Data Input'!Q437,'Data Input'!T437))","v":""},{"$f":"IF(O433=\"\",\"\",O433/COUNTIF('Data Input'!$C$8:$AQ$8,$O$2))","v":""},{"$f":"IF(ISBLANK('Data Input'!A437),\"\",SUM('Data Input'!L437))","v":""},{"$f":"IF(Q433=\"\",\"\",Q433/COUNTIF('Data Input'!$C$8:$AQ$8,$Q$2))","v":""},{"$f":"IF(ISBLANK('Data Input'!A437),\"\",SUM('Data Input'!X437:AQ437))","v":""},{"$f":"IF(S433=\"\",\"\",S433/COUNTIF('Data Input'!$C$8:$AQ$8,$S$2))","v":""}]
[{"$f":"IF('Data Input'!A438=0,\"\",'Data Input'!A438)","v":""},{"$f":"IF(ISBLANK('Data Input'!A438),\"\",COUNTIF('Data Input'!C438:AQ438,\"\")-1)","v":""},{"$f":"IF(ISBLANK('Data Input'!A438),\"\",COUNTIF('Data Input'!C438:AQ438,\"0\"))","v":""},{"$f":"IF(ISBLANK('Data Input'!A438),\"\",SUM(B434,C434))","v":""},{"$f":"IF(ISBLANK('Data Input'!A438),\"\",SUM('Data Input'!C438:AQ438))","v":""},{"$f":"IF(E434=\"\",\"\",E434/(COUNTA('Data Input'!$C$8:$AQ$8)-1))","v":""},{"$f":"IF(ISBLANK('Data Input'!A438),\"\",SUM('Data Input'!H438,'Data Input'!I438,'Data Input'!M438,'Data Input'!N438))","v":""},{"$f":"IF(G434=\"\",\"\",G434/COUNTIF('Data Input'!$C$8:$AQ$8,$G$2))","v":""},{"$f":"IF(ISBLANK('Data Input'!A438),\"\",SUM('Data Input'!J438,'Data Input'!K438,'Data Input'!U438,'Data Input'!V438))","v":""},{"$f":"IF(I434=\"\",\"\",I434/COUNTIF('Data Input'!$C$8:$AQ$8,$I$2))","v":""},{"$f":"IF(ISBLANK('Data Input'!A438),\"\",SUM('Data Input'!D438))","v":""},{"$f":"IF(K434=\"\",\"\",K434/COUNTIF('Data Input'!$C$8:$AQ$8,$K$2))","v":""},{"$f":"IF(ISBLANK('Data Input'!A438),\"\",SUM('Data Input'!O438,'Data Input'!P438,'Data Input'!R438,'Data Input'!S438))","v":""},{"$f":"IF(M434=\"\",\"\",M434/COUNTIF('Data Input'!$C$8:$AQ$8,$M$2))","v":""},{"$f":"IF(ISBLANK('Data Input'!A438),\"\",SUM('Data Input'!C438,'Data Input'!E438,'Data Input'!F438,'Data Input'!G438,'Data Input'!Q438,'Data Input'!T438))","v":""},{"$f":"IF(O434=\"\",\"\",O434/COUNTIF('Data Input'!$C$8:$AQ$8,$O$2))","v":""},{"$f":"IF(ISBLANK('Data Input'!A438),\"\",SUM('Data Input'!L438))","v":""},{"$f":"IF(Q434=\"\",\"\",Q434/COUNTIF('Data Input'!$C$8:$AQ$8,$Q$2))","v":""},{"$f":"IF(ISBLANK('Data Input'!A438),\"\",SUM('Data Input'!X438:AQ438))","v":""},{"$f":"IF(S434=\"\",\"\",S434/COUNTIF('Data Input'!$C$8:$AQ$8,$S$2))","v":""}]
[{"$f":"IF('Data Input'!A439=0,\"\",'Data Input'!A439)","v":""},{"$f":"IF(ISBLANK('Data Input'!A439),\"\",COUNTIF('Data Input'!C439:AQ439,\"\")-1)","v":""},{"$f":"IF(ISBLANK('Data Input'!A439),\"\",COUNTIF('Data Input'!C439:AQ439,\"0\"))","v":""},{"$f":"IF(ISBLANK('Data Input'!A439),\"\",SUM(B435,C435))","v":""},{"$f":"IF(ISBLANK('Data Input'!A439),\"\",SUM('Data Input'!C439:AQ439))","v":""},{"$f":"IF(E435=\"\",\"\",E435/(COUNTA('Data Input'!$C$8:$AQ$8)-1))","v":""},{"$f":"IF(ISBLANK('Data Input'!A439),\"\",SUM('Data Input'!H439,'Data Input'!I439,'Data Input'!M439,'Data Input'!N439))","v":""},{"$f":"IF(G435=\"\",\"\",G435/COUNTIF('Data Input'!$C$8:$AQ$8,$G$2))","v":""},{"$f":"IF(ISBLANK('Data Input'!A439),\"\",SUM('Data Input'!J439,'Data Input'!K439,'Data Input'!U439,'Data Input'!V439))","v":""},{"$f":"IF(I435=\"\",\"\",I435/COUNTIF('Data Input'!$C$8:$AQ$8,$I$2))","v":""},{"$f":"IF(ISBLANK('Data Input'!A439),\"\",SUM('Data Input'!D439))","v":""},{"$f":"IF(K435=\"\",\"\",K435/COUNTIF('Data Input'!$C$8:$AQ$8,$K$2))","v":""},{"$f":"IF(ISBLANK('Data Input'!A439),\"\",SUM('Data Input'!O439,'Data Input'!P439,'Data Input'!R439,'Data Input'!S439))","v":""},{"$f":"IF(M435=\"\",\"\",M435/COUNTIF('Data Input'!$C$8:$AQ$8,$M$2))","v":""},{"$f":"IF(ISBLANK('Data Input'!A439),\"\",SUM('Data Input'!C439,'Data Input'!E439,'Data Input'!F439,'Data Input'!G439,'Data Input'!Q439,'Data Input'!T439))","v":""},{"$f":"IF(O435=\"\",\"\",O435/COUNTIF('Data Input'!$C$8:$AQ$8,$O$2))","v":""},{"$f":"IF(ISBLANK('Data Input'!A439),\"\",SUM('Data Input'!L439))","v":""},{"$f":"IF(Q435=\"\",\"\",Q435/COUNTIF('Data Input'!$C$8:$AQ$8,$Q$2))","v":""},{"$f":"IF(ISBLANK('Data Input'!A439),\"\",SUM('Data Input'!X439:AQ439))","v":""},{"$f":"IF(S435=\"\",\"\",S435/COUNTIF('Data Input'!$C$8:$AQ$8,$S$2))","v":""}]
[{"$f":"IF('Data Input'!A440=0,\"\",'Data Input'!A440)","v":""},{"$f":"IF(ISBLANK('Data Input'!A440),\"\",COUNTIF('Data Input'!C440:AQ440,\"\")-1)","v":""},{"$f":"IF(ISBLANK('Data Input'!A440),\"\",COUNTIF('Data Input'!C440:AQ440,\"0\"))","v":""},{"$f":"IF(ISBLANK('Data Input'!A440),\"\",SUM(B436,C436))","v":""},{"$f":"IF(ISBLANK('Data Input'!A440),\"\",SUM('Data Input'!C440:AQ440))","v":""},{"$f":"IF(E436=\"\",\"\",E436/(COUNTA('Data Input'!$C$8:$AQ$8)-1))","v":""},{"$f":"IF(ISBLANK('Data Input'!A440),\"\",SUM('Data Input'!H440,'Data Input'!I440,'Data Input'!M440,'Data Input'!N440))","v":""},{"$f":"IF(G436=\"\",\"\",G436/COUNTIF('Data Input'!$C$8:$AQ$8,$G$2))","v":""},{"$f":"IF(ISBLANK('Data Input'!A440),\"\",SUM('Data Input'!J440,'Data Input'!K440,'Data Input'!U440,'Data Input'!V440))","v":""},{"$f":"IF(I436=\"\",\"\",I436/COUNTIF('Data Input'!$C$8:$AQ$8,$I$2))","v":""},{"$f":"IF(ISBLANK('Data Input'!A440),\"\",SUM('Data Input'!D440))","v":""},{"$f":"IF(K436=\"\",\"\",K436/COUNTIF('Data Input'!$C$8:$AQ$8,$K$2))","v":""},{"$f":"IF(ISBLANK('Data Input'!A440),\"\",SUM('Data Input'!O440,'Data Input'!P440,'Data Input'!R440,'Data Input'!S440))","v":""},{"$f":"IF(M436=\"\",\"\",M436/COUNTIF('Data Input'!$C$8:$AQ$8,$M$2))","v":""},{"$f":"IF(ISBLANK('Data Input'!A440),\"\",SUM('Data Input'!C440,'Data Input'!E440,'Data Input'!F440,'Data Input'!G440,'Data Input'!Q440,'Data Input'!T440))","v":""},{"$f":"IF(O436=\"\",\"\",O436/COUNTIF('Data Input'!$C$8:$AQ$8,$O$2))","v":""},{"$f":"IF(ISBLANK('Data Input'!A440),\"\",SUM('Data Input'!L440))","v":""},{"$f":"IF(Q436=\"\",\"\",Q436/COUNTIF('Data Input'!$C$8:$AQ$8,$Q$2))","v":""},{"$f":"IF(ISBLANK('Data Input'!A440),\"\",SUM('Data Input'!X440:AQ440))","v":""},{"$f":"IF(S436=\"\",\"\",S436/COUNTIF('Data Input'!$C$8:$AQ$8,$S$2))","v":""}]
[{"$f":"IF('Data Input'!A441=0,\"\",'Data Input'!A441)","v":""},{"$f":"IF(ISBLANK('Data Input'!A441),\"\",COUNTIF('Data Input'!C441:AQ441,\"\")-1)","v":""},{"$f":"IF(ISBLANK('Data Input'!A441),\"\",COUNTIF('Data Input'!C441:AQ441,\"0\"))","v":""},{"$f":"IF(ISBLANK('Data Input'!A441),\"\",SUM(B437,C437))","v":""},{"$f":"IF(ISBLANK('Data Input'!A441),\"\",SUM('Data Input'!C441:AQ441))","v":""},{"$f":"IF(E437=\"\",\"\",E437/(COUNTA('Data Input'!$C$8:$AQ$8)-1))","v":""},{"$f":"IF(ISBLANK('Data Input'!A441),\"\",SUM('Data Input'!H441,'Data Input'!I441,'Data Input'!M441,'Data Input'!N441))","v":""},{"$f":"IF(G437=\"\",\"\",G437/COUNTIF('Data Input'!$C$8:$AQ$8,$G$2))","v":""},{"$f":"IF(ISBLANK('Data Input'!A441),\"\",SUM('Data Input'!J441,'Data Input'!K441,'Data Input'!U441,'Data Input'!V441))","v":""},{"$f":"IF(I437=\"\",\"\",I437/COUNTIF('Data Input'!$C$8:$AQ$8,$I$2))","v":""},{"$f":"IF(ISBLANK('Data Input'!A441),\"\",SUM('Data Input'!D441))","v":""},{"$f":"IF(K437=\"\",\"\",K437/COUNTIF('Data Input'!$C$8:$AQ$8,$K$2))","v":""},{"$f":"IF(ISBLANK('Data Input'!A441),\"\",SUM('Data Input'!O441,'Data Input'!P441,'Data Input'!R441,'Data Input'!S441))","v":""},{"$f":"IF(M437=\"\",\"\",M437/COUNTIF('Data Input'!$C$8:$AQ$8,$M$2))","v":""},{"$f":"IF(ISBLANK('Data Input'!A441),\"\",SUM('Data Input'!C441,'Data Input'!E441,'Data Input'!F441,'Data Input'!G441,'Data Input'!Q441,'Data Input'!T441))","v":""},{"$f":"IF(O437=\"\",\"\",O437/COUNTIF('Data Input'!$C$8:$AQ$8,$O$2))","v":""},{"$f":"IF(ISBLANK('Data Input'!A441),\"\",SUM('Data Input'!L441))","v":""},{"$f":"IF(Q437=\"\",\"\",Q437/COUNTIF('Data Input'!$C$8:$AQ$8,$Q$2))","v":""},{"$f":"IF(ISBLANK('Data Input'!A441),\"\",SUM('Data Input'!X441:AQ441))","v":""},{"$f":"IF(S437=\"\",\"\",S437/COUNTIF('Data Input'!$C$8:$AQ$8,$S$2))","v":""}]
[{"$f":"IF('Data Input'!A442=0,\"\",'Data Input'!A442)","v":""},{"$f":"IF(ISBLANK('Data Input'!A442),\"\",COUNTIF('Data Input'!C442:AQ442,\"\")-1)","v":""},{"$f":"IF(ISBLANK('Data Input'!A442),\"\",COUNTIF('Data Input'!C442:AQ442,\"0\"))","v":""},{"$f":"IF(ISBLANK('Data Input'!A442),\"\",SUM(B438,C438))","v":""},{"$f":"IF(ISBLANK('Data Input'!A442),\"\",SUM('Data Input'!C442:AQ442))","v":""},{"$f":"IF(E438=\"\",\"\",E438/(COUNTA('Data Input'!$C$8:$AQ$8)-1))","v":""},{"$f":"IF(ISBLANK('Data Input'!A442),\"\",SUM('Data Input'!H442,'Data Input'!I442,'Data Input'!M442,'Data Input'!N442))","v":""},{"$f":"IF(G438=\"\",\"\",G438/COUNTIF('Data Input'!$C$8:$AQ$8,$G$2))","v":""},{"$f":"IF(ISBLANK('Data Input'!A442),\"\",SUM('Data Input'!J442,'Data Input'!K442,'Data Input'!U442,'Data Input'!V442))","v":""},{"$f":"IF(I438=\"\",\"\",I438/COUNTIF('Data Input'!$C$8:$AQ$8,$I$2))","v":""},{"$f":"IF(ISBLANK('Data Input'!A442),\"\",SUM('Data Input'!D442))","v":""},{"$f":"IF(K438=\"\",\"\",K438/COUNTIF('Data Input'!$C$8:$AQ$8,$K$2))","v":""},{"$f":"IF(ISBLANK('Data Input'!A442),\"\",SUM('Data Input'!O442,'Data Input'!P442,'Data Input'!R442,'Data Input'!S442))","v":""},{"$f":"IF(M438=\"\",\"\",M438/COUNTIF('Data Input'!$C$8:$AQ$8,$M$2))","v":""},{"$f":"IF(ISBLANK('Data Input'!A442),\"\",SUM('Data Input'!C442,'Data Input'!E442,'Data Input'!F442,'Data Input'!G442,'Data Input'!Q442,'Data Input'!T442))","v":""},{"$f":"IF(O438=\"\",\"\",O438/COUNTIF('Data Input'!$C$8:$AQ$8,$O$2))","v":""},{"$f":"IF(ISBLANK('Data Input'!A442),\"\",SUM('Data Input'!L442))","v":""},{"$f":"IF(Q438=\"\",\"\",Q438/COUNTIF('Data Input'!$C$8:$AQ$8,$Q$2))","v":""},{"$f":"IF(ISBLANK('Data Input'!A442),\"\",SUM('Data Input'!X442:AQ442))","v":""},{"$f":"IF(S438=\"\",\"\",S438/COUNTIF('Data Input'!$C$8:$AQ$8,$S$2))","v":""}]
[{"$f":"IF('Data Input'!A443=0,\"\",'Data Input'!A443)","v":""},{"$f":"IF(ISBLANK('Data Input'!A443),\"\",COUNTIF('Data Input'!C443:AQ443,\"\")-1)","v":""},{"$f":"IF(ISBLANK('Data Input'!A443),\"\",COUNTIF('Data Input'!C443:AQ443,\"0\"))","v":""},{"$f":"IF(ISBLANK('Data Input'!A443),\"\",SUM(B439,C439))","v":""},{"$f":"IF(ISBLANK('Data Input'!A443),\"\",SUM('Data Input'!C443:AQ443))","v":""},{"$f":"IF(E439=\"\",\"\",E439/(COUNTA('Data Input'!$C$8:$AQ$8)-1))","v":""},{"$f":"IF(ISBLANK('Data Input'!A443),\"\",SUM('Data Input'!H443,'Data Input'!I443,'Data Input'!M443,'Data Input'!N443))","v":""},{"$f":"IF(G439=\"\",\"\",G439/COUNTIF('Data Input'!$C$8:$AQ$8,$G$2))","v":""},{"$f":"IF(ISBLANK('Data Input'!A443),\"\",SUM('Data Input'!J443,'Data Input'!K443,'Data Input'!U443,'Data Input'!V443))","v":""},{"$f":"IF(I439=\"\",\"\",I439/COUNTIF('Data Input'!$C$8:$AQ$8,$I$2))","v":""},{"$f":"IF(ISBLANK('Data Input'!A443),\"\",SUM('Data Input'!D443))","v":""},{"$f":"IF(K439=\"\",\"\",K439/COUNTIF('Data Input'!$C$8:$AQ$8,$K$2))","v":""},{"$f":"IF(ISBLANK('Data Input'!A443),\"\",SUM('Data Input'!O443,'Data Input'!P443,'Data Input'!R443,'Data Input'!S443))","v":""},{"$f":"IF(M439=\"\",\"\",M439/COUNTIF('Data Input'!$C$8:$AQ$8,$M$2))","v":""},{"$f":"IF(ISBLANK('Data Input'!A443),\"\",SUM('Data Input'!C443,'Data Input'!E443,'Data Input'!F443,'Data Input'!G443,'Data Input'!Q443,'Data Input'!T443))","v":""},{"$f":"IF(O439=\"\",\"\",O439/COUNTIF('Data Input'!$C$8:$AQ$8,$O$2))","v":""},{"$f":"IF(ISBLANK('Data Input'!A443),\"\",SUM('Data Input'!L443))","v":""},{"$f":"IF(Q439=\"\",\"\",Q439/COUNTIF('Data Input'!$C$8:$AQ$8,$Q$2))","v":""},{"$f":"IF(ISBLANK('Data Input'!A443),\"\",SUM('Data Input'!X443:AQ443))","v":""},{"$f":"IF(S439=\"\",\"\",S439/COUNTIF('Data Input'!$C$8:$AQ$8,$S$2))","v":""}]
[{"$f":"IF('Data Input'!A444=0,\"\",'Data Input'!A444)","v":""},{"$f":"IF(ISBLANK('Data Input'!A444),\"\",COUNTIF('Data Input'!C444:AQ444,\"\")-1)","v":""},{"$f":"IF(ISBLANK('Data Input'!A444),\"\",COUNTIF('Data Input'!C444:AQ444,\"0\"))","v":""},{"$f":"IF(ISBLANK('Data Input'!A444),\"\",SUM(B440,C440))","v":""},{"$f":"IF(ISBLANK('Data Input'!A444),\"\",SUM('Data Input'!C444:AQ444))","v":""},{"$f":"IF(E440=\"\",\"\",E440/(COUNTA('Data Input'!$C$8:$AQ$8)-1))","v":""},{"$f":"IF(ISBLANK('Data Input'!A444),\"\",SUM('Data Input'!H444,'Data Input'!I444,'Data Input'!M444,'Data Input'!N444))","v":""},{"$f":"IF(G440=\"\",\"\",G440/COUNTIF('Data Input'!$C$8:$AQ$8,$G$2))","v":""},{"$f":"IF(ISBLANK('Data Input'!A444),\"\",SUM('Data Input'!J444,'Data Input'!K444,'Data Input'!U444,'Data Input'!V444))","v":""},{"$f":"IF(I440=\"\",\"\",I440/COUNTIF('Data Input'!$C$8:$AQ$8,$I$2))","v":""},{"$f":"IF(ISBLANK('Data Input'!A444),\"\",SUM('Data Input'!D444))","v":""},{"$f":"IF(K440=\"\",\"\",K440/COUNTIF('Data Input'!$C$8:$AQ$8,$K$2))","v":""},{"$f":"IF(ISBLANK('Data Input'!A444),\"\",SUM('Data Input'!O444,'Data Input'!P444,'Data Input'!R444,'Data Input'!S444))","v":""},{"$f":"IF(M440=\"\",\"\",M440/COUNTIF('Data Input'!$C$8:$AQ$8,$M$2))","v":""},{"$f":"IF(ISBLANK('Data Input'!A444),\"\",SUM('Data Input'!C444,'Data Input'!E444,'Data Input'!F444,'Data Input'!G444,'Data Input'!Q444,'Data Input'!T444))","v":""},{"$f":"IF(O440=\"\",\"\",O440/COUNTIF('Data Input'!$C$8:$AQ$8,$O$2))","v":""},{"$f":"IF(ISBLANK('Data Input'!A444),\"\",SUM('Data Input'!L444))","v":""},{"$f":"IF(Q440=\"\",\"\",Q440/COUNTIF('Data Input'!$C$8:$AQ$8,$Q$2))","v":""},{"$f":"IF(ISBLANK('Data Input'!A444),\"\",SUM('Data Input'!X444:AQ444))","v":""},{"$f":"IF(S440=\"\",\"\",S440/COUNTIF('Data Input'!$C$8:$AQ$8,$S$2))","v":""}]
[{"$f":"IF('Data Input'!A445=0,\"\",'Data Input'!A445)","v":""},{"$f":"IF(ISBLANK('Data Input'!A445),\"\",COUNTIF('Data Input'!C445:AQ445,\"\")-1)","v":""},{"$f":"IF(ISBLANK('Data Input'!A445),\"\",COUNTIF('Data Input'!C445:AQ445,\"0\"))","v":""},{"$f":"IF(ISBLANK('Data Input'!A445),\"\",SUM(B441,C441))","v":""},{"$f":"IF(ISBLANK('Data Input'!A445),\"\",SUM('Data Input'!C445:AQ445))","v":""},{"$f":"IF(E441=\"\",\"\",E441/(COUNTA('Data Input'!$C$8:$AQ$8)-1))","v":""},{"$f":"IF(ISBLANK('Data Input'!A445),\"\",SUM('Data Input'!H445,'Data Input'!I445,'Data Input'!M445,'Data Input'!N445))","v":""},{"$f":"IF(G441=\"\",\"\",G441/COUNTIF('Data Input'!$C$8:$AQ$8,$G$2))","v":""},{"$f":"IF(ISBLANK('Data Input'!A445),\"\",SUM('Data Input'!J445,'Data Input'!K445,'Data Input'!U445,'Data Input'!V445))","v":""},{"$f":"IF(I441=\"\",\"\",I441/COUNTIF('Data Input'!$C$8:$AQ$8,$I$2))","v":""},{"$f":"IF(ISBLANK('Data Input'!A445),\"\",SUM('Data Input'!D445))","v":""},{"$f":"IF(K441=\"\",\"\",K441/COUNTIF('Data Input'!$C$8:$AQ$8,$K$2))","v":""},{"$f":"IF(ISBLANK('Data Input'!A445),\"\",SUM('Data Input'!O445,'Data Input'!P445,'Data Input'!R445,'Data Input'!S445))","v":""},{"$f":"IF(M441=\"\",\"\",M441/COUNTIF('Data Input'!$C$8:$AQ$8,$M$2))","v":""},{"$f":"IF(ISBLANK('Data Input'!A445),\"\",SUM('Data Input'!C445,'Data Input'!E445,'Data Input'!F445,'Data Input'!G445,'Data Input'!Q445,'Data Input'!T445))","v":""},{"$f":"IF(O441=\"\",\"\",O441/COUNTIF('Data Input'!$C$8:$AQ$8,$O$2))","v":""},{"$f":"IF(ISBLANK('Data Input'!A445),\"\",SUM('Data Input'!L445))","v":""},{"$f":"IF(Q441=\"\",\"\",Q441/COUNTIF('Data Input'!$C$8:$AQ$8,$Q$2))","v":""},{"$f":"IF(ISBLANK('Data Input'!A445),\"\",SUM('Data Input'!X445:AQ445))","v":""},{"$f":"IF(S441=\"\",\"\",S441/COUNTIF('Data Input'!$C$8:$AQ$8,$S$2))","v":""}]
[{"$f":"IF('Data Input'!A446=0,\"\",'Data Input'!A446)","v":""},{"$f":"IF(ISBLANK('Data Input'!A446),\"\",COUNTIF('Data Input'!C446:AQ446,\"\")-1)","v":""},{"$f":"IF(ISBLANK('Data Input'!A446),\"\",COUNTIF('Data Input'!C446:AQ446,\"0\"))","v":""},{"$f":"IF(ISBLANK('Data Input'!A446),\"\",SUM(B442,C442))","v":""},{"$f":"IF(ISBLANK('Data Input'!A446),\"\",SUM('Data Input'!C446:AQ446))","v":""},{"$f":"IF(E442=\"\",\"\",E442/(COUNTA('Data Input'!$C$8:$AQ$8)-1))","v":""},{"$f":"IF(ISBLANK('Data Input'!A446),\"\",SUM('Data Input'!H446,'Data Input'!I446,'Data Input'!M446,'Data Input'!N446))","v":""},{"$f":"IF(G442=\"\",\"\",G442/COUNTIF('Data Input'!$C$8:$AQ$8,$G$2))","v":""},{"$f":"IF(ISBLANK('Data Input'!A446),\"\",SUM('Data Input'!J446,'Data Input'!K446,'Data Input'!U446,'Data Input'!V446))","v":""},{"$f":"IF(I442=\"\",\"\",I442/COUNTIF('Data Input'!$C$8:$AQ$8,$I$2))","v":""},{"$f":"IF(ISBLANK('Data Input'!A446),\"\",SUM('Data Input'!D446))","v":""},{"$f":"IF(K442=\"\",\"\",K442/COUNTIF('Data Input'!$C$8:$AQ$8,$K$2))","v":""},{"$f":"IF(ISBLANK('Data Input'!A446),\"\",SUM('Data Input'!O446,'Data Input'!P446,'Data Input'!R446,'Data Input'!S446))","v":""},{"$f":"IF(M442=\"\",\"\",M442/COUNTIF('Data Input'!$C$8:$AQ$8,$M$2))","v":""},{"$f":"IF(ISBLANK('Data Input'!A446),\"\",SUM('Data Input'!C446,'Data Input'!E446,'Data Input'!F446,'Data Input'!G446,'Data Input'!Q446,'Data Input'!T446))","v":""},{"$f":"IF(O442=\"\",\"\",O442/COUNTIF('Data Input'!$C$8:$AQ$8,$O$2))","v":""},{"$f":"IF(ISBLANK('Data Input'!A446),\"\",SUM('Data Input'!L446))","v":""},{"$f":"IF(Q442=\"\",\"\",Q442/COUNTIF('Data Input'!$C$8:$AQ$8,$Q$2))","v":""},{"$f":"IF(ISBLANK('Data Input'!A446),\"\",SUM('Data Input'!X446:AQ446))","v":""},{"$f":"IF(S442=\"\",\"\",S442/COUNTIF('Data Input'!$C$8:$AQ$8,$S$2))","v":""}]
[{"$f":"IF('Data Input'!A447=0,\"\",'Data Input'!A447)","v":""},{"$f":"IF(ISBLANK('Data Input'!A447),\"\",COUNTIF('Data Input'!C447:AQ447,\"\")-1)","v":""},{"$f":"IF(ISBLANK('Data Input'!A447),\"\",COUNTIF('Data Input'!C447:AQ447,\"0\"))","v":""},{"$f":"IF(ISBLANK('Data Input'!A447),\"\",SUM(B443,C443))","v":""},{"$f":"IF(ISBLANK('Data Input'!A447),\"\",SUM('Data Input'!C447:AQ447))","v":""},{"$f":"IF(E443=\"\",\"\",E443/(COUNTA('Data Input'!$C$8:$AQ$8)-1))","v":""},{"$f":"IF(ISBLANK('Data Input'!A447),\"\",SUM('Data Input'!H447,'Data Input'!I447,'Data Input'!M447,'Data Input'!N447))","v":""},{"$f":"IF(G443=\"\",\"\",G443/COUNTIF('Data Input'!$C$8:$AQ$8,$G$2))","v":""},{"$f":"IF(ISBLANK('Data Input'!A447),\"\",SUM('Data Input'!J447,'Data Input'!K447,'Data Input'!U447,'Data Input'!V447))","v":""},{"$f":"IF(I443=\"\",\"\",I443/COUNTIF('Data Input'!$C$8:$AQ$8,$I$2))","v":""},{"$f":"IF(ISBLANK('Data Input'!A447),\"\",SUM('Data Input'!D447))","v":""},{"$f":"IF(K443=\"\",\"\",K443/COUNTIF('Data Input'!$C$8:$AQ$8,$K$2))","v":""},{"$f":"IF(ISBLANK('Data Input'!A447),\"\",SUM('Data Input'!O447,'Data Input'!P447,'Data Input'!R447,'Data Input'!S447))","v":""},{"$f":"IF(M443=\"\",\"\",M443/COUNTIF('Data Input'!$C$8:$AQ$8,$M$2))","v":""},{"$f":"IF(ISBLANK('Data Input'!A447),\"\",SUM('Data Input'!C447,'Data Input'!E447,'Data Input'!F447,'Data Input'!G447,'Data Input'!Q447,'Data Input'!T447))","v":""},{"$f":"IF(O443=\"\",\"\",O443/COUNTIF('Data Input'!$C$8:$AQ$8,$O$2))","v":""},{"$f":"IF(ISBLANK('Data Input'!A447),\"\",SUM('Data Input'!L447))","v":""},{"$f":"IF(Q443=\"\",\"\",Q443/COUNTIF('Data Input'!$C$8:$AQ$8,$Q$2))","v":""},{"$f":"IF(ISBLANK('Data Input'!A447),\"\",SUM('Data Input'!X447:AQ447))","v":""},{"$f":"IF(S443=\"\",\"\",S443/COUNTIF('Data Input'!$C$8:$AQ$8,$S$2))","v":""}]
[{"$f":"IF('Data Input'!A448=0,\"\",'Data Input'!A448)","v":""},{"$f":"IF(ISBLANK('Data Input'!A448),\"\",COUNTIF('Data Input'!C448:AQ448,\"\")-1)","v":""},{"$f":"IF(ISBLANK('Data Input'!A448),\"\",COUNTIF('Data Input'!C448:AQ448,\"0\"))","v":""},{"$f":"IF(ISBLANK('Data Input'!A448),\"\",SUM(B444,C444))","v":""},{"$f":"IF(ISBLANK('Data Input'!A448),\"\",SUM('Data Input'!C448:AQ448))","v":""},{"$f":"IF(E444=\"\",\"\",E444/(COUNTA('Data Input'!$C$8:$AQ$8)-1))","v":""},{"$f":"IF(ISBLANK('Data Input'!A448),\"\",SUM('Data Input'!H448,'Data Input'!I448,'Data Input'!M448,'Data Input'!N448))","v":""},{"$f":"IF(G444=\"\",\"\",G444/COUNTIF('Data Input'!$C$8:$AQ$8,$G$2))","v":""},{"$f":"IF(ISBLANK('Data Input'!A448),\"\",SUM('Data Input'!J448,'Data Input'!K448,'Data Input'!U448,'Data Input'!V448))","v":""},{"$f":"IF(I444=\"\",\"\",I444/COUNTIF('Data Input'!$C$8:$AQ$8,$I$2))","v":""},{"$f":"IF(ISBLANK('Data Input'!A448),\"\",SUM('Data Input'!D448))","v":""},{"$f":"IF(K444=\"\",\"\",K444/COUNTIF('Data Input'!$C$8:$AQ$8,$K$2))","v":""},{"$f":"IF(ISBLANK('Data Input'!A448),\"\",SUM('Data Input'!O448,'Data Input'!P448,'Data Input'!R448,'Data Input'!S448))","v":""},{"$f":"IF(M444=\"\",\"\",M444/COUNTIF('Data Input'!$C$8:$AQ$8,$M$2))","v":""},{"$f":"IF(ISBLANK('Data Input'!A448),\"\",SUM('Data Input'!C448,'Data Input'!E448,'Data Input'!F448,'Data Input'!G448,'Data Input'!Q448,'Data Input'!T448))","v":""},{"$f":"IF(O444=\"\",\"\",O444/COUNTIF('Data Input'!$C$8:$AQ$8,$O$2))","v":""},{"$f":"IF(ISBLANK('Data Input'!A448),\"\",SUM('Data Input'!L448))","v":""},{"$f":"IF(Q444=\"\",\"\",Q444/COUNTIF('Data Input'!$C$8:$AQ$8,$Q$2))","v":""},{"$f":"IF(ISBLANK('Data Input'!A448),\"\",SUM('Data Input'!X448:AQ448))","v":""},{"$f":"IF(S444=\"\",\"\",S444/COUNTIF('Data Input'!$C$8:$AQ$8,$S$2))","v":""}]
[{"$f":"IF('Data Input'!A449=0,\"\",'Data Input'!A449)","v":""},{"$f":"IF(ISBLANK('Data Input'!A449),\"\",COUNTIF('Data Input'!C449:AQ449,\"\")-1)","v":""},{"$f":"IF(ISBLANK('Data Input'!A449),\"\",COUNTIF('Data Input'!C449:AQ449,\"0\"))","v":""},{"$f":"IF(ISBLANK('Data Input'!A449),\"\",SUM(B445,C445))","v":""},{"$f":"IF(ISBLANK('Data Input'!A449),\"\",SUM('Data Input'!C449:AQ449))","v":""},{"$f":"IF(E445=\"\",\"\",E445/(COUNTA('Data Input'!$C$8:$AQ$8)-1))","v":""},{"$f":"IF(ISBLANK('Data Input'!A449),\"\",SUM('Data Input'!H449,'Data Input'!I449,'Data Input'!M449,'Data Input'!N449))","v":""},{"$f":"IF(G445=\"\",\"\",G445/COUNTIF('Data Input'!$C$8:$AQ$8,$G$2))","v":""},{"$f":"IF(ISBLANK('Data Input'!A449),\"\",SUM('Data Input'!J449,'Data Input'!K449,'Data Input'!U449,'Data Input'!V449))","v":""},{"$f":"IF(I445=\"\",\"\",I445/COUNTIF('Data Input'!$C$8:$AQ$8,$I$2))","v":""},{"$f":"IF(ISBLANK('Data Input'!A449),\"\",SUM('Data Input'!D449))","v":""},{"$f":"IF(K445=\"\",\"\",K445/COUNTIF('Data Input'!$C$8:$AQ$8,$K$2))","v":""},{"$f":"IF(ISBLANK('Data Input'!A449),\"\",SUM('Data Input'!O449,'Data Input'!P449,'Data Input'!R449,'Data Input'!S449))","v":""},{"$f":"IF(M445=\"\",\"\",M445/COUNTIF('Data Input'!$C$8:$AQ$8,$M$2))","v":""},{"$f":"IF(ISBLANK('Data Input'!A449),\"\",SUM('Data Input'!C449,'Data Input'!E449,'Data Input'!F449,'Data Input'!G449,'Data Input'!Q449,'Data Input'!T449))","v":""},{"$f":"IF(O445=\"\",\"\",O445/COUNTIF('Data Input'!$C$8:$AQ$8,$O$2))","v":""},{"$f":"IF(ISBLANK('Data Input'!A449),\"\",SUM('Data Input'!L449))","v":""},{"$f":"IF(Q445=\"\",\"\",Q445/COUNTIF('Data Input'!$C$8:$AQ$8,$Q$2))","v":""},{"$f":"IF(ISBLANK('Data Input'!A449),\"\",SUM('Data Input'!X449:AQ449))","v":""},{"$f":"IF(S445=\"\",\"\",S445/COUNTIF('Data Input'!$C$8:$AQ$8,$S$2))","v":""}]
[{"$f":"IF('Data Input'!A450=0,\"\",'Data Input'!A450)","v":""},{"$f":"IF(ISBLANK('Data Input'!A450),\"\",COUNTIF('Data Input'!C450:AQ450,\"\")-1)","v":""},{"$f":"IF(ISBLANK('Data Input'!A450),\"\",COUNTIF('Data Input'!C450:AQ450,\"0\"))","v":""},{"$f":"IF(ISBLANK('Data Input'!A450),\"\",SUM(B446,C446))","v":""},{"$f":"IF(ISBLANK('Data Input'!A450),\"\",SUM('Data Input'!C450:AQ450))","v":""},{"$f":"IF(E446=\"\",\"\",E446/(COUNTA('Data Input'!$C$8:$AQ$8)-1))","v":""},{"$f":"IF(ISBLANK('Data Input'!A450),\"\",SUM('Data Input'!H450,'Data Input'!I450,'Data Input'!M450,'Data Input'!N450))","v":""},{"$f":"IF(G446=\"\",\"\",G446/COUNTIF('Data Input'!$C$8:$AQ$8,$G$2))","v":""},{"$f":"IF(ISBLANK('Data Input'!A450),\"\",SUM('Data Input'!J450,'Data Input'!K450,'Data Input'!U450,'Data Input'!V450))","v":""},{"$f":"IF(I446=\"\",\"\",I446/COUNTIF('Data Input'!$C$8:$AQ$8,$I$2))","v":""},{"$f":"IF(ISBLANK('Data Input'!A450),\"\",SUM('Data Input'!D450))","v":""},{"$f":"IF(K446=\"\",\"\",K446/COUNTIF('Data Input'!$C$8:$AQ$8,$K$2))","v":""},{"$f":"IF(ISBLANK('Data Input'!A450),\"\",SUM('Data Input'!O450,'Data Input'!P450,'Data Input'!R450,'Data Input'!S450))","v":""},{"$f":"IF(M446=\"\",\"\",M446/COUNTIF('Data Input'!$C$8:$AQ$8,$M$2))","v":""},{"$f":"IF(ISBLANK('Data Input'!A450),\"\",SUM('Data Input'!C450,'Data Input'!E450,'Data Input'!F450,'Data Input'!G450,'Data Input'!Q450,'Data Input'!T450))","v":""},{"$f":"IF(O446=\"\",\"\",O446/COUNTIF('Data Input'!$C$8:$AQ$8,$O$2))","v":""},{"$f":"IF(ISBLANK('Data Input'!A450),\"\",SUM('Data Input'!L450))","v":""},{"$f":"IF(Q446=\"\",\"\",Q446/COUNTIF('Data Input'!$C$8:$AQ$8,$Q$2))","v":""},{"$f":"IF(ISBLANK('Data Input'!A450),\"\",SUM('Data Input'!X450:AQ450))","v":""},{"$f":"IF(S446=\"\",\"\",S446/COUNTIF('Data Input'!$C$8:$AQ$8,$S$2))","v":""}]
[{"$f":"IF('Data Input'!A451=0,\"\",'Data Input'!A451)","v":""},{"$f":"IF(ISBLANK('Data Input'!A451),\"\",COUNTIF('Data Input'!C451:AQ451,\"\")-1)","v":""},{"$f":"IF(ISBLANK('Data Input'!A451),\"\",COUNTIF('Data Input'!C451:AQ451,\"0\"))","v":""},{"$f":"IF(ISBLANK('Data Input'!A451),\"\",SUM(B447,C447))","v":""},{"$f":"IF(ISBLANK('Data Input'!A451),\"\",SUM('Data Input'!C451:AQ451))","v":""},{"$f":"IF(E447=\"\",\"\",E447/(COUNTA('Data Input'!$C$8:$AQ$8)-1))","v":""},{"$f":"IF(ISBLANK('Data Input'!A451),\"\",SUM('Data Input'!H451,'Data Input'!I451,'Data Input'!M451,'Data Input'!N451))","v":""},{"$f":"IF(G447=\"\",\"\",G447/COUNTIF('Data Input'!$C$8:$AQ$8,$G$2))","v":""},{"$f":"IF(ISBLANK('Data Input'!A451),\"\",SUM('Data Input'!J451,'Data Input'!K451,'Data Input'!U451,'Data Input'!V451))","v":""},{"$f":"IF(I447=\"\",\"\",I447/COUNTIF('Data Input'!$C$8:$AQ$8,$I$2))","v":""},{"$f":"IF(ISBLANK('Data Input'!A451),\"\",SUM('Data Input'!D451))","v":""},{"$f":"IF(K447=\"\",\"\",K447/COUNTIF('Data Input'!$C$8:$AQ$8,$K$2))","v":""},{"$f":"IF(ISBLANK('Data Input'!A451),\"\",SUM('Data Input'!O451,'Data Input'!P451,'Data Input'!R451,'Data Input'!S451))","v":""},{"$f":"IF(M447=\"\",\"\",M447/COUNTIF('Data Input'!$C$8:$AQ$8,$M$2))","v":""},{"$f":"IF(ISBLANK('Data Input'!A451),\"\",SUM('Data Input'!C451,'Data Input'!E451,'Data Input'!F451,'Data Input'!G451,'Data Input'!Q451,'Data Input'!T451))","v":""},{"$f":"IF(O447=\"\",\"\",O447/COUNTIF('Data Input'!$C$8:$AQ$8,$O$2))","v":""},{"$f":"IF(ISBLANK('Data Input'!A451),\"\",SUM('Data Input'!L451))","v":""},{"$f":"IF(Q447=\"\",\"\",Q447/COUNTIF('Data Input'!$C$8:$AQ$8,$Q$2))","v":""},{"$f":"IF(ISBLANK('Data Input'!A451),\"\",SUM('Data Input'!X451:AQ451))","v":""},{"$f":"IF(S447=\"\",\"\",S447/COUNTIF('Data Input'!$C$8:$AQ$8,$S$2))","v":""}]
[{"$f":"IF('Data Input'!A452=0,\"\",'Data Input'!A452)","v":""},{"$f":"IF(ISBLANK('Data Input'!A452),\"\",COUNTIF('Data Input'!C452:AQ452,\"\")-1)","v":""},{"$f":"IF(ISBLANK('Data Input'!A452),\"\",COUNTIF('Data Input'!C452:AQ452,\"0\"))","v":""},{"$f":"IF(ISBLANK('Data Input'!A452),\"\",SUM(B448,C448))","v":""},{"$f":"IF(ISBLANK('Data Input'!A452),\"\",SUM('Data Input'!C452:AQ452))","v":""},{"$f":"IF(E448=\"\",\"\",E448/(COUNTA('Data Input'!$C$8:$AQ$8)-1))","v":""},{"$f":"IF(ISBLANK('Data Input'!A452),\"\",SUM('Data Input'!H452,'Data Input'!I452,'Data Input'!M452,'Data Input'!N452))","v":""},{"$f":"IF(G448=\"\",\"\",G448/COUNTIF('Data Input'!$C$8:$AQ$8,$G$2))","v":""},{"$f":"IF(ISBLANK('Data Input'!A452),\"\",SUM('Data Input'!J452,'Data Input'!K452,'Data Input'!U452,'Data Input'!V452))","v":""},{"$f":"IF(I448=\"\",\"\",I448/COUNTIF('Data Input'!$C$8:$AQ$8,$I$2))","v":""},{"$f":"IF(ISBLANK('Data Input'!A452),\"\",SUM('Data Input'!D452))","v":""},{"$f":"IF(K448=\"\",\"\",K448/COUNTIF('Data Input'!$C$8:$AQ$8,$K$2))","v":""},{"$f":"IF(ISBLANK('Data Input'!A452),\"\",SUM('Data Input'!O452,'Data Input'!P452,'Data Input'!R452,'Data Input'!S452))","v":""},{"$f":"IF(M448=\"\",\"\",M448/COUNTIF('Data Input'!$C$8:$AQ$8,$M$2))","v":""},{"$f":"IF(ISBLANK('Data Input'!A452),\"\",SUM('Data Input'!C452,'Data Input'!E452,'Data Input'!F452,'Data Input'!G452,'Data Input'!Q452,'Data Input'!T452))","v":""},{"$f":"IF(O448=\"\",\"\",O448/COUNTIF('Data Input'!$C$8:$AQ$8,$O$2))","v":""},{"$f":"IF(ISBLANK('Data Input'!A452),\"\",SUM('Data Input'!L452))","v":""},{"$f":"IF(Q448=\"\",\"\",Q448/COUNTIF('Data Input'!$C$8:$AQ$8,$Q$2))","v":""},{"$f":"IF(ISBLANK('Data Input'!A452),\"\",SUM('Data Input'!X452:AQ452))","v":""},{"$f":"IF(S448=\"\",\"\",S448/COUNTIF('Data Input'!$C$8:$AQ$8,$S$2))","v":""}]
[{"$f":"IF('Data Input'!A453=0,\"\",'Data Input'!A453)","v":""},{"$f":"IF(ISBLANK('Data Input'!A453),\"\",COUNTIF('Data Input'!C453:AQ453,\"\")-1)","v":""},{"$f":"IF(ISBLANK('Data Input'!A453),\"\",COUNTIF('Data Input'!C453:AQ453,\"0\"))","v":""},{"$f":"IF(ISBLANK('Data Input'!A453),\"\",SUM(B449,C449))","v":""},{"$f":"IF(ISBLANK('Data Input'!A453),\"\",SUM('Data Input'!C453:AQ453))","v":""},{"$f":"IF(E449=\"\",\"\",E449/(COUNTA('Data Input'!$C$8:$AQ$8)-1))","v":""},{"$f":"IF(ISBLANK('Data Input'!A453),\"\",SUM('Data Input'!H453,'Data Input'!I453,'Data Input'!M453,'Data Input'!N453))","v":""},{"$f":"IF(G449=\"\",\"\",G449/COUNTIF('Data Input'!$C$8:$AQ$8,$G$2))","v":""},{"$f":"IF(ISBLANK('Data Input'!A453),\"\",SUM('Data Input'!J453,'Data Input'!K453,'Data Input'!U453,'Data Input'!V453))","v":""},{"$f":"IF(I449=\"\",\"\",I449/COUNTIF('Data Input'!$C$8:$AQ$8,$I$2))","v":""},{"$f":"IF(ISBLANK('Data Input'!A453),\"\",SUM('Data Input'!D453))","v":""},{"$f":"IF(K449=\"\",\"\",K449/COUNTIF('Data Input'!$C$8:$AQ$8,$K$2))","v":""},{"$f":"IF(ISBLANK('Data Input'!A453),\"\",SUM('Data Input'!O453,'Data Input'!P453,'Data Input'!R453,'Data Input'!S453))","v":""},{"$f":"IF(M449=\"\",\"\",M449/COUNTIF('Data Input'!$C$8:$AQ$8,$M$2))","v":""},{"$f":"IF(ISBLANK('Data Input'!A453),\"\",SUM('Data Input'!C453,'Data Input'!E453,'Data Input'!F453,'Data Input'!G453,'Data Input'!Q453,'Data Input'!T453))","v":""},{"$f":"IF(O449=\"\",\"\",O449/COUNTIF('Data Input'!$C$8:$AQ$8,$O$2))","v":""},{"$f":"IF(ISBLANK('Data Input'!A453),\"\",SUM('Data Input'!L453))","v":""},{"$f":"IF(Q449=\"\",\"\",Q449/COUNTIF('Data Input'!$C$8:$AQ$8,$Q$2))","v":""},{"$f":"IF(ISBLANK('Data Input'!A453),\"\",SUM('Data Input'!X453:AQ453))","v":""},{"$f":"IF(S449=\"\",\"\",S449/COUNTIF('Data Input'!$C$8:$AQ$8,$S$2))","v":""}]
[{"$f":"IF('Data Input'!A454=0,\"\",'Data Input'!A454)","v":""},{"$f":"IF(ISBLANK('Data Input'!A454),\"\",COUNTIF('Data Input'!C454:AQ454,\"\")-1)","v":""},{"$f":"IF(ISBLANK('Data Input'!A454),\"\",COUNTIF('Data Input'!C454:AQ454,\"0\"))","v":""},{"$f":"IF(ISBLANK('Data Input'!A454),\"\",SUM(B450,C450))","v":""},{"$f":"IF(ISBLANK('Data Input'!A454),\"\",SUM('Data Input'!C454:AQ454))","v":""},{"$f":"IF(E450=\"\",\"\",E450/(COUNTA('Data Input'!$C$8:$AQ$8)-1))","v":""},{"$f":"IF(ISBLANK('Data Input'!A454),\"\",SUM('Data Input'!H454,'Data Input'!I454,'Data Input'!M454,'Data Input'!N454))","v":""},{"$f":"IF(G450=\"\",\"\",G450/COUNTIF('Data Input'!$C$8:$AQ$8,$G$2))","v":""},{"$f":"IF(ISBLANK('Data Input'!A454),\"\",SUM('Data Input'!J454,'Data Input'!K454,'Data Input'!U454,'Data Input'!V454))","v":""},{"$f":"IF(I450=\"\",\"\",I450/COUNTIF('Data Input'!$C$8:$AQ$8,$I$2))","v":""},{"$f":"IF(ISBLANK('Data Input'!A454),\"\",SUM('Data Input'!D454))","v":""},{"$f":"IF(K450=\"\",\"\",K450/COUNTIF('Data Input'!$C$8:$AQ$8,$K$2))","v":""},{"$f":"IF(ISBLANK('Data Input'!A454),\"\",SUM('Data Input'!O454,'Data Input'!P454,'Data Input'!R454,'Data Input'!S454))","v":""},{"$f":"IF(M450=\"\",\"\",M450/COUNTIF('Data Input'!$C$8:$AQ$8,$M$2))","v":""},{"$f":"IF(ISBLANK('Data Input'!A454),\"\",SUM('Data Input'!C454,'Data Input'!E454,'Data Input'!F454,'Data Input'!G454,'Data Input'!Q454,'Data Input'!T454))","v":""},{"$f":"IF(O450=\"\",\"\",O450/COUNTIF('Data Input'!$C$8:$AQ$8,$O$2))","v":""},{"$f":"IF(ISBLANK('Data Input'!A454),\"\",SUM('Data Input'!L454))","v":""},{"$f":"IF(Q450=\"\",\"\",Q450/COUNTIF('Data Input'!$C$8:$AQ$8,$Q$2))","v":""},{"$f":"IF(ISBLANK('Data Input'!A454),\"\",SUM('Data Input'!X454:AQ454))","v":""},{"$f":"IF(S450=\"\",\"\",S450/COUNTIF('Data Input'!$C$8:$AQ$8,$S$2))","v":""}]
[{"$f":"IF('Data Input'!A455=0,\"\",'Data Input'!A455)","v":""},{"$f":"IF(ISBLANK('Data Input'!A455),\"\",COUNTIF('Data Input'!C455:AQ455,\"\")-1)","v":""},{"$f":"IF(ISBLANK('Data Input'!A455),\"\",COUNTIF('Data Input'!C455:AQ455,\"0\"))","v":""},{"$f":"IF(ISBLANK('Data Input'!A455),\"\",SUM(B451,C451))","v":""},{"$f":"IF(ISBLANK('Data Input'!A455),\"\",SUM('Data Input'!C455:AQ455))","v":""},{"$f":"IF(E451=\"\",\"\",E451/(COUNTA('Data Input'!$C$8:$AQ$8)-1))","v":""},{"$f":"IF(ISBLANK('Data Input'!A455),\"\",SUM('Data Input'!H455,'Data Input'!I455,'Data Input'!M455,'Data Input'!N455))","v":""},{"$f":"IF(G451=\"\",\"\",G451/COUNTIF('Data Input'!$C$8:$AQ$8,$G$2))","v":""},{"$f":"IF(ISBLANK('Data Input'!A455),\"\",SUM('Data Input'!J455,'Data Input'!K455,'Data Input'!U455,'Data Input'!V455))","v":""},{"$f":"IF(I451=\"\",\"\",I451/COUNTIF('Data Input'!$C$8:$AQ$8,$I$2))","v":""},{"$f":"IF(ISBLANK('Data Input'!A455),\"\",SUM('Data Input'!D455))","v":""},{"$f":"IF(K451=\"\",\"\",K451/COUNTIF('Data Input'!$C$8:$AQ$8,$K$2))","v":""},{"$f":"IF(ISBLANK('Data Input'!A455),\"\",SUM('Data Input'!O455,'Data Input'!P455,'Data Input'!R455,'Data Input'!S455))","v":""},{"$f":"IF(M451=\"\",\"\",M451/COUNTIF('Data Input'!$C$8:$AQ$8,$M$2))","v":""},{"$f":"IF(ISBLANK('Data Input'!A455),\"\",SUM('Data Input'!C455,'Data Input'!E455,'Data Input'!F455,'Data Input'!G455,'Data Input'!Q455,'Data Input'!T455))","v":""},{"$f":"IF(O451=\"\",\"\",O451/COUNTIF('Data Input'!$C$8:$AQ$8,$O$2))","v":""},{"$f":"IF(ISBLANK('Data Input'!A455),\"\",SUM('Data Input'!L455))","v":""},{"$f":"IF(Q451=\"\",\"\",Q451/COUNTIF('Data Input'!$C$8:$AQ$8,$Q$2))","v":""},{"$f":"IF(ISBLANK('Data Input'!A455),\"\",SUM('Data Input'!X455:AQ455))","v":""},{"$f":"IF(S451=\"\",\"\",S451/COUNTIF('Data Input'!$C$8:$AQ$8,$S$2))","v":""}]
[{"$f":"IF('Data Input'!A456=0,\"\",'Data Input'!A456)","v":""},{"$f":"IF(ISBLANK('Data Input'!A456),\"\",COUNTIF('Data Input'!C456:AQ456,\"\")-1)","v":""},{"$f":"IF(ISBLANK('Data Input'!A456),\"\",COUNTIF('Data Input'!C456:AQ456,\"0\"))","v":""},{"$f":"IF(ISBLANK('Data Input'!A456),\"\",SUM(B452,C452))","v":""},{"$f":"IF(ISBLANK('Data Input'!A456),\"\",SUM('Data Input'!C456:AQ456))","v":""},{"$f":"IF(E452=\"\",\"\",E452/(COUNTA('Data Input'!$C$8:$AQ$8)-1))","v":""},{"$f":"IF(ISBLANK('Data Input'!A456),\"\",SUM('Data Input'!H456,'Data Input'!I456,'Data Input'!M456,'Data Input'!N456))","v":""},{"$f":"IF(G452=\"\",\"\",G452/COUNTIF('Data Input'!$C$8:$AQ$8,$G$2))","v":""},{"$f":"IF(ISBLANK('Data Input'!A456),\"\",SUM('Data Input'!J456,'Data Input'!K456,'Data Input'!U456,'Data Input'!V456))","v":""},{"$f":"IF(I452=\"\",\"\",I452/COUNTIF('Data Input'!$C$8:$AQ$8,$I$2))","v":""},{"$f":"IF(ISBLANK('Data Input'!A456),\"\",SUM('Data Input'!D456))","v":""},{"$f":"IF(K452=\"\",\"\",K452/COUNTIF('Data Input'!$C$8:$AQ$8,$K$2))","v":""},{"$f":"IF(ISBLANK('Data Input'!A456),\"\",SUM('Data Input'!O456,'Data Input'!P456,'Data Input'!R456,'Data Input'!S456))","v":""},{"$f":"IF(M452=\"\",\"\",M452/COUNTIF('Data Input'!$C$8:$AQ$8,$M$2))","v":""},{"$f":"IF(ISBLANK('Data Input'!A456),\"\",SUM('Data Input'!C456,'Data Input'!E456,'Data Input'!F456,'Data Input'!G456,'Data Input'!Q456,'Data Input'!T456))","v":""},{"$f":"IF(O452=\"\",\"\",O452/COUNTIF('Data Input'!$C$8:$AQ$8,$O$2))","v":""},{"$f":"IF(ISBLANK('Data Input'!A456),\"\",SUM('Data Input'!L456))","v":""},{"$f":"IF(Q452=\"\",\"\",Q452/COUNTIF('Data Input'!$C$8:$AQ$8,$Q$2))","v":""},{"$f":"IF(ISBLANK('Data Input'!A456),\"\",SUM('Data Input'!X456:AQ456))","v":""},{"$f":"IF(S452=\"\",\"\",S452/COUNTIF('Data Input'!$C$8:$AQ$8,$S$2))","v":""}]
[{"$f":"IF('Data Input'!A457=0,\"\",'Data Input'!A457)","v":""},{"$f":"IF(ISBLANK('Data Input'!A457),\"\",COUNTIF('Data Input'!C457:AQ457,\"\")-1)","v":""},{"$f":"IF(ISBLANK('Data Input'!A457),\"\",COUNTIF('Data Input'!C457:AQ457,\"0\"))","v":""},{"$f":"IF(ISBLANK('Data Input'!A457),\"\",SUM(B453,C453))","v":""},{"$f":"IF(ISBLANK('Data Input'!A457),\"\",SUM('Data Input'!C457:AQ457))","v":""},{"$f":"IF(E453=\"\",\"\",E453/(COUNTA('Data Input'!$C$8:$AQ$8)-1))","v":""},{"$f":"IF(ISBLANK('Data Input'!A457),\"\",SUM('Data Input'!H457,'Data Input'!I457,'Data Input'!M457,'Data Input'!N457))","v":""},{"$f":"IF(G453=\"\",\"\",G453/COUNTIF('Data Input'!$C$8:$AQ$8,$G$2))","v":""},{"$f":"IF(ISBLANK('Data Input'!A457),\"\",SUM('Data Input'!J457,'Data Input'!K457,'Data Input'!U457,'Data Input'!V457))","v":""},{"$f":"IF(I453=\"\",\"\",I453/COUNTIF('Data Input'!$C$8:$AQ$8,$I$2))","v":""},{"$f":"IF(ISBLANK('Data Input'!A457),\"\",SUM('Data Input'!D457))","v":""},{"$f":"IF(K453=\"\",\"\",K453/COUNTIF('Data Input'!$C$8:$AQ$8,$K$2))","v":""},{"$f":"IF(ISBLANK('Data Input'!A457),\"\",SUM('Data Input'!O457,'Data Input'!P457,'Data Input'!R457,'Data Input'!S457))","v":""},{"$f":"IF(M453=\"\",\"\",M453/COUNTIF('Data Input'!$C$8:$AQ$8,$M$2))","v":""},{"$f":"IF(ISBLANK('Data Input'!A457),\"\",SUM('Data Input'!C457,'Data Input'!E457,'Data Input'!F457,'Data Input'!G457,'Data Input'!Q457,'Data Input'!T457))","v":""},{"$f":"IF(O453=\"\",\"\",O453/COUNTIF('Data Input'!$C$8:$AQ$8,$O$2))","v":""},{"$f":"IF(ISBLANK('Data Input'!A457),\"\",SUM('Data Input'!L457))","v":""},{"$f":"IF(Q453=\"\",\"\",Q453/COUNTIF('Data Input'!$C$8:$AQ$8,$Q$2))","v":""},{"$f":"IF(ISBLANK('Data Input'!A457),\"\",SUM('Data Input'!X457:AQ457))","v":""},{"$f":"IF(S453=\"\",\"\",S453/COUNTIF('Data Input'!$C$8:$AQ$8,$S$2))","v":""}]
[{"$f":"IF('Data Input'!A458=0,\"\",'Data Input'!A458)","v":""},{"$f":"IF(ISBLANK('Data Input'!A458),\"\",COUNTIF('Data Input'!C458:AQ458,\"\")-1)","v":""},{"$f":"IF(ISBLANK('Data Input'!A458),\"\",COUNTIF('Data Input'!C458:AQ458,\"0\"))","v":""},{"$f":"IF(ISBLANK('Data Input'!A458),\"\",SUM(B454,C454))","v":""},{"$f":"IF(ISBLANK('Data Input'!A458),\"\",SUM('Data Input'!C458:AQ458))","v":""},{"$f":"IF(E454=\"\",\"\",E454/(COUNTA('Data Input'!$C$8:$AQ$8)-1))","v":""},{"$f":"IF(ISBLANK('Data Input'!A458),\"\",SUM('Data Input'!H458,'Data Input'!I458,'Data Input'!M458,'Data Input'!N458))","v":""},{"$f":"IF(G454=\"\",\"\",G454/COUNTIF('Data Input'!$C$8:$AQ$8,$G$2))","v":""},{"$f":"IF(ISBLANK('Data Input'!A458),\"\",SUM('Data Input'!J458,'Data Input'!K458,'Data Input'!U458,'Data Input'!V458))","v":""},{"$f":"IF(I454=\"\",\"\",I454/COUNTIF('Data Input'!$C$8:$AQ$8,$I$2))","v":""},{"$f":"IF(ISBLANK('Data Input'!A458),\"\",SUM('Data Input'!D458))","v":""},{"$f":"IF(K454=\"\",\"\",K454/COUNTIF('Data Input'!$C$8:$AQ$8,$K$2))","v":""},{"$f":"IF(ISBLANK('Data Input'!A458),\"\",SUM('Data Input'!O458,'Data Input'!P458,'Data Input'!R458,'Data Input'!S458))","v":""},{"$f":"IF(M454=\"\",\"\",M454/COUNTIF('Data Input'!$C$8:$AQ$8,$M$2))","v":""},{"$f":"IF(ISBLANK('Data Input'!A458),\"\",SUM('Data Input'!C458,'Data Input'!E458,'Data Input'!F458,'Data Input'!G458,'Data Input'!Q458,'Data Input'!T458))","v":""},{"$f":"IF(O454=\"\",\"\",O454/COUNTIF('Data Input'!$C$8:$AQ$8,$O$2))","v":""},{"$f":"IF(ISBLANK('Data Input'!A458),\"\",SUM('Data Input'!L458))","v":""},{"$f":"IF(Q454=\"\",\"\",Q454/COUNTIF('Data Input'!$C$8:$AQ$8,$Q$2))","v":""},{"$f":"IF(ISBLANK('Data Input'!A458),\"\",SUM('Data Input'!X458:AQ458))","v":""},{"$f":"IF(S454=\"\",\"\",S454/COUNTIF('Data Input'!$C$8:$AQ$8,$S$2))","v":""}]
[{"$f":"IF('Data Input'!A459=0,\"\",'Data Input'!A459)","v":""},{"$f":"IF(ISBLANK('Data Input'!A459),\"\",COUNTIF('Data Input'!C459:AQ459,\"\")-1)","v":""},{"$f":"IF(ISBLANK('Data Input'!A459),\"\",COUNTIF('Data Input'!C459:AQ459,\"0\"))","v":""},{"$f":"IF(ISBLANK('Data Input'!A459),\"\",SUM(B455,C455))","v":""},{"$f":"IF(ISBLANK('Data Input'!A459),\"\",SUM('Data Input'!C459:AQ459))","v":""},{"$f":"IF(E455=\"\",\"\",E455/(COUNTA('Data Input'!$C$8:$AQ$8)-1))","v":""},{"$f":"IF(ISBLANK('Data Input'!A459),\"\",SUM('Data Input'!H459,'Data Input'!I459,'Data Input'!M459,'Data Input'!N459))","v":""},{"$f":"IF(G455=\"\",\"\",G455/COUNTIF('Data Input'!$C$8:$AQ$8,$G$2))","v":""},{"$f":"IF(ISBLANK('Data Input'!A459),\"\",SUM('Data Input'!J459,'Data Input'!K459,'Data Input'!U459,'Data Input'!V459))","v":""},{"$f":"IF(I455=\"\",\"\",I455/COUNTIF('Data Input'!$C$8:$AQ$8,$I$2))","v":""},{"$f":"IF(ISBLANK('Data Input'!A459),\"\",SUM('Data Input'!D459))","v":""},{"$f":"IF(K455=\"\",\"\",K455/COUNTIF('Data Input'!$C$8:$AQ$8,$K$2))","v":""},{"$f":"IF(ISBLANK('Data Input'!A459),\"\",SUM('Data Input'!O459,'Data Input'!P459,'Data Input'!R459,'Data Input'!S459))","v":""},{"$f":"IF(M455=\"\",\"\",M455/COUNTIF('Data Input'!$C$8:$AQ$8,$M$2))","v":""},{"$f":"IF(ISBLANK('Data Input'!A459),\"\",SUM('Data Input'!C459,'Data Input'!E459,'Data Input'!F459,'Data Input'!G459,'Data Input'!Q459,'Data Input'!T459))","v":""},{"$f":"IF(O455=\"\",\"\",O455/COUNTIF('Data Input'!$C$8:$AQ$8,$O$2))","v":""},{"$f":"IF(ISBLANK('Data Input'!A459),\"\",SUM('Data Input'!L459))","v":""},{"$f":"IF(Q455=\"\",\"\",Q455/COUNTIF('Data Input'!$C$8:$AQ$8,$Q$2))","v":""},{"$f":"IF(ISBLANK('Data Input'!A459),\"\",SUM('Data Input'!X459:AQ459))","v":""},{"$f":"IF(S455=\"\",\"\",S455/COUNTIF('Data Input'!$C$8:$AQ$8,$S$2))","v":""}]
[{"$f":"IF('Data Input'!A460=0,\"\",'Data Input'!A460)","v":""},{"$f":"IF(ISBLANK('Data Input'!A460),\"\",COUNTIF('Data Input'!C460:AQ460,\"\")-1)","v":""},{"$f":"IF(ISBLANK('Data Input'!A460),\"\",COUNTIF('Data Input'!C460:AQ460,\"0\"))","v":""},{"$f":"IF(ISBLANK('Data Input'!A460),\"\",SUM(B456,C456))","v":""},{"$f":"IF(ISBLANK('Data Input'!A460),\"\",SUM('Data Input'!C460:AQ460))","v":""},{"$f":"IF(E456=\"\",\"\",E456/(COUNTA('Data Input'!$C$8:$AQ$8)-1))","v":""},{"$f":"IF(ISBLANK('Data Input'!A460),\"\",SUM('Data Input'!H460,'Data Input'!I460,'Data Input'!M460,'Data Input'!N460))","v":""},{"$f":"IF(G456=\"\",\"\",G456/COUNTIF('Data Input'!$C$8:$AQ$8,$G$2))","v":""},{"$f":"IF(ISBLANK('Data Input'!A460),\"\",SUM('Data Input'!J460,'Data Input'!K460,'Data Input'!U460,'Data Input'!V460))","v":""},{"$f":"IF(I456=\"\",\"\",I456/COUNTIF('Data Input'!$C$8:$AQ$8,$I$2))","v":""},{"$f":"IF(ISBLANK('Data Input'!A460),\"\",SUM('Data Input'!D460))","v":""},{"$f":"IF(K456=\"\",\"\",K456/COUNTIF('Data Input'!$C$8:$AQ$8,$K$2))","v":""},{"$f":"IF(ISBLANK('Data Input'!A460),\"\",SUM('Data Input'!O460,'Data Input'!P460,'Data Input'!R460,'Data Input'!S460))","v":""},{"$f":"IF(M456=\"\",\"\",M456/COUNTIF('Data Input'!$C$8:$AQ$8,$M$2))","v":""},{"$f":"IF(ISBLANK('Data Input'!A460),\"\",SUM('Data Input'!C460,'Data Input'!E460,'Data Input'!F460,'Data Input'!G460,'Data Input'!Q460,'Data Input'!T460))","v":""},{"$f":"IF(O456=\"\",\"\",O456/COUNTIF('Data Input'!$C$8:$AQ$8,$O$2))","v":""},{"$f":"IF(ISBLANK('Data Input'!A460),\"\",SUM('Data Input'!L460))","v":""},{"$f":"IF(Q456=\"\",\"\",Q456/COUNTIF('Data Input'!$C$8:$AQ$8,$Q$2))","v":""},{"$f":"IF(ISBLANK('Data Input'!A460),\"\",SUM('Data Input'!X460:AQ460))","v":""},{"$f":"IF(S456=\"\",\"\",S456/COUNTIF('Data Input'!$C$8:$AQ$8,$S$2))","v":""}]
[{"$f":"IF('Data Input'!A461=0,\"\",'Data Input'!A461)","v":""},{"$f":"IF(ISBLANK('Data Input'!A461),\"\",COUNTIF('Data Input'!C461:AQ461,\"\")-1)","v":""},{"$f":"IF(ISBLANK('Data Input'!A461),\"\",COUNTIF('Data Input'!C461:AQ461,\"0\"))","v":""},{"$f":"IF(ISBLANK('Data Input'!A461),\"\",SUM(B457,C457))","v":""},{"$f":"IF(ISBLANK('Data Input'!A461),\"\",SUM('Data Input'!C461:AQ461))","v":""},{"$f":"IF(E457=\"\",\"\",E457/(COUNTA('Data Input'!$C$8:$AQ$8)-1))","v":""},{"$f":"IF(ISBLANK('Data Input'!A461),\"\",SUM('Data Input'!H461,'Data Input'!I461,'Data Input'!M461,'Data Input'!N461))","v":""},{"$f":"IF(G457=\"\",\"\",G457/COUNTIF('Data Input'!$C$8:$AQ$8,$G$2))","v":""},{"$f":"IF(ISBLANK('Data Input'!A461),\"\",SUM('Data Input'!J461,'Data Input'!K461,'Data Input'!U461,'Data Input'!V461))","v":""},{"$f":"IF(I457=\"\",\"\",I457/COUNTIF('Data Input'!$C$8:$AQ$8,$I$2))","v":""},{"$f":"IF(ISBLANK('Data Input'!A461),\"\",SUM('Data Input'!D461))","v":""},{"$f":"IF(K457=\"\",\"\",K457/COUNTIF('Data Input'!$C$8:$AQ$8,$K$2))","v":""},{"$f":"IF(ISBLANK('Data Input'!A461),\"\",SUM('Data Input'!O461,'Data Input'!P461,'Data Input'!R461,'Data Input'!S461))","v":""},{"$f":"IF(M457=\"\",\"\",M457/COUNTIF('Data Input'!$C$8:$AQ$8,$M$2))","v":""},{"$f":"IF(ISBLANK('Data Input'!A461),\"\",SUM('Data Input'!C461,'Data Input'!E461,'Data Input'!F461,'Data Input'!G461,'Data Input'!Q461,'Data Input'!T461))","v":""},{"$f":"IF(O457=\"\",\"\",O457/COUNTIF('Data Input'!$C$8:$AQ$8,$O$2))","v":""},{"$f":"IF(ISBLANK('Data Input'!A461),\"\",SUM('Data Input'!L461))","v":""},{"$f":"IF(Q457=\"\",\"\",Q457/COUNTIF('Data Input'!$C$8:$AQ$8,$Q$2))","v":""},{"$f":"IF(ISBLANK('Data Input'!A461),\"\",SUM('Data Input'!X461:AQ461))","v":""},{"$f":"IF(S457=\"\",\"\",S457/COUNTIF('Data Input'!$C$8:$AQ$8,$S$2))","v":""}]
[{"$f":"IF('Data Input'!A462=0,\"\",'Data Input'!A462)","v":""},{"$f":"IF(ISBLANK('Data Input'!A462),\"\",COUNTIF('Data Input'!C462:AQ462,\"\")-1)","v":""},{"$f":"IF(ISBLANK('Data Input'!A462),\"\",COUNTIF('Data Input'!C462:AQ462,\"0\"))","v":""},{"$f":"IF(ISBLANK('Data Input'!A462),\"\",SUM(B458,C458))","v":""},{"$f":"IF(ISBLANK('Data Input'!A462),\"\",SUM('Data Input'!C462:AQ462))","v":""},{"$f":"IF(E458=\"\",\"\",E458/(COUNTA('Data Input'!$C$8:$AQ$8)-1))","v":""},{"$f":"IF(ISBLANK('Data Input'!A462),\"\",SUM('Data Input'!H462,'Data Input'!I462,'Data Input'!M462,'Data Input'!N462))","v":""},{"$f":"IF(G458=\"\",\"\",G458/COUNTIF('Data Input'!$C$8:$AQ$8,$G$2))","v":""},{"$f":"IF(ISBLANK('Data Input'!A462),\"\",SUM('Data Input'!J462,'Data Input'!K462,'Data Input'!U462,'Data Input'!V462))","v":""},{"$f":"IF(I458=\"\",\"\",I458/COUNTIF('Data Input'!$C$8:$AQ$8,$I$2))","v":""},{"$f":"IF(ISBLANK('Data Input'!A462),\"\",SUM('Data Input'!D462))","v":""},{"$f":"IF(K458=\"\",\"\",K458/COUNTIF('Data Input'!$C$8:$AQ$8,$K$2))","v":""},{"$f":"IF(ISBLANK('Data Input'!A462),\"\",SUM('Data Input'!O462,'Data Input'!P462,'Data Input'!R462,'Data Input'!S462))","v":""},{"$f":"IF(M458=\"\",\"\",M458/COUNTIF('Data Input'!$C$8:$AQ$8,$M$2))","v":""},{"$f":"IF(ISBLANK('Data Input'!A462),\"\",SUM('Data Input'!C462,'Data Input'!E462,'Data Input'!F462,'Data Input'!G462,'Data Input'!Q462,'Data Input'!T462))","v":""},{"$f":"IF(O458=\"\",\"\",O458/COUNTIF('Data Input'!$C$8:$AQ$8,$O$2))","v":""},{"$f":"IF(ISBLANK('Data Input'!A462),\"\",SUM('Data Input'!L462))","v":""},{"$f":"IF(Q458=\"\",\"\",Q458/COUNTIF('Data Input'!$C$8:$AQ$8,$Q$2))","v":""},{"$f":"IF(ISBLANK('Data Input'!A462),\"\",SUM('Data Input'!X462:AQ462))","v":""},{"$f":"IF(S458=\"\",\"\",S458/COUNTIF('Data Input'!$C$8:$AQ$8,$S$2))","v":""}]
[{"$f":"IF('Data Input'!A463=0,\"\",'Data Input'!A463)","v":""},{"$f":"IF(ISBLANK('Data Input'!A463),\"\",COUNTIF('Data Input'!C463:AQ463,\"\")-1)","v":""},{"$f":"IF(ISBLANK('Data Input'!A463),\"\",COUNTIF('Data Input'!C463:AQ463,\"0\"))","v":""},{"$f":"IF(ISBLANK('Data Input'!A463),\"\",SUM(B459,C459))","v":""},{"$f":"IF(ISBLANK('Data Input'!A463),\"\",SUM('Data Input'!C463:AQ463))","v":""},{"$f":"IF(E459=\"\",\"\",E459/(COUNTA('Data Input'!$C$8:$AQ$8)-1))","v":""},{"$f":"IF(ISBLANK('Data Input'!A463),\"\",SUM('Data Input'!H463,'Data Input'!I463,'Data Input'!M463,'Data Input'!N463))","v":""},{"$f":"IF(G459=\"\",\"\",G459/COUNTIF('Data Input'!$C$8:$AQ$8,$G$2))","v":""},{"$f":"IF(ISBLANK('Data Input'!A463),\"\",SUM('Data Input'!J463,'Data Input'!K463,'Data Input'!U463,'Data Input'!V463))","v":""},{"$f":"IF(I459=\"\",\"\",I459/COUNTIF('Data Input'!$C$8:$AQ$8,$I$2))","v":""},{"$f":"IF(ISBLANK('Data Input'!A463),\"\",SUM('Data Input'!D463))","v":""},{"$f":"IF(K459=\"\",\"\",K459/COUNTIF('Data Input'!$C$8:$AQ$8,$K$2))","v":""},{"$f":"IF(ISBLANK('Data Input'!A463),\"\",SUM('Data Input'!O463,'Data Input'!P463,'Data Input'!R463,'Data Input'!S463))","v":""},{"$f":"IF(M459=\"\",\"\",M459/COUNTIF('Data Input'!$C$8:$AQ$8,$M$2))","v":""},{"$f":"IF(ISBLANK('Data Input'!A463),\"\",SUM('Data Input'!C463,'Data Input'!E463,'Data Input'!F463,'Data Input'!G463,'Data Input'!Q463,'Data Input'!T463))","v":""},{"$f":"IF(O459=\"\",\"\",O459/COUNTIF('Data Input'!$C$8:$AQ$8,$O$2))","v":""},{"$f":"IF(ISBLANK('Data Input'!A463),\"\",SUM('Data Input'!L463))","v":""},{"$f":"IF(Q459=\"\",\"\",Q459/COUNTIF('Data Input'!$C$8:$AQ$8,$Q$2))","v":""},{"$f":"IF(ISBLANK('Data Input'!A463),\"\",SUM('Data Input'!X463:AQ463))","v":""},{"$f":"IF(S459=\"\",\"\",S459/COUNTIF('Data Input'!$C$8:$AQ$8,$S$2))","v":""}]
[{"$f":"IF('Data Input'!A464=0,\"\",'Data Input'!A464)","v":""},{"$f":"IF(ISBLANK('Data Input'!A464),\"\",COUNTIF('Data Input'!C464:AQ464,\"\")-1)","v":""},{"$f":"IF(ISBLANK('Data Input'!A464),\"\",COUNTIF('Data Input'!C464:AQ464,\"0\"))","v":""},{"$f":"IF(ISBLANK('Data Input'!A464),\"\",SUM(B460,C460))","v":""},{"$f":"IF(ISBLANK('Data Input'!A464),\"\",SUM('Data Input'!C464:AQ464))","v":""},{"$f":"IF(E460=\"\",\"\",E460/(COUNTA('Data Input'!$C$8:$AQ$8)-1))","v":""},{"$f":"IF(ISBLANK('Data Input'!A464),\"\",SUM('Data Input'!H464,'Data Input'!I464,'Data Input'!M464,'Data Input'!N464))","v":""},{"$f":"IF(G460=\"\",\"\",G460/COUNTIF('Data Input'!$C$8:$AQ$8,$G$2))","v":""},{"$f":"IF(ISBLANK('Data Input'!A464),\"\",SUM('Data Input'!J464,'Data Input'!K464,'Data Input'!U464,'Data Input'!V464))","v":""},{"$f":"IF(I460=\"\",\"\",I460/COUNTIF('Data Input'!$C$8:$AQ$8,$I$2))","v":""},{"$f":"IF(ISBLANK('Data Input'!A464),\"\",SUM('Data Input'!D464))","v":""},{"$f":"IF(K460=\"\",\"\",K460/COUNTIF('Data Input'!$C$8:$AQ$8,$K$2))","v":""},{"$f":"IF(ISBLANK('Data Input'!A464),\"\",SUM('Data Input'!O464,'Data Input'!P464,'Data Input'!R464,'Data Input'!S464))","v":""},{"$f":"IF(M460=\"\",\"\",M460/COUNTIF('Data Input'!$C$8:$AQ$8,$M$2))","v":""},{"$f":"IF(ISBLANK('Data Input'!A464),\"\",SUM('Data Input'!C464,'Data Input'!E464,'Data Input'!F464,'Data Input'!G464,'Data Input'!Q464,'Data Input'!T464))","v":""},{"$f":"IF(O460=\"\",\"\",O460/COUNTIF('Data Input'!$C$8:$AQ$8,$O$2))","v":""},{"$f":"IF(ISBLANK('Data Input'!A464),\"\",SUM('Data Input'!L464))","v":""},{"$f":"IF(Q460=\"\",\"\",Q460/COUNTIF('Data Input'!$C$8:$AQ$8,$Q$2))","v":""},{"$f":"IF(ISBLANK('Data Input'!A464),\"\",SUM('Data Input'!X464:AQ464))","v":""},{"$f":"IF(S460=\"\",\"\",S460/COUNTIF('Data Input'!$C$8:$AQ$8,$S$2))","v":""}]
[{"$f":"IF('Data Input'!A465=0,\"\",'Data Input'!A465)","v":""},{"$f":"IF(ISBLANK('Data Input'!A465),\"\",COUNTIF('Data Input'!C465:AQ465,\"\")-1)","v":""},{"$f":"IF(ISBLANK('Data Input'!A465),\"\",COUNTIF('Data Input'!C465:AQ465,\"0\"))","v":""},{"$f":"IF(ISBLANK('Data Input'!A465),\"\",SUM(B461,C461))","v":""},{"$f":"IF(ISBLANK('Data Input'!A465),\"\",SUM('Data Input'!C465:AQ465))","v":""},{"$f":"IF(E461=\"\",\"\",E461/(COUNTA('Data Input'!$C$8:$AQ$8)-1))","v":""},{"$f":"IF(ISBLANK('Data Input'!A465),\"\",SUM('Data Input'!H465,'Data Input'!I465,'Data Input'!M465,'Data Input'!N465))","v":""},{"$f":"IF(G461=\"\",\"\",G461/COUNTIF('Data Input'!$C$8:$AQ$8,$G$2))","v":""},{"$f":"IF(ISBLANK('Data Input'!A465),\"\",SUM('Data Input'!J465,'Data Input'!K465,'Data Input'!U465,'Data Input'!V465))","v":""},{"$f":"IF(I461=\"\",\"\",I461/COUNTIF('Data Input'!$C$8:$AQ$8,$I$2))","v":""},{"$f":"IF(ISBLANK('Data Input'!A465),\"\",SUM('Data Input'!D465))","v":""},{"$f":"IF(K461=\"\",\"\",K461/COUNTIF('Data Input'!$C$8:$AQ$8,$K$2))","v":""},{"$f":"IF(ISBLANK('Data Input'!A465),\"\",SUM('Data Input'!O465,'Data Input'!P465,'Data Input'!R465,'Data Input'!S465))","v":""},{"$f":"IF(M461=\"\",\"\",M461/COUNTIF('Data Input'!$C$8:$AQ$8,$M$2))","v":""},{"$f":"IF(ISBLANK('Data Input'!A465),\"\",SUM('Data Input'!C465,'Data Input'!E465,'Data Input'!F465,'Data Input'!G465,'Data Input'!Q465,'Data Input'!T465))","v":""},{"$f":"IF(O461=\"\",\"\",O461/COUNTIF('Data Input'!$C$8:$AQ$8,$O$2))","v":""},{"$f":"IF(ISBLANK('Data Input'!A465),\"\",SUM('Data Input'!L465))","v":""},{"$f":"IF(Q461=\"\",\"\",Q461/COUNTIF('Data Input'!$C$8:$AQ$8,$Q$2))","v":""},{"$f":"IF(ISBLANK('Data Input'!A465),\"\",SUM('Data Input'!X465:AQ465))","v":""},{"$f":"IF(S461=\"\",\"\",S461/COUNTIF('Data Input'!$C$8:$AQ$8,$S$2))","v":""}]
[{"$f":"IF('Data Input'!A466=0,\"\",'Data Input'!A466)","v":""},{"$f":"IF(ISBLANK('Data Input'!A466),\"\",COUNTIF('Data Input'!C466:AQ466,\"\")-1)","v":""},{"$f":"IF(ISBLANK('Data Input'!A466),\"\",COUNTIF('Data Input'!C466:AQ466,\"0\"))","v":""},{"$f":"IF(ISBLANK('Data Input'!A466),\"\",SUM(B462,C462))","v":""},{"$f":"IF(ISBLANK('Data Input'!A466),\"\",SUM('Data Input'!C466:AQ466))","v":""},{"$f":"IF(E462=\"\",\"\",E462/(COUNTA('Data Input'!$C$8:$AQ$8)-1))","v":""},{"$f":"IF(ISBLANK('Data Input'!A466),\"\",SUM('Data Input'!H466,'Data Input'!I466,'Data Input'!M466,'Data Input'!N466))","v":""},{"$f":"IF(G462=\"\",\"\",G462/COUNTIF('Data Input'!$C$8:$AQ$8,$G$2))","v":""},{"$f":"IF(ISBLANK('Data Input'!A466),\"\",SUM('Data Input'!J466,'Data Input'!K466,'Data Input'!U466,'Data Input'!V466))","v":""},{"$f":"IF(I462=\"\",\"\",I462/COUNTIF('Data Input'!$C$8:$AQ$8,$I$2))","v":""},{"$f":"IF(ISBLANK('Data Input'!A466),\"\",SUM('Data Input'!D466))","v":""},{"$f":"IF(K462=\"\",\"\",K462/COUNTIF('Data Input'!$C$8:$AQ$8,$K$2))","v":""},{"$f":"IF(ISBLANK('Data Input'!A466),\"\",SUM('Data Input'!O466,'Data Input'!P466,'Data Input'!R466,'Data Input'!S466))","v":""},{"$f":"IF(M462=\"\",\"\",M462/COUNTIF('Data Input'!$C$8:$AQ$8,$M$2))","v":""},{"$f":"IF(ISBLANK('Data Input'!A466),\"\",SUM('Data Input'!C466,'Data Input'!E466,'Data Input'!F466,'Data Input'!G466,'Data Input'!Q466,'Data Input'!T466))","v":""},{"$f":"IF(O462=\"\",\"\",O462/COUNTIF('Data Input'!$C$8:$AQ$8,$O$2))","v":""},{"$f":"IF(ISBLANK('Data Input'!A466),\"\",SUM('Data Input'!L466))","v":""},{"$f":"IF(Q462=\"\",\"\",Q462/COUNTIF('Data Input'!$C$8:$AQ$8,$Q$2))","v":""},{"$f":"IF(ISBLANK('Data Input'!A466),\"\",SUM('Data Input'!X466:AQ466))","v":""},{"$f":"IF(S462=\"\",\"\",S462/COUNTIF('Data Input'!$C$8:$AQ$8,$S$2))","v":""}]
[{"$f":"IF('Data Input'!A467=0,\"\",'Data Input'!A467)","v":""},{"$f":"IF(ISBLANK('Data Input'!A467),\"\",COUNTIF('Data Input'!C467:AQ467,\"\")-1)","v":""},{"$f":"IF(ISBLANK('Data Input'!A467),\"\",COUNTIF('Data Input'!C467:AQ467,\"0\"))","v":""},{"$f":"IF(ISBLANK('Data Input'!A467),\"\",SUM(B463,C463))","v":""},{"$f":"IF(ISBLANK('Data Input'!A467),\"\",SUM('Data Input'!C467:AQ467))","v":""},{"$f":"IF(E463=\"\",\"\",E463/(COUNTA('Data Input'!$C$8:$AQ$8)-1))","v":""},{"$f":"IF(ISBLANK('Data Input'!A467),\"\",SUM('Data Input'!H467,'Data Input'!I467,'Data Input'!M467,'Data Input'!N467))","v":""},{"$f":"IF(G463=\"\",\"\",G463/COUNTIF('Data Input'!$C$8:$AQ$8,$G$2))","v":""},{"$f":"IF(ISBLANK('Data Input'!A467),\"\",SUM('Data Input'!J467,'Data Input'!K467,'Data Input'!U467,'Data Input'!V467))","v":""},{"$f":"IF(I463=\"\",\"\",I463/COUNTIF('Data Input'!$C$8:$AQ$8,$I$2))","v":""},{"$f":"IF(ISBLANK('Data Input'!A467),\"\",SUM('Data Input'!D467))","v":""},{"$f":"IF(K463=\"\",\"\",K463/COUNTIF('Data Input'!$C$8:$AQ$8,$K$2))","v":""},{"$f":"IF(ISBLANK('Data Input'!A467),\"\",SUM('Data Input'!O467,'Data Input'!P467,'Data Input'!R467,'Data Input'!S467))","v":""},{"$f":"IF(M463=\"\",\"\",M463/COUNTIF('Data Input'!$C$8:$AQ$8,$M$2))","v":""},{"$f":"IF(ISBLANK('Data Input'!A467),\"\",SUM('Data Input'!C467,'Data Input'!E467,'Data Input'!F467,'Data Input'!G467,'Data Input'!Q467,'Data Input'!T467))","v":""},{"$f":"IF(O463=\"\",\"\",O463/COUNTIF('Data Input'!$C$8:$AQ$8,$O$2))","v":""},{"$f":"IF(ISBLANK('Data Input'!A467),\"\",SUM('Data Input'!L467))","v":""},{"$f":"IF(Q463=\"\",\"\",Q463/COUNTIF('Data Input'!$C$8:$AQ$8,$Q$2))","v":""},{"$f":"IF(ISBLANK('Data Input'!A467),\"\",SUM('Data Input'!X467:AQ467))","v":""},{"$f":"IF(S463=\"\",\"\",S463/COUNTIF('Data Input'!$C$8:$AQ$8,$S$2))","v":""}]
[{"$f":"IF('Data Input'!A468=0,\"\",'Data Input'!A468)","v":""},{"$f":"IF(ISBLANK('Data Input'!A468),\"\",COUNTIF('Data Input'!C468:AQ468,\"\")-1)","v":""},{"$f":"IF(ISBLANK('Data Input'!A468),\"\",COUNTIF('Data Input'!C468:AQ468,\"0\"))","v":""},{"$f":"IF(ISBLANK('Data Input'!A468),\"\",SUM(B464,C464))","v":""},{"$f":"IF(ISBLANK('Data Input'!A468),\"\",SUM('Data Input'!C468:AQ468))","v":""},{"$f":"IF(E464=\"\",\"\",E464/(COUNTA('Data Input'!$C$8:$AQ$8)-1))","v":""},{"$f":"IF(ISBLANK('Data Input'!A468),\"\",SUM('Data Input'!H468,'Data Input'!I468,'Data Input'!M468,'Data Input'!N468))","v":""},{"$f":"IF(G464=\"\",\"\",G464/COUNTIF('Data Input'!$C$8:$AQ$8,$G$2))","v":""},{"$f":"IF(ISBLANK('Data Input'!A468),\"\",SUM('Data Input'!J468,'Data Input'!K468,'Data Input'!U468,'Data Input'!V468))","v":""},{"$f":"IF(I464=\"\",\"\",I464/COUNTIF('Data Input'!$C$8:$AQ$8,$I$2))","v":""},{"$f":"IF(ISBLANK('Data Input'!A468),\"\",SUM('Data Input'!D468))","v":""},{"$f":"IF(K464=\"\",\"\",K464/COUNTIF('Data Input'!$C$8:$AQ$8,$K$2))","v":""},{"$f":"IF(ISBLANK('Data Input'!A468),\"\",SUM('Data Input'!O468,'Data Input'!P468,'Data Input'!R468,'Data Input'!S468))","v":""},{"$f":"IF(M464=\"\",\"\",M464/COUNTIF('Data Input'!$C$8:$AQ$8,$M$2))","v":""},{"$f":"IF(ISBLANK('Data Input'!A468),\"\",SUM('Data Input'!C468,'Data Input'!E468,'Data Input'!F468,'Data Input'!G468,'Data Input'!Q468,'Data Input'!T468))","v":""},{"$f":"IF(O464=\"\",\"\",O464/COUNTIF('Data Input'!$C$8:$AQ$8,$O$2))","v":""},{"$f":"IF(ISBLANK('Data Input'!A468),\"\",SUM('Data Input'!L468))","v":""},{"$f":"IF(Q464=\"\",\"\",Q464/COUNTIF('Data Input'!$C$8:$AQ$8,$Q$2))","v":""},{"$f":"IF(ISBLANK('Data Input'!A468),\"\",SUM('Data Input'!X468:AQ468))","v":""},{"$f":"IF(S464=\"\",\"\",S464/COUNTIF('Data Input'!$C$8:$AQ$8,$S$2))","v":""}]
[{"$f":"IF('Data Input'!A469=0,\"\",'Data Input'!A469)","v":""},{"$f":"IF(ISBLANK('Data Input'!A469),\"\",COUNTIF('Data Input'!C469:AQ469,\"\")-1)","v":""},{"$f":"IF(ISBLANK('Data Input'!A469),\"\",COUNTIF('Data Input'!C469:AQ469,\"0\"))","v":""},{"$f":"IF(ISBLANK('Data Input'!A469),\"\",SUM(B465,C465))","v":""},{"$f":"IF(ISBLANK('Data Input'!A469),\"\",SUM('Data Input'!C469:AQ469))","v":""},{"$f":"IF(E465=\"\",\"\",E465/(COUNTA('Data Input'!$C$8:$AQ$8)-1))","v":""},{"$f":"IF(ISBLANK('Data Input'!A469),\"\",SUM('Data Input'!H469,'Data Input'!I469,'Data Input'!M469,'Data Input'!N469))","v":""},{"$f":"IF(G465=\"\",\"\",G465/COUNTIF('Data Input'!$C$8:$AQ$8,$G$2))","v":""},{"$f":"IF(ISBLANK('Data Input'!A469),\"\",SUM('Data Input'!J469,'Data Input'!K469,'Data Input'!U469,'Data Input'!V469))","v":""},{"$f":"IF(I465=\"\",\"\",I465/COUNTIF('Data Input'!$C$8:$AQ$8,$I$2))","v":""},{"$f":"IF(ISBLANK('Data Input'!A469),\"\",SUM('Data Input'!D469))","v":""},{"$f":"IF(K465=\"\",\"\",K465/COUNTIF('Data Input'!$C$8:$AQ$8,$K$2))","v":""},{"$f":"IF(ISBLANK('Data Input'!A469),\"\",SUM('Data Input'!O469,'Data Input'!P469,'Data Input'!R469,'Data Input'!S469))","v":""},{"$f":"IF(M465=\"\",\"\",M465/COUNTIF('Data Input'!$C$8:$AQ$8,$M$2))","v":""},{"$f":"IF(ISBLANK('Data Input'!A469),\"\",SUM('Data Input'!C469,'Data Input'!E469,'Data Input'!F469,'Data Input'!G469,'Data Input'!Q469,'Data Input'!T469))","v":""},{"$f":"IF(O465=\"\",\"\",O465/COUNTIF('Data Input'!$C$8:$AQ$8,$O$2))","v":""},{"$f":"IF(ISBLANK('Data Input'!A469),\"\",SUM('Data Input'!L469))","v":""},{"$f":"IF(Q465=\"\",\"\",Q465/COUNTIF('Data Input'!$C$8:$AQ$8,$Q$2))","v":""},{"$f":"IF(ISBLANK('Data Input'!A469),\"\",SUM('Data Input'!X469:AQ469))","v":""},{"$f":"IF(S465=\"\",\"\",S465/COUNTIF('Data Input'!$C$8:$AQ$8,$S$2))","v":""}]
[{"$f":"IF('Data Input'!A470=0,\"\",'Data Input'!A470)","v":""},{"$f":"IF(ISBLANK('Data Input'!A470),\"\",COUNTIF('Data Input'!C470:AQ470,\"\")-1)","v":""},{"$f":"IF(ISBLANK('Data Input'!A470),\"\",COUNTIF('Data Input'!C470:AQ470,\"0\"))","v":""},{"$f":"IF(ISBLANK('Data Input'!A470),\"\",SUM(B466,C466))","v":""},{"$f":"IF(ISBLANK('Data Input'!A470),\"\",SUM('Data Input'!C470:AQ470))","v":""},{"$f":"IF(E466=\"\",\"\",E466/(COUNTA('Data Input'!$C$8:$AQ$8)-1))","v":""},{"$f":"IF(ISBLANK('Data Input'!A470),\"\",SUM('Data Input'!H470,'Data Input'!I470,'Data Input'!M470,'Data Input'!N470))","v":""},{"$f":"IF(G466=\"\",\"\",G466/COUNTIF('Data Input'!$C$8:$AQ$8,$G$2))","v":""},{"$f":"IF(ISBLANK('Data Input'!A470),\"\",SUM('Data Input'!J470,'Data Input'!K470,'Data Input'!U470,'Data Input'!V470))","v":""},{"$f":"IF(I466=\"\",\"\",I466/COUNTIF('Data Input'!$C$8:$AQ$8,$I$2))","v":""},{"$f":"IF(ISBLANK('Data Input'!A470),\"\",SUM('Data Input'!D470))","v":""},{"$f":"IF(K466=\"\",\"\",K466/COUNTIF('Data Input'!$C$8:$AQ$8,$K$2))","v":""},{"$f":"IF(ISBLANK('Data Input'!A470),\"\",SUM('Data Input'!O470,'Data Input'!P470,'Data Input'!R470,'Data Input'!S470))","v":""},{"$f":"IF(M466=\"\",\"\",M466/COUNTIF('Data Input'!$C$8:$AQ$8,$M$2))","v":""},{"$f":"IF(ISBLANK('Data Input'!A470),\"\",SUM('Data Input'!C470,'Data Input'!E470,'Data Input'!F470,'Data Input'!G470,'Data Input'!Q470,'Data Input'!T470))","v":""},{"$f":"IF(O466=\"\",\"\",O466/COUNTIF('Data Input'!$C$8:$AQ$8,$O$2))","v":""},{"$f":"IF(ISBLANK('Data Input'!A470),\"\",SUM('Data Input'!L470))","v":""},{"$f":"IF(Q466=\"\",\"\",Q466/COUNTIF('Data Input'!$C$8:$AQ$8,$Q$2))","v":""},{"$f":"IF(ISBLANK('Data Input'!A470),\"\",SUM('Data Input'!X470:AQ470))","v":""},{"$f":"IF(S466=\"\",\"\",S466/COUNTIF('Data Input'!$C$8:$AQ$8,$S$2))","v":""}]
[{"$f":"IF('Data Input'!A471=0,\"\",'Data Input'!A471)","v":""},{"$f":"IF(ISBLANK('Data Input'!A471),\"\",COUNTIF('Data Input'!C471:AQ471,\"\")-1)","v":""},{"$f":"IF(ISBLANK('Data Input'!A471),\"\",COUNTIF('Data Input'!C471:AQ471,\"0\"))","v":""},{"$f":"IF(ISBLANK('Data Input'!A471),\"\",SUM(B467,C467))","v":""},{"$f":"IF(ISBLANK('Data Input'!A471),\"\",SUM('Data Input'!C471:AQ471))","v":""},{"$f":"IF(E467=\"\",\"\",E467/(COUNTA('Data Input'!$C$8:$AQ$8)-1))","v":""},{"$f":"IF(ISBLANK('Data Input'!A471),\"\",SUM('Data Input'!H471,'Data Input'!I471,'Data Input'!M471,'Data Input'!N471))","v":""},{"$f":"IF(G467=\"\",\"\",G467/COUNTIF('Data Input'!$C$8:$AQ$8,$G$2))","v":""},{"$f":"IF(ISBLANK('Data Input'!A471),\"\",SUM('Data Input'!J471,'Data Input'!K471,'Data Input'!U471,'Data Input'!V471))","v":""},{"$f":"IF(I467=\"\",\"\",I467/COUNTIF('Data Input'!$C$8:$AQ$8,$I$2))","v":""},{"$f":"IF(ISBLANK('Data Input'!A471),\"\",SUM('Data Input'!D471))","v":""},{"$f":"IF(K467=\"\",\"\",K467/COUNTIF('Data Input'!$C$8:$AQ$8,$K$2))","v":""},{"$f":"IF(ISBLANK('Data Input'!A471),\"\",SUM('Data Input'!O471,'Data Input'!P471,'Data Input'!R471,'Data Input'!S471))","v":""},{"$f":"IF(M467=\"\",\"\",M467/COUNTIF('Data Input'!$C$8:$AQ$8,$M$2))","v":""},{"$f":"IF(ISBLANK('Data Input'!A471),\"\",SUM('Data Input'!C471,'Data Input'!E471,'Data Input'!F471,'Data Input'!G471,'Data Input'!Q471,'Data Input'!T471))","v":""},{"$f":"IF(O467=\"\",\"\",O467/COUNTIF('Data Input'!$C$8:$AQ$8,$O$2))","v":""},{"$f":"IF(ISBLANK('Data Input'!A471),\"\",SUM('Data Input'!L471))","v":""},{"$f":"IF(Q467=\"\",\"\",Q467/COUNTIF('Data Input'!$C$8:$AQ$8,$Q$2))","v":""},{"$f":"IF(ISBLANK('Data Input'!A471),\"\",SUM('Data Input'!X471:AQ471))","v":""},{"$f":"IF(S467=\"\",\"\",S467/COUNTIF('Data Input'!$C$8:$AQ$8,$S$2))","v":""}]
[{"$f":"IF('Data Input'!A472=0,\"\",'Data Input'!A472)","v":""},{"$f":"IF(ISBLANK('Data Input'!A472),\"\",COUNTIF('Data Input'!C472:AQ472,\"\")-1)","v":""},{"$f":"IF(ISBLANK('Data Input'!A472),\"\",COUNTIF('Data Input'!C472:AQ472,\"0\"))","v":""},{"$f":"IF(ISBLANK('Data Input'!A472),\"\",SUM(B468,C468))","v":""},{"$f":"IF(ISBLANK('Data Input'!A472),\"\",SUM('Data Input'!C472:AQ472))","v":""},{"$f":"IF(E468=\"\",\"\",E468/(COUNTA('Data Input'!$C$8:$AQ$8)-1))","v":""},{"$f":"IF(ISBLANK('Data Input'!A472),\"\",SUM('Data Input'!H472,'Data Input'!I472,'Data Input'!M472,'Data Input'!N472))","v":""},{"$f":"IF(G468=\"\",\"\",G468/COUNTIF('Data Input'!$C$8:$AQ$8,$G$2))","v":""},{"$f":"IF(ISBLANK('Data Input'!A472),\"\",SUM('Data Input'!J472,'Data Input'!K472,'Data Input'!U472,'Data Input'!V472))","v":""},{"$f":"IF(I468=\"\",\"\",I468/COUNTIF('Data Input'!$C$8:$AQ$8,$I$2))","v":""},{"$f":"IF(ISBLANK('Data Input'!A472),\"\",SUM('Data Input'!D472))","v":""},{"$f":"IF(K468=\"\",\"\",K468/COUNTIF('Data Input'!$C$8:$AQ$8,$K$2))","v":""},{"$f":"IF(ISBLANK('Data Input'!A472),\"\",SUM('Data Input'!O472,'Data Input'!P472,'Data Input'!R472,'Data Input'!S472))","v":""},{"$f":"IF(M468=\"\",\"\",M468/COUNTIF('Data Input'!$C$8:$AQ$8,$M$2))","v":""},{"$f":"IF(ISBLANK('Data Input'!A472),\"\",SUM('Data Input'!C472,'Data Input'!E472,'Data Input'!F472,'Data Input'!G472,'Data Input'!Q472,'Data Input'!T472))","v":""},{"$f":"IF(O468=\"\",\"\",O468/COUNTIF('Data Input'!$C$8:$AQ$8,$O$2))","v":""},{"$f":"IF(ISBLANK('Data Input'!A472),\"\",SUM('Data Input'!L472))","v":""},{"$f":"IF(Q468=\"\",\"\",Q468/COUNTIF('Data Input'!$C$8:$AQ$8,$Q$2))","v":""},{"$f":"IF(ISBLANK('Data Input'!A472),\"\",SUM('Data Input'!X472:AQ472))","v":""},{"$f":"IF(S468=\"\",\"\",S468/COUNTIF('Data Input'!$C$8:$AQ$8,$S$2))","v":""}]
[{"$f":"IF('Data Input'!A473=0,\"\",'Data Input'!A473)","v":""},{"$f":"IF(ISBLANK('Data Input'!A473),\"\",COUNTIF('Data Input'!C473:AQ473,\"\")-1)","v":""},{"$f":"IF(ISBLANK('Data Input'!A473),\"\",COUNTIF('Data Input'!C473:AQ473,\"0\"))","v":""},{"$f":"IF(ISBLANK('Data Input'!A473),\"\",SUM(B469,C469))","v":""},{"$f":"IF(ISBLANK('Data Input'!A473),\"\",SUM('Data Input'!C473:AQ473))","v":""},{"$f":"IF(E469=\"\",\"\",E469/(COUNTA('Data Input'!$C$8:$AQ$8)-1))","v":""},{"$f":"IF(ISBLANK('Data Input'!A473),\"\",SUM('Data Input'!H473,'Data Input'!I473,'Data Input'!M473,'Data Input'!N473))","v":""},{"$f":"IF(G469=\"\",\"\",G469/COUNTIF('Data Input'!$C$8:$AQ$8,$G$2))","v":""},{"$f":"IF(ISBLANK('Data Input'!A473),\"\",SUM('Data Input'!J473,'Data Input'!K473,'Data Input'!U473,'Data Input'!V473))","v":""},{"$f":"IF(I469=\"\",\"\",I469/COUNTIF('Data Input'!$C$8:$AQ$8,$I$2))","v":""},{"$f":"IF(ISBLANK('Data Input'!A473),\"\",SUM('Data Input'!D473))","v":""},{"$f":"IF(K469=\"\",\"\",K469/COUNTIF('Data Input'!$C$8:$AQ$8,$K$2))","v":""},{"$f":"IF(ISBLANK('Data Input'!A473),\"\",SUM('Data Input'!O473,'Data Input'!P473,'Data Input'!R473,'Data Input'!S473))","v":""},{"$f":"IF(M469=\"\",\"\",M469/COUNTIF('Data Input'!$C$8:$AQ$8,$M$2))","v":""},{"$f":"IF(ISBLANK('Data Input'!A473),\"\",SUM('Data Input'!C473,'Data Input'!E473,'Data Input'!F473,'Data Input'!G473,'Data Input'!Q473,'Data Input'!T473))","v":""},{"$f":"IF(O469=\"\",\"\",O469/COUNTIF('Data Input'!$C$8:$AQ$8,$O$2))","v":""},{"$f":"IF(ISBLANK('Data Input'!A473),\"\",SUM('Data Input'!L473))","v":""},{"$f":"IF(Q469=\"\",\"\",Q469/COUNTIF('Data Input'!$C$8:$AQ$8,$Q$2))","v":""},{"$f":"IF(ISBLANK('Data Input'!A473),\"\",SUM('Data Input'!X473:AQ473))","v":""},{"$f":"IF(S469=\"\",\"\",S469/COUNTIF('Data Input'!$C$8:$AQ$8,$S$2))","v":""}]
[{"$f":"IF('Data Input'!A474=0,\"\",'Data Input'!A474)","v":""},{"$f":"IF(ISBLANK('Data Input'!A474),\"\",COUNTIF('Data Input'!C474:AQ474,\"\")-1)","v":""},{"$f":"IF(ISBLANK('Data Input'!A474),\"\",COUNTIF('Data Input'!C474:AQ474,\"0\"))","v":""},{"$f":"IF(ISBLANK('Data Input'!A474),\"\",SUM(B470,C470))","v":""},{"$f":"IF(ISBLANK('Data Input'!A474),\"\",SUM('Data Input'!C474:AQ474))","v":""},{"$f":"IF(E470=\"\",\"\",E470/(COUNTA('Data Input'!$C$8:$AQ$8)-1))","v":""},{"$f":"IF(ISBLANK('Data Input'!A474),\"\",SUM('Data Input'!H474,'Data Input'!I474,'Data Input'!M474,'Data Input'!N474))","v":""},{"$f":"IF(G470=\"\",\"\",G470/COUNTIF('Data Input'!$C$8:$AQ$8,$G$2))","v":""},{"$f":"IF(ISBLANK('Data Input'!A474),\"\",SUM('Data Input'!J474,'Data Input'!K474,'Data Input'!U474,'Data Input'!V474))","v":""},{"$f":"IF(I470=\"\",\"\",I470/COUNTIF('Data Input'!$C$8:$AQ$8,$I$2))","v":""},{"$f":"IF(ISBLANK('Data Input'!A474),\"\",SUM('Data Input'!D474))","v":""},{"$f":"IF(K470=\"\",\"\",K470/COUNTIF('Data Input'!$C$8:$AQ$8,$K$2))","v":""},{"$f":"IF(ISBLANK('Data Input'!A474),\"\",SUM('Data Input'!O474,'Data Input'!P474,'Data Input'!R474,'Data Input'!S474))","v":""},{"$f":"IF(M470=\"\",\"\",M470/COUNTIF('Data Input'!$C$8:$AQ$8,$M$2))","v":""},{"$f":"IF(ISBLANK('Data Input'!A474),\"\",SUM('Data Input'!C474,'Data Input'!E474,'Data Input'!F474,'Data Input'!G474,'Data Input'!Q474,'Data Input'!T474))","v":""},{"$f":"IF(O470=\"\",\"\",O470/COUNTIF('Data Input'!$C$8:$AQ$8,$O$2))","v":""},{"$f":"IF(ISBLANK('Data Input'!A474),\"\",SUM('Data Input'!L474))","v":""},{"$f":"IF(Q470=\"\",\"\",Q470/COUNTIF('Data Input'!$C$8:$AQ$8,$Q$2))","v":""},{"$f":"IF(ISBLANK('Data Input'!A474),\"\",SUM('Data Input'!X474:AQ474))","v":""},{"$f":"IF(S470=\"\",\"\",S470/COUNTIF('Data Input'!$C$8:$AQ$8,$S$2))","v":""}]
[{"$f":"IF('Data Input'!A475=0,\"\",'Data Input'!A475)","v":""},{"$f":"IF(ISBLANK('Data Input'!A475),\"\",COUNTIF('Data Input'!C475:AQ475,\"\")-1)","v":""},{"$f":"IF(ISBLANK('Data Input'!A475),\"\",COUNTIF('Data Input'!C475:AQ475,\"0\"))","v":""},{"$f":"IF(ISBLANK('Data Input'!A475),\"\",SUM(B471,C471))","v":""},{"$f":"IF(ISBLANK('Data Input'!A475),\"\",SUM('Data Input'!C475:AQ475))","v":""},{"$f":"IF(E471=\"\",\"\",E471/(COUNTA('Data Input'!$C$8:$AQ$8)-1))","v":""},{"$f":"IF(ISBLANK('Data Input'!A475),\"\",SUM('Data Input'!H475,'Data Input'!I475,'Data Input'!M475,'Data Input'!N475))","v":""},{"$f":"IF(G471=\"\",\"\",G471/COUNTIF('Data Input'!$C$8:$AQ$8,$G$2))","v":""},{"$f":"IF(ISBLANK('Data Input'!A475),\"\",SUM('Data Input'!J475,'Data Input'!K475,'Data Input'!U475,'Data Input'!V475))","v":""},{"$f":"IF(I471=\"\",\"\",I471/COUNTIF('Data Input'!$C$8:$AQ$8,$I$2))","v":""},{"$f":"IF(ISBLANK('Data Input'!A475),\"\",SUM('Data Input'!D475))","v":""},{"$f":"IF(K471=\"\",\"\",K471/COUNTIF('Data Input'!$C$8:$AQ$8,$K$2))","v":""},{"$f":"IF(ISBLANK('Data Input'!A475),\"\",SUM('Data Input'!O475,'Data Input'!P475,'Data Input'!R475,'Data Input'!S475))","v":""},{"$f":"IF(M471=\"\",\"\",M471/COUNTIF('Data Input'!$C$8:$AQ$8,$M$2))","v":""},{"$f":"IF(ISBLANK('Data Input'!A475),\"\",SUM('Data Input'!C475,'Data Input'!E475,'Data Input'!F475,'Data Input'!G475,'Data Input'!Q475,'Data Input'!T475))","v":""},{"$f":"IF(O471=\"\",\"\",O471/COUNTIF('Data Input'!$C$8:$AQ$8,$O$2))","v":""},{"$f":"IF(ISBLANK('Data Input'!A475),\"\",SUM('Data Input'!L475))","v":""},{"$f":"IF(Q471=\"\",\"\",Q471/COUNTIF('Data Input'!$C$8:$AQ$8,$Q$2))","v":""},{"$f":"IF(ISBLANK('Data Input'!A475),\"\",SUM('Data Input'!X475:AQ475))","v":""},{"$f":"IF(S471=\"\",\"\",S471/COUNTIF('Data Input'!$C$8:$AQ$8,$S$2))","v":""}]
[{"$f":"IF('Data Input'!A476=0,\"\",'Data Input'!A476)","v":""},{"$f":"IF(ISBLANK('Data Input'!A476),\"\",COUNTIF('Data Input'!C476:AQ476,\"\")-1)","v":""},{"$f":"IF(ISBLANK('Data Input'!A476),\"\",COUNTIF('Data Input'!C476:AQ476,\"0\"))","v":""},{"$f":"IF(ISBLANK('Data Input'!A476),\"\",SUM(B472,C472))","v":""},{"$f":"IF(ISBLANK('Data Input'!A476),\"\",SUM('Data Input'!C476:AQ476))","v":""},{"$f":"IF(E472=\"\",\"\",E472/(COUNTA('Data Input'!$C$8:$AQ$8)-1))","v":""},{"$f":"IF(ISBLANK('Data Input'!A476),\"\",SUM('Data Input'!H476,'Data Input'!I476,'Data Input'!M476,'Data Input'!N476))","v":""},{"$f":"IF(G472=\"\",\"\",G472/COUNTIF('Data Input'!$C$8:$AQ$8,$G$2))","v":""},{"$f":"IF(ISBLANK('Data Input'!A476),\"\",SUM('Data Input'!J476,'Data Input'!K476,'Data Input'!U476,'Data Input'!V476))","v":""},{"$f":"IF(I472=\"\",\"\",I472/COUNTIF('Data Input'!$C$8:$AQ$8,$I$2))","v":""},{"$f":"IF(ISBLANK('Data Input'!A476),\"\",SUM('Data Input'!D476))","v":""},{"$f":"IF(K472=\"\",\"\",K472/COUNTIF('Data Input'!$C$8:$AQ$8,$K$2))","v":""},{"$f":"IF(ISBLANK('Data Input'!A476),\"\",SUM('Data Input'!O476,'Data Input'!P476,'Data Input'!R476,'Data Input'!S476))","v":""},{"$f":"IF(M472=\"\",\"\",M472/COUNTIF('Data Input'!$C$8:$AQ$8,$M$2))","v":""},{"$f":"IF(ISBLANK('Data Input'!A476),\"\",SUM('Data Input'!C476,'Data Input'!E476,'Data Input'!F476,'Data Input'!G476,'Data Input'!Q476,'Data Input'!T476))","v":""},{"$f":"IF(O472=\"\",\"\",O472/COUNTIF('Data Input'!$C$8:$AQ$8,$O$2))","v":""},{"$f":"IF(ISBLANK('Data Input'!A476),\"\",SUM('Data Input'!L476))","v":""},{"$f":"IF(Q472=\"\",\"\",Q472/COUNTIF('Data Input'!$C$8:$AQ$8,$Q$2))","v":""},{"$f":"IF(ISBLANK('Data Input'!A476),\"\",SUM('Data Input'!X476:AQ476))","v":""},{"$f":"IF(S472=\"\",\"\",S472/COUNTIF('Data Input'!$C$8:$AQ$8,$S$2))","v":""}]
[{"$f":"IF('Data Input'!A477=0,\"\",'Data Input'!A477)","v":""},{"$f":"IF(ISBLANK('Data Input'!A477),\"\",COUNTIF('Data Input'!C477:AQ477,\"\")-1)","v":""},{"$f":"IF(ISBLANK('Data Input'!A477),\"\",COUNTIF('Data Input'!C477:AQ477,\"0\"))","v":""},{"$f":"IF(ISBLANK('Data Input'!A477),\"\",SUM(B473,C473))","v":""},{"$f":"IF(ISBLANK('Data Input'!A477),\"\",SUM('Data Input'!C477:AQ477))","v":""},{"$f":"IF(E473=\"\",\"\",E473/(COUNTA('Data Input'!$C$8:$AQ$8)-1))","v":""},{"$f":"IF(ISBLANK('Data Input'!A477),\"\",SUM('Data Input'!H477,'Data Input'!I477,'Data Input'!M477,'Data Input'!N477))","v":""},{"$f":"IF(G473=\"\",\"\",G473/COUNTIF('Data Input'!$C$8:$AQ$8,$G$2))","v":""},{"$f":"IF(ISBLANK('Data Input'!A477),\"\",SUM('Data Input'!J477,'Data Input'!K477,'Data Input'!U477,'Data Input'!V477))","v":""},{"$f":"IF(I473=\"\",\"\",I473/COUNTIF('Data Input'!$C$8:$AQ$8,$I$2))","v":""},{"$f":"IF(ISBLANK('Data Input'!A477),\"\",SUM('Data Input'!D477))","v":""},{"$f":"IF(K473=\"\",\"\",K473/COUNTIF('Data Input'!$C$8:$AQ$8,$K$2))","v":""},{"$f":"IF(ISBLANK('Data Input'!A477),\"\",SUM('Data Input'!O477,'Data Input'!P477,'Data Input'!R477,'Data Input'!S477))","v":""},{"$f":"IF(M473=\"\",\"\",M473/COUNTIF('Data Input'!$C$8:$AQ$8,$M$2))","v":""},{"$f":"IF(ISBLANK('Data Input'!A477),\"\",SUM('Data Input'!C477,'Data Input'!E477,'Data Input'!F477,'Data Input'!G477,'Data Input'!Q477,'Data Input'!T477))","v":""},{"$f":"IF(O473=\"\",\"\",O473/COUNTIF('Data Input'!$C$8:$AQ$8,$O$2))","v":""},{"$f":"IF(ISBLANK('Data Input'!A477),\"\",SUM('Data Input'!L477))","v":""},{"$f":"IF(Q473=\"\",\"\",Q473/COUNTIF('Data Input'!$C$8:$AQ$8,$Q$2))","v":""},{"$f":"IF(ISBLANK('Data Input'!A477),\"\",SUM('Data Input'!X477:AQ477))","v":""},{"$f":"IF(S473=\"\",\"\",S473/COUNTIF('Data Input'!$C$8:$AQ$8,$S$2))","v":""}]
[{"$f":"IF('Data Input'!A478=0,\"\",'Data Input'!A478)","v":""},{"$f":"IF(ISBLANK('Data Input'!A478),\"\",COUNTIF('Data Input'!C478:AQ478,\"\")-1)","v":""},{"$f":"IF(ISBLANK('Data Input'!A478),\"\",COUNTIF('Data Input'!C478:AQ478,\"0\"))","v":""},{"$f":"IF(ISBLANK('Data Input'!A478),\"\",SUM(B474,C474))","v":""},{"$f":"IF(ISBLANK('Data Input'!A478),\"\",SUM('Data Input'!C478:AQ478))","v":""},{"$f":"IF(E474=\"\",\"\",E474/(COUNTA('Data Input'!$C$8:$AQ$8)-1))","v":""},{"$f":"IF(ISBLANK('Data Input'!A478),\"\",SUM('Data Input'!H478,'Data Input'!I478,'Data Input'!M478,'Data Input'!N478))","v":""},{"$f":"IF(G474=\"\",\"\",G474/COUNTIF('Data Input'!$C$8:$AQ$8,$G$2))","v":""},{"$f":"IF(ISBLANK('Data Input'!A478),\"\",SUM('Data Input'!J478,'Data Input'!K478,'Data Input'!U478,'Data Input'!V478))","v":""},{"$f":"IF(I474=\"\",\"\",I474/COUNTIF('Data Input'!$C$8:$AQ$8,$I$2))","v":""},{"$f":"IF(ISBLANK('Data Input'!A478),\"\",SUM('Data Input'!D478))","v":""},{"$f":"IF(K474=\"\",\"\",K474/COUNTIF('Data Input'!$C$8:$AQ$8,$K$2))","v":""},{"$f":"IF(ISBLANK('Data Input'!A478),\"\",SUM('Data Input'!O478,'Data Input'!P478,'Data Input'!R478,'Data Input'!S478))","v":""},{"$f":"IF(M474=\"\",\"\",M474/COUNTIF('Data Input'!$C$8:$AQ$8,$M$2))","v":""},{"$f":"IF(ISBLANK('Data Input'!A478),\"\",SUM('Data Input'!C478,'Data Input'!E478,'Data Input'!F478,'Data Input'!G478,'Data Input'!Q478,'Data Input'!T478))","v":""},{"$f":"IF(O474=\"\",\"\",O474/COUNTIF('Data Input'!$C$8:$AQ$8,$O$2))","v":""},{"$f":"IF(ISBLANK('Data Input'!A478),\"\",SUM('Data Input'!L478))","v":""},{"$f":"IF(Q474=\"\",\"\",Q474/COUNTIF('Data Input'!$C$8:$AQ$8,$Q$2))","v":""},{"$f":"IF(ISBLANK('Data Input'!A478),\"\",SUM('Data Input'!X478:AQ478))","v":""},{"$f":"IF(S474=\"\",\"\",S474/COUNTIF('Data Input'!$C$8:$AQ$8,$S$2))","v":""}]
[{"$f":"IF('Data Input'!A479=0,\"\",'Data Input'!A479)","v":""},{"$f":"IF(ISBLANK('Data Input'!A479),\"\",COUNTIF('Data Input'!C479:AQ479,\"\")-1)","v":""},{"$f":"IF(ISBLANK('Data Input'!A479),\"\",COUNTIF('Data Input'!C479:AQ479,\"0\"))","v":""},{"$f":"IF(ISBLANK('Data Input'!A479),\"\",SUM(B475,C475))","v":""},{"$f":"IF(ISBLANK('Data Input'!A479),\"\",SUM('Data Input'!C479:AQ479))","v":""},{"$f":"IF(E475=\"\",\"\",E475/(COUNTA('Data Input'!$C$8:$AQ$8)-1))","v":""},{"$f":"IF(ISBLANK('Data Input'!A479),\"\",SUM('Data Input'!H479,'Data Input'!I479,'Data Input'!M479,'Data Input'!N479))","v":""},{"$f":"IF(G475=\"\",\"\",G475/COUNTIF('Data Input'!$C$8:$AQ$8,$G$2))","v":""},{"$f":"IF(ISBLANK('Data Input'!A479),\"\",SUM('Data Input'!J479,'Data Input'!K479,'Data Input'!U479,'Data Input'!V479))","v":""},{"$f":"IF(I475=\"\",\"\",I475/COUNTIF('Data Input'!$C$8:$AQ$8,$I$2))","v":""},{"$f":"IF(ISBLANK('Data Input'!A479),\"\",SUM('Data Input'!D479))","v":""},{"$f":"IF(K475=\"\",\"\",K475/COUNTIF('Data Input'!$C$8:$AQ$8,$K$2))","v":""},{"$f":"IF(ISBLANK('Data Input'!A479),\"\",SUM('Data Input'!O479,'Data Input'!P479,'Data Input'!R479,'Data Input'!S479))","v":""},{"$f":"IF(M475=\"\",\"\",M475/COUNTIF('Data Input'!$C$8:$AQ$8,$M$2))","v":""},{"$f":"IF(ISBLANK('Data Input'!A479),\"\",SUM('Data Input'!C479,'Data Input'!E479,'Data Input'!F479,'Data Input'!G479,'Data Input'!Q479,'Data Input'!T479))","v":""},{"$f":"IF(O475=\"\",\"\",O475/COUNTIF('Data Input'!$C$8:$AQ$8,$O$2))","v":""},{"$f":"IF(ISBLANK('Data Input'!A479),\"\",SUM('Data Input'!L479))","v":""},{"$f":"IF(Q475=\"\",\"\",Q475/COUNTIF('Data Input'!$C$8:$AQ$8,$Q$2))","v":""},{"$f":"IF(ISBLANK('Data Input'!A479),\"\",SUM('Data Input'!X479:AQ479))","v":""},{"$f":"IF(S475=\"\",\"\",S475/COUNTIF('Data Input'!$C$8:$AQ$8,$S$2))","v":""}]
[{"$f":"IF('Data Input'!A480=0,\"\",'Data Input'!A480)","v":""},{"$f":"IF(ISBLANK('Data Input'!A480),\"\",COUNTIF('Data Input'!C480:AQ480,\"\")-1)","v":""},{"$f":"IF(ISBLANK('Data Input'!A480),\"\",COUNTIF('Data Input'!C480:AQ480,\"0\"))","v":""},{"$f":"IF(ISBLANK('Data Input'!A480),\"\",SUM(B476,C476))","v":""},{"$f":"IF(ISBLANK('Data Input'!A480),\"\",SUM('Data Input'!C480:AQ480))","v":""},{"$f":"IF(E476=\"\",\"\",E476/(COUNTA('Data Input'!$C$8:$AQ$8)-1))","v":""},{"$f":"IF(ISBLANK('Data Input'!A480),\"\",SUM('Data Input'!H480,'Data Input'!I480,'Data Input'!M480,'Data Input'!N480))","v":""},{"$f":"IF(G476=\"\",\"\",G476/COUNTIF('Data Input'!$C$8:$AQ$8,$G$2))","v":""},{"$f":"IF(ISBLANK('Data Input'!A480),\"\",SUM('Data Input'!J480,'Data Input'!K480,'Data Input'!U480,'Data Input'!V480))","v":""},{"$f":"IF(I476=\"\",\"\",I476/COUNTIF('Data Input'!$C$8:$AQ$8,$I$2))","v":""},{"$f":"IF(ISBLANK('Data Input'!A480),\"\",SUM('Data Input'!D480))","v":""},{"$f":"IF(K476=\"\",\"\",K476/COUNTIF('Data Input'!$C$8:$AQ$8,$K$2))","v":""},{"$f":"IF(ISBLANK('Data Input'!A480),\"\",SUM('Data Input'!O480,'Data Input'!P480,'Data Input'!R480,'Data Input'!S480))","v":""},{"$f":"IF(M476=\"\",\"\",M476/COUNTIF('Data Input'!$C$8:$AQ$8,$M$2))","v":""},{"$f":"IF(ISBLANK('Data Input'!A480),\"\",SUM('Data Input'!C480,'Data Input'!E480,'Data Input'!F480,'Data Input'!G480,'Data Input'!Q480,'Data Input'!T480))","v":""},{"$f":"IF(O476=\"\",\"\",O476/COUNTIF('Data Input'!$C$8:$AQ$8,$O$2))","v":""},{"$f":"IF(ISBLANK('Data Input'!A480),\"\",SUM('Data Input'!L480))","v":""},{"$f":"IF(Q476=\"\",\"\",Q476/COUNTIF('Data Input'!$C$8:$AQ$8,$Q$2))","v":""},{"$f":"IF(ISBLANK('Data Input'!A480),\"\",SUM('Data Input'!X480:AQ480))","v":""},{"$f":"IF(S476=\"\",\"\",S476/COUNTIF('Data Input'!$C$8:$AQ$8,$S$2))","v":""}]
[{"$f":"IF('Data Input'!A481=0,\"\",'Data Input'!A481)","v":""},{"$f":"IF(ISBLANK('Data Input'!A481),\"\",COUNTIF('Data Input'!C481:AQ481,\"\")-1)","v":""},{"$f":"IF(ISBLANK('Data Input'!A481),\"\",COUNTIF('Data Input'!C481:AQ481,\"0\"))","v":""},{"$f":"IF(ISBLANK('Data Input'!A481),\"\",SUM(B477,C477))","v":""},{"$f":"IF(ISBLANK('Data Input'!A481),\"\",SUM('Data Input'!C481:AQ481))","v":""},{"$f":"IF(E477=\"\",\"\",E477/(COUNTA('Data Input'!$C$8:$AQ$8)-1))","v":""},{"$f":"IF(ISBLANK('Data Input'!A481),\"\",SUM('Data Input'!H481,'Data Input'!I481,'Data Input'!M481,'Data Input'!N481))","v":""},{"$f":"IF(G477=\"\",\"\",G477/COUNTIF('Data Input'!$C$8:$AQ$8,$G$2))","v":""},{"$f":"IF(ISBLANK('Data Input'!A481),\"\",SUM('Data Input'!J481,'Data Input'!K481,'Data Input'!U481,'Data Input'!V481))","v":""},{"$f":"IF(I477=\"\",\"\",I477/COUNTIF('Data Input'!$C$8:$AQ$8,$I$2))","v":""},{"$f":"IF(ISBLANK('Data Input'!A481),\"\",SUM('Data Input'!D481))","v":""},{"$f":"IF(K477=\"\",\"\",K477/COUNTIF('Data Input'!$C$8:$AQ$8,$K$2))","v":""},{"$f":"IF(ISBLANK('Data Input'!A481),\"\",SUM('Data Input'!O481,'Data Input'!P481,'Data Input'!R481,'Data Input'!S481))","v":""},{"$f":"IF(M477=\"\",\"\",M477/COUNTIF('Data Input'!$C$8:$AQ$8,$M$2))","v":""},{"$f":"IF(ISBLANK('Data Input'!A481),\"\",SUM('Data Input'!C481,'Data Input'!E481,'Data Input'!F481,'Data Input'!G481,'Data Input'!Q481,'Data Input'!T481))","v":""},{"$f":"IF(O477=\"\",\"\",O477/COUNTIF('Data Input'!$C$8:$AQ$8,$O$2))","v":""},{"$f":"IF(ISBLANK('Data Input'!A481),\"\",SUM('Data Input'!L481))","v":""},{"$f":"IF(Q477=\"\",\"\",Q477/COUNTIF('Data Input'!$C$8:$AQ$8,$Q$2))","v":""},{"$f":"IF(ISBLANK('Data Input'!A481),\"\",SUM('Data Input'!X481:AQ481))","v":""},{"$f":"IF(S477=\"\",\"\",S477/COUNTIF('Data Input'!$C$8:$AQ$8,$S$2))","v":""}]
[{"$f":"IF('Data Input'!A482=0,\"\",'Data Input'!A482)","v":""},{"$f":"IF(ISBLANK('Data Input'!A482),\"\",COUNTIF('Data Input'!C482:AQ482,\"\")-1)","v":""},{"$f":"IF(ISBLANK('Data Input'!A482),\"\",COUNTIF('Data Input'!C482:AQ482,\"0\"))","v":""},{"$f":"IF(ISBLANK('Data Input'!A482),\"\",SUM(B478,C478))","v":""},{"$f":"IF(ISBLANK('Data Input'!A482),\"\",SUM('Data Input'!C482:AQ482))","v":""},{"$f":"IF(E478=\"\",\"\",E478/(COUNTA('Data Input'!$C$8:$AQ$8)-1))","v":""},{"$f":"IF(ISBLANK('Data Input'!A482),\"\",SUM('Data Input'!H482,'Data Input'!I482,'Data Input'!M482,'Data Input'!N482))","v":""},{"$f":"IF(G478=\"\",\"\",G478/COUNTIF('Data Input'!$C$8:$AQ$8,$G$2))","v":""},{"$f":"IF(ISBLANK('Data Input'!A482),\"\",SUM('Data Input'!J482,'Data Input'!K482,'Data Input'!U482,'Data Input'!V482))","v":""},{"$f":"IF(I478=\"\",\"\",I478/COUNTIF('Data Input'!$C$8:$AQ$8,$I$2))","v":""},{"$f":"IF(ISBLANK('Data Input'!A482),\"\",SUM('Data Input'!D482))","v":""},{"$f":"IF(K478=\"\",\"\",K478/COUNTIF('Data Input'!$C$8:$AQ$8,$K$2))","v":""},{"$f":"IF(ISBLANK('Data Input'!A482),\"\",SUM('Data Input'!O482,'Data Input'!P482,'Data Input'!R482,'Data Input'!S482))","v":""},{"$f":"IF(M478=\"\",\"\",M478/COUNTIF('Data Input'!$C$8:$AQ$8,$M$2))","v":""},{"$f":"IF(ISBLANK('Data Input'!A482),\"\",SUM('Data Input'!C482,'Data Input'!E482,'Data Input'!F482,'Data Input'!G482,'Data Input'!Q482,'Data Input'!T482))","v":""},{"$f":"IF(O478=\"\",\"\",O478/COUNTIF('Data Input'!$C$8:$AQ$8,$O$2))","v":""},{"$f":"IF(ISBLANK('Data Input'!A482),\"\",SUM('Data Input'!L482))","v":""},{"$f":"IF(Q478=\"\",\"\",Q478/COUNTIF('Data Input'!$C$8:$AQ$8,$Q$2))","v":""},{"$f":"IF(ISBLANK('Data Input'!A482),\"\",SUM('Data Input'!X482:AQ482))","v":""},{"$f":"IF(S478=\"\",\"\",S478/COUNTIF('Data Input'!$C$8:$AQ$8,$S$2))","v":""}]
[{"$f":"IF('Data Input'!A483=0,\"\",'Data Input'!A483)","v":""},{"$f":"IF(ISBLANK('Data Input'!A483),\"\",COUNTIF('Data Input'!C483:AQ483,\"\")-1)","v":""},{"$f":"IF(ISBLANK('Data Input'!A483),\"\",COUNTIF('Data Input'!C483:AQ483,\"0\"))","v":""},{"$f":"IF(ISBLANK('Data Input'!A483),\"\",SUM(B479,C479))","v":""},{"$f":"IF(ISBLANK('Data Input'!A483),\"\",SUM('Data Input'!C483:AQ483))","v":""},{"$f":"IF(E479=\"\",\"\",E479/(COUNTA('Data Input'!$C$8:$AQ$8)-1))","v":""},{"$f":"IF(ISBLANK('Data Input'!A483),\"\",SUM('Data Input'!H483,'Data Input'!I483,'Data Input'!M483,'Data Input'!N483))","v":""},{"$f":"IF(G479=\"\",\"\",G479/COUNTIF('Data Input'!$C$8:$AQ$8,$G$2))","v":""},{"$f":"IF(ISBLANK('Data Input'!A483),\"\",SUM('Data Input'!J483,'Data Input'!K483,'Data Input'!U483,'Data Input'!V483))","v":""},{"$f":"IF(I479=\"\",\"\",I479/COUNTIF('Data Input'!$C$8:$AQ$8,$I$2))","v":""},{"$f":"IF(ISBLANK('Data Input'!A483),\"\",SUM('Data Input'!D483))","v":""},{"$f":"IF(K479=\"\",\"\",K479/COUNTIF('Data Input'!$C$8:$AQ$8,$K$2))","v":""},{"$f":"IF(ISBLANK('Data Input'!A483),\"\",SUM('Data Input'!O483,'Data Input'!P483,'Data Input'!R483,'Data Input'!S483))","v":""},{"$f":"IF(M479=\"\",\"\",M479/COUNTIF('Data Input'!$C$8:$AQ$8,$M$2))","v":""},{"$f":"IF(ISBLANK('Data Input'!A483),\"\",SUM('Data Input'!C483,'Data Input'!E483,'Data Input'!F483,'Data Input'!G483,'Data Input'!Q483,'Data Input'!T483))","v":""},{"$f":"IF(O479=\"\",\"\",O479/COUNTIF('Data Input'!$C$8:$AQ$8,$O$2))","v":""},{"$f":"IF(ISBLANK('Data Input'!A483),\"\",SUM('Data Input'!L483))","v":""},{"$f":"IF(Q479=\"\",\"\",Q479/COUNTIF('Data Input'!$C$8:$AQ$8,$Q$2))","v":""},{"$f":"IF(ISBLANK('Data Input'!A483),\"\",SUM('Data Input'!X483:AQ483))","v":""},{"$f":"IF(S479=\"\",\"\",S479/COUNTIF('Data Input'!$C$8:$AQ$8,$S$2))","v":""}]
[{"$f":"IF('Data Input'!A484=0,\"\",'Data Input'!A484)","v":""},{"$f":"IF(ISBLANK('Data Input'!A484),\"\",COUNTIF('Data Input'!C484:AQ484,\"\")-1)","v":""},{"$f":"IF(ISBLANK('Data Input'!A484),\"\",COUNTIF('Data Input'!C484:AQ484,\"0\"))","v":""},{"$f":"IF(ISBLANK('Data Input'!A484),\"\",SUM(B480,C480))","v":""},{"$f":"IF(ISBLANK('Data Input'!A484),\"\",SUM('Data Input'!C484:AQ484))","v":""},{"$f":"IF(E480=\"\",\"\",E480/(COUNTA('Data Input'!$C$8:$AQ$8)-1))","v":""},{"$f":"IF(ISBLANK('Data Input'!A484),\"\",SUM('Data Input'!H484,'Data Input'!I484,'Data Input'!M484,'Data Input'!N484))","v":""},{"$f":"IF(G480=\"\",\"\",G480/COUNTIF('Data Input'!$C$8:$AQ$8,$G$2))","v":""},{"$f":"IF(ISBLANK('Data Input'!A484),\"\",SUM('Data Input'!J484,'Data Input'!K484,'Data Input'!U484,'Data Input'!V484))","v":""},{"$f":"IF(I480=\"\",\"\",I480/COUNTIF('Data Input'!$C$8:$AQ$8,$I$2))","v":""},{"$f":"IF(ISBLANK('Data Input'!A484),\"\",SUM('Data Input'!D484))","v":""},{"$f":"IF(K480=\"\",\"\",K480/COUNTIF('Data Input'!$C$8:$AQ$8,$K$2))","v":""},{"$f":"IF(ISBLANK('Data Input'!A484),\"\",SUM('Data Input'!O484,'Data Input'!P484,'Data Input'!R484,'Data Input'!S484))","v":""},{"$f":"IF(M480=\"\",\"\",M480/COUNTIF('Data Input'!$C$8:$AQ$8,$M$2))","v":""},{"$f":"IF(ISBLANK('Data Input'!A484),\"\",SUM('Data Input'!C484,'Data Input'!E484,'Data Input'!F484,'Data Input'!G484,'Data Input'!Q484,'Data Input'!T484))","v":""},{"$f":"IF(O480=\"\",\"\",O480/COUNTIF('Data Input'!$C$8:$AQ$8,$O$2))","v":""},{"$f":"IF(ISBLANK('Data Input'!A484),\"\",SUM('Data Input'!L484))","v":""},{"$f":"IF(Q480=\"\",\"\",Q480/COUNTIF('Data Input'!$C$8:$AQ$8,$Q$2))","v":""},{"$f":"IF(ISBLANK('Data Input'!A484),\"\",SUM('Data Input'!X484:AQ484))","v":""},{"$f":"IF(S480=\"\",\"\",S480/COUNTIF('Data Input'!$C$8:$AQ$8,$S$2))","v":""}]
[{"$f":"IF('Data Input'!A485=0,\"\",'Data Input'!A485)","v":""},{"$f":"IF(ISBLANK('Data Input'!A485),\"\",COUNTIF('Data Input'!C485:AQ485,\"\")-1)","v":""},{"$f":"IF(ISBLANK('Data Input'!A485),\"\",COUNTIF('Data Input'!C485:AQ485,\"0\"))","v":""},{"$f":"IF(ISBLANK('Data Input'!A485),\"\",SUM(B481,C481))","v":""},{"$f":"IF(ISBLANK('Data Input'!A485),\"\",SUM('Data Input'!C485:AQ485))","v":""},{"$f":"IF(E481=\"\",\"\",E481/(COUNTA('Data Input'!$C$8:$AQ$8)-1))","v":""},{"$f":"IF(ISBLANK('Data Input'!A485),\"\",SUM('Data Input'!H485,'Data Input'!I485,'Data Input'!M485,'Data Input'!N485))","v":""},{"$f":"IF(G481=\"\",\"\",G481/COUNTIF('Data Input'!$C$8:$AQ$8,$G$2))","v":""},{"$f":"IF(ISBLANK('Data Input'!A485),\"\",SUM('Data Input'!J485,'Data Input'!K485,'Data Input'!U485,'Data Input'!V485))","v":""},{"$f":"IF(I481=\"\",\"\",I481/COUNTIF('Data Input'!$C$8:$AQ$8,$I$2))","v":""},{"$f":"IF(ISBLANK('Data Input'!A485),\"\",SUM('Data Input'!D485))","v":""},{"$f":"IF(K481=\"\",\"\",K481/COUNTIF('Data Input'!$C$8:$AQ$8,$K$2))","v":""},{"$f":"IF(ISBLANK('Data Input'!A485),\"\",SUM('Data Input'!O485,'Data Input'!P485,'Data Input'!R485,'Data Input'!S485))","v":""},{"$f":"IF(M481=\"\",\"\",M481/COUNTIF('Data Input'!$C$8:$AQ$8,$M$2))","v":""},{"$f":"IF(ISBLANK('Data Input'!A485),\"\",SUM('Data Input'!C485,'Data Input'!E485,'Data Input'!F485,'Data Input'!G485,'Data Input'!Q485,'Data Input'!T485))","v":""},{"$f":"IF(O481=\"\",\"\",O481/COUNTIF('Data Input'!$C$8:$AQ$8,$O$2))","v":""},{"$f":"IF(ISBLANK('Data Input'!A485),\"\",SUM('Data Input'!L485))","v":""},{"$f":"IF(Q481=\"\",\"\",Q481/COUNTIF('Data Input'!$C$8:$AQ$8,$Q$2))","v":""},{"$f":"IF(ISBLANK('Data Input'!A485),\"\",SUM('Data Input'!X485:AQ485))","v":""},{"$f":"IF(S481=\"\",\"\",S481/COUNTIF('Data Input'!$C$8:$AQ$8,$S$2))","v":""}]
[{"$f":"IF('Data Input'!A486=0,\"\",'Data Input'!A486)","v":""},{"$f":"IF(ISBLANK('Data Input'!A486),\"\",COUNTIF('Data Input'!C486:AQ486,\"\")-1)","v":""},{"$f":"IF(ISBLANK('Data Input'!A486),\"\",COUNTIF('Data Input'!C486:AQ486,\"0\"))","v":""},{"$f":"IF(ISBLANK('Data Input'!A486),\"\",SUM(B482,C482))","v":""},{"$f":"IF(ISBLANK('Data Input'!A486),\"\",SUM('Data Input'!C486:AQ486))","v":""},{"$f":"IF(E482=\"\",\"\",E482/(COUNTA('Data Input'!$C$8:$AQ$8)-1))","v":""},{"$f":"IF(ISBLANK('Data Input'!A486),\"\",SUM('Data Input'!H486,'Data Input'!I486,'Data Input'!M486,'Data Input'!N486))","v":""},{"$f":"IF(G482=\"\",\"\",G482/COUNTIF('Data Input'!$C$8:$AQ$8,$G$2))","v":""},{"$f":"IF(ISBLANK('Data Input'!A486),\"\",SUM('Data Input'!J486,'Data Input'!K486,'Data Input'!U486,'Data Input'!V486))","v":""},{"$f":"IF(I482=\"\",\"\",I482/COUNTIF('Data Input'!$C$8:$AQ$8,$I$2))","v":""},{"$f":"IF(ISBLANK('Data Input'!A486),\"\",SUM('Data Input'!D486))","v":""},{"$f":"IF(K482=\"\",\"\",K482/COUNTIF('Data Input'!$C$8:$AQ$8,$K$2))","v":""},{"$f":"IF(ISBLANK('Data Input'!A486),\"\",SUM('Data Input'!O486,'Data Input'!P486,'Data Input'!R486,'Data Input'!S486))","v":""},{"$f":"IF(M482=\"\",\"\",M482/COUNTIF('Data Input'!$C$8:$AQ$8,$M$2))","v":""},{"$f":"IF(ISBLANK('Data Input'!A486),\"\",SUM('Data Input'!C486,'Data Input'!E486,'Data Input'!F486,'Data Input'!G486,'Data Input'!Q486,'Data Input'!T486))","v":""},{"$f":"IF(O482=\"\",\"\",O482/COUNTIF('Data Input'!$C$8:$AQ$8,$O$2))","v":""},{"$f":"IF(ISBLANK('Data Input'!A486),\"\",SUM('Data Input'!L486))","v":""},{"$f":"IF(Q482=\"\",\"\",Q482/COUNTIF('Data Input'!$C$8:$AQ$8,$Q$2))","v":""},{"$f":"IF(ISBLANK('Data Input'!A486),\"\",SUM('Data Input'!X486:AQ486))","v":""},{"$f":"IF(S482=\"\",\"\",S482/COUNTIF('Data Input'!$C$8:$AQ$8,$S$2))","v":""}]
[{"$f":"IF('Data Input'!A487=0,\"\",'Data Input'!A487)","v":""},{"$f":"IF(ISBLANK('Data Input'!A487),\"\",COUNTIF('Data Input'!C487:AQ487,\"\")-1)","v":""},{"$f":"IF(ISBLANK('Data Input'!A487),\"\",COUNTIF('Data Input'!C487:AQ487,\"0\"))","v":""},{"$f":"IF(ISBLANK('Data Input'!A487),\"\",SUM(B483,C483))","v":""},{"$f":"IF(ISBLANK('Data Input'!A487),\"\",SUM('Data Input'!C487:AQ487))","v":""},{"$f":"IF(E483=\"\",\"\",E483/(COUNTA('Data Input'!$C$8:$AQ$8)-1))","v":""},{"$f":"IF(ISBLANK('Data Input'!A487),\"\",SUM('Data Input'!H487,'Data Input'!I487,'Data Input'!M487,'Data Input'!N487))","v":""},{"$f":"IF(G483=\"\",\"\",G483/COUNTIF('Data Input'!$C$8:$AQ$8,$G$2))","v":""},{"$f":"IF(ISBLANK('Data Input'!A487),\"\",SUM('Data Input'!J487,'Data Input'!K487,'Data Input'!U487,'Data Input'!V487))","v":""},{"$f":"IF(I483=\"\",\"\",I483/COUNTIF('Data Input'!$C$8:$AQ$8,$I$2))","v":""},{"$f":"IF(ISBLANK('Data Input'!A487),\"\",SUM('Data Input'!D487))","v":""},{"$f":"IF(K483=\"\",\"\",K483/COUNTIF('Data Input'!$C$8:$AQ$8,$K$2))","v":""},{"$f":"IF(ISBLANK('Data Input'!A487),\"\",SUM('Data Input'!O487,'Data Input'!P487,'Data Input'!R487,'Data Input'!S487))","v":""},{"$f":"IF(M483=\"\",\"\",M483/COUNTIF('Data Input'!$C$8:$AQ$8,$M$2))","v":""},{"$f":"IF(ISBLANK('Data Input'!A487),\"\",SUM('Data Input'!C487,'Data Input'!E487,'Data Input'!F487,'Data Input'!G487,'Data Input'!Q487,'Data Input'!T487))","v":""},{"$f":"IF(O483=\"\",\"\",O483/COUNTIF('Data Input'!$C$8:$AQ$8,$O$2))","v":""},{"$f":"IF(ISBLANK('Data Input'!A487),\"\",SUM('Data Input'!L487))","v":""},{"$f":"IF(Q483=\"\",\"\",Q483/COUNTIF('Data Input'!$C$8:$AQ$8,$Q$2))","v":""},{"$f":"IF(ISBLANK('Data Input'!A487),\"\",SUM('Data Input'!X487:AQ487))","v":""},{"$f":"IF(S483=\"\",\"\",S483/COUNTIF('Data Input'!$C$8:$AQ$8,$S$2))","v":""}]
[{"$f":"IF('Data Input'!A488=0,\"\",'Data Input'!A488)","v":""},{"$f":"IF(ISBLANK('Data Input'!A488),\"\",COUNTIF('Data Input'!C488:AQ488,\"\")-1)","v":""},{"$f":"IF(ISBLANK('Data Input'!A488),\"\",COUNTIF('Data Input'!C488:AQ488,\"0\"))","v":""},{"$f":"IF(ISBLANK('Data Input'!A488),\"\",SUM(B484,C484))","v":""},{"$f":"IF(ISBLANK('Data Input'!A488),\"\",SUM('Data Input'!C488:AQ488))","v":""},{"$f":"IF(E484=\"\",\"\",E484/(COUNTA('Data Input'!$C$8:$AQ$8)-1))","v":""},{"$f":"IF(ISBLANK('Data Input'!A488),\"\",SUM('Data Input'!H488,'Data Input'!I488,'Data Input'!M488,'Data Input'!N488))","v":""},{"$f":"IF(G484=\"\",\"\",G484/COUNTIF('Data Input'!$C$8:$AQ$8,$G$2))","v":""},{"$f":"IF(ISBLANK('Data Input'!A488),\"\",SUM('Data Input'!J488,'Data Input'!K488,'Data Input'!U488,'Data Input'!V488))","v":""},{"$f":"IF(I484=\"\",\"\",I484/COUNTIF('Data Input'!$C$8:$AQ$8,$I$2))","v":""},{"$f":"IF(ISBLANK('Data Input'!A488),\"\",SUM('Data Input'!D488))","v":""},{"$f":"IF(K484=\"\",\"\",K484/COUNTIF('Data Input'!$C$8:$AQ$8,$K$2))","v":""},{"$f":"IF(ISBLANK('Data Input'!A488),\"\",SUM('Data Input'!O488,'Data Input'!P488,'Data Input'!R488,'Data Input'!S488))","v":""},{"$f":"IF(M484=\"\",\"\",M484/COUNTIF('Data Input'!$C$8:$AQ$8,$M$2))","v":""},{"$f":"IF(ISBLANK('Data Input'!A488),\"\",SUM('Data Input'!C488,'Data Input'!E488,'Data Input'!F488,'Data Input'!G488,'Data Input'!Q488,'Data Input'!T488))","v":""},{"$f":"IF(O484=\"\",\"\",O484/COUNTIF('Data Input'!$C$8:$AQ$8,$O$2))","v":""},{"$f":"IF(ISBLANK('Data Input'!A488),\"\",SUM('Data Input'!L488))","v":""},{"$f":"IF(Q484=\"\",\"\",Q484/COUNTIF('Data Input'!$C$8:$AQ$8,$Q$2))","v":""},{"$f":"IF(ISBLANK('Data Input'!A488),\"\",SUM('Data Input'!X488:AQ488))","v":""},{"$f":"IF(S484=\"\",\"\",S484/COUNTIF('Data Input'!$C$8:$AQ$8,$S$2))","v":""}]
[{"$f":"IF('Data Input'!A489=0,\"\",'Data Input'!A489)","v":""},{"$f":"IF(ISBLANK('Data Input'!A489),\"\",COUNTIF('Data Input'!C489:AQ489,\"\")-1)","v":""},{"$f":"IF(ISBLANK('Data Input'!A489),\"\",COUNTIF('Data Input'!C489:AQ489,\"0\"))","v":""},{"$f":"IF(ISBLANK('Data Input'!A489),\"\",SUM(B485,C485))","v":""},{"$f":"IF(ISBLANK('Data Input'!A489),\"\",SUM('Data Input'!C489:AQ489))","v":""},{"$f":"IF(E485=\"\",\"\",E485/(COUNTA('Data Input'!$C$8:$AQ$8)-1))","v":""},{"$f":"IF(ISBLANK('Data Input'!A489),\"\",SUM('Data Input'!H489,'Data Input'!I489,'Data Input'!M489,'Data Input'!N489))","v":""},{"$f":"IF(G485=\"\",\"\",G485/COUNTIF('Data Input'!$C$8:$AQ$8,$G$2))","v":""},{"$f":"IF(ISBLANK('Data Input'!A489),\"\",SUM('Data Input'!J489,'Data Input'!K489,'Data Input'!U489,'Data Input'!V489))","v":""},{"$f":"IF(I485=\"\",\"\",I485/COUNTIF('Data Input'!$C$8:$AQ$8,$I$2))","v":""},{"$f":"IF(ISBLANK('Data Input'!A489),\"\",SUM('Data Input'!D489))","v":""},{"$f":"IF(K485=\"\",\"\",K485/COUNTIF('Data Input'!$C$8:$AQ$8,$K$2))","v":""},{"$f":"IF(ISBLANK('Data Input'!A489),\"\",SUM('Data Input'!O489,'Data Input'!P489,'Data Input'!R489,'Data Input'!S489))","v":""},{"$f":"IF(M485=\"\",\"\",M485/COUNTIF('Data Input'!$C$8:$AQ$8,$M$2))","v":""},{"$f":"IF(ISBLANK('Data Input'!A489),\"\",SUM('Data Input'!C489,'Data Input'!E489,'Data Input'!F489,'Data Input'!G489,'Data Input'!Q489,'Data Input'!T489))","v":""},{"$f":"IF(O485=\"\",\"\",O485/COUNTIF('Data Input'!$C$8:$AQ$8,$O$2))","v":""},{"$f":"IF(ISBLANK('Data Input'!A489),\"\",SUM('Data Input'!L489))","v":""},{"$f":"IF(Q485=\"\",\"\",Q485/COUNTIF('Data Input'!$C$8:$AQ$8,$Q$2))","v":""},{"$f":"IF(ISBLANK('Data Input'!A489),\"\",SUM('Data Input'!X489:AQ489))","v":""},{"$f":"IF(S485=\"\",\"\",S485/COUNTIF('Data Input'!$C$8:$AQ$8,$S$2))","v":""}]
[{"$f":"IF('Data Input'!A490=0,\"\",'Data Input'!A490)","v":""},{"$f":"IF(ISBLANK('Data Input'!A490),\"\",COUNTIF('Data Input'!C490:AQ490,\"\")-1)","v":""},{"$f":"IF(ISBLANK('Data Input'!A490),\"\",COUNTIF('Data Input'!C490:AQ490,\"0\"))","v":""},{"$f":"IF(ISBLANK('Data Input'!A490),\"\",SUM(B486,C486))","v":""},{"$f":"IF(ISBLANK('Data Input'!A490),\"\",SUM('Data Input'!C490:AQ490))","v":""},{"$f":"IF(E486=\"\",\"\",E486/(COUNTA('Data Input'!$C$8:$AQ$8)-1))","v":""},{"$f":"IF(ISBLANK('Data Input'!A490),\"\",SUM('Data Input'!H490,'Data Input'!I490,'Data Input'!M490,'Data Input'!N490))","v":""},{"$f":"IF(G486=\"\",\"\",G486/COUNTIF('Data Input'!$C$8:$AQ$8,$G$2))","v":""},{"$f":"IF(ISBLANK('Data Input'!A490),\"\",SUM('Data Input'!J490,'Data Input'!K490,'Data Input'!U490,'Data Input'!V490))","v":""},{"$f":"IF(I486=\"\",\"\",I486/COUNTIF('Data Input'!$C$8:$AQ$8,$I$2))","v":""},{"$f":"IF(ISBLANK('Data Input'!A490),\"\",SUM('Data Input'!D490))","v":""},{"$f":"IF(K486=\"\",\"\",K486/COUNTIF('Data Input'!$C$8:$AQ$8,$K$2))","v":""},{"$f":"IF(ISBLANK('Data Input'!A490),\"\",SUM('Data Input'!O490,'Data Input'!P490,'Data Input'!R490,'Data Input'!S490))","v":""},{"$f":"IF(M486=\"\",\"\",M486/COUNTIF('Data Input'!$C$8:$AQ$8,$M$2))","v":""},{"$f":"IF(ISBLANK('Data Input'!A490),\"\",SUM('Data Input'!C490,'Data Input'!E490,'Data Input'!F490,'Data Input'!G490,'Data Input'!Q490,'Data Input'!T490))","v":""},{"$f":"IF(O486=\"\",\"\",O486/COUNTIF('Data Input'!$C$8:$AQ$8,$O$2))","v":""},{"$f":"IF(ISBLANK('Data Input'!A490),\"\",SUM('Data Input'!L490))","v":""},{"$f":"IF(Q486=\"\",\"\",Q486/COUNTIF('Data Input'!$C$8:$AQ$8,$Q$2))","v":""},{"$f":"IF(ISBLANK('Data Input'!A490),\"\",SUM('Data Input'!X490:AQ490))","v":""},{"$f":"IF(S486=\"\",\"\",S486/COUNTIF('Data Input'!$C$8:$AQ$8,$S$2))","v":""}]
[{"$f":"IF('Data Input'!A491=0,\"\",'Data Input'!A491)","v":""},{"$f":"IF(ISBLANK('Data Input'!A491),\"\",COUNTIF('Data Input'!C491:AQ491,\"\")-1)","v":""},{"$f":"IF(ISBLANK('Data Input'!A491),\"\",COUNTIF('Data Input'!C491:AQ491,\"0\"))","v":""},{"$f":"IF(ISBLANK('Data Input'!A491),\"\",SUM(B487,C487))","v":""},{"$f":"IF(ISBLANK('Data Input'!A491),\"\",SUM('Data Input'!C491:AQ491))","v":""},{"$f":"IF(E487=\"\",\"\",E487/(COUNTA('Data Input'!$C$8:$AQ$8)-1))","v":""},{"$f":"IF(ISBLANK('Data Input'!A491),\"\",SUM('Data Input'!H491,'Data Input'!I491,'Data Input'!M491,'Data Input'!N491))","v":""},{"$f":"IF(G487=\"\",\"\",G487/COUNTIF('Data Input'!$C$8:$AQ$8,$G$2))","v":""},{"$f":"IF(ISBLANK('Data Input'!A491),\"\",SUM('Data Input'!J491,'Data Input'!K491,'Data Input'!U491,'Data Input'!V491))","v":""},{"$f":"IF(I487=\"\",\"\",I487/COUNTIF('Data Input'!$C$8:$AQ$8,$I$2))","v":""},{"$f":"IF(ISBLANK('Data Input'!A491),\"\",SUM('Data Input'!D491))","v":""},{"$f":"IF(K487=\"\",\"\",K487/COUNTIF('Data Input'!$C$8:$AQ$8,$K$2))","v":""},{"$f":"IF(ISBLANK('Data Input'!A491),\"\",SUM('Data Input'!O491,'Data Input'!P491,'Data Input'!R491,'Data Input'!S491))","v":""},{"$f":"IF(M487=\"\",\"\",M487/COUNTIF('Data Input'!$C$8:$AQ$8,$M$2))","v":""},{"$f":"IF(ISBLANK('Data Input'!A491),\"\",SUM('Data Input'!C491,'Data Input'!E491,'Data Input'!F491,'Data Input'!G491,'Data Input'!Q491,'Data Input'!T491))","v":""},{"$f":"IF(O487=\"\",\"\",O487/COUNTIF('Data Input'!$C$8:$AQ$8,$O$2))","v":""},{"$f":"IF(ISBLANK('Data Input'!A491),\"\",SUM('Data Input'!L491))","v":""},{"$f":"IF(Q487=\"\",\"\",Q487/COUNTIF('Data Input'!$C$8:$AQ$8,$Q$2))","v":""},{"$f":"IF(ISBLANK('Data Input'!A491),\"\",SUM('Data Input'!X491:AQ491))","v":""},{"$f":"IF(S487=\"\",\"\",S487/COUNTIF('Data Input'!$C$8:$AQ$8,$S$2))","v":""}]
[{"$f":"IF('Data Input'!A492=0,\"\",'Data Input'!A492)","v":""},{"$f":"IF(ISBLANK('Data Input'!A492),\"\",COUNTIF('Data Input'!C492:AQ492,\"\")-1)","v":""},{"$f":"IF(ISBLANK('Data Input'!A492),\"\",COUNTIF('Data Input'!C492:AQ492,\"0\"))","v":""},{"$f":"IF(ISBLANK('Data Input'!A492),\"\",SUM(B488,C488))","v":""},{"$f":"IF(ISBLANK('Data Input'!A492),\"\",SUM('Data Input'!C492:AQ492))","v":""},{"$f":"IF(E488=\"\",\"\",E488/(COUNTA('Data Input'!$C$8:$AQ$8)-1))","v":""},{"$f":"IF(ISBLANK('Data Input'!A492),\"\",SUM('Data Input'!H492,'Data Input'!I492,'Data Input'!M492,'Data Input'!N492))","v":""},{"$f":"IF(G488=\"\",\"\",G488/COUNTIF('Data Input'!$C$8:$AQ$8,$G$2))","v":""},{"$f":"IF(ISBLANK('Data Input'!A492),\"\",SUM('Data Input'!J492,'Data Input'!K492,'Data Input'!U492,'Data Input'!V492))","v":""},{"$f":"IF(I488=\"\",\"\",I488/COUNTIF('Data Input'!$C$8:$AQ$8,$I$2))","v":""},{"$f":"IF(ISBLANK('Data Input'!A492),\"\",SUM('Data Input'!D492))","v":""},{"$f":"IF(K488=\"\",\"\",K488/COUNTIF('Data Input'!$C$8:$AQ$8,$K$2))","v":""},{"$f":"IF(ISBLANK('Data Input'!A492),\"\",SUM('Data Input'!O492,'Data Input'!P492,'Data Input'!R492,'Data Input'!S492))","v":""},{"$f":"IF(M488=\"\",\"\",M488/COUNTIF('Data Input'!$C$8:$AQ$8,$M$2))","v":""},{"$f":"IF(ISBLANK('Data Input'!A492),\"\",SUM('Data Input'!C492,'Data Input'!E492,'Data Input'!F492,'Data Input'!G492,'Data Input'!Q492,'Data Input'!T492))","v":""},{"$f":"IF(O488=\"\",\"\",O488/COUNTIF('Data Input'!$C$8:$AQ$8,$O$2))","v":""},{"$f":"IF(ISBLANK('Data Input'!A492),\"\",SUM('Data Input'!L492))","v":""},{"$f":"IF(Q488=\"\",\"\",Q488/COUNTIF('Data Input'!$C$8:$AQ$8,$Q$2))","v":""},{"$f":"IF(ISBLANK('Data Input'!A492),\"\",SUM('Data Input'!X492:AQ492))","v":""},{"$f":"IF(S488=\"\",\"\",S488/COUNTIF('Data Input'!$C$8:$AQ$8,$S$2))","v":""}]
[{"$f":"IF('Data Input'!A493=0,\"\",'Data Input'!A493)","v":""},{"$f":"IF(ISBLANK('Data Input'!A493),\"\",COUNTIF('Data Input'!C493:AQ493,\"\")-1)","v":""},{"$f":"IF(ISBLANK('Data Input'!A493),\"\",COUNTIF('Data Input'!C493:AQ493,\"0\"))","v":""},{"$f":"IF(ISBLANK('Data Input'!A493),\"\",SUM(B489,C489))","v":""},{"$f":"IF(ISBLANK('Data Input'!A493),\"\",SUM('Data Input'!C493:AQ493))","v":""},{"$f":"IF(E489=\"\",\"\",E489/(COUNTA('Data Input'!$C$8:$AQ$8)-1))","v":""},{"$f":"IF(ISBLANK('Data Input'!A493),\"\",SUM('Data Input'!H493,'Data Input'!I493,'Data Input'!M493,'Data Input'!N493))","v":""},{"$f":"IF(G489=\"\",\"\",G489/COUNTIF('Data Input'!$C$8:$AQ$8,$G$2))","v":""},{"$f":"IF(ISBLANK('Data Input'!A493),\"\",SUM('Data Input'!J493,'Data Input'!K493,'Data Input'!U493,'Data Input'!V493))","v":""},{"$f":"IF(I489=\"\",\"\",I489/COUNTIF('Data Input'!$C$8:$AQ$8,$I$2))","v":""},{"$f":"IF(ISBLANK('Data Input'!A493),\"\",SUM('Data Input'!D493))","v":""},{"$f":"IF(K489=\"\",\"\",K489/COUNTIF('Data Input'!$C$8:$AQ$8,$K$2))","v":""},{"$f":"IF(ISBLANK('Data Input'!A493),\"\",SUM('Data Input'!O493,'Data Input'!P493,'Data Input'!R493,'Data Input'!S493))","v":""},{"$f":"IF(M489=\"\",\"\",M489/COUNTIF('Data Input'!$C$8:$AQ$8,$M$2))","v":""},{"$f":"IF(ISBLANK('Data Input'!A493),\"\",SUM('Data Input'!C493,'Data Input'!E493,'Data Input'!F493,'Data Input'!G493,'Data Input'!Q493,'Data Input'!T493))","v":""},{"$f":"IF(O489=\"\",\"\",O489/COUNTIF('Data Input'!$C$8:$AQ$8,$O$2))","v":""},{"$f":"IF(ISBLANK('Data Input'!A493),\"\",SUM('Data Input'!L493))","v":""},{"$f":"IF(Q489=\"\",\"\",Q489/COUNTIF('Data Input'!$C$8:$AQ$8,$Q$2))","v":""},{"$f":"IF(ISBLANK('Data Input'!A493),\"\",SUM('Data Input'!X493:AQ493))","v":""},{"$f":"IF(S489=\"\",\"\",S489/COUNTIF('Data Input'!$C$8:$AQ$8,$S$2))","v":""}]
[{"$f":"IF('Data Input'!A494=0,\"\",'Data Input'!A494)","v":""},{"$f":"IF(ISBLANK('Data Input'!A494),\"\",COUNTIF('Data Input'!C494:AQ494,\"\")-1)","v":""},{"$f":"IF(ISBLANK('Data Input'!A494),\"\",COUNTIF('Data Input'!C494:AQ494,\"0\"))","v":""},{"$f":"IF(ISBLANK('Data Input'!A494),\"\",SUM(B490,C490))","v":""},{"$f":"IF(ISBLANK('Data Input'!A494),\"\",SUM('Data Input'!C494:AQ494))","v":""},{"$f":"IF(E490=\"\",\"\",E490/(COUNTA('Data Input'!$C$8:$AQ$8)-1))","v":""},{"$f":"IF(ISBLANK('Data Input'!A494),\"\",SUM('Data Input'!H494,'Data Input'!I494,'Data Input'!M494,'Data Input'!N494))","v":""},{"$f":"IF(G490=\"\",\"\",G490/COUNTIF('Data Input'!$C$8:$AQ$8,$G$2))","v":""},{"$f":"IF(ISBLANK('Data Input'!A494),\"\",SUM('Data Input'!J494,'Data Input'!K494,'Data Input'!U494,'Data Input'!V494))","v":""},{"$f":"IF(I490=\"\",\"\",I490/COUNTIF('Data Input'!$C$8:$AQ$8,$I$2))","v":""},{"$f":"IF(ISBLANK('Data Input'!A494),\"\",SUM('Data Input'!D494))","v":""},{"$f":"IF(K490=\"\",\"\",K490/COUNTIF('Data Input'!$C$8:$AQ$8,$K$2))","v":""},{"$f":"IF(ISBLANK('Data Input'!A494),\"\",SUM('Data Input'!O494,'Data Input'!P494,'Data Input'!R494,'Data Input'!S494))","v":""},{"$f":"IF(M490=\"\",\"\",M490/COUNTIF('Data Input'!$C$8:$AQ$8,$M$2))","v":""},{"$f":"IF(ISBLANK('Data Input'!A494),\"\",SUM('Data Input'!C494,'Data Input'!E494,'Data Input'!F494,'Data Input'!G494,'Data Input'!Q494,'Data Input'!T494))","v":""},{"$f":"IF(O490=\"\",\"\",O490/COUNTIF('Data Input'!$C$8:$AQ$8,$O$2))","v":""},{"$f":"IF(ISBLANK('Data Input'!A494),\"\",SUM('Data Input'!L494))","v":""},{"$f":"IF(Q490=\"\",\"\",Q490/COUNTIF('Data Input'!$C$8:$AQ$8,$Q$2))","v":""},{"$f":"IF(ISBLANK('Data Input'!A494),\"\",SUM('Data Input'!X494:AQ494))","v":""},{"$f":"IF(S490=\"\",\"\",S490/COUNTIF('Data Input'!$C$8:$AQ$8,$S$2))","v":""}]
[{"$f":"IF('Data Input'!A495=0,\"\",'Data Input'!A495)","v":""},{"$f":"IF(ISBLANK('Data Input'!A495),\"\",COUNTIF('Data Input'!C495:AQ495,\"\")-1)","v":""},{"$f":"IF(ISBLANK('Data Input'!A495),\"\",COUNTIF('Data Input'!C495:AQ495,\"0\"))","v":""},{"$f":"IF(ISBLANK('Data Input'!A495),\"\",SUM(B491,C491))","v":""},{"$f":"IF(ISBLANK('Data Input'!A495),\"\",SUM('Data Input'!C495:AQ495))","v":""},{"$f":"IF(E491=\"\",\"\",E491/(COUNTA('Data Input'!$C$8:$AQ$8)-1))","v":""},{"$f":"IF(ISBLANK('Data Input'!A495),\"\",SUM('Data Input'!H495,'Data Input'!I495,'Data Input'!M495,'Data Input'!N495))","v":""},{"$f":"IF(G491=\"\",\"\",G491/COUNTIF('Data Input'!$C$8:$AQ$8,$G$2))","v":""},{"$f":"IF(ISBLANK('Data Input'!A495),\"\",SUM('Data Input'!J495,'Data Input'!K495,'Data Input'!U495,'Data Input'!V495))","v":""},{"$f":"IF(I491=\"\",\"\",I491/COUNTIF('Data Input'!$C$8:$AQ$8,$I$2))","v":""},{"$f":"IF(ISBLANK('Data Input'!A495),\"\",SUM('Data Input'!D495))","v":""},{"$f":"IF(K491=\"\",\"\",K491/COUNTIF('Data Input'!$C$8:$AQ$8,$K$2))","v":""},{"$f":"IF(ISBLANK('Data Input'!A495),\"\",SUM('Data Input'!O495,'Data Input'!P495,'Data Input'!R495,'Data Input'!S495))","v":""},{"$f":"IF(M491=\"\",\"\",M491/COUNTIF('Data Input'!$C$8:$AQ$8,$M$2))","v":""},{"$f":"IF(ISBLANK('Data Input'!A495),\"\",SUM('Data Input'!C495,'Data Input'!E495,'Data Input'!F495,'Data Input'!G495,'Data Input'!Q495,'Data Input'!T495))","v":""},{"$f":"IF(O491=\"\",\"\",O491/COUNTIF('Data Input'!$C$8:$AQ$8,$O$2))","v":""},{"$f":"IF(ISBLANK('Data Input'!A495),\"\",SUM('Data Input'!L495))","v":""},{"$f":"IF(Q491=\"\",\"\",Q491/COUNTIF('Data Input'!$C$8:$AQ$8,$Q$2))","v":""},{"$f":"IF(ISBLANK('Data Input'!A495),\"\",SUM('Data Input'!X495:AQ495))","v":""},{"$f":"IF(S491=\"\",\"\",S491/COUNTIF('Data Input'!$C$8:$AQ$8,$S$2))","v":""}]
[{"$f":"IF('Data Input'!A496=0,\"\",'Data Input'!A496)","v":""},{"$f":"IF(ISBLANK('Data Input'!A496),\"\",COUNTIF('Data Input'!C496:AQ496,\"\")-1)","v":""},{"$f":"IF(ISBLANK('Data Input'!A496),\"\",COUNTIF('Data Input'!C496:AQ496,\"0\"))","v":""},{"$f":"IF(ISBLANK('Data Input'!A496),\"\",SUM(B492,C492))","v":""},{"$f":"IF(ISBLANK('Data Input'!A496),\"\",SUM('Data Input'!C496:AQ496))","v":""},{"$f":"IF(E492=\"\",\"\",E492/(COUNTA('Data Input'!$C$8:$AQ$8)-1))","v":""},{"$f":"IF(ISBLANK('Data Input'!A496),\"\",SUM('Data Input'!H496,'Data Input'!I496,'Data Input'!M496,'Data Input'!N496))","v":""},{"$f":"IF(G492=\"\",\"\",G492/COUNTIF('Data Input'!$C$8:$AQ$8,$G$2))","v":""},{"$f":"IF(ISBLANK('Data Input'!A496),\"\",SUM('Data Input'!J496,'Data Input'!K496,'Data Input'!U496,'Data Input'!V496))","v":""},{"$f":"IF(I492=\"\",\"\",I492/COUNTIF('Data Input'!$C$8:$AQ$8,$I$2))","v":""},{"$f":"IF(ISBLANK('Data Input'!A496),\"\",SUM('Data Input'!D496))","v":""},{"$f":"IF(K492=\"\",\"\",K492/COUNTIF('Data Input'!$C$8:$AQ$8,$K$2))","v":""},{"$f":"IF(ISBLANK('Data Input'!A496),\"\",SUM('Data Input'!O496,'Data Input'!P496,'Data Input'!R496,'Data Input'!S496))","v":""},{"$f":"IF(M492=\"\",\"\",M492/COUNTIF('Data Input'!$C$8:$AQ$8,$M$2))","v":""},{"$f":"IF(ISBLANK('Data Input'!A496),\"\",SUM('Data Input'!C496,'Data Input'!E496,'Data Input'!F496,'Data Input'!G496,'Data Input'!Q496,'Data Input'!T496))","v":""},{"$f":"IF(O492=\"\",\"\",O492/COUNTIF('Data Input'!$C$8:$AQ$8,$O$2))","v":""},{"$f":"IF(ISBLANK('Data Input'!A496),\"\",SUM('Data Input'!L496))","v":""},{"$f":"IF(Q492=\"\",\"\",Q492/COUNTIF('Data Input'!$C$8:$AQ$8,$Q$2))","v":""},{"$f":"IF(ISBLANK('Data Input'!A496),\"\",SUM('Data Input'!X496:AQ496))","v":""},{"$f":"IF(S492=\"\",\"\",S492/COUNTIF('Data Input'!$C$8:$AQ$8,$S$2))","v":""}]
[{"$f":"IF('Data Input'!A497=0,\"\",'Data Input'!A497)","v":""},{"$f":"IF(ISBLANK('Data Input'!A497),\"\",COUNTIF('Data Input'!C497:AQ497,\"\")-1)","v":""},{"$f":"IF(ISBLANK('Data Input'!A497),\"\",COUNTIF('Data Input'!C497:AQ497,\"0\"))","v":""},{"$f":"IF(ISBLANK('Data Input'!A497),\"\",SUM(B493,C493))","v":""},{"$f":"IF(ISBLANK('Data Input'!A497),\"\",SUM('Data Input'!C497:AQ497))","v":""},{"$f":"IF(E493=\"\",\"\",E493/(COUNTA('Data Input'!$C$8:$AQ$8)-1))","v":""},{"$f":"IF(ISBLANK('Data Input'!A497),\"\",SUM('Data Input'!H497,'Data Input'!I497,'Data Input'!M497,'Data Input'!N497))","v":""},{"$f":"IF(G493=\"\",\"\",G493/COUNTIF('Data Input'!$C$8:$AQ$8,$G$2))","v":""},{"$f":"IF(ISBLANK('Data Input'!A497),\"\",SUM('Data Input'!J497,'Data Input'!K497,'Data Input'!U497,'Data Input'!V497))","v":""},{"$f":"IF(I493=\"\",\"\",I493/COUNTIF('Data Input'!$C$8:$AQ$8,$I$2))","v":""},{"$f":"IF(ISBLANK('Data Input'!A497),\"\",SUM('Data Input'!D497))","v":""},{"$f":"IF(K493=\"\",\"\",K493/COUNTIF('Data Input'!$C$8:$AQ$8,$K$2))","v":""},{"$f":"IF(ISBLANK('Data Input'!A497),\"\",SUM('Data Input'!O497,'Data Input'!P497,'Data Input'!R497,'Data Input'!S497))","v":""},{"$f":"IF(M493=\"\",\"\",M493/COUNTIF('Data Input'!$C$8:$AQ$8,$M$2))","v":""},{"$f":"IF(ISBLANK('Data Input'!A497),\"\",SUM('Data Input'!C497,'Data Input'!E497,'Data Input'!F497,'Data Input'!G497,'Data Input'!Q497,'Data Input'!T497))","v":""},{"$f":"IF(O493=\"\",\"\",O493/COUNTIF('Data Input'!$C$8:$AQ$8,$O$2))","v":""},{"$f":"IF(ISBLANK('Data Input'!A497),\"\",SUM('Data Input'!L497))","v":""},{"$f":"IF(Q493=\"\",\"\",Q493/COUNTIF('Data Input'!$C$8:$AQ$8,$Q$2))","v":""},{"$f":"IF(ISBLANK('Data Input'!A497),\"\",SUM('Data Input'!X497:AQ497))","v":""},{"$f":"IF(S493=\"\",\"\",S493/COUNTIF('Data Input'!$C$8:$AQ$8,$S$2))","v":""}]
[{"$f":"IF('Data Input'!A498=0,\"\",'Data Input'!A498)","v":""},{"$f":"IF(ISBLANK('Data Input'!A498),\"\",COUNTIF('Data Input'!C498:AQ498,\"\")-1)","v":""},{"$f":"IF(ISBLANK('Data Input'!A498),\"\",COUNTIF('Data Input'!C498:AQ498,\"0\"))","v":""},{"$f":"IF(ISBLANK('Data Input'!A498),\"\",SUM(B494,C494))","v":""},{"$f":"IF(ISBLANK('Data Input'!A498),\"\",SUM('Data Input'!C498:AQ498))","v":""},{"$f":"IF(E494=\"\",\"\",E494/(COUNTA('Data Input'!$C$8:$AQ$8)-1))","v":""},{"$f":"IF(ISBLANK('Data Input'!A498),\"\",SUM('Data Input'!H498,'Data Input'!I498,'Data Input'!M498,'Data Input'!N498))","v":""},{"$f":"IF(G494=\"\",\"\",G494/COUNTIF('Data Input'!$C$8:$AQ$8,$G$2))","v":""},{"$f":"IF(ISBLANK('Data Input'!A498),\"\",SUM('Data Input'!J498,'Data Input'!K498,'Data Input'!U498,'Data Input'!V498))","v":""},{"$f":"IF(I494=\"\",\"\",I494/COUNTIF('Data Input'!$C$8:$AQ$8,$I$2))","v":""},{"$f":"IF(ISBLANK('Data Input'!A498),\"\",SUM('Data Input'!D498))","v":""},{"$f":"IF(K494=\"\",\"\",K494/COUNTIF('Data Input'!$C$8:$AQ$8,$K$2))","v":""},{"$f":"IF(ISBLANK('Data Input'!A498),\"\",SUM('Data Input'!O498,'Data Input'!P498,'Data Input'!R498,'Data Input'!S498))","v":""},{"$f":"IF(M494=\"\",\"\",M494/COUNTIF('Data Input'!$C$8:$AQ$8,$M$2))","v":""},{"$f":"IF(ISBLANK('Data Input'!A498),\"\",SUM('Data Input'!C498,'Data Input'!E498,'Data Input'!F498,'Data Input'!G498,'Data Input'!Q498,'Data Input'!T498))","v":""},{"$f":"IF(O494=\"\",\"\",O494/COUNTIF('Data Input'!$C$8:$AQ$8,$O$2))","v":""},{"$f":"IF(ISBLANK('Data Input'!A498),\"\",SUM('Data Input'!L498))","v":""},{"$f":"IF(Q494=\"\",\"\",Q494/COUNTIF('Data Input'!$C$8:$AQ$8,$Q$2))","v":""},{"$f":"IF(ISBLANK('Data Input'!A498),\"\",SUM('Data Input'!X498:AQ498))","v":""},{"$f":"IF(S494=\"\",\"\",S494/COUNTIF('Data Input'!$C$8:$AQ$8,$S$2))","v":""}]
[{"$f":"IF('Data Input'!A499=0,\"\",'Data Input'!A499)","v":""},{"$f":"IF(ISBLANK('Data Input'!A499),\"\",COUNTIF('Data Input'!C499:AQ499,\"\")-1)","v":""},{"$f":"IF(ISBLANK('Data Input'!A499),\"\",COUNTIF('Data Input'!C499:AQ499,\"0\"))","v":""},{"$f":"IF(ISBLANK('Data Input'!A499),\"\",SUM(B495,C495))","v":""},{"$f":"IF(ISBLANK('Data Input'!A499),\"\",SUM('Data Input'!C499:AQ499))","v":""},{"$f":"IF(E495=\"\",\"\",E495/(COUNTA('Data Input'!$C$8:$AQ$8)-1))","v":""},{"$f":"IF(ISBLANK('Data Input'!A499),\"\",SUM('Data Input'!H499,'Data Input'!I499,'Data Input'!M499,'Data Input'!N499))","v":""},{"$f":"IF(G495=\"\",\"\",G495/COUNTIF('Data Input'!$C$8:$AQ$8,$G$2))","v":""},{"$f":"IF(ISBLANK('Data Input'!A499),\"\",SUM('Data Input'!J499,'Data Input'!K499,'Data Input'!U499,'Data Input'!V499))","v":""},{"$f":"IF(I495=\"\",\"\",I495/COUNTIF('Data Input'!$C$8:$AQ$8,$I$2))","v":""},{"$f":"IF(ISBLANK('Data Input'!A499),\"\",SUM('Data Input'!D499))","v":""},{"$f":"IF(K495=\"\",\"\",K495/COUNTIF('Data Input'!$C$8:$AQ$8,$K$2))","v":""},{"$f":"IF(ISBLANK('Data Input'!A499),\"\",SUM('Data Input'!O499,'Data Input'!P499,'Data Input'!R499,'Data Input'!S499))","v":""},{"$f":"IF(M495=\"\",\"\",M495/COUNTIF('Data Input'!$C$8:$AQ$8,$M$2))","v":""},{"$f":"IF(ISBLANK('Data Input'!A499),\"\",SUM('Data Input'!C499,'Data Input'!E499,'Data Input'!F499,'Data Input'!G499,'Data Input'!Q499,'Data Input'!T499))","v":""},{"$f":"IF(O495=\"\",\"\",O495/COUNTIF('Data Input'!$C$8:$AQ$8,$O$2))","v":""},{"$f":"IF(ISBLANK('Data Input'!A499),\"\",SUM('Data Input'!L499))","v":""},{"$f":"IF(Q495=\"\",\"\",Q495/COUNTIF('Data Input'!$C$8:$AQ$8,$Q$2))","v":""},{"$f":"IF(ISBLANK('Data Input'!A499),\"\",SUM('Data Input'!X499:AQ499))","v":""},{"$f":"IF(S495=\"\",\"\",S495/COUNTIF('Data Input'!$C$8:$AQ$8,$S$2))","v":""}]
[{"$f":"IF('Data Input'!A500=0,\"\",'Data Input'!A500)","v":""},{"$f":"IF(ISBLANK('Data Input'!A500),\"\",COUNTIF('Data Input'!C500:AQ500,\"\")-1)","v":""},{"$f":"IF(ISBLANK('Data Input'!A500),\"\",COUNTIF('Data Input'!C500:AQ500,\"0\"))","v":""},{"$f":"IF(ISBLANK('Data Input'!A500),\"\",SUM(B496,C496))","v":""},{"$f":"IF(ISBLANK('Data Input'!A500),\"\",SUM('Data Input'!C500:AQ500))","v":""},{"$f":"IF(E496=\"\",\"\",E496/(COUNTA('Data Input'!$C$8:$AQ$8)-1))","v":""},{"$f":"IF(ISBLANK('Data Input'!A500),\"\",SUM('Data Input'!H500,'Data Input'!I500,'Data Input'!M500,'Data Input'!N500))","v":""},{"$f":"IF(G496=\"\",\"\",G496/COUNTIF('Data Input'!$C$8:$AQ$8,$G$2))","v":""},{"$f":"IF(ISBLANK('Data Input'!A500),\"\",SUM('Data Input'!J500,'Data Input'!K500,'Data Input'!U500,'Data Input'!V500))","v":""},{"$f":"IF(I496=\"\",\"\",I496/COUNTIF('Data Input'!$C$8:$AQ$8,$I$2))","v":""},{"$f":"IF(ISBLANK('Data Input'!A500),\"\",SUM('Data Input'!D500))","v":""},{"$f":"IF(K496=\"\",\"\",K496/COUNTIF('Data Input'!$C$8:$AQ$8,$K$2))","v":""},{"$f":"IF(ISBLANK('Data Input'!A500),\"\",SUM('Data Input'!O500,'Data Input'!P500,'Data Input'!R500,'Data Input'!S500))","v":""},{"$f":"IF(M496=\"\",\"\",M496/COUNTIF('Data Input'!$C$8:$AQ$8,$M$2))","v":""},{"$f":"IF(ISBLANK('Data Input'!A500),\"\",SUM('Data Input'!C500,'Data Input'!E500,'Data Input'!F500,'Data Input'!G500,'Data Input'!Q500,'Data Input'!T500))","v":""},{"$f":"IF(O496=\"\",\"\",O496/COUNTIF('Data Input'!$C$8:$AQ$8,$O$2))","v":""},{"$f":"IF(ISBLANK('Data Input'!A500),\"\",SUM('Data Input'!L500))","v":""},{"$f":"IF(Q496=\"\",\"\",Q496/COUNTIF('Data Input'!$C$8:$AQ$8,$Q$2))","v":""},{"$f":"IF(ISBLANK('Data Input'!A500),\"\",SUM('Data Input'!X500:AQ500))","v":""},{"$f":"IF(S496=\"\",\"\",S496/COUNTIF('Data Input'!$C$8:$AQ$8,$S$2))","v":""}]
[{"$f":"IF('Data Input'!A501=0,\"\",'Data Input'!A501)","v":""},{"$f":"IF(ISBLANK('Data Input'!A501),\"\",COUNTIF('Data Input'!C501:AQ501,\"\")-1)","v":""},{"$f":"IF(ISBLANK('Data Input'!A501),\"\",COUNTIF('Data Input'!C501:AQ501,\"0\"))","v":""},{"$f":"IF(ISBLANK('Data Input'!A501),\"\",SUM(B497,C497))","v":""},{"$f":"IF(ISBLANK('Data Input'!A501),\"\",SUM('Data Input'!C501:AQ501))","v":""},{"$f":"IF(E497=\"\",\"\",E497/(COUNTA('Data Input'!$C$8:$AQ$8)-1))","v":""},{"$f":"IF(ISBLANK('Data Input'!A501),\"\",SUM('Data Input'!H501,'Data Input'!I501,'Data Input'!M501,'Data Input'!N501))","v":""},{"$f":"IF(G497=\"\",\"\",G497/COUNTIF('Data Input'!$C$8:$AQ$8,$G$2))","v":""},{"$f":"IF(ISBLANK('Data Input'!A501),\"\",SUM('Data Input'!J501,'Data Input'!K501,'Data Input'!U501,'Data Input'!V501))","v":""},{"$f":"IF(I497=\"\",\"\",I497/COUNTIF('Data Input'!$C$8:$AQ$8,$I$2))","v":""},{"$f":"IF(ISBLANK('Data Input'!A501),\"\",SUM('Data Input'!D501))","v":""},{"$f":"IF(K497=\"\",\"\",K497/COUNTIF('Data Input'!$C$8:$AQ$8,$K$2))","v":""},{"$f":"IF(ISBLANK('Data Input'!A501),\"\",SUM('Data Input'!O501,'Data Input'!P501,'Data Input'!R501,'Data Input'!S501))","v":""},{"$f":"IF(M497=\"\",\"\",M497/COUNTIF('Data Input'!$C$8:$AQ$8,$M$2))","v":""},{"$f":"IF(ISBLANK('Data Input'!A501),\"\",SUM('Data Input'!C501,'Data Input'!E501,'Data Input'!F501,'Data Input'!G501,'Data Input'!Q501,'Data Input'!T501))","v":""},{"$f":"IF(O497=\"\",\"\",O497/COUNTIF('Data Input'!$C$8:$AQ$8,$O$2))","v":""},{"$f":"IF(ISBLANK('Data Input'!A501),\"\",SUM('Data Input'!L501))","v":""},{"$f":"IF(Q497=\"\",\"\",Q497/COUNTIF('Data Input'!$C$8:$AQ$8,$Q$2))","v":""},{"$f":"IF(ISBLANK('Data Input'!A501),\"\",SUM('Data Input'!X501:AQ501))","v":""},{"$f":"IF(S497=\"\",\"\",S497/COUNTIF('Data Input'!$C$8:$AQ$8,$S$2))","v":""}]
[{"$f":"IF('Data Input'!A502=0,\"\",'Data Input'!A502)","v":""},{"$f":"IF(ISBLANK('Data Input'!A502),\"\",COUNTIF('Data Input'!C502:AQ502,\"\")-1)","v":""},{"$f":"IF(ISBLANK('Data Input'!A502),\"\",COUNTIF('Data Input'!C502:AQ502,\"0\"))","v":""},{"$f":"IF(ISBLANK('Data Input'!A502),\"\",SUM(B498,C498))","v":""},{"$f":"IF(ISBLANK('Data Input'!A502),\"\",SUM('Data Input'!C502:AQ502))","v":""},{"$f":"IF(E498=\"\",\"\",E498/(COUNTA('Data Input'!$C$8:$AQ$8)-1))","v":""},{"$f":"IF(ISBLANK('Data Input'!A502),\"\",SUM('Data Input'!H502,'Data Input'!I502,'Data Input'!M502,'Data Input'!N502))","v":""},{"$f":"IF(G498=\"\",\"\",G498/COUNTIF('Data Input'!$C$8:$AQ$8,$G$2))","v":""},{"$f":"IF(ISBLANK('Data Input'!A502),\"\",SUM('Data Input'!J502,'Data Input'!K502,'Data Input'!U502,'Data Input'!V502))","v":""},{"$f":"IF(I498=\"\",\"\",I498/COUNTIF('Data Input'!$C$8:$AQ$8,$I$2))","v":""},{"$f":"IF(ISBLANK('Data Input'!A502),\"\",SUM('Data Input'!D502))","v":""},{"$f":"IF(K498=\"\",\"\",K498/COUNTIF('Data Input'!$C$8:$AQ$8,$K$2))","v":""},{"$f":"IF(ISBLANK('Data Input'!A502),\"\",SUM('Data Input'!O502,'Data Input'!P502,'Data Input'!R502,'Data Input'!S502))","v":""},{"$f":"IF(M498=\"\",\"\",M498/COUNTIF('Data Input'!$C$8:$AQ$8,$M$2))","v":""},{"$f":"IF(ISBLANK('Data Input'!A502),\"\",SUM('Data Input'!C502,'Data Input'!E502,'Data Input'!F502,'Data Input'!G502,'Data Input'!Q502,'Data Input'!T502))","v":""},{"$f":"IF(O498=\"\",\"\",O498/COUNTIF('Data Input'!$C$8:$AQ$8,$O$2))","v":""},{"$f":"IF(ISBLANK('Data Input'!A502),\"\",SUM('Data Input'!L502))","v":""},{"$f":"IF(Q498=\"\",\"\",Q498/COUNTIF('Data Input'!$C$8:$AQ$8,$Q$2))","v":""},{"$f":"IF(ISBLANK('Data Input'!A502),\"\",SUM('Data Input'!X502:AQ502))","v":""},{"$f":"IF(S498=\"\",\"\",S498/COUNTIF('Data Input'!$C$8:$AQ$8,$S$2))","v":""}]
[{"$f":"IF('Data Input'!A503=0,\"\",'Data Input'!A503)","v":""},{"$f":"IF(ISBLANK('Data Input'!A503),\"\",COUNTIF('Data Input'!C503:AQ503,\"\")-1)","v":""},{"$f":"IF(ISBLANK('Data Input'!A503),\"\",COUNTIF('Data Input'!C503:AQ503,\"0\"))","v":""},{"$f":"IF(ISBLANK('Data Input'!A503),\"\",SUM(B499,C499))","v":""},{"$f":"IF(ISBLANK('Data Input'!A503),\"\",SUM('Data Input'!C503:AQ503))","v":""},{"$f":"IF(E499=\"\",\"\",E499/(COUNTA('Data Input'!$C$8:$AQ$8)-1))","v":""},{"$f":"IF(ISBLANK('Data Input'!A503),\"\",SUM('Data Input'!H503,'Data Input'!I503,'Data Input'!M503,'Data Input'!N503))","v":""},{"$f":"IF(G499=\"\",\"\",G499/COUNTIF('Data Input'!$C$8:$AQ$8,$G$2))","v":""},{"$f":"IF(ISBLANK('Data Input'!A503),\"\",SUM('Data Input'!J503,'Data Input'!K503,'Data Input'!U503,'Data Input'!V503))","v":""},{"$f":"IF(I499=\"\",\"\",I499/COUNTIF('Data Input'!$C$8:$AQ$8,$I$2))","v":""},{"$f":"IF(ISBLANK('Data Input'!A503),\"\",SUM('Data Input'!D503))","v":""},{"$f":"IF(K499=\"\",\"\",K499/COUNTIF('Data Input'!$C$8:$AQ$8,$K$2))","v":""},{"$f":"IF(ISBLANK('Data Input'!A503),\"\",SUM('Data Input'!O503,'Data Input'!P503,'Data Input'!R503,'Data Input'!S503))","v":""},{"$f":"IF(M499=\"\",\"\",M499/COUNTIF('Data Input'!$C$8:$AQ$8,$M$2))","v":""},{"$f":"IF(ISBLANK('Data Input'!A503),\"\",SUM('Data Input'!C503,'Data Input'!E503,'Data Input'!F503,'Data Input'!G503,'Data Input'!Q503,'Data Input'!T503))","v":""},{"$f":"IF(O499=\"\",\"\",O499/COUNTIF('Data Input'!$C$8:$AQ$8,$O$2))","v":""},{"$f":"IF(ISBLANK('Data Input'!A503),\"\",SUM('Data Input'!L503))","v":""},{"$f":"IF(Q499=\"\",\"\",Q499/COUNTIF('Data Input'!$C$8:$AQ$8,$Q$2))","v":""},{"$f":"IF(ISBLANK('Data Input'!A503),\"\",SUM('Data Input'!X503:AQ503))","v":""},{"$f":"IF(S499=\"\",\"\",S499/COUNTIF('Data Input'!$C$8:$AQ$8,$S$2))","v":""}]
[{"$f":"IF('Data Input'!A504=0,\"\",'Data Input'!A504)","v":""},{"$f":"IF(ISBLANK('Data Input'!A504),\"\",COUNTIF('Data Input'!C504:AQ504,\"\")-1)","v":""},{"$f":"IF(ISBLANK('Data Input'!A504),\"\",COUNTIF('Data Input'!C504:AQ504,\"0\"))","v":""},{"$f":"IF(ISBLANK('Data Input'!A504),\"\",SUM(B500,C500))","v":""},{"$f":"IF(ISBLANK('Data Input'!A504),\"\",SUM('Data Input'!C504:AQ504))","v":""},{"$f":"IF(E500=\"\",\"\",E500/(COUNTA('Data Input'!$C$8:$AQ$8)-1))","v":""},{"$f":"IF(ISBLANK('Data Input'!A504),\"\",SUM('Data Input'!H504,'Data Input'!I504,'Data Input'!M504,'Data Input'!N504))","v":""},{"$f":"IF(G500=\"\",\"\",G500/COUNTIF('Data Input'!$C$8:$AQ$8,$G$2))","v":""},{"$f":"IF(ISBLANK('Data Input'!A504),\"\",SUM('Data Input'!J504,'Data Input'!K504,'Data Input'!U504,'Data Input'!V504))","v":""},{"$f":"IF(I500=\"\",\"\",I500/COUNTIF('Data Input'!$C$8:$AQ$8,$I$2))","v":""},{"$f":"IF(ISBLANK('Data Input'!A504),\"\",SUM('Data Input'!D504))","v":""},{"$f":"IF(K500=\"\",\"\",K500/COUNTIF('Data Input'!$C$8:$AQ$8,$K$2))","v":""},{"$f":"IF(ISBLANK('Data Input'!A504),\"\",SUM('Data Input'!O504,'Data Input'!P504,'Data Input'!R504,'Data Input'!S504))","v":""},{"$f":"IF(M500=\"\",\"\",M500/COUNTIF('Data Input'!$C$8:$AQ$8,$M$2))","v":""},{"$f":"IF(ISBLANK('Data Input'!A504),\"\",SUM('Data Input'!C504,'Data Input'!E504,'Data Input'!F504,'Data Input'!G504,'Data Input'!Q504,'Data Input'!T504))","v":""},{"$f":"IF(O500=\"\",\"\",O500/COUNTIF('Data Input'!$C$8:$AQ$8,$O$2))","v":""},{"$f":"IF(ISBLANK('Data Input'!A504),\"\",SUM('Data Input'!L504))","v":""},{"$f":"IF(Q500=\"\",\"\",Q500/COUNTIF('Data Input'!$C$8:$AQ$8,$Q$2))","v":""},{"$f":"IF(ISBLANK('Data Input'!A504),\"\",SUM('Data Input'!X504:AQ504))","v":""},{"$f":"IF(S500=\"\",\"\",S500/COUNTIF('Data Input'!$C$8:$AQ$8,$S$2))","v":""}]
[{"$f":"IF('Data Input'!A505=0,\"\",'Data Input'!A505)","v":""},{"$f":"IF(ISBLANK('Data Input'!A505),\"\",COUNTIF('Data Input'!C505:AQ505,\"\")-1)","v":""},{"$f":"IF(ISBLANK('Data Input'!A505),\"\",COUNTIF('Data Input'!C505:AQ505,\"0\"))","v":""},{"$f":"IF(ISBLANK('Data Input'!A505),\"\",SUM(B501,C501))","v":""},{"$f":"IF(ISBLANK('Data Input'!A505),\"\",SUM('Data Input'!C505:AQ505))","v":""},{"$f":"IF(E501=\"\",\"\",E501/(COUNTA('Data Input'!$C$8:$AQ$8)-1))","v":""},{"$f":"IF(ISBLANK('Data Input'!A505),\"\",SUM('Data Input'!H505,'Data Input'!I505,'Data Input'!M505,'Data Input'!N505))","v":""},{"$f":"IF(G501=\"\",\"\",G501/COUNTIF('Data Input'!$C$8:$AQ$8,$G$2))","v":""},{"$f":"IF(ISBLANK('Data Input'!A505),\"\",SUM('Data Input'!J505,'Data Input'!K505,'Data Input'!U505,'Data Input'!V505))","v":""},{"$f":"IF(I501=\"\",\"\",I501/COUNTIF('Data Input'!$C$8:$AQ$8,$I$2))","v":""},{"$f":"IF(ISBLANK('Data Input'!A505),\"\",SUM('Data Input'!D505))","v":""},{"$f":"IF(K501=\"\",\"\",K501/COUNTIF('Data Input'!$C$8:$AQ$8,$K$2))","v":""},{"$f":"IF(ISBLANK('Data Input'!A505),\"\",SUM('Data Input'!O505,'Data Input'!P505,'Data Input'!R505,'Data Input'!S505))","v":""},{"$f":"IF(M501=\"\",\"\",M501/COUNTIF('Data Input'!$C$8:$AQ$8,$M$2))","v":""},{"$f":"IF(ISBLANK('Data Input'!A505),\"\",SUM('Data Input'!C505,'Data Input'!E505,'Data Input'!F505,'Data Input'!G505,'Data Input'!Q505,'Data Input'!T505))","v":""},{"$f":"IF(O501=\"\",\"\",O501/COUNTIF('Data Input'!$C$8:$AQ$8,$O$2))","v":""},{"$f":"IF(ISBLANK('Data Input'!A505),\"\",SUM('Data Input'!L505))","v":""},{"$f":"IF(Q501=\"\",\"\",Q501/COUNTIF('Data Input'!$C$8:$AQ$8,$Q$2))","v":""},{"$f":"IF(ISBLANK('Data Input'!A505),\"\",SUM('Data Input'!X505:AQ505))","v":""},{"$f":"IF(S501=\"\",\"\",S501/COUNTIF('Data Input'!$C$8:$AQ$8,$S$2))","v":""}]
[{"$f":"IF('Data Input'!A506=0,\"\",'Data Input'!A506)","v":""},{"$f":"IF(ISBLANK('Data Input'!A506),\"\",COUNTIF('Data Input'!C506:AQ506,\"\")-1)","v":""},{"$f":"IF(ISBLANK('Data Input'!A506),\"\",COUNTIF('Data Input'!C506:AQ506,\"0\"))","v":""},{"$f":"IF(ISBLANK('Data Input'!A506),\"\",SUM(B502,C502))","v":""},{"$f":"IF(ISBLANK('Data Input'!A506),\"\",SUM('Data Input'!C506:AQ506))","v":""},{"$f":"IF(E502=\"\",\"\",E502/(COUNTA('Data Input'!$C$8:$AQ$8)-1))","v":""},{"$f":"IF(ISBLANK('Data Input'!A506),\"\",SUM('Data Input'!H506,'Data Input'!I506,'Data Input'!M506,'Data Input'!N506))","v":""},{"$f":"IF(G502=\"\",\"\",G502/COUNTIF('Data Input'!$C$8:$AQ$8,$G$2))","v":""},{"$f":"IF(ISBLANK('Data Input'!A506),\"\",SUM('Data Input'!J506,'Data Input'!K506,'Data Input'!U506,'Data Input'!V506))","v":""},{"$f":"IF(I502=\"\",\"\",I502/COUNTIF('Data Input'!$C$8:$AQ$8,$I$2))","v":""},{"$f":"IF(ISBLANK('Data Input'!A506),\"\",SUM('Data Input'!D506))","v":""},{"$f":"IF(K502=\"\",\"\",K502/COUNTIF('Data Input'!$C$8:$AQ$8,$K$2))","v":""},{"$f":"IF(ISBLANK('Data Input'!A506),\"\",SUM('Data Input'!O506,'Data Input'!P506,'Data Input'!R506,'Data Input'!S506))","v":""},{"$f":"IF(M502=\"\",\"\",M502/COUNTIF('Data Input'!$C$8:$AQ$8,$M$2))","v":""},{"$f":"IF(ISBLANK('Data Input'!A506),\"\",SUM('Data Input'!C506,'Data Input'!E506,'Data Input'!F506,'Data Input'!G506,'Data Input'!Q506,'Data Input'!T506))","v":""},{"$f":"IF(O502=\"\",\"\",O502/COUNTIF('Data Input'!$C$8:$AQ$8,$O$2))","v":""},{"$f":"IF(ISBLANK('Data Input'!A506),\"\",SUM('Data Input'!L506))","v":""},{"$f":"IF(Q502=\"\",\"\",Q502/COUNTIF('Data Input'!$C$8:$AQ$8,$Q$2))","v":""},{"$f":"IF(ISBLANK('Data Input'!A506),\"\",SUM('Data Input'!X506:AQ506))","v":""},{"$f":"IF(S502=\"\",\"\",S502/COUNTIF('Data Input'!$C$8:$AQ$8,$S$2))","v":""}]
[{"$f":"IF('Data Input'!A507=0,\"\",'Data Input'!A507)","v":""},{"$f":"IF(ISBLANK('Data Input'!A507),\"\",COUNTIF('Data Input'!C507:AQ507,\"\")-1)","v":""},{"$f":"IF(ISBLANK('Data Input'!A507),\"\",COUNTIF('Data Input'!C507:AQ507,\"0\"))","v":""},{"$f":"IF(ISBLANK('Data Input'!A507),\"\",SUM(B503,C503))","v":""},{"$f":"IF(ISBLANK('Data Input'!A507),\"\",SUM('Data Input'!C507:AQ507))","v":""},{"$f":"IF(E503=\"\",\"\",E503/(COUNTA('Data Input'!$C$8:$AQ$8)-1))","v":""},{"$f":"IF(ISBLANK('Data Input'!A507),\"\",SUM('Data Input'!H507,'Data Input'!I507,'Data Input'!M507,'Data Input'!N507))","v":""},{"$f":"IF(G503=\"\",\"\",G503/COUNTIF('Data Input'!$C$8:$AQ$8,$G$2))","v":""},{"$f":"IF(ISBLANK('Data Input'!A507),\"\",SUM('Data Input'!J507,'Data Input'!K507,'Data Input'!U507,'Data Input'!V507))","v":""},{"$f":"IF(I503=\"\",\"\",I503/COUNTIF('Data Input'!$C$8:$AQ$8,$I$2))","v":""},{"$f":"IF(ISBLANK('Data Input'!A507),\"\",SUM('Data Input'!D507))","v":""},{"$f":"IF(K503=\"\",\"\",K503/COUNTIF('Data Input'!$C$8:$AQ$8,$K$2))","v":""},{"$f":"IF(ISBLANK('Data Input'!A507),\"\",SUM('Data Input'!O507,'Data Input'!P507,'Data Input'!R507,'Data Input'!S507))","v":""},{"$f":"IF(M503=\"\",\"\",M503/COUNTIF('Data Input'!$C$8:$AQ$8,$M$2))","v":""},{"$f":"IF(ISBLANK('Data Input'!A507),\"\",SUM('Data Input'!C507,'Data Input'!E507,'Data Input'!F507,'Data Input'!G507,'Data Input'!Q507,'Data Input'!T507))","v":""},{"$f":"IF(O503=\"\",\"\",O503/COUNTIF('Data Input'!$C$8:$AQ$8,$O$2))","v":""},{"$f":"IF(ISBLANK('Data Input'!A507),\"\",SUM('Data Input'!L507))","v":""},{"$f":"IF(Q503=\"\",\"\",Q503/COUNTIF('Data Input'!$C$8:$AQ$8,$Q$2))","v":""},{"$f":"IF(ISBLANK('Data Input'!A507),\"\",SUM('Data Input'!X507:AQ507))","v":""},{"$f":"IF(S503=\"\",\"\",S503/COUNTIF('Data Input'!$C$8:$AQ$8,$S$2))","v":""}]
[{"$f":"IF('Data Input'!A508=0,\"\",'Data Input'!A508)","v":""},{"$f":"IF(ISBLANK('Data Input'!A508),\"\",COUNTIF('Data Input'!C508:AQ508,\"\")-1)","v":""},{"$f":"IF(ISBLANK('Data Input'!A508),\"\",COUNTIF('Data Input'!C508:AQ508,\"0\"))","v":""},{"$f":"IF(ISBLANK('Data Input'!A508),\"\",SUM(B504,C504))","v":""},{"$f":"IF(ISBLANK('Data Input'!A508),\"\",SUM('Data Input'!C508:AQ508))","v":""},{"$f":"IF(E504=\"\",\"\",E504/(COUNTA('Data Input'!$C$8:$AQ$8)-1))","v":""},{"$f":"IF(ISBLANK('Data Input'!A508),\"\",SUM('Data Input'!H508,'Data Input'!I508,'Data Input'!M508,'Data Input'!N508))","v":""},{"$f":"IF(G504=\"\",\"\",G504/COUNTIF('Data Input'!$C$8:$AQ$8,$G$2))","v":""},{"$f":"IF(ISBLANK('Data Input'!A508),\"\",SUM('Data Input'!J508,'Data Input'!K508,'Data Input'!U508,'Data Input'!V508))","v":""},{"$f":"IF(I504=\"\",\"\",I504/COUNTIF('Data Input'!$C$8:$AQ$8,$I$2))","v":""},{"$f":"IF(ISBLANK('Data Input'!A508),\"\",SUM('Data Input'!D508))","v":""},{"$f":"IF(K504=\"\",\"\",K504/COUNTIF('Data Input'!$C$8:$AQ$8,$K$2))","v":""},{"$f":"IF(ISBLANK('Data Input'!A508),\"\",SUM('Data Input'!O508,'Data Input'!P508,'Data Input'!R508,'Data Input'!S508))","v":""},{"$f":"IF(M504=\"\",\"\",M504/COUNTIF('Data Input'!$C$8:$AQ$8,$M$2))","v":""},{"$f":"IF(ISBLANK('Data Input'!A508),\"\",SUM('Data Input'!C508,'Data Input'!E508,'Data Input'!F508,'Data Input'!G508,'Data Input'!Q508,'Data Input'!T508))","v":""},{"$f":"IF(O504=\"\",\"\",O504/COUNTIF('Data Input'!$C$8:$AQ$8,$O$2))","v":""},{"$f":"IF(ISBLANK('Data Input'!A508),\"\",SUM('Data Input'!L508))","v":""},{"$f":"IF(Q504=\"\",\"\",Q504/COUNTIF('Data Input'!$C$8:$AQ$8,$Q$2))","v":""},{"$f":"IF(ISBLANK('Data Input'!A508),\"\",SUM('Data Input'!X508:AQ508))","v":""},{"$f":"IF(S504=\"\",\"\",S504/COUNTIF('Data Input'!$C$8:$AQ$8,$S$2))","v":""}]
[{"$f":"IF('Data Input'!A509=0,\"\",'Data Input'!A509)","v":""},{"$f":"IF(ISBLANK('Data Input'!A509),\"\",COUNTIF('Data Input'!C509:AQ509,\"\")-1)","v":""},{"$f":"IF(ISBLANK('Data Input'!A509),\"\",COUNTIF('Data Input'!C509:AQ509,\"0\"))","v":""},{"$f":"IF(ISBLANK('Data Input'!A509),\"\",SUM(B505,C505))","v":""},{"$f":"IF(ISBLANK('Data Input'!A509),\"\",SUM('Data Input'!C509:AQ509))","v":""},{"$f":"IF(E505=\"\",\"\",E505/(COUNTA('Data Input'!$C$8:$AQ$8)-1))","v":""},{"$f":"IF(ISBLANK('Data Input'!A509),\"\",SUM('Data Input'!H509,'Data Input'!I509,'Data Input'!M509,'Data Input'!N509))","v":""},{"$f":"IF(G505=\"\",\"\",G505/COUNTIF('Data Input'!$C$8:$AQ$8,$G$2))","v":""},{"$f":"IF(ISBLANK('Data Input'!A509),\"\",SUM('Data Input'!J509,'Data Input'!K509,'Data Input'!U509,'Data Input'!V509))","v":""},{"$f":"IF(I505=\"\",\"\",I505/COUNTIF('Data Input'!$C$8:$AQ$8,$I$2))","v":""},{"$f":"IF(ISBLANK('Data Input'!A509),\"\",SUM('Data Input'!D509))","v":""},{"$f":"IF(K505=\"\",\"\",K505/COUNTIF('Data Input'!$C$8:$AQ$8,$K$2))","v":""},{"$f":"IF(ISBLANK('Data Input'!A509),\"\",SUM('Data Input'!O509,'Data Input'!P509,'Data Input'!R509,'Data Input'!S509))","v":""},{"$f":"IF(M505=\"\",\"\",M505/COUNTIF('Data Input'!$C$8:$AQ$8,$M$2))","v":""},{"$f":"IF(ISBLANK('Data Input'!A509),\"\",SUM('Data Input'!C509,'Data Input'!E509,'Data Input'!F509,'Data Input'!G509,'Data Input'!Q509,'Data Input'!T509))","v":""},{"$f":"IF(O505=\"\",\"\",O505/COUNTIF('Data Input'!$C$8:$AQ$8,$O$2))","v":""},{"$f":"IF(ISBLANK('Data Input'!A509),\"\",SUM('Data Input'!L509))","v":""},{"$f":"IF(Q505=\"\",\"\",Q505/COUNTIF('Data Input'!$C$8:$AQ$8,$Q$2))","v":""},{"$f":"IF(ISBLANK('Data Input'!A509),\"\",SUM('Data Input'!X509:AQ509))","v":""},{"$f":"IF(S505=\"\",\"\",S505/COUNTIF('Data Input'!$C$8:$AQ$8,$S$2))","v":""}]
[{"$f":"IF('Data Input'!A510=0,\"\",'Data Input'!A510)","v":""},{"$f":"IF(ISBLANK('Data Input'!A510),\"\",COUNTIF('Data Input'!C510:AQ510,\"\")-1)","v":""},{"$f":"IF(ISBLANK('Data Input'!A510),\"\",COUNTIF('Data Input'!C510:AQ510,\"0\"))","v":""},{"$f":"IF(ISBLANK('Data Input'!A510),\"\",SUM(B506,C506))","v":""},{"$f":"IF(ISBLANK('Data Input'!A510),\"\",SUM('Data Input'!C510:AQ510))","v":""},{"$f":"IF(E506=\"\",\"\",E506/(COUNTA('Data Input'!$C$8:$AQ$8)-1))","v":""},{"$f":"IF(ISBLANK('Data Input'!A510),\"\",SUM('Data Input'!H510,'Data Input'!I510,'Data Input'!M510,'Data Input'!N510))","v":""},{"$f":"IF(G506=\"\",\"\",G506/COUNTIF('Data Input'!$C$8:$AQ$8,$G$2))","v":""},{"$f":"IF(ISBLANK('Data Input'!A510),\"\",SUM('Data Input'!J510,'Data Input'!K510,'Data Input'!U510,'Data Input'!V510))","v":""},{"$f":"IF(I506=\"\",\"\",I506/COUNTIF('Data Input'!$C$8:$AQ$8,$I$2))","v":""},{"$f":"IF(ISBLANK('Data Input'!A510),\"\",SUM('Data Input'!D510))","v":""},{"$f":"IF(K506=\"\",\"\",K506/COUNTIF('Data Input'!$C$8:$AQ$8,$K$2))","v":""},{"$f":"IF(ISBLANK('Data Input'!A510),\"\",SUM('Data Input'!O510,'Data Input'!P510,'Data Input'!R510,'Data Input'!S510))","v":""},{"$f":"IF(M506=\"\",\"\",M506/COUNTIF('Data Input'!$C$8:$AQ$8,$M$2))","v":""},{"$f":"IF(ISBLANK('Data Input'!A510),\"\",SUM('Data Input'!C510,'Data Input'!E510,'Data Input'!F510,'Data Input'!G510,'Data Input'!Q510,'Data Input'!T510))","v":""},{"$f":"IF(O506=\"\",\"\",O506/COUNTIF('Data Input'!$C$8:$AQ$8,$O$2))","v":""},{"$f":"IF(ISBLANK('Data Input'!A510),\"\",SUM('Data Input'!L510))","v":""},{"$f":"IF(Q506=\"\",\"\",Q506/COUNTIF('Data Input'!$C$8:$AQ$8,$Q$2))","v":""},{"$f":"IF(ISBLANK('Data Input'!A510),\"\",SUM('Data Input'!X510:AQ510))","v":""},{"$f":"IF(S506=\"\",\"\",S506/COUNTIF('Data Input'!$C$8:$AQ$8,$S$2))","v":""}]
[{"$f":"IF('Data Input'!A511=0,\"\",'Data Input'!A511)","v":""},{"$f":"IF(ISBLANK('Data Input'!A511),\"\",COUNTIF('Data Input'!C511:AQ511,\"\")-1)","v":""},{"$f":"IF(ISBLANK('Data Input'!A511),\"\",COUNTIF('Data Input'!C511:AQ511,\"0\"))","v":""},{"$f":"IF(ISBLANK('Data Input'!A511),\"\",SUM(B507,C507))","v":""},{"$f":"IF(ISBLANK('Data Input'!A511),\"\",SUM('Data Input'!C511:AQ511))","v":""},{"$f":"IF(E507=\"\",\"\",E507/(COUNTA('Data Input'!$C$8:$AQ$8)-1))","v":""},{"$f":"IF(ISBLANK('Data Input'!A511),\"\",SUM('Data Input'!H511,'Data Input'!I511,'Data Input'!M511,'Data Input'!N511))","v":""},{"$f":"IF(G507=\"\",\"\",G507/COUNTIF('Data Input'!$C$8:$AQ$8,$G$2))","v":""},{"$f":"IF(ISBLANK('Data Input'!A511),\"\",SUM('Data Input'!J511,'Data Input'!K511,'Data Input'!U511,'Data Input'!V511))","v":""},{"$f":"IF(I507=\"\",\"\",I507/COUNTIF('Data Input'!$C$8:$AQ$8,$I$2))","v":""},{"$f":"IF(ISBLANK('Data Input'!A511),\"\",SUM('Data Input'!D511))","v":""},{"$f":"IF(K507=\"\",\"\",K507/COUNTIF('Data Input'!$C$8:$AQ$8,$K$2))","v":""},{"$f":"IF(ISBLANK('Data Input'!A511),\"\",SUM('Data Input'!O511,'Data Input'!P511,'Data Input'!R511,'Data Input'!S511))","v":""},{"$f":"IF(M507=\"\",\"\",M507/COUNTIF('Data Input'!$C$8:$AQ$8,$M$2))","v":""},{"$f":"IF(ISBLANK('Data Input'!A511),\"\",SUM('Data Input'!C511,'Data Input'!E511,'Data Input'!F511,'Data Input'!G511,'Data Input'!Q511,'Data Input'!T511))","v":""},{"$f":"IF(O507=\"\",\"\",O507/COUNTIF('Data Input'!$C$8:$AQ$8,$O$2))","v":""},{"$f":"IF(ISBLANK('Data Input'!A511),\"\",SUM('Data Input'!L511))","v":""},{"$f":"IF(Q507=\"\",\"\",Q507/COUNTIF('Data Input'!$C$8:$AQ$8,$Q$2))","v":""},{"$f":"IF(ISBLANK('Data Input'!A511),\"\",SUM('Data Input'!X511:AQ511))","v":""},{"$f":"IF(S507=\"\",\"\",S507/COUNTIF('Data Input'!$C$8:$AQ$8,$S$2))","v":""}]
[{"$f":"IF('Data Input'!A512=0,\"\",'Data Input'!A512)","v":""},{"$f":"IF(ISBLANK('Data Input'!A512),\"\",COUNTIF('Data Input'!C512:AQ512,\"\")-1)","v":""},{"$f":"IF(ISBLANK('Data Input'!A512),\"\",COUNTIF('Data Input'!C512:AQ512,\"0\"))","v":""},{"$f":"IF(ISBLANK('Data Input'!A512),\"\",SUM(B508,C508))","v":""},{"$f":"IF(ISBLANK('Data Input'!A512),\"\",SUM('Data Input'!C512:AQ512))","v":""},{"$f":"IF(E508=\"\",\"\",E508/(COUNTA('Data Input'!$C$8:$AQ$8)-1))","v":""},{"$f":"IF(ISBLANK('Data Input'!A512),\"\",SUM('Data Input'!H512,'Data Input'!I512,'Data Input'!M512,'Data Input'!N512))","v":""},{"$f":"IF(G508=\"\",\"\",G508/COUNTIF('Data Input'!$C$8:$AQ$8,$G$2))","v":""},{"$f":"IF(ISBLANK('Data Input'!A512),\"\",SUM('Data Input'!J512,'Data Input'!K512,'Data Input'!U512,'Data Input'!V512))","v":""},{"$f":"IF(I508=\"\",\"\",I508/COUNTIF('Data Input'!$C$8:$AQ$8,$I$2))","v":""},{"$f":"IF(ISBLANK('Data Input'!A512),\"\",SUM('Data Input'!D512))","v":""},{"$f":"IF(K508=\"\",\"\",K508/COUNTIF('Data Input'!$C$8:$AQ$8,$K$2))","v":""},{"$f":"IF(ISBLANK('Data Input'!A512),\"\",SUM('Data Input'!O512,'Data Input'!P512,'Data Input'!R512,'Data Input'!S512))","v":""},{"$f":"IF(M508=\"\",\"\",M508/COUNTIF('Data Input'!$C$8:$AQ$8,$M$2))","v":""},{"$f":"IF(ISBLANK('Data Input'!A512),\"\",SUM('Data Input'!C512,'Data Input'!E512,'Data Input'!F512,'Data Input'!G512,'Data Input'!Q512,'Data Input'!T512))","v":""},{"$f":"IF(O508=\"\",\"\",O508/COUNTIF('Data Input'!$C$8:$AQ$8,$O$2))","v":""},{"$f":"IF(ISBLANK('Data Input'!A512),\"\",SUM('Data Input'!L512))","v":""},{"$f":"IF(Q508=\"\",\"\",Q508/COUNTIF('Data Input'!$C$8:$AQ$8,$Q$2))","v":""},{"$f":"IF(ISBLANK('Data Input'!A512),\"\",SUM('Data Input'!X512:AQ512))","v":""},{"$f":"IF(S508=\"\",\"\",S508/COUNTIF('Data Input'!$C$8:$AQ$8,$S$2))","v":""}]
[{"$f":"IF('Data Input'!A513=0,\"\",'Data Input'!A513)","v":""},{"$f":"IF(ISBLANK('Data Input'!A513),\"\",COUNTIF('Data Input'!C513:AQ513,\"\")-1)","v":""},{"$f":"IF(ISBLANK('Data Input'!A513),\"\",COUNTIF('Data Input'!C513:AQ513,\"0\"))","v":""},{"$f":"IF(ISBLANK('Data Input'!A513),\"\",SUM(B509,C509))","v":""},{"$f":"IF(ISBLANK('Data Input'!A513),\"\",SUM('Data Input'!C513:AQ513))","v":""},{"$f":"IF(E509=\"\",\"\",E509/(COUNTA('Data Input'!$C$8:$AQ$8)-1))","v":""},{"$f":"IF(ISBLANK('Data Input'!A513),\"\",SUM('Data Input'!H513,'Data Input'!I513,'Data Input'!M513,'Data Input'!N513))","v":""},{"$f":"IF(G509=\"\",\"\",G509/COUNTIF('Data Input'!$C$8:$AQ$8,$G$2))","v":""},{"$f":"IF(ISBLANK('Data Input'!A513),\"\",SUM('Data Input'!J513,'Data Input'!K513,'Data Input'!U513,'Data Input'!V513))","v":""},{"$f":"IF(I509=\"\",\"\",I509/COUNTIF('Data Input'!$C$8:$AQ$8,$I$2))","v":""},{"$f":"IF(ISBLANK('Data Input'!A513),\"\",SUM('Data Input'!D513))","v":""},{"$f":"IF(K509=\"\",\"\",K509/COUNTIF('Data Input'!$C$8:$AQ$8,$K$2))","v":""},{"$f":"IF(ISBLANK('Data Input'!A513),\"\",SUM('Data Input'!O513,'Data Input'!P513,'Data Input'!R513,'Data Input'!S513))","v":""},{"$f":"IF(M509=\"\",\"\",M509/COUNTIF('Data Input'!$C$8:$AQ$8,$M$2))","v":""},{"$f":"IF(ISBLANK('Data Input'!A513),\"\",SUM('Data Input'!C513,'Data Input'!E513,'Data Input'!F513,'Data Input'!G513,'Data Input'!Q513,'Data Input'!T513))","v":""},{"$f":"IF(O509=\"\",\"\",O509/COUNTIF('Data Input'!$C$8:$AQ$8,$O$2))","v":""},{"$f":"IF(ISBLANK('Data Input'!A513),\"\",SUM('Data Input'!L513))","v":""},{"$f":"IF(Q509=\"\",\"\",Q509/COUNTIF('Data Input'!$C$8:$AQ$8,$Q$2))","v":""},{"$f":"IF(ISBLANK('Data Input'!A513),\"\",SUM('Data Input'!X513:AQ513))","v":""},{"$f":"IF(S509=\"\",\"\",S509/COUNTIF('Data Input'!$C$8:$AQ$8,$S$2))","v":""}]
[{"$f":"IF('Data Input'!A514=0,\"\",'Data Input'!A514)","v":""},{"$f":"IF(ISBLANK('Data Input'!A514),\"\",COUNTIF('Data Input'!C514:AQ514,\"\")-1)","v":""},{"$f":"IF(ISBLANK('Data Input'!A514),\"\",COUNTIF('Data Input'!C514:AQ514,\"0\"))","v":""},{"$f":"IF(ISBLANK('Data Input'!A514),\"\",SUM(B510,C510))","v":""},{"$f":"IF(ISBLANK('Data Input'!A514),\"\",SUM('Data Input'!C514:AQ514))","v":""},{"$f":"IF(E510=\"\",\"\",E510/(COUNTA('Data Input'!$C$8:$AQ$8)-1))","v":""},{"$f":"IF(ISBLANK('Data Input'!A514),\"\",SUM('Data Input'!H514,'Data Input'!I514,'Data Input'!M514,'Data Input'!N514))","v":""},{"$f":"IF(G510=\"\",\"\",G510/COUNTIF('Data Input'!$C$8:$AQ$8,$G$2))","v":""},{"$f":"IF(ISBLANK('Data Input'!A514),\"\",SUM('Data Input'!J514,'Data Input'!K514,'Data Input'!U514,'Data Input'!V514))","v":""},{"$f":"IF(I510=\"\",\"\",I510/COUNTIF('Data Input'!$C$8:$AQ$8,$I$2))","v":""},{"$f":"IF(ISBLANK('Data Input'!A514),\"\",SUM('Data Input'!D514))","v":""},{"$f":"IF(K510=\"\",\"\",K510/COUNTIF('Data Input'!$C$8:$AQ$8,$K$2))","v":""},{"$f":"IF(ISBLANK('Data Input'!A514),\"\",SUM('Data Input'!O514,'Data Input'!P514,'Data Input'!R514,'Data Input'!S514))","v":""},{"$f":"IF(M510=\"\",\"\",M510/COUNTIF('Data Input'!$C$8:$AQ$8,$M$2))","v":""},{"$f":"IF(ISBLANK('Data Input'!A514),\"\",SUM('Data Input'!C514,'Data Input'!E514,'Data Input'!F514,'Data Input'!G514,'Data Input'!Q514,'Data Input'!T514))","v":""},{"$f":"IF(O510=\"\",\"\",O510/COUNTIF('Data Input'!$C$8:$AQ$8,$O$2))","v":""},{"$f":"IF(ISBLANK('Data Input'!A514),\"\",SUM('Data Input'!L514))","v":""},{"$f":"IF(Q510=\"\",\"\",Q510/COUNTIF('Data Input'!$C$8:$AQ$8,$Q$2))","v":""},{"$f":"IF(ISBLANK('Data Input'!A514),\"\",SUM('Data Input'!X514:AQ514))","v":""},{"$f":"IF(S510=\"\",\"\",S510/COUNTIF('Data Input'!$C$8:$AQ$8,$S$2))","v":""}]
[{"$f":"IF('Data Input'!A515=0,\"\",'Data Input'!A515)","v":""},{"$f":"IF(ISBLANK('Data Input'!A515),\"\",COUNTIF('Data Input'!C515:AQ515,\"\")-1)","v":""},{"$f":"IF(ISBLANK('Data Input'!A515),\"\",COUNTIF('Data Input'!C515:AQ515,\"0\"))","v":""},{"$f":"IF(ISBLANK('Data Input'!A515),\"\",SUM(B511,C511))","v":""},{"$f":"IF(ISBLANK('Data Input'!A515),\"\",SUM('Data Input'!C515:AQ515))","v":""},{"$f":"IF(E511=\"\",\"\",E511/(COUNTA('Data Input'!$C$8:$AQ$8)-1))","v":""},{"$f":"IF(ISBLANK('Data Input'!A515),\"\",SUM('Data Input'!H515,'Data Input'!I515,'Data Input'!M515,'Data Input'!N515))","v":""},{"$f":"IF(G511=\"\",\"\",G511/COUNTIF('Data Input'!$C$8:$AQ$8,$G$2))","v":""},{"$f":"IF(ISBLANK('Data Input'!A515),\"\",SUM('Data Input'!J515,'Data Input'!K515,'Data Input'!U515,'Data Input'!V515))","v":""},{"$f":"IF(I511=\"\",\"\",I511/COUNTIF('Data Input'!$C$8:$AQ$8,$I$2))","v":""},{"$f":"IF(ISBLANK('Data Input'!A515),\"\",SUM('Data Input'!D515))","v":""},{"$f":"IF(K511=\"\",\"\",K511/COUNTIF('Data Input'!$C$8:$AQ$8,$K$2))","v":""},{"$f":"IF(ISBLANK('Data Input'!A515),\"\",SUM('Data Input'!O515,'Data Input'!P515,'Data Input'!R515,'Data Input'!S515))","v":""},{"$f":"IF(M511=\"\",\"\",M511/COUNTIF('Data Input'!$C$8:$AQ$8,$M$2))","v":""},{"$f":"IF(ISBLANK('Data Input'!A515),\"\",SUM('Data Input'!C515,'Data Input'!E515,'Data Input'!F515,'Data Input'!G515,'Data Input'!Q515,'Data Input'!T515))","v":""},{"$f":"IF(O511=\"\",\"\",O511/COUNTIF('Data Input'!$C$8:$AQ$8,$O$2))","v":""},{"$f":"IF(ISBLANK('Data Input'!A515),\"\",SUM('Data Input'!L515))","v":""},{"$f":"IF(Q511=\"\",\"\",Q511/COUNTIF('Data Input'!$C$8:$AQ$8,$Q$2))","v":""},{"$f":"IF(ISBLANK('Data Input'!A515),\"\",SUM('Data Input'!X515:AQ515))","v":""},{"$f":"IF(S511=\"\",\"\",S511/COUNTIF('Data Input'!$C$8:$AQ$8,$S$2))","v":""}]
[{"$f":"IF('Data Input'!A516=0,\"\",'Data Input'!A516)","v":""},{"$f":"IF(ISBLANK('Data Input'!A516),\"\",COUNTIF('Data Input'!C516:AQ516,\"\")-1)","v":""},{"$f":"IF(ISBLANK('Data Input'!A516),\"\",COUNTIF('Data Input'!C516:AQ516,\"0\"))","v":""},{"$f":"IF(ISBLANK('Data Input'!A516),\"\",SUM(B512,C512))","v":""},{"$f":"IF(ISBLANK('Data Input'!A516),\"\",SUM('Data Input'!C516:AQ516))","v":""},{"$f":"IF(E512=\"\",\"\",E512/(COUNTA('Data Input'!$C$8:$AQ$8)-1))","v":""},{"$f":"IF(ISBLANK('Data Input'!A516),\"\",SUM('Data Input'!H516,'Data Input'!I516,'Data Input'!M516,'Data Input'!N516))","v":""},{"$f":"IF(G512=\"\",\"\",G512/COUNTIF('Data Input'!$C$8:$AQ$8,$G$2))","v":""},{"$f":"IF(ISBLANK('Data Input'!A516),\"\",SUM('Data Input'!J516,'Data Input'!K516,'Data Input'!U516,'Data Input'!V516))","v":""},{"$f":"IF(I512=\"\",\"\",I512/COUNTIF('Data Input'!$C$8:$AQ$8,$I$2))","v":""},{"$f":"IF(ISBLANK('Data Input'!A516),\"\",SUM('Data Input'!D516))","v":""},{"$f":"IF(K512=\"\",\"\",K512/COUNTIF('Data Input'!$C$8:$AQ$8,$K$2))","v":""},{"$f":"IF(ISBLANK('Data Input'!A516),\"\",SUM('Data Input'!O516,'Data Input'!P516,'Data Input'!R516,'Data Input'!S516))","v":""},{"$f":"IF(M512=\"\",\"\",M512/COUNTIF('Data Input'!$C$8:$AQ$8,$M$2))","v":""},{"$f":"IF(ISBLANK('Data Input'!A516),\"\",SUM('Data Input'!C516,'Data Input'!E516,'Data Input'!F516,'Data Input'!G516,'Data Input'!Q516,'Data Input'!T516))","v":""},{"$f":"IF(O512=\"\",\"\",O512/COUNTIF('Data Input'!$C$8:$AQ$8,$O$2))","v":""},{"$f":"IF(ISBLANK('Data Input'!A516),\"\",SUM('Data Input'!L516))","v":""},{"$f":"IF(Q512=\"\",\"\",Q512/COUNTIF('Data Input'!$C$8:$AQ$8,$Q$2))","v":""},{"$f":"IF(ISBLANK('Data Input'!A516),\"\",SUM('Data Input'!X516:AQ516))","v":""},{"$f":"IF(S512=\"\",\"\",S512/COUNTIF('Data Input'!$C$8:$AQ$8,$S$2))","v":""}]
[{"$f":"IF('Data Input'!A517=0,\"\",'Data Input'!A517)","v":""},{"$f":"IF(ISBLANK('Data Input'!A517),\"\",COUNTIF('Data Input'!C517:AQ517,\"\")-1)","v":""},{"$f":"IF(ISBLANK('Data Input'!A517),\"\",COUNTIF('Data Input'!C517:AQ517,\"0\"))","v":""},{"$f":"IF(ISBLANK('Data Input'!A517),\"\",SUM(B513,C513))","v":""},{"$f":"IF(ISBLANK('Data Input'!A517),\"\",SUM('Data Input'!C517:AQ517))","v":""},{"$f":"IF(E513=\"\",\"\",E513/(COUNTA('Data Input'!$C$8:$AQ$8)-1))","v":""},{"$f":"IF(ISBLANK('Data Input'!A517),\"\",SUM('Data Input'!H517,'Data Input'!I517,'Data Input'!M517,'Data Input'!N517))","v":""},{"$f":"IF(G513=\"\",\"\",G513/COUNTIF('Data Input'!$C$8:$AQ$8,$G$2))","v":""},{"$f":"IF(ISBLANK('Data Input'!A517),\"\",SUM('Data Input'!J517,'Data Input'!K517,'Data Input'!U517,'Data Input'!V517))","v":""},{"$f":"IF(I513=\"\",\"\",I513/COUNTIF('Data Input'!$C$8:$AQ$8,$I$2))","v":""},{"$f":"IF(ISBLANK('Data Input'!A517),\"\",SUM('Data Input'!D517))","v":""},{"$f":"IF(K513=\"\",\"\",K513/COUNTIF('Data Input'!$C$8:$AQ$8,$K$2))","v":""},{"$f":"IF(ISBLANK('Data Input'!A517),\"\",SUM('Data Input'!O517,'Data Input'!P517,'Data Input'!R517,'Data Input'!S517))","v":""},{"$f":"IF(M513=\"\",\"\",M513/COUNTIF('Data Input'!$C$8:$AQ$8,$M$2))","v":""},{"$f":"IF(ISBLANK('Data Input'!A517),\"\",SUM('Data Input'!C517,'Data Input'!E517,'Data Input'!F517,'Data Input'!G517,'Data Input'!Q517,'Data Input'!T517))","v":""},{"$f":"IF(O513=\"\",\"\",O513/COUNTIF('Data Input'!$C$8:$AQ$8,$O$2))","v":""},{"$f":"IF(ISBLANK('Data Input'!A517),\"\",SUM('Data Input'!L517))","v":""},{"$f":"IF(Q513=\"\",\"\",Q513/COUNTIF('Data Input'!$C$8:$AQ$8,$Q$2))","v":""},{"$f":"IF(ISBLANK('Data Input'!A517),\"\",SUM('Data Input'!X517:AQ517))","v":""},{"$f":"IF(S513=\"\",\"\",S513/COUNTIF('Data Input'!$C$8:$AQ$8,$S$2))","v":""}]
[{"$f":"IF('Data Input'!A518=0,\"\",'Data Input'!A518)","v":""},{"$f":"IF(ISBLANK('Data Input'!A518),\"\",COUNTIF('Data Input'!C518:AQ518,\"\")-1)","v":""},{"$f":"IF(ISBLANK('Data Input'!A518),\"\",COUNTIF('Data Input'!C518:AQ518,\"0\"))","v":""},{"$f":"IF(ISBLANK('Data Input'!A518),\"\",SUM(B514,C514))","v":""},{"$f":"IF(ISBLANK('Data Input'!A518),\"\",SUM('Data Input'!C518:AQ518))","v":""},{"$f":"IF(E514=\"\",\"\",E514/(COUNTA('Data Input'!$C$8:$AQ$8)-1))","v":""},{"$f":"IF(ISBLANK('Data Input'!A518),\"\",SUM('Data Input'!H518,'Data Input'!I518,'Data Input'!M518,'Data Input'!N518))","v":""},{"$f":"IF(G514=\"\",\"\",G514/COUNTIF('Data Input'!$C$8:$AQ$8,$G$2))","v":""},{"$f":"IF(ISBLANK('Data Input'!A518),\"\",SUM('Data Input'!J518,'Data Input'!K518,'Data Input'!U518,'Data Input'!V518))","v":""},{"$f":"IF(I514=\"\",\"\",I514/COUNTIF('Data Input'!$C$8:$AQ$8,$I$2))","v":""},{"$f":"IF(ISBLANK('Data Input'!A518),\"\",SUM('Data Input'!D518))","v":""},{"$f":"IF(K514=\"\",\"\",K514/COUNTIF('Data Input'!$C$8:$AQ$8,$K$2))","v":""},{"$f":"IF(ISBLANK('Data Input'!A518),\"\",SUM('Data Input'!O518,'Data Input'!P518,'Data Input'!R518,'Data Input'!S518))","v":""},{"$f":"IF(M514=\"\",\"\",M514/COUNTIF('Data Input'!$C$8:$AQ$8,$M$2))","v":""},{"$f":"IF(ISBLANK('Data Input'!A518),\"\",SUM('Data Input'!C518,'Data Input'!E518,'Data Input'!F518,'Data Input'!G518,'Data Input'!Q518,'Data Input'!T518))","v":""},{"$f":"IF(O514=\"\",\"\",O514/COUNTIF('Data Input'!$C$8:$AQ$8,$O$2))","v":""},{"$f":"IF(ISBLANK('Data Input'!A518),\"\",SUM('Data Input'!L518))","v":""},{"$f":"IF(Q514=\"\",\"\",Q514/COUNTIF('Data Input'!$C$8:$AQ$8,$Q$2))","v":""},{"$f":"IF(ISBLANK('Data Input'!A518),\"\",SUM('Data Input'!X518:AQ518))","v":""},{"$f":"IF(S514=\"\",\"\",S514/COUNTIF('Data Input'!$C$8:$AQ$8,$S$2))","v":""}]
[{"$f":"IF('Data Input'!A519=0,\"\",'Data Input'!A519)","v":""},{"$f":"IF(ISBLANK('Data Input'!A519),\"\",COUNTIF('Data Input'!C519:AQ519,\"\")-1)","v":""},{"$f":"IF(ISBLANK('Data Input'!A519),\"\",COUNTIF('Data Input'!C519:AQ519,\"0\"))","v":""},{"$f":"IF(ISBLANK('Data Input'!A519),\"\",SUM(B515,C515))","v":""},{"$f":"IF(ISBLANK('Data Input'!A519),\"\",SUM('Data Input'!C519:AQ519))","v":""},{"$f":"IF(E515=\"\",\"\",E515/(COUNTA('Data Input'!$C$8:$AQ$8)-1))","v":""},{"$f":"IF(ISBLANK('Data Input'!A519),\"\",SUM('Data Input'!H519,'Data Input'!I519,'Data Input'!M519,'Data Input'!N519))","v":""},{"$f":"IF(G515=\"\",\"\",G515/COUNTIF('Data Input'!$C$8:$AQ$8,$G$2))","v":""},{"$f":"IF(ISBLANK('Data Input'!A519),\"\",SUM('Data Input'!J519,'Data Input'!K519,'Data Input'!U519,'Data Input'!V519))","v":""},{"$f":"IF(I515=\"\",\"\",I515/COUNTIF('Data Input'!$C$8:$AQ$8,$I$2))","v":""},{"$f":"IF(ISBLANK('Data Input'!A519),\"\",SUM('Data Input'!D519))","v":""},{"$f":"IF(K515=\"\",\"\",K515/COUNTIF('Data Input'!$C$8:$AQ$8,$K$2))","v":""},{"$f":"IF(ISBLANK('Data Input'!A519),\"\",SUM('Data Input'!O519,'Data Input'!P519,'Data Input'!R519,'Data Input'!S519))","v":""},{"$f":"IF(M515=\"\",\"\",M515/COUNTIF('Data Input'!$C$8:$AQ$8,$M$2))","v":""},{"$f":"IF(ISBLANK('Data Input'!A519),\"\",SUM('Data Input'!C519,'Data Input'!E519,'Data Input'!F519,'Data Input'!G519,'Data Input'!Q519,'Data Input'!T519))","v":""},{"$f":"IF(O515=\"\",\"\",O515/COUNTIF('Data Input'!$C$8:$AQ$8,$O$2))","v":""},{"$f":"IF(ISBLANK('Data Input'!A519),\"\",SUM('Data Input'!L519))","v":""},{"$f":"IF(Q515=\"\",\"\",Q515/COUNTIF('Data Input'!$C$8:$AQ$8,$Q$2))","v":""},{"$f":"IF(ISBLANK('Data Input'!A519),\"\",SUM('Data Input'!X519:AQ519))","v":""},{"$f":"IF(S515=\"\",\"\",S515/COUNTIF('Data Input'!$C$8:$AQ$8,$S$2))","v":""}]
[{"$f":"IF('Data Input'!A520=0,\"\",'Data Input'!A520)","v":""},{"$f":"IF(ISBLANK('Data Input'!A520),\"\",COUNTIF('Data Input'!C520:AQ520,\"\")-1)","v":""},{"$f":"IF(ISBLANK('Data Input'!A520),\"\",COUNTIF('Data Input'!C520:AQ520,\"0\"))","v":""},{"$f":"IF(ISBLANK('Data Input'!A520),\"\",SUM(B516,C516))","v":""},{"$f":"IF(ISBLANK('Data Input'!A520),\"\",SUM('Data Input'!C520:AQ520))","v":""},{"$f":"IF(E516=\"\",\"\",E516/(COUNTA('Data Input'!$C$8:$AQ$8)-1))","v":""},{"$f":"IF(ISBLANK('Data Input'!A520),\"\",SUM('Data Input'!H520,'Data Input'!I520,'Data Input'!M520,'Data Input'!N520))","v":""},{"$f":"IF(G516=\"\",\"\",G516/COUNTIF('Data Input'!$C$8:$AQ$8,$G$2))","v":""},{"$f":"IF(ISBLANK('Data Input'!A520),\"\",SUM('Data Input'!J520,'Data Input'!K520,'Data Input'!U520,'Data Input'!V520))","v":""},{"$f":"IF(I516=\"\",\"\",I516/COUNTIF('Data Input'!$C$8:$AQ$8,$I$2))","v":""},{"$f":"IF(ISBLANK('Data Input'!A520),\"\",SUM('Data Input'!D520))","v":""},{"$f":"IF(K516=\"\",\"\",K516/COUNTIF('Data Input'!$C$8:$AQ$8,$K$2))","v":""},{"$f":"IF(ISBLANK('Data Input'!A520),\"\",SUM('Data Input'!O520,'Data Input'!P520,'Data Input'!R520,'Data Input'!S520))","v":""},{"$f":"IF(M516=\"\",\"\",M516/COUNTIF('Data Input'!$C$8:$AQ$8,$M$2))","v":""},{"$f":"IF(ISBLANK('Data Input'!A520),\"\",SUM('Data Input'!C520,'Data Input'!E520,'Data Input'!F520,'Data Input'!G520,'Data Input'!Q520,'Data Input'!T520))","v":""},{"$f":"IF(O516=\"\",\"\",O516/COUNTIF('Data Input'!$C$8:$AQ$8,$O$2))","v":""},{"$f":"IF(ISBLANK('Data Input'!A520),\"\",SUM('Data Input'!L520))","v":""},{"$f":"IF(Q516=\"\",\"\",Q516/COUNTIF('Data Input'!$C$8:$AQ$8,$Q$2))","v":""},{"$f":"IF(ISBLANK('Data Input'!A520),\"\",SUM('Data Input'!X520:AQ520))","v":""},{"$f":"IF(S516=\"\",\"\",S516/COUNTIF('Data Input'!$C$8:$AQ$8,$S$2))","v":""}]
[{"$f":"IF('Data Input'!A521=0,\"\",'Data Input'!A521)","v":""},{"$f":"IF(ISBLANK('Data Input'!A521),\"\",COUNTIF('Data Input'!C521:AQ521,\"\")-1)","v":""},{"$f":"IF(ISBLANK('Data Input'!A521),\"\",COUNTIF('Data Input'!C521:AQ521,\"0\"))","v":""},{"$f":"IF(ISBLANK('Data Input'!A521),\"\",SUM(B517,C517))","v":""},{"$f":"IF(ISBLANK('Data Input'!A521),\"\",SUM('Data Input'!C521:AQ521))","v":""},{"$f":"IF(E517=\"\",\"\",E517/(COUNTA('Data Input'!$C$8:$AQ$8)-1))","v":""},{"$f":"IF(ISBLANK('Data Input'!A521),\"\",SUM('Data Input'!H521,'Data Input'!I521,'Data Input'!M521,'Data Input'!N521))","v":""},{"$f":"IF(G517=\"\",\"\",G517/COUNTIF('Data Input'!$C$8:$AQ$8,$G$2))","v":""},{"$f":"IF(ISBLANK('Data Input'!A521),\"\",SUM('Data Input'!J521,'Data Input'!K521,'Data Input'!U521,'Data Input'!V521))","v":""},{"$f":"IF(I517=\"\",\"\",I517/COUNTIF('Data Input'!$C$8:$AQ$8,$I$2))","v":""},{"$f":"IF(ISBLANK('Data Input'!A521),\"\",SUM('Data Input'!D521))","v":""},{"$f":"IF(K517=\"\",\"\",K517/COUNTIF('Data Input'!$C$8:$AQ$8,$K$2))","v":""},{"$f":"IF(ISBLANK('Data Input'!A521),\"\",SUM('Data Input'!O521,'Data Input'!P521,'Data Input'!R521,'Data Input'!S521))","v":""},{"$f":"IF(M517=\"\",\"\",M517/COUNTIF('Data Input'!$C$8:$AQ$8,$M$2))","v":""},{"$f":"IF(ISBLANK('Data Input'!A521),\"\",SUM('Data Input'!C521,'Data Input'!E521,'Data Input'!F521,'Data Input'!G521,'Data Input'!Q521,'Data Input'!T521))","v":""},{"$f":"IF(O517=\"\",\"\",O517/COUNTIF('Data Input'!$C$8:$AQ$8,$O$2))","v":""},{"$f":"IF(ISBLANK('Data Input'!A521),\"\",SUM('Data Input'!L521))","v":""},{"$f":"IF(Q517=\"\",\"\",Q517/COUNTIF('Data Input'!$C$8:$AQ$8,$Q$2))","v":""},{"$f":"IF(ISBLANK('Data Input'!A521),\"\",SUM('Data Input'!X521:AQ521))","v":""},{"$f":"IF(S517=\"\",\"\",S517/COUNTIF('Data Input'!$C$8:$AQ$8,$S$2))","v":""}]
[{"$f":"IF('Data Input'!A522=0,\"\",'Data Input'!A522)","v":""},{"$f":"IF(ISBLANK('Data Input'!A522),\"\",COUNTIF('Data Input'!C522:AQ522,\"\")-1)","v":""},{"$f":"IF(ISBLANK('Data Input'!A522),\"\",COUNTIF('Data Input'!C522:AQ522,\"0\"))","v":""},{"$f":"IF(ISBLANK('Data Input'!A522),\"\",SUM(B518,C518))","v":""},{"$f":"IF(ISBLANK('Data Input'!A522),\"\",SUM('Data Input'!C522:AQ522))","v":""},{"$f":"IF(E518=\"\",\"\",E518/(COUNTA('Data Input'!$C$8:$AQ$8)-1))","v":""},{"$f":"IF(ISBLANK('Data Input'!A522),\"\",SUM('Data Input'!H522,'Data Input'!I522,'Data Input'!M522,'Data Input'!N522))","v":""},{"$f":"IF(G518=\"\",\"\",G518/COUNTIF('Data Input'!$C$8:$AQ$8,$G$2))","v":""},{"$f":"IF(ISBLANK('Data Input'!A522),\"\",SUM('Data Input'!J522,'Data Input'!K522,'Data Input'!U522,'Data Input'!V522))","v":""},{"$f":"IF(I518=\"\",\"\",I518/COUNTIF('Data Input'!$C$8:$AQ$8,$I$2))","v":""},{"$f":"IF(ISBLANK('Data Input'!A522),\"\",SUM('Data Input'!D522))","v":""},{"$f":"IF(K518=\"\",\"\",K518/COUNTIF('Data Input'!$C$8:$AQ$8,$K$2))","v":""},{"$f":"IF(ISBLANK('Data Input'!A522),\"\",SUM('Data Input'!O522,'Data Input'!P522,'Data Input'!R522,'Data Input'!S522))","v":""},{"$f":"IF(M518=\"\",\"\",M518/COUNTIF('Data Input'!$C$8:$AQ$8,$M$2))","v":""},{"$f":"IF(ISBLANK('Data Input'!A522),\"\",SUM('Data Input'!C522,'Data Input'!E522,'Data Input'!F522,'Data Input'!G522,'Data Input'!Q522,'Data Input'!T522))","v":""},{"$f":"IF(O518=\"\",\"\",O518/COUNTIF('Data Input'!$C$8:$AQ$8,$O$2))","v":""},{"$f":"IF(ISBLANK('Data Input'!A522),\"\",SUM('Data Input'!L522))","v":""},{"$f":"IF(Q518=\"\",\"\",Q518/COUNTIF('Data Input'!$C$8:$AQ$8,$Q$2))","v":""},{"$f":"IF(ISBLANK('Data Input'!A522),\"\",SUM('Data Input'!X522:AQ522))","v":""},{"$f":"IF(S518=\"\",\"\",S518/COUNTIF('Data Input'!$C$8:$AQ$8,$S$2))","v":""}]
[{"$f":"IF('Data Input'!A523=0,\"\",'Data Input'!A523)","v":""},{"$f":"IF(ISBLANK('Data Input'!A523),\"\",COUNTIF('Data Input'!C523:AQ523,\"\")-1)","v":""},{"$f":"IF(ISBLANK('Data Input'!A523),\"\",COUNTIF('Data Input'!C523:AQ523,\"0\"))","v":""},{"$f":"IF(ISBLANK('Data Input'!A523),\"\",SUM(B519,C519))","v":""},{"$f":"IF(ISBLANK('Data Input'!A523),\"\",SUM('Data Input'!C523:AQ523))","v":""},{"$f":"IF(E519=\"\",\"\",E519/(COUNTA('Data Input'!$C$8:$AQ$8)-1))","v":""},{"$f":"IF(ISBLANK('Data Input'!A523),\"\",SUM('Data Input'!H523,'Data Input'!I523,'Data Input'!M523,'Data Input'!N523))","v":""},{"$f":"IF(G519=\"\",\"\",G519/COUNTIF('Data Input'!$C$8:$AQ$8,$G$2))","v":""},{"$f":"IF(ISBLANK('Data Input'!A523),\"\",SUM('Data Input'!J523,'Data Input'!K523,'Data Input'!U523,'Data Input'!V523))","v":""},{"$f":"IF(I519=\"\",\"\",I519/COUNTIF('Data Input'!$C$8:$AQ$8,$I$2))","v":""},{"$f":"IF(ISBLANK('Data Input'!A523),\"\",SUM('Data Input'!D523))","v":""},{"$f":"IF(K519=\"\",\"\",K519/COUNTIF('Data Input'!$C$8:$AQ$8,$K$2))","v":""},{"$f":"IF(ISBLANK('Data Input'!A523),\"\",SUM('Data Input'!O523,'Data Input'!P523,'Data Input'!R523,'Data Input'!S523))","v":""},{"$f":"IF(M519=\"\",\"\",M519/COUNTIF('Data Input'!$C$8:$AQ$8,$M$2))","v":""},{"$f":"IF(ISBLANK('Data Input'!A523),\"\",SUM('Data Input'!C523,'Data Input'!E523,'Data Input'!F523,'Data Input'!G523,'Data Input'!Q523,'Data Input'!T523))","v":""},{"$f":"IF(O519=\"\",\"\",O519/COUNTIF('Data Input'!$C$8:$AQ$8,$O$2))","v":""},{"$f":"IF(ISBLANK('Data Input'!A523),\"\",SUM('Data Input'!L523))","v":""},{"$f":"IF(Q519=\"\",\"\",Q519/COUNTIF('Data Input'!$C$8:$AQ$8,$Q$2))","v":""},{"$f":"IF(ISBLANK('Data Input'!A523),\"\",SUM('Data Input'!X523:AQ523))","v":""},{"$f":"IF(S519=\"\",\"\",S519/COUNTIF('Data Input'!$C$8:$AQ$8,$S$2))","v":""}]
[{"$f":"IF('Data Input'!A524=0,\"\",'Data Input'!A524)","v":""},{"$f":"IF(ISBLANK('Data Input'!A524),\"\",COUNTIF('Data Input'!C524:AQ524,\"\")-1)","v":""},{"$f":"IF(ISBLANK('Data Input'!A524),\"\",COUNTIF('Data Input'!C524:AQ524,\"0\"))","v":""},{"$f":"IF(ISBLANK('Data Input'!A524),\"\",SUM(B520,C520))","v":""},{"$f":"IF(ISBLANK('Data Input'!A524),\"\",SUM('Data Input'!C524:AQ524))","v":""},{"$f":"IF(E520=\"\",\"\",E520/(COUNTA('Data Input'!$C$8:$AQ$8)-1))","v":""},{"$f":"IF(ISBLANK('Data Input'!A524),\"\",SUM('Data Input'!H524,'Data Input'!I524,'Data Input'!M524,'Data Input'!N524))","v":""},{"$f":"IF(G520=\"\",\"\",G520/COUNTIF('Data Input'!$C$8:$AQ$8,$G$2))","v":""},{"$f":"IF(ISBLANK('Data Input'!A524),\"\",SUM('Data Input'!J524,'Data Input'!K524,'Data Input'!U524,'Data Input'!V524))","v":""},{"$f":"IF(I520=\"\",\"\",I520/COUNTIF('Data Input'!$C$8:$AQ$8,$I$2))","v":""},{"$f":"IF(ISBLANK('Data Input'!A524),\"\",SUM('Data Input'!D524))","v":""},{"$f":"IF(K520=\"\",\"\",K520/COUNTIF('Data Input'!$C$8:$AQ$8,$K$2))","v":""},{"$f":"IF(ISBLANK('Data Input'!A524),\"\",SUM('Data Input'!O524,'Data Input'!P524,'Data Input'!R524,'Data Input'!S524))","v":""},{"$f":"IF(M520=\"\",\"\",M520/COUNTIF('Data Input'!$C$8:$AQ$8,$M$2))","v":""},{"$f":"IF(ISBLANK('Data Input'!A524),\"\",SUM('Data Input'!C524,'Data Input'!E524,'Data Input'!F524,'Data Input'!G524,'Data Input'!Q524,'Data Input'!T524))","v":""},{"$f":"IF(O520=\"\",\"\",O520/COUNTIF('Data Input'!$C$8:$AQ$8,$O$2))","v":""},{"$f":"IF(ISBLANK('Data Input'!A524),\"\",SUM('Data Input'!L524))","v":""},{"$f":"IF(Q520=\"\",\"\",Q520/COUNTIF('Data Input'!$C$8:$AQ$8,$Q$2))","v":""},{"$f":"IF(ISBLANK('Data Input'!A524),\"\",SUM('Data Input'!X524:AQ524))","v":""},{"$f":"IF(S520=\"\",\"\",S520/COUNTIF('Data Input'!$C$8:$AQ$8,$S$2))","v":""}]
[{"$f":"IF('Data Input'!A525=0,\"\",'Data Input'!A525)","v":""},{"$f":"IF(ISBLANK('Data Input'!A525),\"\",COUNTIF('Data Input'!C525:AQ525,\"\")-1)","v":""},{"$f":"IF(ISBLANK('Data Input'!A525),\"\",COUNTIF('Data Input'!C525:AQ525,\"0\"))","v":""},{"$f":"IF(ISBLANK('Data Input'!A525),\"\",SUM(B521,C521))","v":""},{"$f":"IF(ISBLANK('Data Input'!A525),\"\",SUM('Data Input'!C525:AQ525))","v":""},{"$f":"IF(E521=\"\",\"\",E521/(COUNTA('Data Input'!$C$8:$AQ$8)-1))","v":""},{"$f":"IF(ISBLANK('Data Input'!A525),\"\",SUM('Data Input'!H525,'Data Input'!I525,'Data Input'!M525,'Data Input'!N525))","v":""},{"$f":"IF(G521=\"\",\"\",G521/COUNTIF('Data Input'!$C$8:$AQ$8,$G$2))","v":""},{"$f":"IF(ISBLANK('Data Input'!A525),\"\",SUM('Data Input'!J525,'Data Input'!K525,'Data Input'!U525,'Data Input'!V525))","v":""},{"$f":"IF(I521=\"\",\"\",I521/COUNTIF('Data Input'!$C$8:$AQ$8,$I$2))","v":""},{"$f":"IF(ISBLANK('Data Input'!A525),\"\",SUM('Data Input'!D525))","v":""},{"$f":"IF(K521=\"\",\"\",K521/COUNTIF('Data Input'!$C$8:$AQ$8,$K$2))","v":""},{"$f":"IF(ISBLANK('Data Input'!A525),\"\",SUM('Data Input'!O525,'Data Input'!P525,'Data Input'!R525,'Data Input'!S525))","v":""},{"$f":"IF(M521=\"\",\"\",M521/COUNTIF('Data Input'!$C$8:$AQ$8,$M$2))","v":""},{"$f":"IF(ISBLANK('Data Input'!A525),\"\",SUM('Data Input'!C525,'Data Input'!E525,'Data Input'!F525,'Data Input'!G525,'Data Input'!Q525,'Data Input'!T525))","v":""},{"$f":"IF(O521=\"\",\"\",O521/COUNTIF('Data Input'!$C$8:$AQ$8,$O$2))","v":""},{"$f":"IF(ISBLANK('Data Input'!A525),\"\",SUM('Data Input'!L525))","v":""},{"$f":"IF(Q521=\"\",\"\",Q521/COUNTIF('Data Input'!$C$8:$AQ$8,$Q$2))","v":""},{"$f":"IF(ISBLANK('Data Input'!A525),\"\",SUM('Data Input'!X525:AQ525))","v":""},{"$f":"IF(S521=\"\",\"\",S521/COUNTIF('Data Input'!$C$8:$AQ$8,$S$2))","v":""}]
[{"$f":"IF('Data Input'!A526=0,\"\",'Data Input'!A526)","v":""},{"$f":"IF(ISBLANK('Data Input'!A526),\"\",COUNTIF('Data Input'!C526:AQ526,\"\")-1)","v":""},{"$f":"IF(ISBLANK('Data Input'!A526),\"\",COUNTIF('Data Input'!C526:AQ526,\"0\"))","v":""},{"$f":"IF(ISBLANK('Data Input'!A526),\"\",SUM(B522,C522))","v":""},{"$f":"IF(ISBLANK('Data Input'!A526),\"\",SUM('Data Input'!C526:AQ526))","v":""},{"$f":"IF(E522=\"\",\"\",E522/(COUNTA('Data Input'!$C$8:$AQ$8)-1))","v":""},{"$f":"IF(ISBLANK('Data Input'!A526),\"\",SUM('Data Input'!H526,'Data Input'!I526,'Data Input'!M526,'Data Input'!N526))","v":""},{"$f":"IF(G522=\"\",\"\",G522/COUNTIF('Data Input'!$C$8:$AQ$8,$G$2))","v":""},{"$f":"IF(ISBLANK('Data Input'!A526),\"\",SUM('Data Input'!J526,'Data Input'!K526,'Data Input'!U526,'Data Input'!V526))","v":""},{"$f":"IF(I522=\"\",\"\",I522/COUNTIF('Data Input'!$C$8:$AQ$8,$I$2))","v":""},{"$f":"IF(ISBLANK('Data Input'!A526),\"\",SUM('Data Input'!D526))","v":""},{"$f":"IF(K522=\"\",\"\",K522/COUNTIF('Data Input'!$C$8:$AQ$8,$K$2))","v":""},{"$f":"IF(ISBLANK('Data Input'!A526),\"\",SUM('Data Input'!O526,'Data Input'!P526,'Data Input'!R526,'Data Input'!S526))","v":""},{"$f":"IF(M522=\"\",\"\",M522/COUNTIF('Data Input'!$C$8:$AQ$8,$M$2))","v":""},{"$f":"IF(ISBLANK('Data Input'!A526),\"\",SUM('Data Input'!C526,'Data Input'!E526,'Data Input'!F526,'Data Input'!G526,'Data Input'!Q526,'Data Input'!T526))","v":""},{"$f":"IF(O522=\"\",\"\",O522/COUNTIF('Data Input'!$C$8:$AQ$8,$O$2))","v":""},{"$f":"IF(ISBLANK('Data Input'!A526),\"\",SUM('Data Input'!L526))","v":""},{"$f":"IF(Q522=\"\",\"\",Q522/COUNTIF('Data Input'!$C$8:$AQ$8,$Q$2))","v":""},{"$f":"IF(ISBLANK('Data Input'!A526),\"\",SUM('Data Input'!X526:AQ526))","v":""},{"$f":"IF(S522=\"\",\"\",S522/COUNTIF('Data Input'!$C$8:$AQ$8,$S$2))","v":""}]
[{"$f":"IF('Data Input'!A527=0,\"\",'Data Input'!A527)","v":""},{"$f":"IF(ISBLANK('Data Input'!A527),\"\",COUNTIF('Data Input'!C527:AQ527,\"\")-1)","v":""},{"$f":"IF(ISBLANK('Data Input'!A527),\"\",COUNTIF('Data Input'!C527:AQ527,\"0\"))","v":""},{"$f":"IF(ISBLANK('Data Input'!A527),\"\",SUM(B523,C523))","v":""},{"$f":"IF(ISBLANK('Data Input'!A527),\"\",SUM('Data Input'!C527:AQ527))","v":""},{"$f":"IF(E523=\"\",\"\",E523/(COUNTA('Data Input'!$C$8:$AQ$8)-1))","v":""},{"$f":"IF(ISBLANK('Data Input'!A527),\"\",SUM('Data Input'!H527,'Data Input'!I527,'Data Input'!M527,'Data Input'!N527))","v":""},{"$f":"IF(G523=\"\",\"\",G523/COUNTIF('Data Input'!$C$8:$AQ$8,$G$2))","v":""},{"$f":"IF(ISBLANK('Data Input'!A527),\"\",SUM('Data Input'!J527,'Data Input'!K527,'Data Input'!U527,'Data Input'!V527))","v":""},{"$f":"IF(I523=\"\",\"\",I523/COUNTIF('Data Input'!$C$8:$AQ$8,$I$2))","v":""},{"$f":"IF(ISBLANK('Data Input'!A527),\"\",SUM('Data Input'!D527))","v":""},{"$f":"IF(K523=\"\",\"\",K523/COUNTIF('Data Input'!$C$8:$AQ$8,$K$2))","v":""},{"$f":"IF(ISBLANK('Data Input'!A527),\"\",SUM('Data Input'!O527,'Data Input'!P527,'Data Input'!R527,'Data Input'!S527))","v":""},{"$f":"IF(M523=\"\",\"\",M523/COUNTIF('Data Input'!$C$8:$AQ$8,$M$2))","v":""},{"$f":"IF(ISBLANK('Data Input'!A527),\"\",SUM('Data Input'!C527,'Data Input'!E527,'Data Input'!F527,'Data Input'!G527,'Data Input'!Q527,'Data Input'!T527))","v":""},{"$f":"IF(O523=\"\",\"\",O523/COUNTIF('Data Input'!$C$8:$AQ$8,$O$2))","v":""},{"$f":"IF(ISBLANK('Data Input'!A527),\"\",SUM('Data Input'!L527))","v":""},{"$f":"IF(Q523=\"\",\"\",Q523/COUNTIF('Data Input'!$C$8:$AQ$8,$Q$2))","v":""},{"$f":"IF(ISBLANK('Data Input'!A527),\"\",SUM('Data Input'!X527:AQ527))","v":""},{"$f":"IF(S523=\"\",\"\",S523/COUNTIF('Data Input'!$C$8:$AQ$8,$S$2))","v":""}]
[{"$f":"IF('Data Input'!A528=0,\"\",'Data Input'!A528)","v":""},{"$f":"IF(ISBLANK('Data Input'!A528),\"\",COUNTIF('Data Input'!C528:AQ528,\"\")-1)","v":""},{"$f":"IF(ISBLANK('Data Input'!A528),\"\",COUNTIF('Data Input'!C528:AQ528,\"0\"))","v":""},{"$f":"IF(ISBLANK('Data Input'!A528),\"\",SUM(B524,C524))","v":""},{"$f":"IF(ISBLANK('Data Input'!A528),\"\",SUM('Data Input'!C528:AQ528))","v":""},{"$f":"IF(E524=\"\",\"\",E524/(COUNTA('Data Input'!$C$8:$AQ$8)-1))","v":""},{"$f":"IF(ISBLANK('Data Input'!A528),\"\",SUM('Data Input'!H528,'Data Input'!I528,'Data Input'!M528,'Data Input'!N528))","v":""},{"$f":"IF(G524=\"\",\"\",G524/COUNTIF('Data Input'!$C$8:$AQ$8,$G$2))","v":""},{"$f":"IF(ISBLANK('Data Input'!A528),\"\",SUM('Data Input'!J528,'Data Input'!K528,'Data Input'!U528,'Data Input'!V528))","v":""},{"$f":"IF(I524=\"\",\"\",I524/COUNTIF('Data Input'!$C$8:$AQ$8,$I$2))","v":""},{"$f":"IF(ISBLANK('Data Input'!A528),\"\",SUM('Data Input'!D528))","v":""},{"$f":"IF(K524=\"\",\"\",K524/COUNTIF('Data Input'!$C$8:$AQ$8,$K$2))","v":""},{"$f":"IF(ISBLANK('Data Input'!A528),\"\",SUM('Data Input'!O528,'Data Input'!P528,'Data Input'!R528,'Data Input'!S528))","v":""},{"$f":"IF(M524=\"\",\"\",M524/COUNTIF('Data Input'!$C$8:$AQ$8,$M$2))","v":""},{"$f":"IF(ISBLANK('Data Input'!A528),\"\",SUM('Data Input'!C528,'Data Input'!E528,'Data Input'!F528,'Data Input'!G528,'Data Input'!Q528,'Data Input'!T528))","v":""},{"$f":"IF(O524=\"\",\"\",O524/COUNTIF('Data Input'!$C$8:$AQ$8,$O$2))","v":""},{"$f":"IF(ISBLANK('Data Input'!A528),\"\",SUM('Data Input'!L528))","v":""},{"$f":"IF(Q524=\"\",\"\",Q524/COUNTIF('Data Input'!$C$8:$AQ$8,$Q$2))","v":""},{"$f":"IF(ISBLANK('Data Input'!A528),\"\",SUM('Data Input'!X528:AQ528))","v":""},{"$f":"IF(S524=\"\",\"\",S524/COUNTIF('Data Input'!$C$8:$AQ$8,$S$2))","v":""}]
[{"$f":"IF('Data Input'!A529=0,\"\",'Data Input'!A529)","v":""},{"$f":"IF(ISBLANK('Data Input'!A529),\"\",COUNTIF('Data Input'!C529:AQ529,\"\")-1)","v":""},{"$f":"IF(ISBLANK('Data Input'!A529),\"\",COUNTIF('Data Input'!C529:AQ529,\"0\"))","v":""},{"$f":"IF(ISBLANK('Data Input'!A529),\"\",SUM(B525,C525))","v":""},{"$f":"IF(ISBLANK('Data Input'!A529),\"\",SUM('Data Input'!C529:AQ529))","v":""},{"$f":"IF(E525=\"\",\"\",E525/(COUNTA('Data Input'!$C$8:$AQ$8)-1))","v":""},{"$f":"IF(ISBLANK('Data Input'!A529),\"\",SUM('Data Input'!H529,'Data Input'!I529,'Data Input'!M529,'Data Input'!N529))","v":""},{"$f":"IF(G525=\"\",\"\",G525/COUNTIF('Data Input'!$C$8:$AQ$8,$G$2))","v":""},{"$f":"IF(ISBLANK('Data Input'!A529),\"\",SUM('Data Input'!J529,'Data Input'!K529,'Data Input'!U529,'Data Input'!V529))","v":""},{"$f":"IF(I525=\"\",\"\",I525/COUNTIF('Data Input'!$C$8:$AQ$8,$I$2))","v":""},{"$f":"IF(ISBLANK('Data Input'!A529),\"\",SUM('Data Input'!D529))","v":""},{"$f":"IF(K525=\"\",\"\",K525/COUNTIF('Data Input'!$C$8:$AQ$8,$K$2))","v":""},{"$f":"IF(ISBLANK('Data Input'!A529),\"\",SUM('Data Input'!O529,'Data Input'!P529,'Data Input'!R529,'Data Input'!S529))","v":""},{"$f":"IF(M525=\"\",\"\",M525/COUNTIF('Data Input'!$C$8:$AQ$8,$M$2))","v":""},{"$f":"IF(ISBLANK('Data Input'!A529),\"\",SUM('Data Input'!C529,'Data Input'!E529,'Data Input'!F529,'Data Input'!G529,'Data Input'!Q529,'Data Input'!T529))","v":""},{"$f":"IF(O525=\"\",\"\",O525/COUNTIF('Data Input'!$C$8:$AQ$8,$O$2))","v":""},{"$f":"IF(ISBLANK('Data Input'!A529),\"\",SUM('Data Input'!L529))","v":""},{"$f":"IF(Q525=\"\",\"\",Q525/COUNTIF('Data Input'!$C$8:$AQ$8,$Q$2))","v":""},{"$f":"IF(ISBLANK('Data Input'!A529),\"\",SUM('Data Input'!X529:AQ529))","v":""},{"$f":"IF(S525=\"\",\"\",S525/COUNTIF('Data Input'!$C$8:$AQ$8,$S$2))","v":""}]
[{"$f":"IF('Data Input'!A530=0,\"\",'Data Input'!A530)","v":""},{"$f":"IF(ISBLANK('Data Input'!A530),\"\",COUNTIF('Data Input'!C530:AQ530,\"\")-1)","v":""},{"$f":"IF(ISBLANK('Data Input'!A530),\"\",COUNTIF('Data Input'!C530:AQ530,\"0\"))","v":""},{"$f":"IF(ISBLANK('Data Input'!A530),\"\",SUM(B526,C526))","v":""},{"$f":"IF(ISBLANK('Data Input'!A530),\"\",SUM('Data Input'!C530:AQ530))","v":""},{"$f":"IF(E526=\"\",\"\",E526/(COUNTA('Data Input'!$C$8:$AQ$8)-1))","v":""},{"$f":"IF(ISBLANK('Data Input'!A530),\"\",SUM('Data Input'!H530,'Data Input'!I530,'Data Input'!M530,'Data Input'!N530))","v":""},{"$f":"IF(G526=\"\",\"\",G526/COUNTIF('Data Input'!$C$8:$AQ$8,$G$2))","v":""},{"$f":"IF(ISBLANK('Data Input'!A530),\"\",SUM('Data Input'!J530,'Data Input'!K530,'Data Input'!U530,'Data Input'!V530))","v":""},{"$f":"IF(I526=\"\",\"\",I526/COUNTIF('Data Input'!$C$8:$AQ$8,$I$2))","v":""},{"$f":"IF(ISBLANK('Data Input'!A530),\"\",SUM('Data Input'!D530))","v":""},{"$f":"IF(K526=\"\",\"\",K526/COUNTIF('Data Input'!$C$8:$AQ$8,$K$2))","v":""},{"$f":"IF(ISBLANK('Data Input'!A530),\"\",SUM('Data Input'!O530,'Data Input'!P530,'Data Input'!R530,'Data Input'!S530))","v":""},{"$f":"IF(M526=\"\",\"\",M526/COUNTIF('Data Input'!$C$8:$AQ$8,$M$2))","v":""},{"$f":"IF(ISBLANK('Data Input'!A530),\"\",SUM('Data Input'!C530,'Data Input'!E530,'Data Input'!F530,'Data Input'!G530,'Data Input'!Q530,'Data Input'!T530))","v":""},{"$f":"IF(O526=\"\",\"\",O526/COUNTIF('Data Input'!$C$8:$AQ$8,$O$2))","v":""},{"$f":"IF(ISBLANK('Data Input'!A530),\"\",SUM('Data Input'!L530))","v":""},{"$f":"IF(Q526=\"\",\"\",Q526/COUNTIF('Data Input'!$C$8:$AQ$8,$Q$2))","v":""},{"$f":"IF(ISBLANK('Data Input'!A530),\"\",SUM('Data Input'!X530:AQ530))","v":""},{"$f":"IF(S526=\"\",\"\",S526/COUNTIF('Data Input'!$C$8:$AQ$8,$S$2))","v":""}]
[{"$f":"IF('Data Input'!A531=0,\"\",'Data Input'!A531)","v":""},{"$f":"IF(ISBLANK('Data Input'!A531),\"\",COUNTIF('Data Input'!C531:AQ531,\"\")-1)","v":""},{"$f":"IF(ISBLANK('Data Input'!A531),\"\",COUNTIF('Data Input'!C531:AQ531,\"0\"))","v":""},{"$f":"IF(ISBLANK('Data Input'!A531),\"\",SUM(B527,C527))","v":""},{"$f":"IF(ISBLANK('Data Input'!A531),\"\",SUM('Data Input'!C531:AQ531))","v":""},{"$f":"IF(E527=\"\",\"\",E527/(COUNTA('Data Input'!$C$8:$AQ$8)-1))","v":""},{"$f":"IF(ISBLANK('Data Input'!A531),\"\",SUM('Data Input'!H531,'Data Input'!I531,'Data Input'!M531,'Data Input'!N531))","v":""},{"$f":"IF(G527=\"\",\"\",G527/COUNTIF('Data Input'!$C$8:$AQ$8,$G$2))","v":""},{"$f":"IF(ISBLANK('Data Input'!A531),\"\",SUM('Data Input'!J531,'Data Input'!K531,'Data Input'!U531,'Data Input'!V531))","v":""},{"$f":"IF(I527=\"\",\"\",I527/COUNTIF('Data Input'!$C$8:$AQ$8,$I$2))","v":""},{"$f":"IF(ISBLANK('Data Input'!A531),\"\",SUM('Data Input'!D531))","v":""},{"$f":"IF(K527=\"\",\"\",K527/COUNTIF('Data Input'!$C$8:$AQ$8,$K$2))","v":""},{"$f":"IF(ISBLANK('Data Input'!A531),\"\",SUM('Data Input'!O531,'Data Input'!P531,'Data Input'!R531,'Data Input'!S531))","v":""},{"$f":"IF(M527=\"\",\"\",M527/COUNTIF('Data Input'!$C$8:$AQ$8,$M$2))","v":""},{"$f":"IF(ISBLANK('Data Input'!A531),\"\",SUM('Data Input'!C531,'Data Input'!E531,'Data Input'!F531,'Data Input'!G531,'Data Input'!Q531,'Data Input'!T531))","v":""},{"$f":"IF(O527=\"\",\"\",O527/COUNTIF('Data Input'!$C$8:$AQ$8,$O$2))","v":""},{"$f":"IF(ISBLANK('Data Input'!A531),\"\",SUM('Data Input'!L531))","v":""},{"$f":"IF(Q527=\"\",\"\",Q527/COUNTIF('Data Input'!$C$8:$AQ$8,$Q$2))","v":""},{"$f":"IF(ISBLANK('Data Input'!A531),\"\",SUM('Data Input'!X531:AQ531))","v":""},{"$f":"IF(S527=\"\",\"\",S527/COUNTIF('Data Input'!$C$8:$AQ$8,$S$2))","v":""}]
[{"$f":"IF('Data Input'!A532=0,\"\",'Data Input'!A532)","v":""},{"$f":"IF(ISBLANK('Data Input'!A532),\"\",COUNTIF('Data Input'!C532:AQ532,\"\")-1)","v":""},{"$f":"IF(ISBLANK('Data Input'!A532),\"\",COUNTIF('Data Input'!C532:AQ532,\"0\"))","v":""},{"$f":"IF(ISBLANK('Data Input'!A532),\"\",SUM(B528,C528))","v":""},{"$f":"IF(ISBLANK('Data Input'!A532),\"\",SUM('Data Input'!C532:AQ532))","v":""},{"$f":"IF(E528=\"\",\"\",E528/(COUNTA('Data Input'!$C$8:$AQ$8)-1))","v":""},{"$f":"IF(ISBLANK('Data Input'!A532),\"\",SUM('Data Input'!H532,'Data Input'!I532,'Data Input'!M532,'Data Input'!N532))","v":""},{"$f":"IF(G528=\"\",\"\",G528/COUNTIF('Data Input'!$C$8:$AQ$8,$G$2))","v":""},{"$f":"IF(ISBLANK('Data Input'!A532),\"\",SUM('Data Input'!J532,'Data Input'!K532,'Data Input'!U532,'Data Input'!V532))","v":""},{"$f":"IF(I528=\"\",\"\",I528/COUNTIF('Data Input'!$C$8:$AQ$8,$I$2))","v":""},{"$f":"IF(ISBLANK('Data Input'!A532),\"\",SUM('Data Input'!D532))","v":""},{"$f":"IF(K528=\"\",\"\",K528/COUNTIF('Data Input'!$C$8:$AQ$8,$K$2))","v":""},{"$f":"IF(ISBLANK('Data Input'!A532),\"\",SUM('Data Input'!O532,'Data Input'!P532,'Data Input'!R532,'Data Input'!S532))","v":""},{"$f":"IF(M528=\"\",\"\",M528/COUNTIF('Data Input'!$C$8:$AQ$8,$M$2))","v":""},{"$f":"IF(ISBLANK('Data Input'!A532),\"\",SUM('Data Input'!C532,'Data Input'!E532,'Data Input'!F532,'Data Input'!G532,'Data Input'!Q532,'Data Input'!T532))","v":""},{"$f":"IF(O528=\"\",\"\",O528/COUNTIF('Data Input'!$C$8:$AQ$8,$O$2))","v":""},{"$f":"IF(ISBLANK('Data Input'!A532),\"\",SUM('Data Input'!L532))","v":""},{"$f":"IF(Q528=\"\",\"\",Q528/COUNTIF('Data Input'!$C$8:$AQ$8,$Q$2))","v":""},{"$f":"IF(ISBLANK('Data Input'!A532),\"\",SUM('Data Input'!X532:AQ532))","v":""},{"$f":"IF(S528=\"\",\"\",S528/COUNTIF('Data Input'!$C$8:$AQ$8,$S$2))","v":""}]
[{"$f":"IF('Data Input'!A533=0,\"\",'Data Input'!A533)","v":""},{"$f":"IF(ISBLANK('Data Input'!A533),\"\",COUNTIF('Data Input'!C533:AQ533,\"\")-1)","v":""},{"$f":"IF(ISBLANK('Data Input'!A533),\"\",COUNTIF('Data Input'!C533:AQ533,\"0\"))","v":""},{"$f":"IF(ISBLANK('Data Input'!A533),\"\",SUM(B529,C529))","v":""},{"$f":"IF(ISBLANK('Data Input'!A533),\"\",SUM('Data Input'!C533:AQ533))","v":""},{"$f":"IF(E529=\"\",\"\",E529/(COUNTA('Data Input'!$C$8:$AQ$8)-1))","v":""},{"$f":"IF(ISBLANK('Data Input'!A533),\"\",SUM('Data Input'!H533,'Data Input'!I533,'Data Input'!M533,'Data Input'!N533))","v":""},{"$f":"IF(G529=\"\",\"\",G529/COUNTIF('Data Input'!$C$8:$AQ$8,$G$2))","v":""},{"$f":"IF(ISBLANK('Data Input'!A533),\"\",SUM('Data Input'!J533,'Data Input'!K533,'Data Input'!U533,'Data Input'!V533))","v":""},{"$f":"IF(I529=\"\",\"\",I529/COUNTIF('Data Input'!$C$8:$AQ$8,$I$2))","v":""},{"$f":"IF(ISBLANK('Data Input'!A533),\"\",SUM('Data Input'!D533))","v":""},{"$f":"IF(K529=\"\",\"\",K529/COUNTIF('Data Input'!$C$8:$AQ$8,$K$2))","v":""},{"$f":"IF(ISBLANK('Data Input'!A533),\"\",SUM('Data Input'!O533,'Data Input'!P533,'Data Input'!R533,'Data Input'!S533))","v":""},{"$f":"IF(M529=\"\",\"\",M529/COUNTIF('Data Input'!$C$8:$AQ$8,$M$2))","v":""},{"$f":"IF(ISBLANK('Data Input'!A533),\"\",SUM('Data Input'!C533,'Data Input'!E533,'Data Input'!F533,'Data Input'!G533,'Data Input'!Q533,'Data Input'!T533))","v":""},{"$f":"IF(O529=\"\",\"\",O529/COUNTIF('Data Input'!$C$8:$AQ$8,$O$2))","v":""},{"$f":"IF(ISBLANK('Data Input'!A533),\"\",SUM('Data Input'!L533))","v":""},{"$f":"IF(Q529=\"\",\"\",Q529/COUNTIF('Data Input'!$C$8:$AQ$8,$Q$2))","v":""},{"$f":"IF(ISBLANK('Data Input'!A533),\"\",SUM('Data Input'!X533:AQ533))","v":""},{"$f":"IF(S529=\"\",\"\",S529/COUNTIF('Data Input'!$C$8:$AQ$8,$S$2))","v":""}]
[{"$f":"IF('Data Input'!A534=0,\"\",'Data Input'!A534)","v":""},{"$f":"IF(ISBLANK('Data Input'!A534),\"\",COUNTIF('Data Input'!C534:AQ534,\"\")-1)","v":""},{"$f":"IF(ISBLANK('Data Input'!A534),\"\",COUNTIF('Data Input'!C534:AQ534,\"0\"))","v":""},{"$f":"IF(ISBLANK('Data Input'!A534),\"\",SUM(B530,C530))","v":""},{"$f":"IF(ISBLANK('Data Input'!A534),\"\",SUM('Data Input'!C534:AQ534))","v":""},{"$f":"IF(E530=\"\",\"\",E530/(COUNTA('Data Input'!$C$8:$AQ$8)-1))","v":""},{"$f":"IF(ISBLANK('Data Input'!A534),\"\",SUM('Data Input'!H534,'Data Input'!I534,'Data Input'!M534,'Data Input'!N534))","v":""},{"$f":"IF(G530=\"\",\"\",G530/COUNTIF('Data Input'!$C$8:$AQ$8,$G$2))","v":""},{"$f":"IF(ISBLANK('Data Input'!A534),\"\",SUM('Data Input'!J534,'Data Input'!K534,'Data Input'!U534,'Data Input'!V534))","v":""},{"$f":"IF(I530=\"\",\"\",I530/COUNTIF('Data Input'!$C$8:$AQ$8,$I$2))","v":""},{"$f":"IF(ISBLANK('Data Input'!A534),\"\",SUM('Data Input'!D534))","v":""},{"$f":"IF(K530=\"\",\"\",K530/COUNTIF('Data Input'!$C$8:$AQ$8,$K$2))","v":""},{"$f":"IF(ISBLANK('Data Input'!A534),\"\",SUM('Data Input'!O534,'Data Input'!P534,'Data Input'!R534,'Data Input'!S534))","v":""},{"$f":"IF(M530=\"\",\"\",M530/COUNTIF('Data Input'!$C$8:$AQ$8,$M$2))","v":""},{"$f":"IF(ISBLANK('Data Input'!A534),\"\",SUM('Data Input'!C534,'Data Input'!E534,'Data Input'!F534,'Data Input'!G534,'Data Input'!Q534,'Data Input'!T534))","v":""},{"$f":"IF(O530=\"\",\"\",O530/COUNTIF('Data Input'!$C$8:$AQ$8,$O$2))","v":""},{"$f":"IF(ISBLANK('Data Input'!A534),\"\",SUM('Data Input'!L534))","v":""},{"$f":"IF(Q530=\"\",\"\",Q530/COUNTIF('Data Input'!$C$8:$AQ$8,$Q$2))","v":""},{"$f":"IF(ISBLANK('Data Input'!A534),\"\",SUM('Data Input'!X534:AQ534))","v":""},{"$f":"IF(S530=\"\",\"\",S530/COUNTIF('Data Input'!$C$8:$AQ$8,$S$2))","v":""}]
[{"$f":"IF('Data Input'!A535=0,\"\",'Data Input'!A535)","v":""},{"$f":"IF(ISBLANK('Data Input'!A535),\"\",COUNTIF('Data Input'!C535:AQ535,\"\")-1)","v":""},{"$f":"IF(ISBLANK('Data Input'!A535),\"\",COUNTIF('Data Input'!C535:AQ535,\"0\"))","v":""},{"$f":"IF(ISBLANK('Data Input'!A535),\"\",SUM(B531,C531))","v":""},{"$f":"IF(ISBLANK('Data Input'!A535),\"\",SUM('Data Input'!C535:AQ535))","v":""},{"$f":"IF(E531=\"\",\"\",E531/(COUNTA('Data Input'!$C$8:$AQ$8)-1))","v":""},{"$f":"IF(ISBLANK('Data Input'!A535),\"\",SUM('Data Input'!H535,'Data Input'!I535,'Data Input'!M535,'Data Input'!N535))","v":""},{"$f":"IF(G531=\"\",\"\",G531/COUNTIF('Data Input'!$C$8:$AQ$8,$G$2))","v":""},{"$f":"IF(ISBLANK('Data Input'!A535),\"\",SUM('Data Input'!J535,'Data Input'!K535,'Data Input'!U535,'Data Input'!V535))","v":""},{"$f":"IF(I531=\"\",\"\",I531/COUNTIF('Data Input'!$C$8:$AQ$8,$I$2))","v":""},{"$f":"IF(ISBLANK('Data Input'!A535),\"\",SUM('Data Input'!D535))","v":""},{"$f":"IF(K531=\"\",\"\",K531/COUNTIF('Data Input'!$C$8:$AQ$8,$K$2))","v":""},{"$f":"IF(ISBLANK('Data Input'!A535),\"\",SUM('Data Input'!O535,'Data Input'!P535,'Data Input'!R535,'Data Input'!S535))","v":""},{"$f":"IF(M531=\"\",\"\",M531/COUNTIF('Data Input'!$C$8:$AQ$8,$M$2))","v":""},{"$f":"IF(ISBLANK('Data Input'!A535),\"\",SUM('Data Input'!C535,'Data Input'!E535,'Data Input'!F535,'Data Input'!G535,'Data Input'!Q535,'Data Input'!T535))","v":""},{"$f":"IF(O531=\"\",\"\",O531/COUNTIF('Data Input'!$C$8:$AQ$8,$O$2))","v":""},{"$f":"IF(ISBLANK('Data Input'!A535),\"\",SUM('Data Input'!L535))","v":""},{"$f":"IF(Q531=\"\",\"\",Q531/COUNTIF('Data Input'!$C$8:$AQ$8,$Q$2))","v":""},{"$f":"IF(ISBLANK('Data Input'!A535),\"\",SUM('Data Input'!X535:AQ535))","v":""},{"$f":"IF(S531=\"\",\"\",S531/COUNTIF('Data Input'!$C$8:$AQ$8,$S$2))","v":""}]
[{"$f":"IF('Data Input'!A536=0,\"\",'Data Input'!A536)","v":""},{"$f":"IF(ISBLANK('Data Input'!A536),\"\",COUNTIF('Data Input'!C536:AQ536,\"\")-1)","v":""},{"$f":"IF(ISBLANK('Data Input'!A536),\"\",COUNTIF('Data Input'!C536:AQ536,\"0\"))","v":""},{"$f":"IF(ISBLANK('Data Input'!A536),\"\",SUM(B532,C532))","v":""},{"$f":"IF(ISBLANK('Data Input'!A536),\"\",SUM('Data Input'!C536:AQ536))","v":""},{"$f":"IF(E532=\"\",\"\",E532/(COUNTA('Data Input'!$C$8:$AQ$8)-1))","v":""},{"$f":"IF(ISBLANK('Data Input'!A536),\"\",SUM('Data Input'!H536,'Data Input'!I536,'Data Input'!M536,'Data Input'!N536))","v":""},{"$f":"IF(G532=\"\",\"\",G532/COUNTIF('Data Input'!$C$8:$AQ$8,$G$2))","v":""},{"$f":"IF(ISBLANK('Data Input'!A536),\"\",SUM('Data Input'!J536,'Data Input'!K536,'Data Input'!U536,'Data Input'!V536))","v":""},{"$f":"IF(I532=\"\",\"\",I532/COUNTIF('Data Input'!$C$8:$AQ$8,$I$2))","v":""},{"$f":"IF(ISBLANK('Data Input'!A536),\"\",SUM('Data Input'!D536))","v":""},{"$f":"IF(K532=\"\",\"\",K532/COUNTIF('Data Input'!$C$8:$AQ$8,$K$2))","v":""},{"$f":"IF(ISBLANK('Data Input'!A536),\"\",SUM('Data Input'!O536,'Data Input'!P536,'Data Input'!R536,'Data Input'!S536))","v":""},{"$f":"IF(M532=\"\",\"\",M532/COUNTIF('Data Input'!$C$8:$AQ$8,$M$2))","v":""},{"$f":"IF(ISBLANK('Data Input'!A536),\"\",SUM('Data Input'!C536,'Data Input'!E536,'Data Input'!F536,'Data Input'!G536,'Data Input'!Q536,'Data Input'!T536))","v":""},{"$f":"IF(O532=\"\",\"\",O532/COUNTIF('Data Input'!$C$8:$AQ$8,$O$2))","v":""},{"$f":"IF(ISBLANK('Data Input'!A536),\"\",SUM('Data Input'!L536))","v":""},{"$f":"IF(Q532=\"\",\"\",Q532/COUNTIF('Data Input'!$C$8:$AQ$8,$Q$2))","v":""},{"$f":"IF(ISBLANK('Data Input'!A536),\"\",SUM('Data Input'!X536:AQ536))","v":""},{"$f":"IF(S532=\"\",\"\",S532/COUNTIF('Data Input'!$C$8:$AQ$8,$S$2))","v":""}]
[{"$f":"IF('Data Input'!A537=0,\"\",'Data Input'!A537)","v":""},{"$f":"IF(ISBLANK('Data Input'!A537),\"\",COUNTIF('Data Input'!C537:AQ537,\"\")-1)","v":""},{"$f":"IF(ISBLANK('Data Input'!A537),\"\",COUNTIF('Data Input'!C537:AQ537,\"0\"))","v":""},{"$f":"IF(ISBLANK('Data Input'!A537),\"\",SUM(B533,C533))","v":""},{"$f":"IF(ISBLANK('Data Input'!A537),\"\",SUM('Data Input'!C537:AQ537))","v":""},{"$f":"IF(E533=\"\",\"\",E533/(COUNTA('Data Input'!$C$8:$AQ$8)-1))","v":""},{"$f":"IF(ISBLANK('Data Input'!A537),\"\",SUM('Data Input'!H537,'Data Input'!I537,'Data Input'!M537,'Data Input'!N537))","v":""},{"$f":"IF(G533=\"\",\"\",G533/COUNTIF('Data Input'!$C$8:$AQ$8,$G$2))","v":""},{"$f":"IF(ISBLANK('Data Input'!A537),\"\",SUM('Data Input'!J537,'Data Input'!K537,'Data Input'!U537,'Data Input'!V537))","v":""},{"$f":"IF(I533=\"\",\"\",I533/COUNTIF('Data Input'!$C$8:$AQ$8,$I$2))","v":""},{"$f":"IF(ISBLANK('Data Input'!A537),\"\",SUM('Data Input'!D537))","v":""},{"$f":"IF(K533=\"\",\"\",K533/COUNTIF('Data Input'!$C$8:$AQ$8,$K$2))","v":""},{"$f":"IF(ISBLANK('Data Input'!A537),\"\",SUM('Data Input'!O537,'Data Input'!P537,'Data Input'!R537,'Data Input'!S537))","v":""},{"$f":"IF(M533=\"\",\"\",M533/COUNTIF('Data Input'!$C$8:$AQ$8,$M$2))","v":""},{"$f":"IF(ISBLANK('Data Input'!A537),\"\",SUM('Data Input'!C537,'Data Input'!E537,'Data Input'!F537,'Data Input'!G537,'Data Input'!Q537,'Data Input'!T537))","v":""},{"$f":"IF(O533=\"\",\"\",O533/COUNTIF('Data Input'!$C$8:$AQ$8,$O$2))","v":""},{"$f":"IF(ISBLANK('Data Input'!A537),\"\",SUM('Data Input'!L537))","v":""},{"$f":"IF(Q533=\"\",\"\",Q533/COUNTIF('Data Input'!$C$8:$AQ$8,$Q$2))","v":""},{"$f":"IF(ISBLANK('Data Input'!A537),\"\",SUM('Data Input'!X537:AQ537))","v":""},{"$f":"IF(S533=\"\",\"\",S533/COUNTIF('Data Input'!$C$8:$AQ$8,$S$2))","v":""}]
[{"$f":"IF('Data Input'!A538=0,\"\",'Data Input'!A538)","v":""},{"$f":"IF(ISBLANK('Data Input'!A538),\"\",COUNTIF('Data Input'!C538:AQ538,\"\")-1)","v":""},{"$f":"IF(ISBLANK('Data Input'!A538),\"\",COUNTIF('Data Input'!C538:AQ538,\"0\"))","v":""},{"$f":"IF(ISBLANK('Data Input'!A538),\"\",SUM(B534,C534))","v":""},{"$f":"IF(ISBLANK('Data Input'!A538),\"\",SUM('Data Input'!C538:AQ538))","v":""},{"$f":"IF(E534=\"\",\"\",E534/(COUNTA('Data Input'!$C$8:$AQ$8)-1))","v":""},{"$f":"IF(ISBLANK('Data Input'!A538),\"\",SUM('Data Input'!H538,'Data Input'!I538,'Data Input'!M538,'Data Input'!N538))","v":""},{"$f":"IF(G534=\"\",\"\",G534/COUNTIF('Data Input'!$C$8:$AQ$8,$G$2))","v":""},{"$f":"IF(ISBLANK('Data Input'!A538),\"\",SUM('Data Input'!J538,'Data Input'!K538,'Data Input'!U538,'Data Input'!V538))","v":""},{"$f":"IF(I534=\"\",\"\",I534/COUNTIF('Data Input'!$C$8:$AQ$8,$I$2))","v":""},{"$f":"IF(ISBLANK('Data Input'!A538),\"\",SUM('Data Input'!D538))","v":""},{"$f":"IF(K534=\"\",\"\",K534/COUNTIF('Data Input'!$C$8:$AQ$8,$K$2))","v":""},{"$f":"IF(ISBLANK('Data Input'!A538),\"\",SUM('Data Input'!O538,'Data Input'!P538,'Data Input'!R538,'Data Input'!S538))","v":""},{"$f":"IF(M534=\"\",\"\",M534/COUNTIF('Data Input'!$C$8:$AQ$8,$M$2))","v":""},{"$f":"IF(ISBLANK('Data Input'!A538),\"\",SUM('Data Input'!C538,'Data Input'!E538,'Data Input'!F538,'Data Input'!G538,'Data Input'!Q538,'Data Input'!T538))","v":""},{"$f":"IF(O534=\"\",\"\",O534/COUNTIF('Data Input'!$C$8:$AQ$8,$O$2))","v":""},{"$f":"IF(ISBLANK('Data Input'!A538),\"\",SUM('Data Input'!L538))","v":""},{"$f":"IF(Q534=\"\",\"\",Q534/COUNTIF('Data Input'!$C$8:$AQ$8,$Q$2))","v":""},{"$f":"IF(ISBLANK('Data Input'!A538),\"\",SUM('Data Input'!X538:AQ538))","v":""},{"$f":"IF(S534=\"\",\"\",S534/COUNTIF('Data Input'!$C$8:$AQ$8,$S$2))","v":""}]
[{"$f":"IF('Data Input'!A539=0,\"\",'Data Input'!A539)","v":""},{"$f":"IF(ISBLANK('Data Input'!A539),\"\",COUNTIF('Data Input'!C539:AQ539,\"\")-1)","v":""},{"$f":"IF(ISBLANK('Data Input'!A539),\"\",COUNTIF('Data Input'!C539:AQ539,\"0\"))","v":""},{"$f":"IF(ISBLANK('Data Input'!A539),\"\",SUM(B535,C535))","v":""},{"$f":"IF(ISBLANK('Data Input'!A539),\"\",SUM('Data Input'!C539:AQ539))","v":""},{"$f":"IF(E535=\"\",\"\",E535/(COUNTA('Data Input'!$C$8:$AQ$8)-1))","v":""},{"$f":"IF(ISBLANK('Data Input'!A539),\"\",SUM('Data Input'!H539,'Data Input'!I539,'Data Input'!M539,'Data Input'!N539))","v":""},{"$f":"IF(G535=\"\",\"\",G535/COUNTIF('Data Input'!$C$8:$AQ$8,$G$2))","v":""},{"$f":"IF(ISBLANK('Data Input'!A539),\"\",SUM('Data Input'!J539,'Data Input'!K539,'Data Input'!U539,'Data Input'!V539))","v":""},{"$f":"IF(I535=\"\",\"\",I535/COUNTIF('Data Input'!$C$8:$AQ$8,$I$2))","v":""},{"$f":"IF(ISBLANK('Data Input'!A539),\"\",SUM('Data Input'!D539))","v":""},{"$f":"IF(K535=\"\",\"\",K535/COUNTIF('Data Input'!$C$8:$AQ$8,$K$2))","v":""},{"$f":"IF(ISBLANK('Data Input'!A539),\"\",SUM('Data Input'!O539,'Data Input'!P539,'Data Input'!R539,'Data Input'!S539))","v":""},{"$f":"IF(M535=\"\",\"\",M535/COUNTIF('Data Input'!$C$8:$AQ$8,$M$2))","v":""},{"$f":"IF(ISBLANK('Data Input'!A539),\"\",SUM('Data Input'!C539,'Data Input'!E539,'Data Input'!F539,'Data Input'!G539,'Data Input'!Q539,'Data Input'!T539))","v":""},{"$f":"IF(O535=\"\",\"\",O535/COUNTIF('Data Input'!$C$8:$AQ$8,$O$2))","v":""},{"$f":"IF(ISBLANK('Data Input'!A539),\"\",SUM('Data Input'!L539))","v":""},{"$f":"IF(Q535=\"\",\"\",Q535/COUNTIF('Data Input'!$C$8:$AQ$8,$Q$2))","v":""},{"$f":"IF(ISBLANK('Data Input'!A539),\"\",SUM('Data Input'!X539:AQ539))","v":""},{"$f":"IF(S535=\"\",\"\",S535/COUNTIF('Data Input'!$C$8:$AQ$8,$S$2))","v":""}]
[{"$f":"IF('Data Input'!A540=0,\"\",'Data Input'!A540)","v":""},{"$f":"IF(ISBLANK('Data Input'!A540),\"\",COUNTIF('Data Input'!C540:AQ540,\"\")-1)","v":""},{"$f":"IF(ISBLANK('Data Input'!A540),\"\",COUNTIF('Data Input'!C540:AQ540,\"0\"))","v":""},{"$f":"IF(ISBLANK('Data Input'!A540),\"\",SUM(B536,C536))","v":""},{"$f":"IF(ISBLANK('Data Input'!A540),\"\",SUM('Data Input'!C540:AQ540))","v":""},{"$f":"IF(E536=\"\",\"\",E536/(COUNTA('Data Input'!$C$8:$AQ$8)-1))","v":""},{"$f":"IF(ISBLANK('Data Input'!A540),\"\",SUM('Data Input'!H540,'Data Input'!I540,'Data Input'!M540,'Data Input'!N540))","v":""},{"$f":"IF(G536=\"\",\"\",G536/COUNTIF('Data Input'!$C$8:$AQ$8,$G$2))","v":""},{"$f":"IF(ISBLANK('Data Input'!A540),\"\",SUM('Data Input'!J540,'Data Input'!K540,'Data Input'!U540,'Data Input'!V540))","v":""},{"$f":"IF(I536=\"\",\"\",I536/COUNTIF('Data Input'!$C$8:$AQ$8,$I$2))","v":""},{"$f":"IF(ISBLANK('Data Input'!A540),\"\",SUM('Data Input'!D540))","v":""},{"$f":"IF(K536=\"\",\"\",K536/COUNTIF('Data Input'!$C$8:$AQ$8,$K$2))","v":""},{"$f":"IF(ISBLANK('Data Input'!A540),\"\",SUM('Data Input'!O540,'Data Input'!P540,'Data Input'!R540,'Data Input'!S540))","v":""},{"$f":"IF(M536=\"\",\"\",M536/COUNTIF('Data Input'!$C$8:$AQ$8,$M$2))","v":""},{"$f":"IF(ISBLANK('Data Input'!A540),\"\",SUM('Data Input'!C540,'Data Input'!E540,'Data Input'!F540,'Data Input'!G540,'Data Input'!Q540,'Data Input'!T540))","v":""},{"$f":"IF(O536=\"\",\"\",O536/COUNTIF('Data Input'!$C$8:$AQ$8,$O$2))","v":""},{"$f":"IF(ISBLANK('Data Input'!A540),\"\",SUM('Data Input'!L540))","v":""},{"$f":"IF(Q536=\"\",\"\",Q536/COUNTIF('Data Input'!$C$8:$AQ$8,$Q$2))","v":""},{"$f":"IF(ISBLANK('Data Input'!A540),\"\",SUM('Data Input'!X540:AQ540))","v":""},{"$f":"IF(S536=\"\",\"\",S536/COUNTIF('Data Input'!$C$8:$AQ$8,$S$2))","v":""}]
[{"$f":"IF('Data Input'!A541=0,\"\",'Data Input'!A541)","v":""},{"$f":"IF(ISBLANK('Data Input'!A541),\"\",COUNTIF('Data Input'!C541:AQ541,\"\")-1)","v":""},{"$f":"IF(ISBLANK('Data Input'!A541),\"\",COUNTIF('Data Input'!C541:AQ541,\"0\"))","v":""},{"$f":"IF(ISBLANK('Data Input'!A541),\"\",SUM(B537,C537))","v":""},{"$f":"IF(ISBLANK('Data Input'!A541),\"\",SUM('Data Input'!C541:AQ541))","v":""},{"$f":"IF(E537=\"\",\"\",E537/(COUNTA('Data Input'!$C$8:$AQ$8)-1))","v":""},{"$f":"IF(ISBLANK('Data Input'!A541),\"\",SUM('Data Input'!H541,'Data Input'!I541,'Data Input'!M541,'Data Input'!N541))","v":""},{"$f":"IF(G537=\"\",\"\",G537/COUNTIF('Data Input'!$C$8:$AQ$8,$G$2))","v":""},{"$f":"IF(ISBLANK('Data Input'!A541),\"\",SUM('Data Input'!J541,'Data Input'!K541,'Data Input'!U541,'Data Input'!V541))","v":""},{"$f":"IF(I537=\"\",\"\",I537/COUNTIF('Data Input'!$C$8:$AQ$8,$I$2))","v":""},{"$f":"IF(ISBLANK('Data Input'!A541),\"\",SUM('Data Input'!D541))","v":""},{"$f":"IF(K537=\"\",\"\",K537/COUNTIF('Data Input'!$C$8:$AQ$8,$K$2))","v":""},{"$f":"IF(ISBLANK('Data Input'!A541),\"\",SUM('Data Input'!O541,'Data Input'!P541,'Data Input'!R541,'Data Input'!S541))","v":""},{"$f":"IF(M537=\"\",\"\",M537/COUNTIF('Data Input'!$C$8:$AQ$8,$M$2))","v":""},{"$f":"IF(ISBLANK('Data Input'!A541),\"\",SUM('Data Input'!C541,'Data Input'!E541,'Data Input'!F541,'Data Input'!G541,'Data Input'!Q541,'Data Input'!T541))","v":""},{"$f":"IF(O537=\"\",\"\",O537/COUNTIF('Data Input'!$C$8:$AQ$8,$O$2))","v":""},{"$f":"IF(ISBLANK('Data Input'!A541),\"\",SUM('Data Input'!L541))","v":""},{"$f":"IF(Q537=\"\",\"\",Q537/COUNTIF('Data Input'!$C$8:$AQ$8,$Q$2))","v":""},{"$f":"IF(ISBLANK('Data Input'!A541),\"\",SUM('Data Input'!X541:AQ541))","v":""},{"$f":"IF(S537=\"\",\"\",S537/COUNTIF('Data Input'!$C$8:$AQ$8,$S$2))","v":""}]
[{"$f":"IF('Data Input'!A542=0,\"\",'Data Input'!A542)","v":""},{"$f":"IF(ISBLANK('Data Input'!A542),\"\",COUNTIF('Data Input'!C542:AQ542,\"\")-1)","v":""},{"$f":"IF(ISBLANK('Data Input'!A542),\"\",COUNTIF('Data Input'!C542:AQ542,\"0\"))","v":""},{"$f":"IF(ISBLANK('Data Input'!A542),\"\",SUM(B538,C538))","v":""},{"$f":"IF(ISBLANK('Data Input'!A542),\"\",SUM('Data Input'!C542:AQ542))","v":""},{"$f":"IF(E538=\"\",\"\",E538/(COUNTA('Data Input'!$C$8:$AQ$8)-1))","v":""},{"$f":"IF(ISBLANK('Data Input'!A542),\"\",SUM('Data Input'!H542,'Data Input'!I542,'Data Input'!M542,'Data Input'!N542))","v":""},{"$f":"IF(G538=\"\",\"\",G538/COUNTIF('Data Input'!$C$8:$AQ$8,$G$2))","v":""},{"$f":"IF(ISBLANK('Data Input'!A542),\"\",SUM('Data Input'!J542,'Data Input'!K542,'Data Input'!U542,'Data Input'!V542))","v":""},{"$f":"IF(I538=\"\",\"\",I538/COUNTIF('Data Input'!$C$8:$AQ$8,$I$2))","v":""},{"$f":"IF(ISBLANK('Data Input'!A542),\"\",SUM('Data Input'!D542))","v":""},{"$f":"IF(K538=\"\",\"\",K538/COUNTIF('Data Input'!$C$8:$AQ$8,$K$2))","v":""},{"$f":"IF(ISBLANK('Data Input'!A542),\"\",SUM('Data Input'!O542,'Data Input'!P542,'Data Input'!R542,'Data Input'!S542))","v":""},{"$f":"IF(M538=\"\",\"\",M538/COUNTIF('Data Input'!$C$8:$AQ$8,$M$2))","v":""},{"$f":"IF(ISBLANK('Data Input'!A542),\"\",SUM('Data Input'!C542,'Data Input'!E542,'Data Input'!F542,'Data Input'!G542,'Data Input'!Q542,'Data Input'!T542))","v":""},{"$f":"IF(O538=\"\",\"\",O538/COUNTIF('Data Input'!$C$8:$AQ$8,$O$2))","v":""},{"$f":"IF(ISBLANK('Data Input'!A542),\"\",SUM('Data Input'!L542))","v":""},{"$f":"IF(Q538=\"\",\"\",Q538/COUNTIF('Data Input'!$C$8:$AQ$8,$Q$2))","v":""},{"$f":"IF(ISBLANK('Data Input'!A542),\"\",SUM('Data Input'!X542:AQ542))","v":""},{"$f":"IF(S538=\"\",\"\",S538/COUNTIF('Data Input'!$C$8:$AQ$8,$S$2))","v":""}]
[{"$f":"IF('Data Input'!A543=0,\"\",'Data Input'!A543)","v":""},{"$f":"IF(ISBLANK('Data Input'!A543),\"\",COUNTIF('Data Input'!C543:AQ543,\"\")-1)","v":""},{"$f":"IF(ISBLANK('Data Input'!A543),\"\",COUNTIF('Data Input'!C543:AQ543,\"0\"))","v":""},{"$f":"IF(ISBLANK('Data Input'!A543),\"\",SUM(B539,C539))","v":""},{"$f":"IF(ISBLANK('Data Input'!A543),\"\",SUM('Data Input'!C543:AQ543))","v":""},{"$f":"IF(E539=\"\",\"\",E539/(COUNTA('Data Input'!$C$8:$AQ$8)-1))","v":""},{"$f":"IF(ISBLANK('Data Input'!A543),\"\",SUM('Data Input'!H543,'Data Input'!I543,'Data Input'!M543,'Data Input'!N543))","v":""},{"$f":"IF(G539=\"\",\"\",G539/COUNTIF('Data Input'!$C$8:$AQ$8,$G$2))","v":""},{"$f":"IF(ISBLANK('Data Input'!A543),\"\",SUM('Data Input'!J543,'Data Input'!K543,'Data Input'!U543,'Data Input'!V543))","v":""},{"$f":"IF(I539=\"\",\"\",I539/COUNTIF('Data Input'!$C$8:$AQ$8,$I$2))","v":""},{"$f":"IF(ISBLANK('Data Input'!A543),\"\",SUM('Data Input'!D543))","v":""},{"$f":"IF(K539=\"\",\"\",K539/COUNTIF('Data Input'!$C$8:$AQ$8,$K$2))","v":""},{"$f":"IF(ISBLANK('Data Input'!A543),\"\",SUM('Data Input'!O543,'Data Input'!P543,'Data Input'!R543,'Data Input'!S543))","v":""},{"$f":"IF(M539=\"\",\"\",M539/COUNTIF('Data Input'!$C$8:$AQ$8,$M$2))","v":""},{"$f":"IF(ISBLANK('Data Input'!A543),\"\",SUM('Data Input'!C543,'Data Input'!E543,'Data Input'!F543,'Data Input'!G543,'Data Input'!Q543,'Data Input'!T543))","v":""},{"$f":"IF(O539=\"\",\"\",O539/COUNTIF('Data Input'!$C$8:$AQ$8,$O$2))","v":""},{"$f":"IF(ISBLANK('Data Input'!A543),\"\",SUM('Data Input'!L543))","v":""},{"$f":"IF(Q539=\"\",\"\",Q539/COUNTIF('Data Input'!$C$8:$AQ$8,$Q$2))","v":""},{"$f":"IF(ISBLANK('Data Input'!A543),\"\",SUM('Data Input'!X543:AQ543))","v":""},{"$f":"IF(S539=\"\",\"\",S539/COUNTIF('Data Input'!$C$8:$AQ$8,$S$2))","v":""}]
[{"$f":"IF('Data Input'!A544=0,\"\",'Data Input'!A544)","v":""},{"$f":"IF(ISBLANK('Data Input'!A544),\"\",COUNTIF('Data Input'!C544:AQ544,\"\")-1)","v":""},{"$f":"IF(ISBLANK('Data Input'!A544),\"\",COUNTIF('Data Input'!C544:AQ544,\"0\"))","v":""},{"$f":"IF(ISBLANK('Data Input'!A544),\"\",SUM(B540,C540))","v":""},{"$f":"IF(ISBLANK('Data Input'!A544),\"\",SUM('Data Input'!C544:AQ544))","v":""},{"$f":"IF(E540=\"\",\"\",E540/(COUNTA('Data Input'!$C$8:$AQ$8)-1))","v":""},{"$f":"IF(ISBLANK('Data Input'!A544),\"\",SUM('Data Input'!H544,'Data Input'!I544,'Data Input'!M544,'Data Input'!N544))","v":""},{"$f":"IF(G540=\"\",\"\",G540/COUNTIF('Data Input'!$C$8:$AQ$8,$G$2))","v":""},{"$f":"IF(ISBLANK('Data Input'!A544),\"\",SUM('Data Input'!J544,'Data Input'!K544,'Data Input'!U544,'Data Input'!V544))","v":""},{"$f":"IF(I540=\"\",\"\",I540/COUNTIF('Data Input'!$C$8:$AQ$8,$I$2))","v":""},{"$f":"IF(ISBLANK('Data Input'!A544),\"\",SUM('Data Input'!D544))","v":""},{"$f":"IF(K540=\"\",\"\",K540/COUNTIF('Data Input'!$C$8:$AQ$8,$K$2))","v":""},{"$f":"IF(ISBLANK('Data Input'!A544),\"\",SUM('Data Input'!O544,'Data Input'!P544,'Data Input'!R544,'Data Input'!S544))","v":""},{"$f":"IF(M540=\"\",\"\",M540/COUNTIF('Data Input'!$C$8:$AQ$8,$M$2))","v":""},{"$f":"IF(ISBLANK('Data Input'!A544),\"\",SUM('Data Input'!C544,'Data Input'!E544,'Data Input'!F544,'Data Input'!G544,'Data Input'!Q544,'Data Input'!T544))","v":""},{"$f":"IF(O540=\"\",\"\",O540/COUNTIF('Data Input'!$C$8:$AQ$8,$O$2))","v":""},{"$f":"IF(ISBLANK('Data Input'!A544),\"\",SUM('Data Input'!L544))","v":""},{"$f":"IF(Q540=\"\",\"\",Q540/COUNTIF('Data Input'!$C$8:$AQ$8,$Q$2))","v":""},{"$f":"IF(ISBLANK('Data Input'!A544),\"\",SUM('Data Input'!X544:AQ544))","v":""},{"$f":"IF(S540=\"\",\"\",S540/COUNTIF('Data Input'!$C$8:$AQ$8,$S$2))","v":""}]
[{"$f":"IF('Data Input'!A545=0,\"\",'Data Input'!A545)","v":""},{"$f":"IF(ISBLANK('Data Input'!A545),\"\",COUNTIF('Data Input'!C545:AQ545,\"\")-1)","v":""},{"$f":"IF(ISBLANK('Data Input'!A545),\"\",COUNTIF('Data Input'!C545:AQ545,\"0\"))","v":""},{"$f":"IF(ISBLANK('Data Input'!A545),\"\",SUM(B541,C541))","v":""},{"$f":"IF(ISBLANK('Data Input'!A545),\"\",SUM('Data Input'!C545:AQ545))","v":""},{"$f":"IF(E541=\"\",\"\",E541/(COUNTA('Data Input'!$C$8:$AQ$8)-1))","v":""},{"$f":"IF(ISBLANK('Data Input'!A545),\"\",SUM('Data Input'!H545,'Data Input'!I545,'Data Input'!M545,'Data Input'!N545))","v":""},{"$f":"IF(G541=\"\",\"\",G541/COUNTIF('Data Input'!$C$8:$AQ$8,$G$2))","v":""},{"$f":"IF(ISBLANK('Data Input'!A545),\"\",SUM('Data Input'!J545,'Data Input'!K545,'Data Input'!U545,'Data Input'!V545))","v":""},{"$f":"IF(I541=\"\",\"\",I541/COUNTIF('Data Input'!$C$8:$AQ$8,$I$2))","v":""},{"$f":"IF(ISBLANK('Data Input'!A545),\"\",SUM('Data Input'!D545))","v":""},{"$f":"IF(K541=\"\",\"\",K541/COUNTIF('Data Input'!$C$8:$AQ$8,$K$2))","v":""},{"$f":"IF(ISBLANK('Data Input'!A545),\"\",SUM('Data Input'!O545,'Data Input'!P545,'Data Input'!R545,'Data Input'!S545))","v":""},{"$f":"IF(M541=\"\",\"\",M541/COUNTIF('Data Input'!$C$8:$AQ$8,$M$2))","v":""},{"$f":"IF(ISBLANK('Data Input'!A545),\"\",SUM('Data Input'!C545,'Data Input'!E545,'Data Input'!F545,'Data Input'!G545,'Data Input'!Q545,'Data Input'!T545))","v":""},{"$f":"IF(O541=\"\",\"\",O541/COUNTIF('Data Input'!$C$8:$AQ$8,$O$2))","v":""},{"$f":"IF(ISBLANK('Data Input'!A545),\"\",SUM('Data Input'!L545))","v":""},{"$f":"IF(Q541=\"\",\"\",Q541/COUNTIF('Data Input'!$C$8:$AQ$8,$Q$2))","v":""},{"$f":"IF(ISBLANK('Data Input'!A545),\"\",SUM('Data Input'!X545:AQ545))","v":""},{"$f":"IF(S541=\"\",\"\",S541/COUNTIF('Data Input'!$C$8:$AQ$8,$S$2))","v":""}]
[{"$f":"IF('Data Input'!A546=0,\"\",'Data Input'!A546)","v":""},{"$f":"IF(ISBLANK('Data Input'!A546),\"\",COUNTIF('Data Input'!C546:AQ546,\"\")-1)","v":""},{"$f":"IF(ISBLANK('Data Input'!A546),\"\",COUNTIF('Data Input'!C546:AQ546,\"0\"))","v":""},{"$f":"IF(ISBLANK('Data Input'!A546),\"\",SUM(B542,C542))","v":""},{"$f":"IF(ISBLANK('Data Input'!A546),\"\",SUM('Data Input'!C546:AQ546))","v":""},{"$f":"IF(E542=\"\",\"\",E542/(COUNTA('Data Input'!$C$8:$AQ$8)-1))","v":""},{"$f":"IF(ISBLANK('Data Input'!A546),\"\",SUM('Data Input'!H546,'Data Input'!I546,'Data Input'!M546,'Data Input'!N546))","v":""},{"$f":"IF(G542=\"\",\"\",G542/COUNTIF('Data Input'!$C$8:$AQ$8,$G$2))","v":""},{"$f":"IF(ISBLANK('Data Input'!A546),\"\",SUM('Data Input'!J546,'Data Input'!K546,'Data Input'!U546,'Data Input'!V546))","v":""},{"$f":"IF(I542=\"\",\"\",I542/COUNTIF('Data Input'!$C$8:$AQ$8,$I$2))","v":""},{"$f":"IF(ISBLANK('Data Input'!A546),\"\",SUM('Data Input'!D546))","v":""},{"$f":"IF(K542=\"\",\"\",K542/COUNTIF('Data Input'!$C$8:$AQ$8,$K$2))","v":""},{"$f":"IF(ISBLANK('Data Input'!A546),\"\",SUM('Data Input'!O546,'Data Input'!P546,'Data Input'!R546,'Data Input'!S546))","v":""},{"$f":"IF(M542=\"\",\"\",M542/COUNTIF('Data Input'!$C$8:$AQ$8,$M$2))","v":""},{"$f":"IF(ISBLANK('Data Input'!A546),\"\",SUM('Data Input'!C546,'Data Input'!E546,'Data Input'!F546,'Data Input'!G546,'Data Input'!Q546,'Data Input'!T546))","v":""},{"$f":"IF(O542=\"\",\"\",O542/COUNTIF('Data Input'!$C$8:$AQ$8,$O$2))","v":""},{"$f":"IF(ISBLANK('Data Input'!A546),\"\",SUM('Data Input'!L546))","v":""},{"$f":"IF(Q542=\"\",\"\",Q542/COUNTIF('Data Input'!$C$8:$AQ$8,$Q$2))","v":""},{"$f":"IF(ISBLANK('Data Input'!A546),\"\",SUM('Data Input'!X546:AQ546))","v":""},{"$f":"IF(S542=\"\",\"\",S542/COUNTIF('Data Input'!$C$8:$AQ$8,$S$2))","v":""}]
[{"$f":"IF('Data Input'!A547=0,\"\",'Data Input'!A547)","v":""},{"$f":"IF(ISBLANK('Data Input'!A547),\"\",COUNTIF('Data Input'!C547:AQ547,\"\")-1)","v":""},{"$f":"IF(ISBLANK('Data Input'!A547),\"\",COUNTIF('Data Input'!C547:AQ547,\"0\"))","v":""},{"$f":"IF(ISBLANK('Data Input'!A547),\"\",SUM(B543,C543))","v":""},{"$f":"IF(ISBLANK('Data Input'!A547),\"\",SUM('Data Input'!C547:AQ547))","v":""},{"$f":"IF(E543=\"\",\"\",E543/(COUNTA('Data Input'!$C$8:$AQ$8)-1))","v":""},{"$f":"IF(ISBLANK('Data Input'!A547),\"\",SUM('Data Input'!H547,'Data Input'!I547,'Data Input'!M547,'Data Input'!N547))","v":""},{"$f":"IF(G543=\"\",\"\",G543/COUNTIF('Data Input'!$C$8:$AQ$8,$G$2))","v":""},{"$f":"IF(ISBLANK('Data Input'!A547),\"\",SUM('Data Input'!J547,'Data Input'!K547,'Data Input'!U547,'Data Input'!V547))","v":""},{"$f":"IF(I543=\"\",\"\",I543/COUNTIF('Data Input'!$C$8:$AQ$8,$I$2))","v":""},{"$f":"IF(ISBLANK('Data Input'!A547),\"\",SUM('Data Input'!D547))","v":""},{"$f":"IF(K543=\"\",\"\",K543/COUNTIF('Data Input'!$C$8:$AQ$8,$K$2))","v":""},{"$f":"IF(ISBLANK('Data Input'!A547),\"\",SUM('Data Input'!O547,'Data Input'!P547,'Data Input'!R547,'Data Input'!S547))","v":""},{"$f":"IF(M543=\"\",\"\",M543/COUNTIF('Data Input'!$C$8:$AQ$8,$M$2))","v":""},{"$f":"IF(ISBLANK('Data Input'!A547),\"\",SUM('Data Input'!C547,'Data Input'!E547,'Data Input'!F547,'Data Input'!G547,'Data Input'!Q547,'Data Input'!T547))","v":""},{"$f":"IF(O543=\"\",\"\",O543/COUNTIF('Data Input'!$C$8:$AQ$8,$O$2))","v":""},{"$f":"IF(ISBLANK('Data Input'!A547),\"\",SUM('Data Input'!L547))","v":""},{"$f":"IF(Q543=\"\",\"\",Q543/COUNTIF('Data Input'!$C$8:$AQ$8,$Q$2))","v":""},{"$f":"IF(ISBLANK('Data Input'!A547),\"\",SUM('Data Input'!X547:AQ547))","v":""},{"$f":"IF(S543=\"\",\"\",S543/COUNTIF('Data Input'!$C$8:$AQ$8,$S$2))","v":""}]
[{"$f":"IF('Data Input'!A548=0,\"\",'Data Input'!A548)","v":""},{"$f":"IF(ISBLANK('Data Input'!A548),\"\",COUNTIF('Data Input'!C548:AQ548,\"\")-1)","v":""},{"$f":"IF(ISBLANK('Data Input'!A548),\"\",COUNTIF('Data Input'!C548:AQ548,\"0\"))","v":""},{"$f":"IF(ISBLANK('Data Input'!A548),\"\",SUM(B544,C544))","v":""},{"$f":"IF(ISBLANK('Data Input'!A548),\"\",SUM('Data Input'!C548:AQ548))","v":""},{"$f":"IF(E544=\"\",\"\",E544/(COUNTA('Data Input'!$C$8:$AQ$8)-1))","v":""},{"$f":"IF(ISBLANK('Data Input'!A548),\"\",SUM('Data Input'!H548,'Data Input'!I548,'Data Input'!M548,'Data Input'!N548))","v":""},{"$f":"IF(G544=\"\",\"\",G544/COUNTIF('Data Input'!$C$8:$AQ$8,$G$2))","v":""},{"$f":"IF(ISBLANK('Data Input'!A548),\"\",SUM('Data Input'!J548,'Data Input'!K548,'Data Input'!U548,'Data Input'!V548))","v":""},{"$f":"IF(I544=\"\",\"\",I544/COUNTIF('Data Input'!$C$8:$AQ$8,$I$2))","v":""},{"$f":"IF(ISBLANK('Data Input'!A548),\"\",SUM('Data Input'!D548))","v":""},{"$f":"IF(K544=\"\",\"\",K544/COUNTIF('Data Input'!$C$8:$AQ$8,$K$2))","v":""},{"$f":"IF(ISBLANK('Data Input'!A548),\"\",SUM('Data Input'!O548,'Data Input'!P548,'Data Input'!R548,'Data Input'!S548))","v":""},{"$f":"IF(M544=\"\",\"\",M544/COUNTIF('Data Input'!$C$8:$AQ$8,$M$2))","v":""},{"$f":"IF(ISBLANK('Data Input'!A548),\"\",SUM('Data Input'!C548,'Data Input'!E548,'Data Input'!F548,'Data Input'!G548,'Data Input'!Q548,'Data Input'!T548))","v":""},{"$f":"IF(O544=\"\",\"\",O544/COUNTIF('Data Input'!$C$8:$AQ$8,$O$2))","v":""},{"$f":"IF(ISBLANK('Data Input'!A548),\"\",SUM('Data Input'!L548))","v":""},{"$f":"IF(Q544=\"\",\"\",Q544/COUNTIF('Data Input'!$C$8:$AQ$8,$Q$2))","v":""},{"$f":"IF(ISBLANK('Data Input'!A548),\"\",SUM('Data Input'!X548:AQ548))","v":""},{"$f":"IF(S544=\"\",\"\",S544/COUNTIF('Data Input'!$C$8:$AQ$8,$S$2))","v":""}]
[{"$f":"IF('Data Input'!A549=0,\"\",'Data Input'!A549)","v":""},{"$f":"IF(ISBLANK('Data Input'!A549),\"\",COUNTIF('Data Input'!C549:AQ549,\"\")-1)","v":""},{"$f":"IF(ISBLANK('Data Input'!A549),\"\",COUNTIF('Data Input'!C549:AQ549,\"0\"))","v":""},{"$f":"IF(ISBLANK('Data Input'!A549),\"\",SUM(B545,C545))","v":""},{"$f":"IF(ISBLANK('Data Input'!A549),\"\",SUM('Data Input'!C549:AQ549))","v":""},{"$f":"IF(E545=\"\",\"\",E545/(COUNTA('Data Input'!$C$8:$AQ$8)-1))","v":""},{"$f":"IF(ISBLANK('Data Input'!A549),\"\",SUM('Data Input'!H549,'Data Input'!I549,'Data Input'!M549,'Data Input'!N549))","v":""},{"$f":"IF(G545=\"\",\"\",G545/COUNTIF('Data Input'!$C$8:$AQ$8,$G$2))","v":""},{"$f":"IF(ISBLANK('Data Input'!A549),\"\",SUM('Data Input'!J549,'Data Input'!K549,'Data Input'!U549,'Data Input'!V549))","v":""},{"$f":"IF(I545=\"\",\"\",I545/COUNTIF('Data Input'!$C$8:$AQ$8,$I$2))","v":""},{"$f":"IF(ISBLANK('Data Input'!A549),\"\",SUM('Data Input'!D549))","v":""},{"$f":"IF(K545=\"\",\"\",K545/COUNTIF('Data Input'!$C$8:$AQ$8,$K$2))","v":""},{"$f":"IF(ISBLANK('Data Input'!A549),\"\",SUM('Data Input'!O549,'Data Input'!P549,'Data Input'!R549,'Data Input'!S549))","v":""},{"$f":"IF(M545=\"\",\"\",M545/COUNTIF('Data Input'!$C$8:$AQ$8,$M$2))","v":""},{"$f":"IF(ISBLANK('Data Input'!A549),\"\",SUM('Data Input'!C549,'Data Input'!E549,'Data Input'!F549,'Data Input'!G549,'Data Input'!Q549,'Data Input'!T549))","v":""},{"$f":"IF(O545=\"\",\"\",O545/COUNTIF('Data Input'!$C$8:$AQ$8,$O$2))","v":""},{"$f":"IF(ISBLANK('Data Input'!A549),\"\",SUM('Data Input'!L549))","v":""},{"$f":"IF(Q545=\"\",\"\",Q545/COUNTIF('Data Input'!$C$8:$AQ$8,$Q$2))","v":""},{"$f":"IF(ISBLANK('Data Input'!A549),\"\",SUM('Data Input'!X549:AQ549))","v":""},{"$f":"IF(S545=\"\",\"\",S545/COUNTIF('Data Input'!$C$8:$AQ$8,$S$2))","v":""}]
[{"$f":"IF('Data Input'!A550=0,\"\",'Data Input'!A550)","v":""},{"$f":"IF(ISBLANK('Data Input'!A550),\"\",COUNTIF('Data Input'!C550:AQ550,\"\")-1)","v":""},{"$f":"IF(ISBLANK('Data Input'!A550),\"\",COUNTIF('Data Input'!C550:AQ550,\"0\"))","v":""},{"$f":"IF(ISBLANK('Data Input'!A550),\"\",SUM(B546,C546))","v":""},{"$f":"IF(ISBLANK('Data Input'!A550),\"\",SUM('Data Input'!C550:AQ550))","v":""},{"$f":"IF(E546=\"\",\"\",E546/(COUNTA('Data Input'!$C$8:$AQ$8)-1))","v":""},{"$f":"IF(ISBLANK('Data Input'!A550),\"\",SUM('Data Input'!H550,'Data Input'!I550,'Data Input'!M550,'Data Input'!N550))","v":""},{"$f":"IF(G546=\"\",\"\",G546/COUNTIF('Data Input'!$C$8:$AQ$8,$G$2))","v":""},{"$f":"IF(ISBLANK('Data Input'!A550),\"\",SUM('Data Input'!J550,'Data Input'!K550,'Data Input'!U550,'Data Input'!V550))","v":""},{"$f":"IF(I546=\"\",\"\",I546/COUNTIF('Data Input'!$C$8:$AQ$8,$I$2))","v":""},{"$f":"IF(ISBLANK('Data Input'!A550),\"\",SUM('Data Input'!D550))","v":""},{"$f":"IF(K546=\"\",\"\",K546/COUNTIF('Data Input'!$C$8:$AQ$8,$K$2))","v":""},{"$f":"IF(ISBLANK('Data Input'!A550),\"\",SUM('Data Input'!O550,'Data Input'!P550,'Data Input'!R550,'Data Input'!S550))","v":""},{"$f":"IF(M546=\"\",\"\",M546/COUNTIF('Data Input'!$C$8:$AQ$8,$M$2))","v":""},{"$f":"IF(ISBLANK('Data Input'!A550),\"\",SUM('Data Input'!C550,'Data Input'!E550,'Data Input'!F550,'Data Input'!G550,'Data Input'!Q550,'Data Input'!T550))","v":""},{"$f":"IF(O546=\"\",\"\",O546/COUNTIF('Data Input'!$C$8:$AQ$8,$O$2))","v":""},{"$f":"IF(ISBLANK('Data Input'!A550),\"\",SUM('Data Input'!L550))","v":""},{"$f":"IF(Q546=\"\",\"\",Q546/COUNTIF('Data Input'!$C$8:$AQ$8,$Q$2))","v":""},{"$f":"IF(ISBLANK('Data Input'!A550),\"\",SUM('Data Input'!X550:AQ550))","v":""},{"$f":"IF(S546=\"\",\"\",S546/COUNTIF('Data Input'!$C$8:$AQ$8,$S$2))","v":""}]
[{"$f":"IF('Data Input'!A551=0,\"\",'Data Input'!A551)","v":""},{"$f":"IF(ISBLANK('Data Input'!A551),\"\",COUNTIF('Data Input'!C551:AQ551,\"\")-1)","v":""},{"$f":"IF(ISBLANK('Data Input'!A551),\"\",COUNTIF('Data Input'!C551:AQ551,\"0\"))","v":""},{"$f":"IF(ISBLANK('Data Input'!A551),\"\",SUM(B547,C547))","v":""},{"$f":"IF(ISBLANK('Data Input'!A551),\"\",SUM('Data Input'!C551:AQ551))","v":""},{"$f":"IF(E547=\"\",\"\",E547/(COUNTA('Data Input'!$C$8:$AQ$8)-1))","v":""},{"$f":"IF(ISBLANK('Data Input'!A551),\"\",SUM('Data Input'!H551,'Data Input'!I551,'Data Input'!M551,'Data Input'!N551))","v":""},{"$f":"IF(G547=\"\",\"\",G547/COUNTIF('Data Input'!$C$8:$AQ$8,$G$2))","v":""},{"$f":"IF(ISBLANK('Data Input'!A551),\"\",SUM('Data Input'!J551,'Data Input'!K551,'Data Input'!U551,'Data Input'!V551))","v":""},{"$f":"IF(I547=\"\",\"\",I547/COUNTIF('Data Input'!$C$8:$AQ$8,$I$2))","v":""},{"$f":"IF(ISBLANK('Data Input'!A551),\"\",SUM('Data Input'!D551))","v":""},{"$f":"IF(K547=\"\",\"\",K547/COUNTIF('Data Input'!$C$8:$AQ$8,$K$2))","v":""},{"$f":"IF(ISBLANK('Data Input'!A551),\"\",SUM('Data Input'!O551,'Data Input'!P551,'Data Input'!R551,'Data Input'!S551))","v":""},{"$f":"IF(M547=\"\",\"\",M547/COUNTIF('Data Input'!$C$8:$AQ$8,$M$2))","v":""},{"$f":"IF(ISBLANK('Data Input'!A551),\"\",SUM('Data Input'!C551,'Data Input'!E551,'Data Input'!F551,'Data Input'!G551,'Data Input'!Q551,'Data Input'!T551))","v":""},{"$f":"IF(O547=\"\",\"\",O547/COUNTIF('Data Input'!$C$8:$AQ$8,$O$2))","v":""},{"$f":"IF(ISBLANK('Data Input'!A551),\"\",SUM('Data Input'!L551))","v":""},{"$f":"IF(Q547=\"\",\"\",Q547/COUNTIF('Data Input'!$C$8:$AQ$8,$Q$2))","v":""},{"$f":"IF(ISBLANK('Data Input'!A551),\"\",SUM('Data Input'!X551:AQ551))","v":""},{"$f":"IF(S547=\"\",\"\",S547/COUNTIF('Data Input'!$C$8:$AQ$8,$S$2))","v":""}]
[{"$f":"IF('Data Input'!A552=0,\"\",'Data Input'!A552)","v":""},{"$f":"IF(ISBLANK('Data Input'!A552),\"\",COUNTIF('Data Input'!C552:AQ552,\"\")-1)","v":""},{"$f":"IF(ISBLANK('Data Input'!A552),\"\",COUNTIF('Data Input'!C552:AQ552,\"0\"))","v":""},{"$f":"IF(ISBLANK('Data Input'!A552),\"\",SUM(B548,C548))","v":""},{"$f":"IF(ISBLANK('Data Input'!A552),\"\",SUM('Data Input'!C552:AQ552))","v":""},{"$f":"IF(E548=\"\",\"\",E548/(COUNTA('Data Input'!$C$8:$AQ$8)-1))","v":""},{"$f":"IF(ISBLANK('Data Input'!A552),\"\",SUM('Data Input'!H552,'Data Input'!I552,'Data Input'!M552,'Data Input'!N552))","v":""},{"$f":"IF(G548=\"\",\"\",G548/COUNTIF('Data Input'!$C$8:$AQ$8,$G$2))","v":""},{"$f":"IF(ISBLANK('Data Input'!A552),\"\",SUM('Data Input'!J552,'Data Input'!K552,'Data Input'!U552,'Data Input'!V552))","v":""},{"$f":"IF(I548=\"\",\"\",I548/COUNTIF('Data Input'!$C$8:$AQ$8,$I$2))","v":""},{"$f":"IF(ISBLANK('Data Input'!A552),\"\",SUM('Data Input'!D552))","v":""},{"$f":"IF(K548=\"\",\"\",K548/COUNTIF('Data Input'!$C$8:$AQ$8,$K$2))","v":""},{"$f":"IF(ISBLANK('Data Input'!A552),\"\",SUM('Data Input'!O552,'Data Input'!P552,'Data Input'!R552,'Data Input'!S552))","v":""},{"$f":"IF(M548=\"\",\"\",M548/COUNTIF('Data Input'!$C$8:$AQ$8,$M$2))","v":""},{"$f":"IF(ISBLANK('Data Input'!A552),\"\",SUM('Data Input'!C552,'Data Input'!E552,'Data Input'!F552,'Data Input'!G552,'Data Input'!Q552,'Data Input'!T552))","v":""},{"$f":"IF(O548=\"\",\"\",O548/COUNTIF('Data Input'!$C$8:$AQ$8,$O$2))","v":""},{"$f":"IF(ISBLANK('Data Input'!A552),\"\",SUM('Data Input'!L552))","v":""},{"$f":"IF(Q548=\"\",\"\",Q548/COUNTIF('Data Input'!$C$8:$AQ$8,$Q$2))","v":""},{"$f":"IF(ISBLANK('Data Input'!A552),\"\",SUM('Data Input'!X552:AQ552))","v":""},{"$f":"IF(S548=\"\",\"\",S548/COUNTIF('Data Input'!$C$8:$AQ$8,$S$2))","v":""}]
[{"$f":"IF('Data Input'!A553=0,\"\",'Data Input'!A553)","v":""},{"$f":"IF(ISBLANK('Data Input'!A553),\"\",COUNTIF('Data Input'!C553:AQ553,\"\")-1)","v":""},{"$f":"IF(ISBLANK('Data Input'!A553),\"\",COUNTIF('Data Input'!C553:AQ553,\"0\"))","v":""},{"$f":"IF(ISBLANK('Data Input'!A553),\"\",SUM(B549,C549))","v":""},{"$f":"IF(ISBLANK('Data Input'!A553),\"\",SUM('Data Input'!C553:AQ553))","v":""},{"$f":"IF(E549=\"\",\"\",E549/(COUNTA('Data Input'!$C$8:$AQ$8)-1))","v":""},{"$f":"IF(ISBLANK('Data Input'!A553),\"\",SUM('Data Input'!H553,'Data Input'!I553,'Data Input'!M553,'Data Input'!N553))","v":""},{"$f":"IF(G549=\"\",\"\",G549/COUNTIF('Data Input'!$C$8:$AQ$8,$G$2))","v":""},{"$f":"IF(ISBLANK('Data Input'!A553),\"\",SUM('Data Input'!J553,'Data Input'!K553,'Data Input'!U553,'Data Input'!V553))","v":""},{"$f":"IF(I549=\"\",\"\",I549/COUNTIF('Data Input'!$C$8:$AQ$8,$I$2))","v":""},{"$f":"IF(ISBLANK('Data Input'!A553),\"\",SUM('Data Input'!D553))","v":""},{"$f":"IF(K549=\"\",\"\",K549/COUNTIF('Data Input'!$C$8:$AQ$8,$K$2))","v":""},{"$f":"IF(ISBLANK('Data Input'!A553),\"\",SUM('Data Input'!O553,'Data Input'!P553,'Data Input'!R553,'Data Input'!S553))","v":""},{"$f":"IF(M549=\"\",\"\",M549/COUNTIF('Data Input'!$C$8:$AQ$8,$M$2))","v":""},{"$f":"IF(ISBLANK('Data Input'!A553),\"\",SUM('Data Input'!C553,'Data Input'!E553,'Data Input'!F553,'Data Input'!G553,'Data Input'!Q553,'Data Input'!T553))","v":""},{"$f":"IF(O549=\"\",\"\",O549/COUNTIF('Data Input'!$C$8:$AQ$8,$O$2))","v":""},{"$f":"IF(ISBLANK('Data Input'!A553),\"\",SUM('Data Input'!L553))","v":""},{"$f":"IF(Q549=\"\",\"\",Q549/COUNTIF('Data Input'!$C$8:$AQ$8,$Q$2))","v":""},{"$f":"IF(ISBLANK('Data Input'!A553),\"\",SUM('Data Input'!X553:AQ553))","v":""},{"$f":"IF(S549=\"\",\"\",S549/COUNTIF('Data Input'!$C$8:$AQ$8,$S$2))","v":""}]
[{"$f":"IF('Data Input'!A554=0,\"\",'Data Input'!A554)","v":""},{"$f":"IF(ISBLANK('Data Input'!A554),\"\",COUNTIF('Data Input'!C554:AQ554,\"\")-1)","v":""},{"$f":"IF(ISBLANK('Data Input'!A554),\"\",COUNTIF('Data Input'!C554:AQ554,\"0\"))","v":""},{"$f":"IF(ISBLANK('Data Input'!A554),\"\",SUM(B550,C550))","v":""},{"$f":"IF(ISBLANK('Data Input'!A554),\"\",SUM('Data Input'!C554:AQ554))","v":""},{"$f":"IF(E550=\"\",\"\",E550/(COUNTA('Data Input'!$C$8:$AQ$8)-1))","v":""},{"$f":"IF(ISBLANK('Data Input'!A554),\"\",SUM('Data Input'!H554,'Data Input'!I554,'Data Input'!M554,'Data Input'!N554))","v":""},{"$f":"IF(G550=\"\",\"\",G550/COUNTIF('Data Input'!$C$8:$AQ$8,$G$2))","v":""},{"$f":"IF(ISBLANK('Data Input'!A554),\"\",SUM('Data Input'!J554,'Data Input'!K554,'Data Input'!U554,'Data Input'!V554))","v":""},{"$f":"IF(I550=\"\",\"\",I550/COUNTIF('Data Input'!$C$8:$AQ$8,$I$2))","v":""},{"$f":"IF(ISBLANK('Data Input'!A554),\"\",SUM('Data Input'!D554))","v":""},{"$f":"IF(K550=\"\",\"\",K550/COUNTIF('Data Input'!$C$8:$AQ$8,$K$2))","v":""},{"$f":"IF(ISBLANK('Data Input'!A554),\"\",SUM('Data Input'!O554,'Data Input'!P554,'Data Input'!R554,'Data Input'!S554))","v":""},{"$f":"IF(M550=\"\",\"\",M550/COUNTIF('Data Input'!$C$8:$AQ$8,$M$2))","v":""},{"$f":"IF(ISBLANK('Data Input'!A554),\"\",SUM('Data Input'!C554,'Data Input'!E554,'Data Input'!F554,'Data Input'!G554,'Data Input'!Q554,'Data Input'!T554))","v":""},{"$f":"IF(O550=\"\",\"\",O550/COUNTIF('Data Input'!$C$8:$AQ$8,$O$2))","v":""},{"$f":"IF(ISBLANK('Data Input'!A554),\"\",SUM('Data Input'!L554))","v":""},{"$f":"IF(Q550=\"\",\"\",Q550/COUNTIF('Data Input'!$C$8:$AQ$8,$Q$2))","v":""},{"$f":"IF(ISBLANK('Data Input'!A554),\"\",SUM('Data Input'!X554:AQ554))","v":""},{"$f":"IF(S550=\"\",\"\",S550/COUNTIF('Data Input'!$C$8:$AQ$8,$S$2))","v":""}]
[{"$f":"IF('Data Input'!A555=0,\"\",'Data Input'!A555)","v":""},{"$f":"IF(ISBLANK('Data Input'!A555),\"\",COUNTIF('Data Input'!C555:AQ555,\"\")-1)","v":""},{"$f":"IF(ISBLANK('Data Input'!A555),\"\",COUNTIF('Data Input'!C555:AQ555,\"0\"))","v":""},{"$f":"IF(ISBLANK('Data Input'!A555),\"\",SUM(B551,C551))","v":""},{"$f":"IF(ISBLANK('Data Input'!A555),\"\",SUM('Data Input'!C555:AQ555))","v":""},{"$f":"IF(E551=\"\",\"\",E551/(COUNTA('Data Input'!$C$8:$AQ$8)-1))","v":""},{"$f":"IF(ISBLANK('Data Input'!A555),\"\",SUM('Data Input'!H555,'Data Input'!I555,'Data Input'!M555,'Data Input'!N555))","v":""},{"$f":"IF(G551=\"\",\"\",G551/COUNTIF('Data Input'!$C$8:$AQ$8,$G$2))","v":""},{"$f":"IF(ISBLANK('Data Input'!A555),\"\",SUM('Data Input'!J555,'Data Input'!K555,'Data Input'!U555,'Data Input'!V555))","v":""},{"$f":"IF(I551=\"\",\"\",I551/COUNTIF('Data Input'!$C$8:$AQ$8,$I$2))","v":""},{"$f":"IF(ISBLANK('Data Input'!A555),\"\",SUM('Data Input'!D555))","v":""},{"$f":"IF(K551=\"\",\"\",K551/COUNTIF('Data Input'!$C$8:$AQ$8,$K$2))","v":""},{"$f":"IF(ISBLANK('Data Input'!A555),\"\",SUM('Data Input'!O555,'Data Input'!P555,'Data Input'!R555,'Data Input'!S555))","v":""},{"$f":"IF(M551=\"\",\"\",M551/COUNTIF('Data Input'!$C$8:$AQ$8,$M$2))","v":""},{"$f":"IF(ISBLANK('Data Input'!A555),\"\",SUM('Data Input'!C555,'Data Input'!E555,'Data Input'!F555,'Data Input'!G555,'Data Input'!Q555,'Data Input'!T555))","v":""},{"$f":"IF(O551=\"\",\"\",O551/COUNTIF('Data Input'!$C$8:$AQ$8,$O$2))","v":""},{"$f":"IF(ISBLANK('Data Input'!A555),\"\",SUM('Data Input'!L555))","v":""},{"$f":"IF(Q551=\"\",\"\",Q551/COUNTIF('Data Input'!$C$8:$AQ$8,$Q$2))","v":""},{"$f":"IF(ISBLANK('Data Input'!A555),\"\",SUM('Data Input'!X555:AQ555))","v":""},{"$f":"IF(S551=\"\",\"\",S551/COUNTIF('Data Input'!$C$8:$AQ$8,$S$2))","v":""}]
[{"$f":"IF('Data Input'!A556=0,\"\",'Data Input'!A556)","v":""},{"$f":"IF(ISBLANK('Data Input'!A556),\"\",COUNTIF('Data Input'!C556:AQ556,\"\")-1)","v":""},{"$f":"IF(ISBLANK('Data Input'!A556),\"\",COUNTIF('Data Input'!C556:AQ556,\"0\"))","v":""},{"$f":"IF(ISBLANK('Data Input'!A556),\"\",SUM(B552,C552))","v":""},{"$f":"IF(ISBLANK('Data Input'!A556),\"\",SUM('Data Input'!C556:AQ556))","v":""},{"$f":"IF(E552=\"\",\"\",E552/(COUNTA('Data Input'!$C$8:$AQ$8)-1))","v":""},{"$f":"IF(ISBLANK('Data Input'!A556),\"\",SUM('Data Input'!H556,'Data Input'!I556,'Data Input'!M556,'Data Input'!N556))","v":""},{"$f":"IF(G552=\"\",\"\",G552/COUNTIF('Data Input'!$C$8:$AQ$8,$G$2))","v":""},{"$f":"IF(ISBLANK('Data Input'!A556),\"\",SUM('Data Input'!J556,'Data Input'!K556,'Data Input'!U556,'Data Input'!V556))","v":""},{"$f":"IF(I552=\"\",\"\",I552/COUNTIF('Data Input'!$C$8:$AQ$8,$I$2))","v":""},{"$f":"IF(ISBLANK('Data Input'!A556),\"\",SUM('Data Input'!D556))","v":""},{"$f":"IF(K552=\"\",\"\",K552/COUNTIF('Data Input'!$C$8:$AQ$8,$K$2))","v":""},{"$f":"IF(ISBLANK('Data Input'!A556),\"\",SUM('Data Input'!O556,'Data Input'!P556,'Data Input'!R556,'Data Input'!S556))","v":""},{"$f":"IF(M552=\"\",\"\",M552/COUNTIF('Data Input'!$C$8:$AQ$8,$M$2))","v":""},{"$f":"IF(ISBLANK('Data Input'!A556),\"\",SUM('Data Input'!C556,'Data Input'!E556,'Data Input'!F556,'Data Input'!G556,'Data Input'!Q556,'Data Input'!T556))","v":""},{"$f":"IF(O552=\"\",\"\",O552/COUNTIF('Data Input'!$C$8:$AQ$8,$O$2))","v":""},{"$f":"IF(ISBLANK('Data Input'!A556),\"\",SUM('Data Input'!L556))","v":""},{"$f":"IF(Q552=\"\",\"\",Q552/COUNTIF('Data Input'!$C$8:$AQ$8,$Q$2))","v":""},{"$f":"IF(ISBLANK('Data Input'!A556),\"\",SUM('Data Input'!X556:AQ556))","v":""},{"$f":"IF(S552=\"\",\"\",S552/COUNTIF('Data Input'!$C$8:$AQ$8,$S$2))","v":""}]
[{"$f":"IF('Data Input'!A557=0,\"\",'Data Input'!A557)","v":""},{"$f":"IF(ISBLANK('Data Input'!A557),\"\",COUNTIF('Data Input'!C557:AQ557,\"\")-1)","v":""},{"$f":"IF(ISBLANK('Data Input'!A557),\"\",COUNTIF('Data Input'!C557:AQ557,\"0\"))","v":""},{"$f":"IF(ISBLANK('Data Input'!A557),\"\",SUM(B553,C553))","v":""},{"$f":"IF(ISBLANK('Data Input'!A557),\"\",SUM('Data Input'!C557:AQ557))","v":""},{"$f":"IF(E553=\"\",\"\",E553/(COUNTA('Data Input'!$C$8:$AQ$8)-1))","v":""},{"$f":"IF(ISBLANK('Data Input'!A557),\"\",SUM('Data Input'!H557,'Data Input'!I557,'Data Input'!M557,'Data Input'!N557))","v":""},{"$f":"IF(G553=\"\",\"\",G553/COUNTIF('Data Input'!$C$8:$AQ$8,$G$2))","v":""},{"$f":"IF(ISBLANK('Data Input'!A557),\"\",SUM('Data Input'!J557,'Data Input'!K557,'Data Input'!U557,'Data Input'!V557))","v":""},{"$f":"IF(I553=\"\",\"\",I553/COUNTIF('Data Input'!$C$8:$AQ$8,$I$2))","v":""},{"$f":"IF(ISBLANK('Data Input'!A557),\"\",SUM('Data Input'!D557))","v":""},{"$f":"IF(K553=\"\",\"\",K553/COUNTIF('Data Input'!$C$8:$AQ$8,$K$2))","v":""},{"$f":"IF(ISBLANK('Data Input'!A557),\"\",SUM('Data Input'!O557,'Data Input'!P557,'Data Input'!R557,'Data Input'!S557))","v":""},{"$f":"IF(M553=\"\",\"\",M553/COUNTIF('Data Input'!$C$8:$AQ$8,$M$2))","v":""},{"$f":"IF(ISBLANK('Data Input'!A557),\"\",SUM('Data Input'!C557,'Data Input'!E557,'Data Input'!F557,'Data Input'!G557,'Data Input'!Q557,'Data Input'!T557))","v":""},{"$f":"IF(O553=\"\",\"\",O553/COUNTIF('Data Input'!$C$8:$AQ$8,$O$2))","v":""},{"$f":"IF(ISBLANK('Data Input'!A557),\"\",SUM('Data Input'!L557))","v":""},{"$f":"IF(Q553=\"\",\"\",Q553/COUNTIF('Data Input'!$C$8:$AQ$8,$Q$2))","v":""},{"$f":"IF(ISBLANK('Data Input'!A557),\"\",SUM('Data Input'!X557:AQ557))","v":""},{"$f":"IF(S553=\"\",\"\",S553/COUNTIF('Data Input'!$C$8:$AQ$8,$S$2))","v":""}]
[{"$f":"IF('Data Input'!A558=0,\"\",'Data Input'!A558)","v":""},{"$f":"IF(ISBLANK('Data Input'!A558),\"\",COUNTIF('Data Input'!C558:AQ558,\"\")-1)","v":""},{"$f":"IF(ISBLANK('Data Input'!A558),\"\",COUNTIF('Data Input'!C558:AQ558,\"0\"))","v":""},{"$f":"IF(ISBLANK('Data Input'!A558),\"\",SUM(B554,C554))","v":""},{"$f":"IF(ISBLANK('Data Input'!A558),\"\",SUM('Data Input'!C558:AQ558))","v":""},{"$f":"IF(E554=\"\",\"\",E554/(COUNTA('Data Input'!$C$8:$AQ$8)-1))","v":""},{"$f":"IF(ISBLANK('Data Input'!A558),\"\",SUM('Data Input'!H558,'Data Input'!I558,'Data Input'!M558,'Data Input'!N558))","v":""},{"$f":"IF(G554=\"\",\"\",G554/COUNTIF('Data Input'!$C$8:$AQ$8,$G$2))","v":""},{"$f":"IF(ISBLANK('Data Input'!A558),\"\",SUM('Data Input'!J558,'Data Input'!K558,'Data Input'!U558,'Data Input'!V558))","v":""},{"$f":"IF(I554=\"\",\"\",I554/COUNTIF('Data Input'!$C$8:$AQ$8,$I$2))","v":""},{"$f":"IF(ISBLANK('Data Input'!A558),\"\",SUM('Data Input'!D558))","v":""},{"$f":"IF(K554=\"\",\"\",K554/COUNTIF('Data Input'!$C$8:$AQ$8,$K$2))","v":""},{"$f":"IF(ISBLANK('Data Input'!A558),\"\",SUM('Data Input'!O558,'Data Input'!P558,'Data Input'!R558,'Data Input'!S558))","v":""},{"$f":"IF(M554=\"\",\"\",M554/COUNTIF('Data Input'!$C$8:$AQ$8,$M$2))","v":""},{"$f":"IF(ISBLANK('Data Input'!A558),\"\",SUM('Data Input'!C558,'Data Input'!E558,'Data Input'!F558,'Data Input'!G558,'Data Input'!Q558,'Data Input'!T558))","v":""},{"$f":"IF(O554=\"\",\"\",O554/COUNTIF('Data Input'!$C$8:$AQ$8,$O$2))","v":""},{"$f":"IF(ISBLANK('Data Input'!A558),\"\",SUM('Data Input'!L558))","v":""},{"$f":"IF(Q554=\"\",\"\",Q554/COUNTIF('Data Input'!$C$8:$AQ$8,$Q$2))","v":""},{"$f":"IF(ISBLANK('Data Input'!A558),\"\",SUM('Data Input'!X558:AQ558))","v":""},{"$f":"IF(S554=\"\",\"\",S554/COUNTIF('Data Input'!$C$8:$AQ$8,$S$2))","v":""}]
[{"$f":"IF('Data Input'!A559=0,\"\",'Data Input'!A559)","v":""},{"$f":"IF(ISBLANK('Data Input'!A559),\"\",COUNTIF('Data Input'!C559:AQ559,\"\")-1)","v":""},{"$f":"IF(ISBLANK('Data Input'!A559),\"\",COUNTIF('Data Input'!C559:AQ559,\"0\"))","v":""},{"$f":"IF(ISBLANK('Data Input'!A559),\"\",SUM(B555,C555))","v":""},{"$f":"IF(ISBLANK('Data Input'!A559),\"\",SUM('Data Input'!C559:AQ559))","v":""},{"$f":"IF(E555=\"\",\"\",E555/(COUNTA('Data Input'!$C$8:$AQ$8)-1))","v":""},{"$f":"IF(ISBLANK('Data Input'!A559),\"\",SUM('Data Input'!H559,'Data Input'!I559,'Data Input'!M559,'Data Input'!N559))","v":""},{"$f":"IF(G555=\"\",\"\",G555/COUNTIF('Data Input'!$C$8:$AQ$8,$G$2))","v":""},{"$f":"IF(ISBLANK('Data Input'!A559),\"\",SUM('Data Input'!J559,'Data Input'!K559,'Data Input'!U559,'Data Input'!V559))","v":""},{"$f":"IF(I555=\"\",\"\",I555/COUNTIF('Data Input'!$C$8:$AQ$8,$I$2))","v":""},{"$f":"IF(ISBLANK('Data Input'!A559),\"\",SUM('Data Input'!D559))","v":""},{"$f":"IF(K555=\"\",\"\",K555/COUNTIF('Data Input'!$C$8:$AQ$8,$K$2))","v":""},{"$f":"IF(ISBLANK('Data Input'!A559),\"\",SUM('Data Input'!O559,'Data Input'!P559,'Data Input'!R559,'Data Input'!S559))","v":""},{"$f":"IF(M555=\"\",\"\",M555/COUNTIF('Data Input'!$C$8:$AQ$8,$M$2))","v":""},{"$f":"IF(ISBLANK('Data Input'!A559),\"\",SUM('Data Input'!C559,'Data Input'!E559,'Data Input'!F559,'Data Input'!G559,'Data Input'!Q559,'Data Input'!T559))","v":""},{"$f":"IF(O555=\"\",\"\",O555/COUNTIF('Data Input'!$C$8:$AQ$8,$O$2))","v":""},{"$f":"IF(ISBLANK('Data Input'!A559),\"\",SUM('Data Input'!L559))","v":""},{"$f":"IF(Q555=\"\",\"\",Q555/COUNTIF('Data Input'!$C$8:$AQ$8,$Q$2))","v":""},{"$f":"IF(ISBLANK('Data Input'!A559),\"\",SUM('Data Input'!X559:AQ559))","v":""},{"$f":"IF(S555=\"\",\"\",S555/COUNTIF('Data Input'!$C$8:$AQ$8,$S$2))","v":""}]
[{"$f":"IF('Data Input'!A560=0,\"\",'Data Input'!A560)","v":""},{"$f":"IF(ISBLANK('Data Input'!A560),\"\",COUNTIF('Data Input'!C560:AQ560,\"\")-1)","v":""},{"$f":"IF(ISBLANK('Data Input'!A560),\"\",COUNTIF('Data Input'!C560:AQ560,\"0\"))","v":""},{"$f":"IF(ISBLANK('Data Input'!A560),\"\",SUM(B556,C556))","v":""},{"$f":"IF(ISBLANK('Data Input'!A560),\"\",SUM('Data Input'!C560:AQ560))","v":""},{"$f":"IF(E556=\"\",\"\",E556/(COUNTA('Data Input'!$C$8:$AQ$8)-1))","v":""},{"$f":"IF(ISBLANK('Data Input'!A560),\"\",SUM('Data Input'!H560,'Data Input'!I560,'Data Input'!M560,'Data Input'!N560))","v":""},{"$f":"IF(G556=\"\",\"\",G556/COUNTIF('Data Input'!$C$8:$AQ$8,$G$2))","v":""},{"$f":"IF(ISBLANK('Data Input'!A560),\"\",SUM('Data Input'!J560,'Data Input'!K560,'Data Input'!U560,'Data Input'!V560))","v":""},{"$f":"IF(I556=\"\",\"\",I556/COUNTIF('Data Input'!$C$8:$AQ$8,$I$2))","v":""},{"$f":"IF(ISBLANK('Data Input'!A560),\"\",SUM('Data Input'!D560))","v":""},{"$f":"IF(K556=\"\",\"\",K556/COUNTIF('Data Input'!$C$8:$AQ$8,$K$2))","v":""},{"$f":"IF(ISBLANK('Data Input'!A560),\"\",SUM('Data Input'!O560,'Data Input'!P560,'Data Input'!R560,'Data Input'!S560))","v":""},{"$f":"IF(M556=\"\",\"\",M556/COUNTIF('Data Input'!$C$8:$AQ$8,$M$2))","v":""},{"$f":"IF(ISBLANK('Data Input'!A560),\"\",SUM('Data Input'!C560,'Data Input'!E560,'Data Input'!F560,'Data Input'!G560,'Data Input'!Q560,'Data Input'!T560))","v":""},{"$f":"IF(O556=\"\",\"\",O556/COUNTIF('Data Input'!$C$8:$AQ$8,$O$2))","v":""},{"$f":"IF(ISBLANK('Data Input'!A560),\"\",SUM('Data Input'!L560))","v":""},{"$f":"IF(Q556=\"\",\"\",Q556/COUNTIF('Data Input'!$C$8:$AQ$8,$Q$2))","v":""},{"$f":"IF(ISBLANK('Data Input'!A560),\"\",SUM('Data Input'!X560:AQ560))","v":""},{"$f":"IF(S556=\"\",\"\",S556/COUNTIF('Data Input'!$C$8:$AQ$8,$S$2))","v":""}]

{"sheet":"Pupil Report","index":5,"n_rows":9,"n_cols":9,"rows_kept":9,"cut":false,"hidden":false,"merged":[[1,0,1,2],[4,0,4,8]]}
["Pupil:",null,null,null,null,null,null,null,{"$f":"Welcome!D2","v":"KS1  Grammar, Punctuation and Spelling Papers 1&2 \n(2016 SAMPLE) Analysis"}]
["a",null,null,"Incorrect:",{"$f":"VLOOKUP($A$2,'Pupil Summary'!$A$6:$T$555,3,FALSE)","v":{"$error":"#N/A"}},"Unanswered:",{"$f":"VLOOKUP($A$2,'Pupil Summary'!$A$6:$T$555,2,FALSE)","v":{"$error":"#N/A"}},"Total:",{"$f":"VLOOKUP($A$2,'Pupil Summary'!$A$6:$T$555,5,FALSE) & \" / \" &SUM(B7:H7)","v":{"$error":"#N/A"}}]
["A:",{"$f":"VLOOKUP($A$2,'Pupil Summary'!$A$6:$T$555,8,FALSE)","v":{"$error":"#N/A"}},"B:",{"$f":"VLOOKUP($A$2,'Pupil Summary'!$A$6:$T$555,10,FALSE)","v":{"$error":"#N/A"}},"C:",{"$f":"VLOOKUP($A$2,'Pupil Summary'!$A$6:$T$555,12,FALSE)","v":{"$error":"#N/A"}},"D:",{"$f":"VLOOKUP($A$2,'Pupil Summary'!$A$6:$T$555,14,FALSE)","v":{"$error":"#N/A"}}]
["E:",{"$f":"VLOOKUP($A$2,'Pupil Summary'!$A$6:$T$555,16,FALSE)","v":{"$error":"#N/A"}},"F:",{"$f":"VLOOKUP($A$2,'Pupil Summary'!$A$6:$T$555,18,FALSE)","v":{"$error":"#N/A"}},null,null,"S:",{"$f":"VLOOKUP($A$2,'Pupil Summary'!$A$6:$T$555,20,FALSE)","v":{"$error":"#N/A"}}]
["A: Terms/Word Classes  B: Sentence Types  C: Phrases/Clauses  \nD: Verbs and Tenses  E: Punctuation  F: Vocabulary  S: Spelling"]
[null,{"$f":"'Pupil Summary'!G2","v":"A"},{"$f":"'Pupil Summary'!I2","v":"B"},{"$f":"'Pupil Summary'!K2","v":"C"},{"$f":"'Pupil Summary'!M2","v":"D"},{"$f":"'Pupil Summary'!O2","v":"E"},{"$f":"'Pupil Summary'!Q2","v":"F"},{"$f":"'Pupil Summary'!S2","v":"S"}]
["Total",{"$f":"COUNTIF('Data Input'!$C$8:$AQ$8,B6)","v":4},{"$f":"COUNTIF('Data Input'!$C$8:$AQ$8,C6)","v":4},{"$f":"COUNTIF('Data Input'!$C$8:$AQ$8,D6)","v":1},{"$f":"COUNTIF('Data Input'!$C$8:$AQ$8,E6)","v":4},{"$f":"COUNTIF('Data Input'!$C$8:$AQ$8,F6)","v":6},{"$f":"COUNTIF('Data Input'!$C$8:$AQ$8,G6)","v":1},{"$f":"COUNTIF('Data Input'!$C$8:$AQ$8,H6)","v":20}]
["Correct",{"$f":"VLOOKUP($A$2,'Pupil Summary'!$A$6:$T$555,7,FALSE)","v":{"$error":"#N/A"}},{"$f":"VLOOKUP($A$2,'Pupil Summary'!$A$6:$T$555,9,FALSE)","v":{"$error":"#N/A"}},{"$f":"VLOOKUP($A$2,'Pupil Summary'!$A$6:$T$555,11,FALSE)","v":{"$error":"#N/A"}},{"$f":"VLOOKUP($A$2,'Pupil Summary'!$A$6:$T$555,13,FALSE)","v":{"$error":"#N/A"}},{"$f":"VLOOKUP($A$2,'Pupil Summary'!$A$6:$T$555,15,FALSE)","v":{"$error":"#N/A"}},{"$f":"VLOOKUP($A$2,'Pupil Summary'!$A$6:$T$555,17,FALSE)","v":{"$error":"#N/A"}},{"$f":"VLOOKUP($A$2,'Pupil Summary'!$A$6:$T$555,19,FALSE)","v":{"$error":"#N/A"}}]
["Incorrect/Unanswered",{"$f":"B7-B8","v":{"$error":"#N/A"}},{"$error":"#N/A"},{"$error":"#N/A"},{"$error":"#N/A"},{"$error":"#N/A"},{"$error":"#N/A"},{"$f":"H7-H8","v":{"$error":"#N/A"}}]

{"sheet":"Cohort Summary","index":6,"n_rows":12,"n_cols":9,"rows_kept":12,"cut":false,"hidden":false,"merged":[[11,0,13,6]]}
["Class Averages:",{"$f":"'Pupil Summary'!G3","v":"Term and Word Classes"},{"$f":"'Pupil Summary'!I3","v":"Sentence Types"},{"$f":"'Pupil Summary'!K3","v":"Phrases and Cluases"},{"$f":"'Pupil Summary'!M3","v":"Verbs and Tenses"},{"$f":"'Pupil Summary'!O3","v":"Punctuation"},{"$f":"'Pupil Summary'!Q3","v":"Vocabulary"},{"$f":"'Pupil Summary'!S3","v":"Spelling"}]
["Class correct:",{"$f":"IF(ISERROR(B4/B3),\"\",(B4/B3))","v":""},"","",{"$f":"IF(ISERROR(E4/E3),\"\",(E4/E3))","v":""},"","",{"$f":"IF(ISERROR(H4/H3),\"\",(H4/H3))","v":""}]
["Maximum",{"$f":"COUNTIF('Data Input'!$C$8:$AQ$8,B8)","v":4},{"$f":"COUNTIF('Data Input'!$C$8:$AQ$8,C8)","v":4},{"$f":"COUNTIF('Data Input'!$C$8:$AQ$8,D8)","v":1},{"$f":"COUNTIF('Data Input'!$C$8:$AQ$8,E8)","v":4},{"$f":"COUNTIF('Data Input'!$C$8:$AQ$8,F8)","v":6},{"$f":"COUNTIF('Data Input'!$C$8:$AQ$8,G8)","v":1},{"$f":"COUNTIF('Data Input'!$C$8:$AQ$8,I8)","v":20}]
["Correct",{"$f":"IF(ISERROR(AVERAGE(IF(('Data Input'!$C$8:$AQ$8=B8),'Data Input'!$C$2:$AQ$2))*B3/COUNTA('Data Input'!$A$10:$A$558)),\"\",AVERAGE(IF(('Data Input'!$C$8:$AQ$8=B8),'Data Input'!$C$2:$AQ$2))*B3/COUNTA('Data Input'!$A$10:$A$558))","v":""},{"$f":"IF(ISERROR(AVERAGE(IF(('Data Input'!$C$8:$AQ$8=C8),'Data Input'!$C$2:$AQ$2))*C3/COUNTA('Data Input'!$A$10:$A$558)),\"\",AVERAGE(IF(('Data Input'!$C$8:$AQ$8=C8),'Data Input'!$C$2:$AQ$2))*C3/COUNTA('Data Input'!$A$10:$A$558))","v":""},{"$f":"IF(ISERROR(AVERAGE(IF(('Data Input'!$C$8:$AQ$8=D8),'Data Input'!$C$2:$AQ$2))*D3/COUNTA('Data Input'!$A$10:$A$558)),\"\",AVERAGE(IF(('Data Input'!$C$8:$AQ$8=D8),'Data Input'!$C$2:$AQ$2))*D3/COUNTA('Data Input'!$A$10:$A$558))","v":""},{"$f":"IF(ISERROR(AVERAGE(IF(('Data Input'!$C$8:$AQ$8=E8),'Data Input'!$C$2:$AQ$2))*E3/COUNTA('Data Input'!$A$10:$A$558)),\"\",AVERAGE(IF(('Data Input'!$C$8:$AQ$8=E8),'Data Input'!$C$2:$AQ$2))*E3/COUNTA('Data Input'!$A$10:$A$558))","v":""},{"$f":"IF(ISERROR(AVERAGE(IF(('Data Input'!$C$8:$AQ$8=F8),'Data Input'!$C$2:$AQ$2))*F3/COUNTA('Data Input'!$A$10:$A$558)),\"\",AVERAGE(IF(('Data Input'!$C$8:$AQ$8=F8),'Data Input'!$C$2:$AQ$2))*F3/COUNTA('Data Input'!$A$10:$A$558))","v":""},{"$f":"IF(ISERROR(AVERAGE(IF(('Data Input'!$C$8:$AQ$8=G8),'Data Input'!$C$2:$AQ$2))*G3/COUNTA('Data Input'!$A$10:$A$558)),\"\",AVERAGE(IF(('Data Input'!$C$8:$AQ$8=G8),'Data Input'!$C$2:$AQ$2))*G3/COUNTA('Data Input'!$A$10:$A$558))","v":""},{"$f":"IF(ISERROR(AVERAGE(IF(('Data Input'!$C$8:$AQ$8=I8),'Data Input'!$C$2:$AQ$2))*H3/COUNTA('Data Input'!$A$10:$A$558)),\"\",AVERAGE(IF(('Data Input'!$C$8:$AQ$8=I8),'Data Input'!$C$2:$AQ$2))*H3/COUNTA('Data Input'!$A$10:$A$558))","v":""}]
["Incorrect",{"$f":"IF(ISERROR(AVERAGE(IF(('Data Input'!$C$8:$AQ$8=B8),'Data Input'!$C$3:$AQ$3))*B3/COUNTA('Data Input'!$A$10:$A$558)),\"\",AVERAGE(IF(('Data Input'!$C$8:$AQ$8=B8),'Data Input'!$C$3:$AQ$3))*B3/COUNTA('Data Input'!$A$10:$A$558))","v":""},{"$f":"IF(ISERROR(AVERAGE(IF(('Data Input'!$C$8:$AQ$8=C8),'Data Input'!$C$3:$AQ$3))*C3/COUNTA('Data Input'!$A$10:$A$558)),\"\",AVERAGE(IF(('Data Input'!$C$8:$AQ$8=C8),'Data Input'!$C$3:$AQ$3))*C3/COUNTA('Data Input'!$A$10:$A$558))","v":""},{"$f":"IF(ISERROR(AVERAGE(IF(('Data Input'!$C$8:$AQ$8=D8),'Data Input'!$C$3:$AQ$3))*D3/COUNTA('Data Input'!$A$10:$A$558)),\"\",AVERAGE(IF(('Data Input'!$C$8:$AQ$8=D8),'Data Input'!$C$3:$AQ$3))*D3/COUNTA('Data Input'!$A$10:$A$558))","v":""},{"$f":"IF(ISERROR(AVERAGE(IF(('Data Input'!$C$8:$AQ$8=E8),'Data Input'!$C$3:$AQ$3))*E3/COUNTA('Data Input'!$A$10:$A$558)),\"\",AVERAGE(IF(('Data Input'!$C$8:$AQ$8=E8),'Data Input'!$C$3:$AQ$3))*E3/COUNTA('Data Input'!$A$10:$A$558))","v":""},{"$f":"IF(ISERROR(AVERAGE(IF(('Data Input'!$C$8:$AQ$8=F8),'Data Input'!$C$3:$AQ$3))*F3/COUNTA('Data Input'!$A$10:$A$558)),\"\",AVERAGE(IF(('Data Input'!$C$8:$AQ$8=F8),'Data Input'!$C$3:$AQ$3))*F3/COUNTA('Data Input'!$A$10:$A$558))","v":""},{"$f":"IF(ISERROR(AVERAGE(IF(('Data Input'!$C$8:$AQ$8=G8),'Data Input'!$C$3:$AQ$3))*G3/COUNTA('Data Input'!$A$10:$A$558)),\"\",AVERAGE(IF(('Data Input'!$C$8:$AQ$8=G8),'Data Input'!$C$3:$AQ$3))*G3/COUNTA('Data Input'!$A$10:$A$558))","v":""},{"$f":"IF(ISERROR(AVERAGE(IF(('Data Input'!$C$8:$AQ$8=I8),'Data Input'!$C$3:$AQ$3))*H3/COUNTA('Data Input'!$A$10:$A$558)),\"\",AVERAGE(IF(('Data Input'!$C$8:$AQ$8=I8),'Data Input'!$C$3:$AQ$3))*H3/COUNTA('Data Input'!$A$10:$A$558))","v":""}]
["Unanswered",{"$f":"IF(ISERROR(AVERAGE(IF(('Data Input'!$C$8:$AQ$8=B8),'Data Input'!$C$4:$AQ$4))*B3/COUNTA('Data Input'!$A$10:$A$558)),\"\",AVERAGE(IF(('Data Input'!$C$8:$AQ$8=B8),'Data Input'!$C$4:$AQ$4))*B3/COUNTA('Data Input'!$A$10:$A$558))","v":""},{"$f":"IF(ISERROR(AVERAGE(IF(('Data Input'!$C$8:$AQ$8=C8),'Data Input'!$C$4:$AQ$4))*C3/COUNTA('Data Input'!$A$10:$A$558)),\"\",AVERAGE(IF(('Data Input'!$C$8:$AQ$8=C8),'Data Input'!$C$4:$AQ$4))*C3/COUNTA('Data Input'!$A$10:$A$558))","v":""},{"$f":"IF(ISERROR(AVERAGE(IF(('Data Input'!$C$8:$AQ$8=D8),'Data Input'!$C$4:$AQ$4))*D3/COUNTA('Data Input'!$A$10:$A$558)),\"\",AVERAGE(IF(('Data Input'!$C$8:$AQ$8=D8),'Data Input'!$C$4:$AQ$4))*D3/COUNTA('Data Input'!$A$10:$A$558))","v":""},{"$f":"IF(ISERROR(AVERAGE(IF(('Data Input'!$C$8:$AQ$8=E8),'Data Input'!$C$4:$AQ$4))*E3/COUNTA('Data Input'!$A$10:$A$558)),\"\",AVERAGE(IF(('Data Input'!$C$8:$AQ$8=E8),'Data Input'!$C$4:$AQ$4))*E3/COUNTA('Data Input'!$A$10:$A$558))","v":""},{"$f":"IF(ISERROR(AVERAGE(IF(('Data Input'!$C$8:$AQ$8=F8),'Data Input'!$C$4:$AQ$4))*F3/COUNTA('Data Input'!$A$10:$A$558)),\"\",AVERAGE(IF(('Data Input'!$C$8:$AQ$8=F8),'Data Input'!$C$4:$AQ$4))*F3/COUNTA('Data Input'!$A$10:$A$558))","v":""},{"$f":"IF(ISERROR(AVERAGE(IF(('Data Input'!$C$8:$AQ$8=G8),'Data Input'!$C$4:$AQ$4))*G3/COUNTA('Data Input'!$A$10:$A$558)),\"\",AVERAGE(IF(('Data Input'!$C$8:$AQ$8=G8),'Data Input'!$C$4:$AQ$4))*G3/COUNTA('Data Input'!$A$10:$A$558))","v":""},{"$f":"IF(ISERROR(AVERAGE(IF(('Data Input'!$C$8:$AQ$8=I8),'Data Input'!$C$4:$AQ$4))*H3/COUNTA('Data Input'!$A$10:$A$558)),\"\",AVERAGE(IF(('Data Input'!$C$8:$AQ$8=I8),'Data Input'!$C$4:$AQ$4))*H3/COUNTA('Data Input'!$A$10:$A$558))","v":""}]
["Incorrect or unanswered",{"$f":"IF(ISERROR(SUM(B5,B6)),\"\",SUM(B5,B6))","v":0},0,0,{"$f":"IF(ISERROR(SUM(E5,E6)),\"\",SUM(E5,E6))","v":0},0,0,{"$f":"IF(ISERROR(SUM(H5,H6)),\"\",SUM(H5,H6))","v":0}]
[null,"A","B","C","D","E","F","G","S"]
[{"$f":"\"Average Total Score \"&COUNTA('Data Input'!C8:AQ8)-1","v":"Average Total Score 40"},"Total"]
[{"$f":"IF(ISERROR(AVERAGE('Pupil Summary'!E6:E555)),\"\",AVERAGE('Pupil Summary'!E6:E555))","v":""},{"$f":"IF(ISERROR(A10/COUNTA('Data Input'!C8:AQ8)-1),\"\",A10/(COUNTA('Data Input'!C8:AQ8)-1))","v":""}]
[]
["The chart below graph shows the average percent for the cohort answering the questions in the particular area correctly. It should be noted that here each area does not hold equal weighting."]

{"sheet":"Strand Summary","index":7,"n_rows":28,"n_cols":2,"rows_kept":28,"cut":false,"hidden":false,"merged":[[26,1,26,11],[27,1,27,11]]}
[]
[]
[]
[]
[]
[]
[]
[]
[]
[]
[]
[]
[]
[]
[]
[]
[]
[]
[]
[]
[]
[]
[]
[]
[]
[]
[null,"This height of the bar shows the weighting of each area and the average number correct and incorrect answers. "]
[null,"A large area of red would indicate an area of priority. "]

{"sheet":"P2 Questions by Strand","index":8,"n_rows":46,"n_cols":1,"rows_kept":46,"cut":false,"hidden":false,"merged":[[45,0,46,17]]}
[]
[]
[]
[]
[]
[]
[]
[]
[]
[]
[]
[]
[]
[]
[]
[]
[]
[]
[]
[]
[]
[]
[]
[]
[]
[]
[]
[]
[]
[]
[]
[]
[]
[]
[]
[]
[]
[]
[]
[]
[]
[]
[]
[]
[]
["A: Terms/Word Classes  B: Sentence Types  C: Phrases/Clauses  \nD: Verbs and Tenses  E: Punctuation  F: Vocabulary  G: Standard English  S: Spelling"]

{"sheet":"Spelling Questions by Strand","index":9,"n_rows":0,"n_cols":0,"rows_kept":0,"cut":false,"hidden":false,"merged":[[45,0,46,17]]}

{"sheet":"P2 Questions by Correct","index":10,"n_rows":46,"n_cols":1,"rows_kept":46,"cut":false,"hidden":false,"merged":[[45,0,46,17]]}
[]
[]
[]
[]
[]
[]
[]
[]
[]
[]
[]
[]
[]
[]
[]
[]
[]
[]
[]
[]
[]
[]
[]
[]
[]
[]
[]
[]
[]
[]
[]
[]
[]
[]
[]
[]
[]
[]
[]
[]
[]
[]
[]
[]
[]
["A: Terms/Word Classes  B: Sentence Types  C: Phrases/Clauses  \nD: Verbs and Tenses  E: Punctuation  F: Vocabulary  G: Standard English  S: Spelling"]

{"sheet":"Spelling Questions by Correct","index":11,"n_rows":0,"n_cols":0,"rows_kept":0,"cut":false,"hidden":false,"merged":[[45,0,46,17]]}

{"sheet":"P1 Questions by Sub Type","index":12,"n_rows":0,"n_cols":0,"rows_kept":0,"cut":false,"hidden":true,"merged":[[45,0,46,17]]}

{"sheet":"P2 Questions by Sub Type","index":13,"n_rows":0,"n_cols":0,"rows_kept":0,"cut":false,"hidden":true,"merged":[[45,0,46,17]]}